{"text_format":"3","workbook":"xlsx","n_sheets":12,"sheets":["Filtro","P1","P2","P3","P4","P5","P7","P6","P9","P11","P12","P13"],"not_rendered":{"macros":1,"defined_names":9,"pivot_tables":1},"read":"whole","date_system":"1900"}

{"sheet":"Filtro","index":0,"n_rows":552,"n_cols":50,"rows_kept":552}
["COMUNA/ ESTABLECIMIENTO","(Todas)"]
["Mes","(Todas)"]
[]
["Etiquetas de fila","Suma de Col01","Suma de Col02","Suma de Col03","Suma de Col04","Suma de Col05","Suma de Col06","Suma de Col07","Suma de Col08","Suma de Col09","Suma de Col10","Suma de Col11","Suma de Col12","Suma de Col13","Suma de Col14","Suma de Col15","Suma de Col16","Suma de Col17","Suma de Col18","Suma de Col19","Suma de Col20","Suma de Col21","Suma de Col22","Suma de Col23","Suma de Col24","Suma de Col25","Suma de Col26","Suma de Col27","Suma de Col28","Suma de Col29","Suma de Col30","Suma de Col31","Suma de Col32","Suma de Col33","Suma de Col34","Suma de Col35","Suma de Col36","Suma de Col37","Suma de Col38","Suma de Col39","Suma de Col40","Suma de Col41","Suma de col42","Suma de col43","Suma de col44","Suma de col45","Suma de col46","Cuenta de col47","Cuenta de col48","Cuenta de col49"]
["P1010100",10203,0,70,733,1796,1963,1851,1621,1319,850,null,169,142,6]
["P1010201",16735,223,2883,3222,2985,2691,2048,1586,870,227,null,148,267,3]
["P1010202",4731,8,137,466,689,674,581,716,1004,456,null,39,116,0]
["P1010203",8171,80,1300,1999,1761,1289,885,578,247,32,null,94,182,2]
["P1010301",1490,15,142,209,224,233,188,173,155,141,10,3,46,2]
["P1010302",360,16,154,57,41,30,14,18,11,11,8,1,17,7]
["P1020100",5,5,0,5,0]
["P1020200",261,116,8,63,11]
["P1030101",1114,0,47,210,351,301,160,44,1,0]
["P1030102",1011,3,74,242,281,241,132,36,2,0]
["P1030103",862,2,123,251,248,159,62,16,1,0]
["P1030104",71,0,17,25,15,9,4,1,0,0]
["P1030201",91,0,10,32,20,16,9,4,0,0]
["P1030202",108,0,14,35,29,19,11,0,0,0]
["P1030203",100,0,20,33,26,14,5,2,0,0]
["P1030204",27,0,7,12,3,2,2,1,0,0]
["P1030301",2257]
["P1030303",31]
["P1030304",155]
["P1030401",61]
["P1030403",500]
["P1030404",1404]
["P1040500",9895,91,1743,2635,2359,1534,927,434,154,18,null,91,421,5]
["P1040501",728,205,15,189,78]
["P1040502",199,199]
["P1040503",86,172]
["P1040504",39,117]
["P1040505",22,47]
["P1040506",25]
["P1040507",10]
["P1040508",11777,82,1214,2205,2486,1898,2014,909,747,222,null,132,469,5]
["P1050100",33]
["P1050101",433]
["P1050102",333]
["P1050103",32]
["P1050104",45]
["P1060010",2586,0,19,84,126,215,350,580,712,422,78,6,5,0]
["P1060020",217,1,35,69,49,30,22,7,4,0,0,4,9,0]
["P1060040",1430]
["P1060050",357]
["P1060060",196]
["P1060070",86]
["P1060080",47]
["P1060090",4660,128,1560,945,752,504,344,194,153,77,3,26,83,4]
["P1060100",895,191,10,299,120]
["P1060101",710,167,14,246,89]
["P1060102",358,93,7,165,48]
["P1060103",97,33,1,70,9]
["P1060104",4,2,0,3,0]
["P1060106",11,1,0,2]
["P1060107",184,122,44,81]
["P1060108",512,322,116,240]
["P1060109",615,370,150,342]
["P1060110",496,322,102,251]
["P1060111",233,140,63,108]
["P1060112",64,51,18,25]
["P1060113",3,2,2,0]
["P1060114",2,1,1]
["P1060115",104]
["P1060116",327]
["P1060117",21]
["P1060118",8]
["P1060119",8]
["P1060120",22]
["P1060121",12]
["P1060122",18]
["P1060123",19]
["P1060124",261,0,9,47,62,64,37,38,1,3,null,7,11,0]
["P11000140",110,1,109,0,2,0,13,0,24,1,25,0,6,0,19,0,13,0,6,0,1,0,0,0,0,0,0,0,0,0,0,0,0,0,83]
["P11000150",2,null,2,{"$nulls":13},1,{"$nulls":5},1,{"$nulls":18},0,0,0,1,0]
["P11000160",14,null,14,{"$nulls":15},6,null,8,{"$nulls":20},0,0,0,1,0]
["P11000170",3746,2949,797,0,0,0,0,3,1,3,3,1,6,18,18,186,15,468,75,546,119,475,126,326,100,289,83,229,99,180,68,113,46,55,24,31,8,24,3,2,3,0,37,0,280,0]
["P11000180",135,104,31,0,0,0,0,0,0,0,2,0,4,1,0,11,2,22,2,34,6,22,0,9,9,5,3,0,3,0,0,0,0,0,0,0,0,0,0,0,0,0,0,0,18,0]
["P1200100",1,0,7,6]
["P1200110",3,1,189,143]
["P1200120",6,4,425,347]
["P1200130",7,2,517,436]
["P1200140",8,6,400,308]
["P1200150",7,5,191,147]
["P1200160",1,0,56,46]
["P1200170",0,0,1,1]
["P1200190",1246,23,313,324,253,190,95,40,7,1,null,9,52,0]
["P1200200",622,15,215,146,90,64,37,28,17,8,2,0,48,2]
["P1200210",98,4,47,18,10,4,1,3,6,0,5,0,2,0]
["P1200220",1090,0,10,44,54,73,98,190,216,218,187,20,42,1]
["P1200230",29,2,4,1,4,1,0,7,4,1,5,0,0,1]
["P1200240",2736,0,0,22,138,316,549,586,524,601,null,42,40,4]
["P1200250",139,0,0,0,1,6,25,41,40,26,null,0,4,0]
["P1200260",43,0,6,14,12,5,6,0,0,0,0,0,1,0]
["P1200270",549,3,52,141,159,97,70,21,3,3,0,9,16,1]
["P1200280",40,0,10,17,10,3,0,1]
["P1200290",60,0,16,20,22,2,0,0]
["P1200300",18,1,6,10,1,0,0,1]
["P1200310",4,0,2,2,0,0,0,0]
["P1200320",1,0,0,1,0,0,0,0]
["P1200330",150,1,39,65,39,6,3,1]
["P1200340",1]
["P1200350",90,0,13,26,19,11,7,8,2,4,0,0,0,0]
["P1206010",12274,0]
["P1206020",11263,0]
["P1206030",10189,0]
["P1206040",9739,0]
["P1206050",9628,0]
["P1206060",9588,0]
["P1206070",8297,0]
["P1206080",6270,0]
["P1207010",1365,1244,52,46,3,6,5,9,0,0,0]
["P1207020",1355,1246,49,28,7,4,7,14,0,0,0]
["P1207030",5980]
["P1207040",4248]
["P1207050",2147]
["P1207060",852]
["P1207070",322]
["P1207080",129]
["P1207090",6405]
["P1207100",4631]
["P1207110",1932]
["P1207120",548]
["P1207130",199]
["P1207140",77]
["P1207150",9841,0]
["P1207160",2252,0]
["P1207170",1124,1031,37,38,5,0,7,6,0,0,0]
["P1207180",21573]
["P1207190",511]
["P1208020",1387,1254,48,24,40,5,4,12,0,0,0]
["P1208030",1243,1141,54,28,5,4,3,8,0,0,0]
["P1208040",1168,1064,56,35,1,4,1,7,0,0,0]
["P1208050",1011,934,40,29,1,2,1,3,1,0,0]
["P1208060",922,834,39,33,1,3,5,4,3,0,0]
["P1208070",576,521,29,20,0,3,0,1,2,0,0]
["P1208080",221,191,15,8,0,2,0,3,2,0,0]
["P1208090",82,74,4,3,0,1,0,0,0,0,0]
["P1208100",28,26,1,1,0,0,0,0,0,0,0]
["P1220020",9320]
["P1220030",6957]
["P1220070",21529]
["P1220090",7349]
["P1220093",4,3,{"$nulls":4},1]
["P1220094",1,{"$nulls":6},1]
["P1220095",1,1]
["P1220096",2,2,0,0,0,0,0,0,0,0,0]
["P1220097",3,3,0,0,0,0,0,0,0,0,0]
["P1220099",1,1]
["P1220100",2,2]
["P1230001",663,0]
["P1230002",223,0]
["P1230003",65,0]
["P1230004",10,9,1,0,0,0,0,0,0,0,0]
["P1240010",632,0]
["P1240011",638,0]
["P1240012",539,0]
["P1240013",535,0]
["P1240014",497,0]
["P1240015",471,0]
["P1240016",311,0]
["P1240017",600,478,26,7,89,0]
["P1240018",613,528,20,8,57,0]
["P1240019",500,415,19,4,62,0]
["P1240020",495,444,7,4,40,0]
["P1240021",471,440,5,2,24,0]
["P1240022",441,405,3,3,30,0]
["P1240023",289,264,6,2,17,0]
["P1240024",4,3,0,0,1,0]
["P1240025",2,2,null,null,0]
["P1240028",5,5,0,0,0,0]
["P1240029",4,3,1,0,0,0]
["P1240030",5,5,0,0,0,0]
["P1240031",3,3,0,0,0,0]
["P1240032",8,8,0,0,0,0]
["P1240033",6,6,0,0,0,0]
["P1240034",2,2,0,0,0,0]
["P1310010",5255,2717,2538,2507,2464,173,69,37,5,31]
["P1310020",1958,952,1006,157,113,309,325,299,291,183,271,4,5,0,1,24]
["P1310030",232,132,100,23,15,29,30,37,32,43,23,0,0,0,0,5]
["P1310040",37,30,7,{"$nulls":4},1,null,18,6,11,1,null,null,0]
["P1310050",127,2,125,{"$nulls":4},1,24,1,99,0,2,0,0,1]
["P1310060",9,0,9,{"$nulls":4},0,2,0,7,0,0,0,0,0]
["P1310070",540,271,269,121,110,150,159,{"$nulls":8},6]
["P1310080",135,61,74,{"$nulls":4},31,33,29,41,1,0,0,0,0]
["P1310090",559,279,280,9,5,88,89,111,96,66,85,5,2,0,3,2]
["P1320010",282,131,151,30,23,44,36,37,41,14,32,3,10,3,9,1]
["P1320020",423,210,213,178,205,32,8,0,0,2]
["P1320030",101,59,42,0,0,12,0,28,15,19,26,0,0,0,1,2]
["P1320040",69,50,19,4,0,10,2,23,10,13,6,0,0,0,1,0]
["P1320060",1,0,1,{"$nulls":7},1,{"$nulls":4},0]
["P1320080",12,12,0,6,null,6,{"$nulls":9},0]
["P1320090",6,4,2,{"$nulls":4},4,2,{"$nulls":6},0]
["P1320100",50,15,35,0,0,4,5,5,15,6,13,{"$nulls":3},2,0]
["P1320110",6,4,2,1,null,2,1,null,1,1,{"$nulls":5},0]
["P1600100",10104,25,938,1484,1771,1684,1596,1142,919,545]
["P1600101",11766,58,1507,1736,2152,1917,1751,1215,918,512]
["P1600102",11429,118,1994,2139,2092,1683,1484,870,661,388]
["P1600103",619,18,173,160,95,85,55,15,13,5]
["P2060000",34669,17577,17092,117,163,216,189,261,246,276,268,272,274,268,293,470,455,1360,1302,1807,1792,1992,1823,3494,3356,1940,1853,1610,1559,3494,3519,71,74,224,245]
["P2070101",1604,885,719,null,null,9,9,14,15,18,10,13,16,8,10,23,17,68,55,97,63,81,68,193,142,102,75,86,65,173,174,5,3,11,17]
["P2070102",190,104,86,null,null,2,2,3,2,0,3,1,2,2,1,1,1,11,4,10,6,14,9,26,20,7,11,14,5,13,20,2,0,1,2]
["P2070201",3971,2102,1869,null,null,5,3,25,19,28,11,20,21,35,17,42,47,173,150,219,198,243,205,403,352,231,204,177,178,501,464,13,10,11,10]
["P2070202",8319,4176,4143,null,null,28,23,52,34,76,63,66,64,74,95,121,131,386,396,491,496,505,497,842,810,402,402,354,343,779,789,16,17,46,44]
["P2070301",850,481,369,null,null,4,9,11,14,13,11,13,14,9,5,17,12,49,32,46,41,50,35,96,64,44,42,35,27,94,63,4,1,5,8]
["P2070302",105,58,47,null,null,3,1,2,1,0,1,2,1,1,1,0,2,7,6,3,3,8,7,21,8,3,2,4,2,4,12,3,3,2,2]
["P2070401",4152,2221,1931,null,null,16,14,33,22,31,24,29,28,22,23,49,39,180,119,242,183,266,215,483,435,240,221,204,173,426,435,11,8,27,20]
["P2070402",654,362,292,null,null,4,2,4,4,2,4,6,3,6,3,4,7,28,15,40,29,54,35,90,81,46,23,29,22,49,64,5,7,7,5]
["P2070501",782,445,337,null,null,10,7,12,10,8,11,13,12,5,5,19,15,60,36,41,38,42,33,83,57,36,37,34,24,82,52,4,2,5,10]
["P2070502",90,51,39,null,null,2,1,3,0,0,2,0,3,4,1,1,3,7,4,1,3,9,8,9,8,3,1,2,2,10,3,0,0,0,3]
["P2070503",8344,4194,4150,null,null,25,23,56,36,76,62,71,63,72,94,126,131,390,388,496,496,503,491,844,814,403,417,356,342,776,793,15,14,46,50]
["P2070504",3979,2100,1879,null,null,5,2,21,19,25,12,19,21,35,15,42,48,176,154,217,194,250,203,405,354,233,209,176,177,496,471,16,12,13,13]
["P2070505",21157,10639,10518,null,null,173,157,167,179,167,179,169,175,151,178,282,258,720,720,1050,1060,1183,1086,2148,2125,1264,1188,1038,1014,2127,2199,37,45,160,169]
["P2070506",37,28,9,null,null,0,0,2,2,0,2,0,0,1,0,0,0,7,0,2,1,5,2,2,1,1,1,4,0,4,0,0,0,0,0]
["P2090300",3267,505,412,495,372,454,345,684]
["P2090400",367,24,45,66,31,64,38,99,59]
["P2100100",147,8,12,29,16,22,21,39,53]
["P2100200",45,13,32]
["P2100400",93,60,33]
["P2100500",15,14,1]
["P2100600",7,5,2]
["P2200700",2610]
["P2200800",767]
["P2200900",37,18,19]
["P2300000",11,11,0]
["P2300100",37,19,18]
["P2300200",118,68,50]
["P2300400",30,17,13]
["P2300410",172]
["P2300420",322]
["P2300460",853]
["P2300470",929]
["P2300480",1944]
["P2300490",2236]
["P2300500",2576]
["P2300510",2878]
["P2300520",7552]
["P2300530",12545,1116,4137,7292]
["P2300540",523,40,174,309]
["P2300550",139,7,39,93]
["P2300560",40,5,6,29]
["P2300570",7801,914,1427,1572,1458,1400,1030]
["P2300580",3384,394,666,670,630,601,423]
["P2400100",2566,1400,1166,null,null,3,4,11,7,18,12,9,9,26,14,27,27,126,93,136,111,151,124,292,240,140,142,123,115,338,268,11,2,12,5]
["P2400110",6693,3360,3333,null,null,21,18,39,21,52,38,49,48,57,52,87,99,270,253,391,421,402,394,699,653,342,360,295,302,656,674,11,19,23,34]
["P2400120",780,424,356,null,null,2,2,7,5,3,6,5,6,8,1,13,13,48,25,43,28,42,32,76,73,46,45,46,41,85,79,4,3,2,2]
["P2400130",3570,1849,1721,null,null,12,15,20,16,31,23,25,31,34,38,47,60,144,151,176,180,195,169,386,344,200,239,168,164,411,291,12,9,17,13]
["P2400140",16731,8282,8449,null,null,120,95,127,125,142,130,120,121,125,147,211,189,584,629,859,912,932,941,1671,1630,884,845,801,843,1706,1842,25,23,109,114]
["P2400150",23701,12043,11658,3688,3424,8355,8234,36,38,173,144]
["P2400160",871,582,289,68,56,514,233,6,1,4,1]
["P2400170",3371,1676,1695,462,462,1214,1233,3,7,7,11]
["P2400180",5147,2483,2664,835,777,1648,1887,9,6,25,16]
["P2400190",569,295,274,81,74,214,200,1,0,9,10]
["P2400200",70,23,47,6,2,17,45,0,0,0,0]
["P2400210",9807,5022,4785,1555,1397,3467,3388,12,16,82,61]
["P2400220",630,331,299,74,75,257,224,1,0,0,2]
["P2400230",2684,1361,1323,397,340,964,983,6,4,17,9]
["P2400240",2302,1159,1143,397,415,762,728,4,1,22,22]
["P2400250",412,165,247,41,39,124,208,0,0,3,0]
["P2400260",11972,6161,5811,1810,1652,4351,4159,20,25,89,63]
["P2400270",9177,4726,4451,1332,1231,3394,3220,16,20,52,47]
["P2400280",2594,1231,1363,400,388,831,975,10,5,10,7]
["P2400290",2222,1162,1060,234,226,928,834,3,7,4,6]
["P2400300",476,255,221,68,58,187,163,1,0,6,9]
["P2400310",59,20,39,3,3,17,36,0,1,0,0]
["P2400320",5210,2519,2691,848,783,1671,1908,10,8,25,18]
["P2400330",3430,1708,1722,471,472,1237,1250,3,8,8,11]
["P2400340",852,573,279,70,54,503,225,5,1,3,0]
["P2400350",13664,6963,6701,2226,2054,4737,4647,16,22,135,105]
["P2400360",10,5,5,2,0,3,5,0,0,0,0]
["P2500100",157,77,80,{"$nulls":14},2,null,2,null,null,1,null,null,5,4,0,3,14,8,11,7,26,41,17,16,0,0,0,0]
["P2500200",4,1,3,{"$nulls":23},3,{"$nulls":6},1,{"$nulls":3},0,0,0,1]
["P2500400",109,53,56,0,1,1,0,1,1,0,0,0,0,1,1,1,4,2,2,1,4,2,4,7,5,6,10,2,0,2,10,5,5,12,5,10,4,1,0,1,0]
["P2500500",205,163,42,0,0,0,0,0,0,0,0,0,0,0,0,0,0,0,0,0,0,2,2,11,7,14,8,9,2,27,7,30,4,46,6,24,6,1,0,0,0]
["P2500600",10,4,6,0,0,0,0,0,0,0,0,0,0,0,0,0,0,0,0,2,0,0,1,0,1,0,1,2,0,0,0,0,1,0,1,0,1,0,0,0,0]
["P2500700",48,30,18,0,0,0,0,0,0,0,0,0,0,0,0,0,0,0,0,2,1,2,0,4,1,6,3,0,1,2,3,3,2,6,3,5,4,0,0,2,0]
["P2500800",15,9,6,0,0,0,0,0,0,0,1,0,0,1,0,1,0,0,0,0,0,2,0,3,4,1,0,0,0,0,0,1,0,0,1,0,0,0,0,0,0]
["P2500900",41,18,23,null,1,1,{"$nulls":6},1,null,null,1,null,2,null,1,4,1,2,4,2,3,1,{"$nulls":3},4,null,4,1,4,4,null,0,0,0,0]
["P2501000",34,20,14,0,0,0,0,0,0,0,0,0,0,0,0,1,1,2,3,1,0,6,3,2,0,1,2,0,1,3,3,0,1,2,0,2,0,0,0,0,0]
["P2501100",16,12,4,{"$nulls":17},1,null,null,2,1,3,1,null,null,3,1,2,null,1,null,1,null,0,0,1,0]
["P2501200",20,12,8,0,0,1,0,0,0,0,1,0,0,0,0,0,0,0,0,1,2,0,0,2,1,3,0,0,1,1,1,0,1,2,1,2,0,0,0,0,0]
["P2501300",9,8,1,{"$nulls":5},1,{"$nulls":10},1,null,1,null,4,{"$nulls":5},1,null,1,{"$nulls":5},0,0,0,0]
["P2501400",3,0,3,{"$nulls":27},1,null,2,{"$nulls":4},0,0,0,0]
["P2501500",215,112,103,2,0,1,1,0,0,0,1,0,0,0,1,1,2,2,4,12,13,6,7,9,15,9,7,0,1,19,16,10,11,17,13,24,11,1,0,1,2]
["P2501600",1563,866,697,4,2,7,7,16,7,8,14,15,13,15,13,15,10,69,44,69,54,71,69,114,99,64,50,47,38,98,93,86,67,115,78,53,39,5,4,2,2]
["P2501700",6,3,3,{"$nulls":16},1,{"$nulls":11},1,1,null,1,1,1,0,0,0,0]
["P3120500",258,114,144,2,6,7,2,1,1,2,0,0,2,1,1,0,0,0,0,1,0,2,0,1,0,0,3,8,9,11,16,14,19,25,27,39,58,null,5,5]
["P3120600",19,11,8,2,{"$nulls":3},6,3,null,null,2,1,{"$nulls":11},1,1,1,null,2,{"$nulls":9},0,0]
["P3120700",2417,1172,1245,29,22,56,44,43,47,60,60,66,77,77,85,95,97,91,68,107,104,90,86,98,118,83,92,68,87,70,63,49,59,45,36,45,100,null,64,50]
["P3120800",132,77,55,0,0,0,0,0,0,0,0,0,0,0,0,0,3,2,0,3,1,2,2,4,0,4,6,3,8,15,6,9,6,9,5,26,18,null,22,9]
["P3130200",253,129,124,0,0,0,0,0,2,2,1,2,1,0,1,0,5,4,1,3,2,2,2,7,5,5,9,6,7,15,13,16,17,20,7,47,51,null,22,10]
["P3130201",374,130,244,0,0,0,0,0,2,2,0,1,1,2,3,1,0,9,3,3,5,1,3,6,6,5,6,4,7,10,19,17,22,17,22,52,145,null,3,4]
["P3140200",900,491,409,0,0,0,0,0,0,0,0,0,0,0,0,0,1,0,1,5,0,2,5,43,28,29,26,46,33,68,58,74,63,78,51,146,143,null,16,23]
["P3140300",11588,2684,8904,0,0,0,0,0,1,1,1,0,1,0,2,2,10,3,13,7,46,18,112,51,261,181,934,378,1456,440,1440,445,1451,455,1277,703,1899,null,137,590]
["P3140400",2745,939,1806,14,12,16,16,16,18,15,10,25,19,23,21,29,21,29,26,24,18,24,26,43,27,25,46,37,46,48,89,90,95,111,189,369,1127,null,48,65]
["P3160800",2877,1020,1857,13,12,16,16,16,19,17,10,24,20,22,21,28,22,31,27,26,22,25,28,46,28,27,53,44,51,57,96,98,110,128,193,402,1129,null,2,5]
["P3160900",347,114,233,0,0,0,0,0,0,0,0,1,1,1,3,2,1,4,3,3,5,2,4,5,4,5,6,5,7,7,18,13,21,19,20,47,140,null,3,4]
["P3160910",817,290,527,0,2,0,0,1,1,1,0,1,1,0,0,3,5,0,4,2,2,5,8,3,5,5,8,7,20,22,31,26,33,52,82,162,325,null,0,1]
["P3160920",860,325,535,0,0,1,0,2,1,1,1,3,0,1,2,1,3,2,2,4,6,2,2,8,7,10,12,10,14,30,22,32,45,48,71,170,347,null,4,9]
["P3160930",112,52,60,5,1,4,5,9,6,5,3,2,3,2,1,0,1,0,2,0,1,1,6,1,2,0,3,1,2,2,7,10,10,6,4,4,3]
["P3160940",650,258,392,4,0,6,8,10,11,5,4,10,9,13,11,16,13,17,13,9,10,11,13,17,13,8,12,10,15,16,17,21,28,19,33,66,182,null,5,11]
["P3160950",732,410,322,410,322,{"$nulls":32},0,27,13]
["P3160960",439,261,178,261,178,{"$nulls":32},0,34,29]
["P3160970",10,9,1,9,1,{"$nulls":32},0,1,0]
["P3160980",7346,2670,4676,109,66,679,486,581,417,319,314,141,223,82,213,57,234,42,189,56,220,52,267,60,301,82,312,76,321,89,333,83,294,81,239,80,244,1696,82,107]
["P3160990",4322,1601,2721,68,54,499,364,354,284,191,196,49,95,33,99,23,95,26,79,14,107,30,136,33,158,28,151,44,184,52,167,47,209,46,146,64,196,989,93,97]
["P3161000",719,179,540,0,0,8,7,12,6,6,5,8,7,4,19,7,16,3,21,0,30,11,36,8,26,12,52,18,61,16,60,23,71,18,56,25,67,241,2,2]
["P3161010",3077,1506,1571,{"$nulls":16},7,7,8,22,24,42,55,87,130,164,199,237,269,250,325,282,487,480,988,72,66]
["P3161020",498,266,232,{"$nulls":16},0,0,0,1,2,3,7,7,18,13,26,30,44,35,65,45,104,98,73,5,19]
["P3161030",1183,649,534,15,15,62,48,9,12,4,3,3,4,1,4,1,6,1,4,4,9,10,9,15,8,36,27,42,44,82,65,93,56,102,90,169,130,null,22,31]
["P3161040",23246,3951,19295,7,2,13,11,19,25,59,199,65,335,57,505,71,739,92,822,113,1071,159,1397,255,1938,343,2421,443,2361,401,2034,584,1869,564,1563,706,2003,null,242,959]
["P3161041",8075,3080,4995,122,79,847,598,730,515,374,347,110,202,77,183,59,194,42,172,45,199,55,265,63,302,76,323,94,333,96,331,89,350,93,280,108,322]
["P3161042",1977,641,1336,23,23,194,138,111,115,70,102,29,44,9,59,16,61,15,52,9,69,16,81,20,84,16,87,24,118,26,90,18,85,23,64,22,64]
["P3161043",560,189,371,1,2,54,47,42,27,14,23,15,18,8,22,1,25,1,12,4,22,4,14,3,24,6,15,5,34,9,22,8,29,5,10,9,25]
["P3161044",1035,354,681,23,15,67,59,56,30,46,30,27,46,15,50,16,46,7,35,9,46,9,49,10,49,16,52,5,29,17,53,15,35,7,25,9,32]
["P3161045",2410,1206,1204,{"$nulls":16},8,5,6,12,16,30,46,61,104,119,152,186,214,193,259,225,401,373]
["P3161046",391,174,217,{"$nulls":16},0,0,0,2,3,4,4,15,12,17,17,32,26,34,38,41,74,72]
["P3161047",427,231,196,{"$nulls":16},0,1,0,4,6,5,9,11,21,24,39,32,43,29,45,29,68,61]
["P3161050",43,24,19,0,1,1,2,2,0,3,0,2,0,2,0,1,2,1,0,2,0,0,2,0,1,0,2,3,0,2,0,1,6,3,0,1,3,null,3,0]
["P3170100",60,27,33,0,0,0,0,0,0,0,1,0,0,0,0,0,0,0,0,0,0,0,0,0,0,3,3,2,3,2,2,3,6,4,1,13,17,null,0,1]
["P3170200",49,23,26,1,1,3,1,2,1,1,1,1,0,1,1,0,0,1,0,1,1,0,0,0,1,1,1,0,2,2,1,0,5,2,2,7,8,null,0,1]
["P4150100",99813,35715,64098,60,66,109,195,162,384,346,695,575,1281,947,2246,1618,3728,2778,6078,3793,8130,4532,8398,5114,8591,5101,7915,4689,6758,5891,9633,35,52,85,189]
["P4150601",76696,27992,48704,23,17,53,66,74,132,190,311,318,664,499,1300,1001,2299,1798,4007,2602,5405,3669,5894,4039,6850,4309,6737,4060,6052,5357,8970,22,23,47,93]
["P4150602",38188,14592,23596,23,19,15,46,55,145,127,251,224,439,416,736,672,1244,1219,2236,1653,3005,2075,3328,2255,3355,2103,3113,1848,2552,1907,3127,13,25,27,38]
["P4150603",52983,17498,35485,23,30,47,102,73,153,163,305,298,563,473,1047,807,1740,1418,3202,2075,4990,2410,5208,2562,5027,2456,4673,2223,3743,2470,4702,14,21,26,53]
["P4150701",6127,2569,3558,{"$nulls":16},564,993,627,1029,535,698,361,416,285,202,197,220,1,1,8,17]
["P4150703",28148,9394,18754,9,9,29,39,41,83,85,169,143,325,223,625,416,1140,698,1753,976,2384,1187,2428,1316,2507,1399,2354,1367,2120,1505,2818,11,13,15,41]
["P4150801",48533,19314,29219,20,16,23,47,54,134,132,256,234,453,450,812,758,1353,1351,2419,1929,3401,2449,3776,2867,4001,2823,3751,2622,3379,3602,5421,11,27,24,46]
["P4170300",1393,499,894,545,848]
["P4170500",1900,1039,861,1222,678]
["P4180200",36378,12354,24024,13,9,28,36,30,71,79,160,148,381,251,764,513,1356,985,2560,1333,3380,2112,3703,2272,4051,2359,3999,2231,3554,null,null,37,59,20,38]
["P4180300",9689,3443,6246,6,5,1,10,14,39,24,69,38,113,88,216,173,360,294,609,388,783,522,963,588,1040,653,1043,654,996,null,null,4,10,7,9]
["P4180500",8223,3061,5162,4,3,2,5,12,20,17,51,32,87,83,173,115,236,270,450,278,642,412,695,489,777,511,727,396,600,440,696,7,9,2,8]
["P4180800",7477,3795,3682,2773,4704]
["P4190100",23132,7007,16125,31,41,57,109,67,167,129,270,198,503,274,809,444,1235,729,1906,888,2345,896,2194,931,2083,879,1810,700,1259,784,1394,13,12,46,102]
["P4190500",2209,644,1565,816,1393]
["P4190600",1002,389,613,547,455]
["P4190800",45118,15988,29130,36,56,75,117,92,243,213,438,340,722,520,1263,887,1998,1384,3154,1902,4014,2136,4024,2310,3901,2156,3284,1863,2526,2074,3390,23,38,17,62,11829]
["P4190801",19259,7053,12206,1,2,7,7,9,19,24,60,56,129,112,295,209,596,479,1011,674,1495,959,1713,1151,1756,1149,1790,1077,1491,1146,1842,2,1,9,11,4644]
["P4190803",534,178,356,0,0,0,0,0,0,0,0,1,2,1,2,1,6,2,5,7,17,18,19,23,29,33,41,23,68,69,167,0,0,0,0,129]
["P4190804",246,122,124,0,0,0,1,0,0,0,0,1,2,2,2,2,7,11,3,9,11,17,12,24,21,19,18,15,22,22,25,0,0,0,0,68]
["P4190805",11639,5791,5848,4188,7451]
["P4190806",13088,6202,6886,4682,8406]
["P4190807",13267,5368,7899,5061,8206]
["P4190808",13839,6885,6954,4925,8914]
["P4190809",8555,4382,4173,3063,5492]
["P4190810",5389,2000,3389,0,0,0,1,0,1,1,6,2,5,6,20,15,41,29,91,65,189,135,224,223,429,390,562,387,637,747,1183,0,2,1,0,1318]
["P4190811",1749,623,1126,0,0,0,0,0,1,0,0,0,2,0,7,3,11,9,18,23,45,24,52,58,87,78,164,120,216,308,523,0,0,0,0,435]
["P4190812",16181,6891,9290,6070,10111]
["P4190900",2640,1422,1218,0,0,0,0,0,2,2,1,9,5,10,9,41,35,71,71,111,89,185,116,228,164,252,225,215,186,298,315,2,2,0,3]
["P4190910",2979,1434,1545,0,0,0,0,1,2,1,2,8,10,10,25,26,44,96,139,112,125,157,164,225,186,240,221,233,228,325,399,3,2,1,4]
["P4190920",3769,1356,2413,3,2,0,4,4,15,8,27,11,38,32,75,52,117,97,181,127,291,172,332,208,342,233,345,182,280,227,364,5,6,7,12]
["P4190930",2624,1391,1233,0,0,0,0,0,0,0,1,8,6,16,11,36,39,72,65,121,101,172,132,224,183,246,196,221,188,275,311,3,1,1,7]
["P4190940",2454,1264,1190,0,0,0,0,0,2,0,2,7,7,12,14,30,38,67,64,117,112,158,142,186,173,217,176,200,178,270,282,5,1,2,2]
["P4190950",7759,4127,3632,2744,5015]
["P4190960",5578,3352,2226,2104,3415]
["P4190970",44,29,15,25,19]
["P4200100",7938,3107,4831,{"$nulls":26},3107,4831,4,4,23,35]
["P4200200",1949,711,1238,{"$nulls":26},711,1238,5,4,3,5]
["P4200300",5562,2788,2774,1967,3595]
["P4200400",2836,1158,1678,1162,1674]
["P4200500",16533,16533,null,5070,11463]
["P4200600",5681,2390,3291,2029,3652]
["P4200700",1319,524,795,518,801]
["P4200800",303,137,166,206,97]
["P4200900",18900,7542,11358,6927,11957]
["P4201100",963,227,736,495,460]
["P4201200",998,320,678,531,447]
["P4201500",11247,11247,null,4593,6654]
["P4201600",11400,null,11400,4364,7036]
["P4201700",9280,null,9280,2627,6653]
["P4201800",3003,1207,1796,173,281,208,220,143,213,157,225,142,247,159,224,120,211,105,175,0,0,35,38]
["P4201900",83,32,51,1,3,2,2,3,5,2,5,6,5,6,11,7,11,5,9,0,1,5,7]
["P4202000",875,384,491,53,63,51,48,33,55,42,59,47,67,58,72,61,71,39,56,0,1,0,0]
["P4202010",834,319,515,62,103,87,79,40,68,35,60,34,61,24,46,16,52,21,46,1,0,6,8]
["P4202020",22,12,10,8,2,1,1,null,1,1,null,null,1,null,1,null,2,2,2,0,1,0,0]
["P4202030",1235,513,722,68,100,65,78,60,81,63,102,51,90,88,110,64,87,54,74,0,0,10,18]
["P4202040",924,365,559,35,76,55,72,43,63,60,63,57,95,47,67,40,70,28,53,0,0,19,12]
["P5180100",10332,4479,5853,1381,1978,1277,1761,1023,1233,798,881,1,2,7,9]
["P5180200",7589,3092,4497,849,1319,817,1256,783,1037,643,885,3,0,4,9]
["P5190200",3415,1491,1924,270,286,291,316,316,423,614,899,1,0,3,1]
["P5190300",9076,4137,4939,918,1006,947,1081,939,1023,1333,1829,0,0,1,4]
["P5190400",7748,3222,4526,829,1139,850,1158,745,1010,798,1219,2,0,2,1]
["P5200100",5970,1807,4163,583,1347,504,1131,386,832,334,853,3,2,2,2]
["P5300100",2211,773,1438,103,127,104,181,138,291,428,839,0,0,3,3]
["P5300200",794,295,499,23,31,38,48,56,71,178,349,0,0,1,3]
["P5300400",136,55,81,4,12,11,6,10,16,30,47]
["P5300500",2131,966,1165,315,417,288,329,203,243,160,176]
["P5300510",3931,1490,2441,170,266,275,384,316,525,729,1266,1,1,5,6]
["P5300520",712,242,470,18,24,30,41,37,58,157,347,1,0,2,3]
["P5300530",850,270,580,28,37,31,36,48,84,163,423,0,0,0,0]
["P5300540",7140,3086,4054,974,1398,899,1219,730,825,483,612]
["P5300550",3715,1422,2293,290,499,313,572,382,574,437,648]
["P5300560",1628,586,1042,61,125,100,166,120,231,305,520]
["P5300570",3467,793,2674,101,706,169,648,206,599,181,437,136,284,0,0,0,1]
["P5300580",1421,297,1124,0,2,70,284,66,346,86,252,75,240,0,0,0,0]
["P5300590",494,135,359,0,0,12,37,21,62,39,90,63,170,0,0,0,0]
["P5300600",3056,1427,317,644,394]
["P5400100",8336,3650,4686,1239,1700,1064,1461,879,928,468,597]
["P5400200",6253,2409,3844,331,634,477,783,602,959,999,1468]
["P6221000",28478,8670,19808,154,92,1480,871,1319,1133,898,1559,526,1147,402,1229,394,1269,437,1271,386,1284,381,1425,380,1595,385,1468,369,1410,342,1330,306,1068,240,764,271,893,224,836,38,103,20,74,584,1766]
["P6221100",946,169,777,4,4,44,17,40,44,35,64,7,62,2,80,4,70,3,61,9,66,2,66,5,54,6,54,3,37,2,36,1,36,1,16,1,10,6,59,0,6,0,9,55,17]
["P6221200",200,147,53,0,0,0,0,1,0,4,2,9,5,17,5,19,9,24,9,22,4,11,5,11,6,14,3,6,1,3,2,3,1,2,0,1,1,0,3,0,0,0,0,2,1]
["P6221500",148,28,120,0,0,5,4,4,20,4,30,2,7,1,4,1,8,2,3,0,2,0,2,0,1,0,1,0,2,2,7,7,29,0,0,0,0,4,23,0,1,1,2,15,11]
["P6221600",2279,367,1912,0,1,10,9,20,47,55,122,25,133,18,107,12,94,16,103,13,106,10,139,24,164,24,155,24,167,25,191,30,148,31,109,30,117,33,68,2,8,3,9,12,105]
["P6221700",94,null,94,{"$nulls":5},1,null,5,null,9,null,26,null,19,null,26,null,8,null,0,null,0,null,0,{"$nulls":11},43,null,1,null,2,1,2]
["P6221800",291,50,241,0,0,0,0,5,2,6,12,2,25,5,14,5,20,4,32,3,19,4,30,6,20,5,25,1,25,0,8,2,2,2,1,0,6,3,6,0,0,0,0,2,15]
["P6221900",510,400,110,0,0,0,0,1,0,7,2,13,4,25,11,35,15,51,9,46,17,58,18,58,9,37,8,33,4,20,4,8,5,7,3,1,1,2,4,0,0,0,0,1,8]
["P6222000",432,256,176,0,0,0,0,2,0,45,10,34,15,34,21,21,13,28,18,26,12,22,16,11,12,5,13,13,5,5,10,4,17,2,9,4,5,6,5,0,1,1,0,5,7]
["P6222100",356,248,108,0,0,0,0,2,2,20,16,30,9,30,14,50,14,38,16,20,10,20,9,19,4,6,3,4,4,7,5,0,0,2,0,0,2,2,4,2,0,0,0,15,7]
["P6222300",272,90,182,0,0,0,0,0,0,1,0,0,1,0,1,9,17,4,3,5,9,4,31,0,2,4,2,3,4,9,10,7,13,17,23,27,66,null,null,0,0,0,1,0,2]
["P6222400",387,215,172,0,0,0,0,2,1,12,9,27,3,23,7,25,7,11,9,18,20,21,22,16,21,21,20,16,24,11,13,6,8,4,5,2,3,0,0,1,0,0,0,1,18]
["P6222500",123,21,102,1,0,4,3,5,17,4,23,2,18,1,9,3,7,0,10,0,7,0,2,0,4,0,2,0,0,1,0,0,0,0,0,0,0,1,3,0,1,0,0,1,6]
["P6222600",1382,1057,325,14,5,475,136,434,137,115,40,16,5,2,0,0,1,1,0,0,1,0,0,0,0,0,0,0,0,0,0,0,0,0,0,0,0,1,null,3,0,0,1,64,87]
["P6222800",320,159,161,0,0,8,5,24,15,16,7,21,13,10,22,11,11,16,14,13,17,12,15,7,18,9,10,8,4,4,3,0,4,0,2,0,1,0,4,1,1,0,0,5,7]
["P6222900",1399,310,1089,0,0,4,1,8,11,35,60,48,71,27,71,29,90,21,87,16,99,33,123,18,109,22,109,25,85,13,71,10,49,0,35,1,18,3,32,0,6,2,0,37,26]
["P6223000",294,226,68,13,2,97,24,58,11,28,17,10,6,8,2,3,2,1,0,0,0,2,3,0,0,1,1,1,0,1,0,0,0,3,0,0,0,0,2,3,2,2,0,9,17]
["P6223040",16,16,0,{"$nulls":10},2,null,5,null,2,null,3,null,1,null,2,{"$nulls":5},1]
["P6223060",221,147,74,7,1,65,25,47,35,27,11,1,1,0,0,0,0,0,0,0,0,0,0,0,0,0,0,0,0,0,1,0,0,0,0,0,0,0,null,0,0,1,1,27,20]
["P6223070",116,67,49,10,10,39,27,18,12,{"$nulls":28},0,null,0,0,0,0,1,5]
["P6223080",2517,1329,1188,48,34,606,413,484,441,176,275,14,25,{"$nulls":24},5,null,7,6,2,4,222,262]
["P6223090",3566,1593,1973,14,6,146,55,254,165,300,310,132,119,130,97,105,111,78,124,75,129,101,173,77,157,77,173,40,138,28,89,13,58,13,28,10,41,16,37,1,16,11,8,254,572]
["P6223100",86,29,57,0,0,4,4,11,6,11,14,0,0,0,0,0,3,0,2,1,4,0,4,0,8,1,4,0,4,0,2,0,1,1,1,0,0,0,4,0,0,1,1,42,23]
["P6223110",14,9,5,0,0,0,0,0,0,4,0,1,0,0,0,0,0,0,1,0,2,0,0,0,0,1,0,1,2,0,0,1,0,1,0,0,0,0,1,0,0,0,0,4,9]
["P6223140",46,10,36,0,0,3,0,2,2,5,15,0,4,0,0,0,3,0,4,0,2,0,4,0,2,0,0,0,0,0,0,0,0,0,0,0,0,1,5,0,0,0,0,18,18]
["P6223170",3294,1395,1899,9,4,111,46,205,132,233,254,119,120,123,98,106,111,69,124,71,123,94,169,83,152,67,183,34,154,29,101,16,69,15,22,11,37,12,21,1,0,9,3,210,164]
["P6223180",387,60,327,0,0,2,0,5,10,5,41,3,11,3,10,0,11,3,14,2,28,5,30,5,43,9,36,8,39,3,28,3,18,0,5,4,3,2,10,0,3,0,0,5,41]
["P6223190",167,39,128,0,0,0,0,0,6,13,21,3,2,2,8,0,11,0,12,5,9,1,10,2,8,6,11,1,10,3,8,0,5,3,4,0,3,0,3,0,0,0,1,2,13]
["P6223200",208,62,146,0,0,0,2,7,16,29,59,7,9,4,5,2,8,4,7,1,4,2,6,1,13,1,2,2,1,2,7,0,4,0,2,0,1,0,5,0,0,0,0,21,13]
["P6223210",8,null,8,{"$nulls":5},0,null,1,null,0,null,1,null,1,null,1,null,2,null,2,null,0,null,0,{"$nulls":11},0,null,0,null,1,0,0]
["P6223220",585,160,425,0,0,0,0,6,6,18,5,14,22,9,39,15,24,8,38,12,39,19,64,16,49,18,46,5,31,11,26,8,21,0,6,1,9,2,7,0,0,4,0,6,72]
["P6223230",56,40,16,0,0,0,0,0,0,1,0,2,0,4,0,2,2,0,0,3,1,5,3,7,2,7,3,5,2,1,2,2,1,0,0,1,0,0,0,0,0,0,0,0,14]
["P6223240",61,41,20,0,0,0,0,0,0,6,2,8,0,13,2,7,5,1,6,2,0,1,0,3,3,0,0,0,2,0,0,0,0,0,0,0,0,3,4,0,0,0,0,3,22]
["P6223250",90,55,35,0,0,0,0,0,0,10,2,6,6,8,4,12,1,3,7,3,6,6,0,2,5,5,2,0,0,0,2,0,0,0,0,0,0,0,2,0,0,2,0,3,24]
["P6223260",128,98,30,0,1,39,9,44,11,15,9,0,0,0,0,0,0,0,0,0,0,0,0,0,0,0,0,0,0,0,0,0,0,0,0,0,0,0,null,0,0,0,0,29,10]
["P6223270",53,45,8,0,0,9,0,26,5,9,3,0,0,0,0,1,0,0,0,0,0,0,0,0,0,0,0,0,0,0,0,0,0,0,0,0,0,0,null,0,0,0,0,32,1]
["P6223280",3,2,1,0,0,0,0,2,1,{"$nulls":28},0,null,0,0,0,0,0,0]
["P6223290",357,209,148,2,4,57,13,68,52,82,79,0,0,{"$nulls":24},0,null,1,0,1,3,117,42]
["P6223310",21,13,8,0,0,0,0,0,0,0,0,0,0,2,0,0,0,0,0,0,0,4,0,0,0,0,0,1,1,0,2,0,0,3,0,3,5,null,null,0,0,0,0,0,0]
["P6223330",998,655,343,0,0,0,0,0,1,22,9,71,17,98,28,81,38,73,25,71,34,69,35,61,23,59,52,18,32,16,23,6,10,10,10,0,6,0,1,0,0,0,0,4,164]
["P6223340",31,22,9,0,0,0,0,0,2,7,3,5,0,6,0,4,3,0,0,0,0,0,0,0,1,0,0,0,0,0,0,0,0,0,0,0,0,0,0,0,0,0,0,2,8]
["P6223350",47,5,42,0,0,0,1,2,8,0,12,0,9,2,4,0,2,0,3,0,1,0,0,0,1,0,0,1,0,0,0,0,1,0,0,0,0,1,1,0,2,0,0,3,6]
["P6223360",186,106,80,0,0,1,4,15,5,7,11,12,8,10,7,11,5,5,1,8,9,14,7,11,3,2,3,5,7,2,10,1,0,0,0,2,0,0,0,0,0,2,0,8,20]
["P6223370",683,159,524,0,0,3,0,3,5,17,21,5,49,21,31,19,39,15,46,9,33,24,55,12,53,18,62,4,60,3,32,5,26,1,10,0,2,3,5,0,0,0,0,8,113]
["P6223380",228,188,40,9,1,50,12,55,8,39,5,15,8,4,0,8,1,6,5,0,0,0,0,2,0,0,0,0,0,0,0,0,0,0,0,0,0,0,0,0,0,0,1,4,14]
["P6227400",12,8,4,0,0,0,0,0,1,0,0,2,1,1,1,1,1,0,0,1,0,0,0,2,0,0,0,0,0,1,0,0,0,0,0,0,0,0,0,0,0,0,0,0,2]
["P6227500",5053,788,4265,0,0,3,5,38,58,75,213,64,152,43,195,41,227,35,239,39,276,38,328,51,457,65,500,75,485,72,379,68,309,37,222,44,220,30,119,1,27,3,11,27,175]
["P6227600",790,205,585,0,0,1,4,8,31,28,55,20,25,13,41,7,44,20,43,19,40,17,51,17,63,12,65,16,47,11,30,9,24,4,13,3,9,4,16,0,2,0,1,9,59]
["P6227601",27643,8361,19282,147,91,1446,847,1293,1101,867,1514,496,1108,388,1220,379,1230,413,1222,361,1240,364,1381,354,1559,370,1433,357,1377,329,1303,299,1038,234,748,264,870,225,805,31,91,20,71,524,1655]
["P6227602",3606,1100,2506,57,35,157,134,123,155,103,199,66,184,53,184,47,166,51,153,43,130,50,148,41,173,47,145,53,161,58,159,47,124,42,98,62,158,76,200,12,6,1,17,76,130]
["P6227603",323,149,174,0,0,6,0,20,13,20,24,17,10,15,7,11,5,2,14,10,14,9,12,5,20,8,15,10,10,7,17,4,4,2,2,3,7,0,5,0,0,0,0,12,60]
["P6230100",217,72,145,0,0,0,0,0,0,0,0,0,0,0,0,0,1,0,0,0,0,0,0,0,2,1,1,1,4,5,9,13,14,15,11,37,103,null,null,0,0,0,0,0,5]
["P6230200",70,23,47,0,0,0,0,0,0,0,0,0,0,1,1,0,1,0,0,3,0,0,0,1,0,0,1,0,1,1,1,3,2,3,6,11,34,null,null,0,0,0,0,1,1]
["P6230300",893,377,516,72,80,104,79,111,121,74,166,16,70,10,23]
["P6230400",56,13,43,0,0,0,0,0,0,0,0,0,0,0,0,0,0,0,0,0,2,1,0,1,0,1,2,0,4,0,9,4,6,0,0,6,20,null,null,0,0,0,0,0,4]
["P6230500",12,3,9,0,0,0,0,0,0,0,0,0,0,0,0,0,0,0,0,0,0,0,0,2,0,0,0,0,2,0,1,0,0,1,2,0,4,null,null,0,0,0,0,0,0]
["P6230800",309,81,228,0,0,2,1,7,25,17,33,8,17,4,19,3,12,6,24,8,17,2,11,5,15,5,14,7,9,4,12,3,16,0,2,0,1,0,5,1,2,0,0,6,7]
["P6230900",242,77,165,0,0,3,1,3,11,14,48,12,21,5,7,4,7,6,13,4,8,4,17,6,9,3,7,3,3,1,3,7,9,1,1,1,0,0,3,0,1,0,0,7,5]
["P6231000",273,65,208,1,2,6,5,5,21,12,29,1,19,7,14,6,14,2,11,0,13,1,11,1,16,8,17,5,11,3,10,4,5,2,8,1,2,0,5,0,1,0,2,11,13]
["P6231100",151,38,113,0,0,0,0,1,6,10,14,4,5,4,15,4,5,3,9,3,10,3,7,0,12,2,8,1,7,2,5,1,3,0,5,0,2,5,3,0,1,0,0,1,12]
["P6231200",880,191,689,0,0,1,4,6,15,23,54,25,52,21,62,18,80,18,58,16,65,8,56,20,66,13,51,6,39,6,36,4,27,4,14,2,10,7,31,0,2,0,3,4,63]
["P6231300",60,28,32,0,0,2,0,1,2,4,9,5,2,2,0,9,8,1,1,1,3,1,1,1,2,0,1,0,1,1,1,0,0,0,0,0,1,0,1,0,0,0,0,0,0]
["P6231400",2022,422,1600,1,1,4,10,26,30,43,90,42,77,22,91,27,168,28,111,27,109,32,150,30,153,27,119,27,110,28,126,21,123,17,75,20,57,4,52,2,11,0,5,14,23]
["P6231500",6645,1493,5152,6,2,79,98,123,156,145,349,113,346,93,398,74,355,97,378,94,400,80,406,76,410,98,360,98,422,109,408,88,299,73,203,47,162,90,284,9,40,4,19,41,231]
["P6231600",159,72,87,0,1,5,2,5,3,5,7,6,2,5,10,5,7,6,5,6,5,4,14,9,8,9,10,2,3,1,4,1,4,1,1,2,1,0,0,1,0,1,0,1,9]
["P6231900",58,17,41,0,0,1,1,4,2,10,19,0,1,0,2,0,0,0,3,0,4,0,4,0,2,1,0,1,3,0,0,0,0,0,0,0,0,0,3,0,0,0,0,14,14]
["P6232000",57,23,34,0,0,0,0,2,5,13,16,0,7,2,0,1,1,2,0,3,0,0,2,0,1,0,2,0,0,0,0,0,0,0,0,0,0,0,0,0,0,0,0,19,16]
["P6232100",38,16,22,0,0,0,0,7,5,2,5,0,3,4,1,1,2,1,1,0,2,0,0,1,0,0,0,0,1,0,2,0,0,0,0,0,0,0,4,0,0,0,2,8,7]
["P6232200",25,7,18,0,0,0,0,0,0,0,0,0,0,0,1,0,0,0,2,1,2,1,3,2,5,0,0,2,3,1,1,0,1,0,0,0,0,1,1,0,0,0,0,0,18]
["P6232300",18,5,13,0,0,0,0,0,0,0,0,0,2,0,0,0,1,1,1,0,1,0,5,0,0,3,0,0,0,1,3,0,0,0,0,0,0,0,1,0,0,0,0,0,6]
["P6232400",5,5,0,0,0,0,0,0,0,2,0,1,0,2,0,0,0,0,0,0,0,0,0,0,0,0,0,0,0,0,0,0,0,0,0,0,0,0,0,0,0,0,0,0,1]
["P6232500",213,59,154,0,0,6,10,18,13,9,7,2,7,2,13,2,2,6,11,0,6,3,26,2,8,1,17,2,12,2,9,2,7,0,5,2,1,0,1,0,0,0,0,2,9]
["P6232600",173,50,123,0,0,2,1,8,4,8,3,8,6,7,10,7,8,1,8,0,5,3,19,1,18,2,10,0,12,1,6,2,6,0,5,0,2,0,1,0,6,0,0,5,23]
["P6232700",10,6,4,0,0,0,0,0,0,2,0,1,0,0,1,0,0,0,1,1,1,1,0,1,1,0,0,0,0,0,0,0,0,0,0,0,0,0,0,0,0,0,0,0,0]
["P7010100",141876,62130,56586,23160]
["P7010200",17773,10439,5327,2007]
["P7010300",12730,7997,3573,1160]
["P7010400",48786,42415,4695,848,1714,0,0,0,0]
["P7010500",10209,7434,1055,828,892,0,0,0,0]
["P7010600",7078,5027,714,742,595,0,0,0,0]
["P7200100",3520,1736,1257,527]
["P7200200",1251,624,461,166]
["P7200300",1514,1117,252,43,102,0,0,0,0]
["P7200400",906,754,55,43,54,0,0,0,0]
["P7200500",6385,3172,1785,1384,51,0,0,0,0]
["P7200700",2406,1271,916,218,1]
["P7200800",1541,766,633,142]
["P7200900",297,175,60,61,1]
["P7201000",193,112,69,12]
["P7201100",430,253,172,5]
["P7201200",908,496,147,127,138]
["P7201300",6378,3766,1122,910,580]
["P7201400",1473,787,332,265,89]
["P7201500",336,221,61,21,33]
["P9100100",9172,3987,5185,4913,2301,2612,4259,1686,2573,426,173,253,137,57,80]
["P9100110",242,109,133,136,68,68,106,41,65,16,8,8,0,0,0]
["P9100120",1550,725,825,988,522,466,562,203,359,68,29,39,17,3,14]
["P9100130",2439,990,1449,1407,640,767,1032,350,682,118,46,72,24,7,17]
["P9100140",384,223,161,180,101,79,204,122,82,27,13,14,12,7,5]
["P9100150",34,23,11,15,8,7,19,15,4,1,1,0,3,1,2]
["P9100160",3710,1657,2053,2043,926,1117,1667,731,936,172,68,104,79,39,40]
["P9100170",167,87,80,151,76,75,16,11,5,9,5,4,3,2,1]
["P9100180",746,427,319,594,334,260,152,93,59,36,20,16,9,4,5]
["P9100190",1267,460,807,480,209,271,787,251,536,89,29,60,25,9,16]
["P9100200",201,89,112,81,46,35,120,43,77,13,4,9,8,4,4]
["P9100210",4565,2061,2504,2758,1296,1462,1807,765,1042,232,100,132,67,30,37]
["P9100220",4195,1828,2367,2122,963,1159,2073,865,1208,197,79,118,84,41,43]
["P9100230",1881,777,1104,1126,504,622,755,273,482,104,44,60,19,5,14]
["P9100240",1383,701,682,1008,540,468,375,161,214,64,30,34,7,1,6]
["P9100250",385,227,158,185,108,77,200,119,81,28,15,13,10,6,4]
["P9100260",36,26,10,17,10,7,19,16,3,1,1,0,2,1,1]
["P9100270",2565,1026,1539,1528,680,848,1037,346,691,122,51,71,26,7,19]
["P9100280",1605,760,845,1034,549,485,571,211,360,72,30,42,17,3,14]
["P9100290",263,138,125,127,64,63,136,74,62,14,6,8,1,1,0]
["P9100300",4019,1727,2292,1985,880,1105,2034,847,1187,189,70,119,81,39,42]
["P9100310",3,2,1,1,1,0,2,1,1,0,0,0,0,0,0]
["P9100320",9091,3948,5143,4873,2267,2606,4218,1681,2537,427,174,253,138,56,82]
["P9100330",76,29,47,29,10,19,47,19,28,4,2,2,1,1,0]
["P9100340",17,11,6,17,11,6,0,null,null,3,0,3,1,0,1]
["P9100350",176,91,85,0,null,null,176,91,85,11,7,4,3,2,1]
["P9100370",3,0,3,0,0,0,3,0,3,0,0,0,0,0,0]
["P9100380",1720,662,1058,321,98,223,1399,564,835,54,16,38,18,4,14]
["P9100390",175,45,130,89,24,65,86,21,65,8,2,6,2,0,2]
["P9100400",63,13,50,33,6,27,30,7,23,3,0,3,3,1,2]
["P9100410",658,285,373,65,36,29,593,249,344,20,5,15,6,0,6]
["P9100420",4272,1883,2389,2550,1245,1305,1722,638,1084,245,104,141,63,20,43]
["P9100430",1639,639,1000,991,415,576,648,224,424,106,37,69,46,20,26]
["P9100440",6546,3041,3505,4469,2113,2356,2077,928,1149,304,141,163,116,50,66]
["P9100450",573,222,351,61,21,40,512,201,311,17,6,11,8,3,5]
["P9100460",1635,530,1105,69,22,47,1566,508,1058,90,19,71,18,6,12]
["P9100470",1235,267,968,56,8,48,1179,259,920,59,6,53,11,3,8]
["P9100480",418,117,301,15,4,11,403,113,290,27,3,24,3,2,1]
["P9100490",58,3,55,0,0,0,58,3,55,5,0,5,3,0,3]
["P9100500",7,0,7,1,0,1,6,0,6,0,0,0,0,0,0]
["P9100510",14,0,14,0,0,0,14,0,14,1,0,1,0,0,0]
["P9100520",17,2,15,6,1,5,11,1,10,1,0,1,1,0,1]
["P9100530",38,5,33,13,3,10,25,2,23,0,0,0,0,0,0]
["P9100570",1972,872,1100,106,44,62,25,9,16,262,115,147]
["P9100580",2663,990,1673,86,30,56,16,8,8,1855,689,1166]
["P9100590",2312,1034,1278,114,50,64,29,13,16,398,190,208]
["P9100600",2956,1039,1917,96,32,64,16,10,6,2007,699,1308]
["P9100610",733,355,378,20,11,9,1,0,1,50,23,27]
["P9100620",958,399,559,16,8,8,1,1,0,641,253,388]
["P9100630",816,395,421,16,9,7,5,4,1,103,34,69]
["P9100640",1328,470,858,23,8,15,6,3,3,1007,344,663]
["P9100650",1192,456,736,40,15,25,8,1,7,155,38,117]
["P9100660",2446,558,1888,43,13,30,17,5,12,1646,339,1307]
["P9100670",404,103,301,18,7,11,5,0,5,110,3,107]
["P9100680",1582,60,1522,25,2,23,11,2,9,1082,11,1071]
["P9100690",681,257,424,27,11,16,6,2,4,202,46,156]
["P9100700",2478,540,1938,39,6,33,18,6,12,1964,397,1567]
["(en blanco)"]
["Total general",1969286,706859,886532,203108,198299,94488,105208,42506,49613,37983,32424,18042,16179,8478,18301,12042,25720,21520,41059,28740,54887,34711,58936,42907,67086,37557,60126,34421,53355,47532,74405,4241,9867,4882,9393,24097,12846,4791,3659,2237,355,91,289,2616,6600,0]

{"sheet":"P1","index":1,"n_rows":152,"n_cols":121,"rows_kept":152,"merged":[[5,3,5,16],[6,1,6,7],[8,1,9,2],[8,3,9,3],[8,4,8,13],[8,14,9,14],[8,15,9,15],[8,16,9,16],[10,1,10,2],[12,1,16,1],[18,1,19,1],[20,1,21,1],[22,1,22,2],[23,1,23,2],[24,1,24,2],[25,1,25,2],[26,1,26,2],[27,1,27,2],[28,1,29,1],[30,1,31,1],[32,1,32,2],[33,1,33,6],[34,1,35,1],[34,2,35,2],[34,3,35,3],[34,4,35,4],[34,5,35,5],[34,6,35,6],[47,1,48,1],[47,2,48,2],[47,3,48,3],[54,1,54,12],[55,1,56,1],[55,2,56,2],[55,3,56,3],[55,4,55,12],[57,1,61,1],[62,1,66,1],[74,1,74,5],[81,1,81,2],[83,1,84,2],[83,3,84,3],[83,4,83,8],[83,9,84,9],[83,10,84,10],[85,1,85,2],[87,1,87,2],[88,1,88,2],[89,1,89,2],[90,1,90,2],[91,1,91,2],[105,2,105,3],[105,4,105,5],[118,1,118,8]]}
[]
[]
[]
[]
[]
[{"$nulls":3},"REM-P1. POBLACIÓN EN CONTROL PROGRAMA DE SALUD DE LA MUJER"]
[null,"ATENCIÓN PRIMARIA DE SALUD"]
[null,"SECCION A: POBLACIÓN EN CONTROL SEGÚN MÉTODO DE REGULACIÓN DE FERTILIDAD Y SALUD SEXUAL"]
[null,"MÉTODOS",null,"TOTAL","GRUPO DE EDAD (en años)",{"$nulls":9},"Pueblos Originarios","Población Migrantes","PV-VIH (personas viviendo con VIH)"]
[{"$nulls":4},"Menor \nde 15 años","15 a 19 años","20 a 24 años","25 a 29 años","30 a 34 años","35 a 39 años","40 a 44 años","45 a 49 años","50 a 54 años","55 y más años"]
["P1010100","D . I . U T con Cobre",null,{"$f":"IFERROR(VLOOKUP($A11,Filtro!$A$4:$AX$552,2,FALSE),0)","v":10203},{"$f":"IFERROR(VLOOKUP($A11,Filtro!$A$4:$AX$552,3,FALSE),0)","v":0},{"$f":"IFERROR(VLOOKUP($A11,Filtro!$A$4:$AX$552,4,FALSE),0)","v":70},{"$f":"IFERROR(VLOOKUP($A11,Filtro!$A$4:$AX$552,5,FALSE),0)","v":733},{"$f":"IFERROR(VLOOKUP($A11,Filtro!$A$4:$AX$552,6,FALSE),0)","v":1796},{"$f":"IFERROR(VLOOKUP($A11,Filtro!$A$4:$AX$552,7,FALSE),0)","v":1963},{"$f":"IFERROR(VLOOKUP($A11,Filtro!$A$4:$AX$552,8,FALSE),0)","v":1851},{"$f":"IFERROR(VLOOKUP($A11,Filtro!$A$4:$AX$552,9,FALSE),0)","v":1621},{"$f":"IFERROR(VLOOKUP($A11,Filtro!$A$4:$AX$552,10,FALSE),0)","v":1319},{"$f":"IFERROR(VLOOKUP($A11,Filtro!$A$4:$AX$552,11,FALSE),0)","v":850},{"$f":"IFERROR(VLOOKUP($A11,Filtro!$A$4:$AX$552,12,FALSE),0)","v":0},{"$f":"IFERROR(VLOOKUP($A11,Filtro!$A$4:$AX$552,13,FALSE),0)","v":169},{"$f":"IFERROR(VLOOKUP($A11,Filtro!$A$4:$AX$552,14,FALSE),0)","v":142},{"$f":"IFERROR(VLOOKUP($A11,Filtro!$A$4:$AX$552,15,FALSE),0)","v":6},{"$f":"($CA11&$CB11&$CC11&$CD11&$CE11&$CF11&$CG11&$CH11&$CI11&$CJ11&$CL11&$CM11&$CN11&$CO11&$CP11&$CQ11&$CR11&$CS11&$CT11&$CU11&$CV11&$CW11&$CX11&$CY11&$CZ11)","v":""},{"$nulls":60},{"$f":"IF(DA11=1,\"* La celda 'Pueblos Originarios' debe ser menor o igual al Total en control. \",\"\")","v":""},{"$f":"IF(DB11=1,\"* La celda 'Población Migrantes' debe ser menor o igual al Total en control. \",\"\")","v":""},{"$f":"IF(DC11=1,\"* No olvide escribir en la celda de 'Pueblos Originarios' (Digite CERO si no tiene). \",\"\")","v":""},{"$f":"IF(DD11=1,\"* No olvide escribir en la celda de 'Población Migrantes' (Digite CERO si no tiene). \",\"\")","v":""},{"$nulls":22},{"$f":"IF($O11>$D11,1,0)","v":0},{"$f":"IF($P11>$D11,1,0)","v":0},{"$f":"IF(AND(D11<>0,O11=\"\"),1,0)","v":0},{"$f":"IF(AND(D11<>0,P11=\"\"),1,0)","v":0}]
["P1060124","D . I . U con Levonorgestrel",null,{"$f":"IFERROR(VLOOKUP($A12,Filtro!$A$4:$AX$552,2,FALSE),0)","v":261},{"$f":"IFERROR(VLOOKUP($A12,Filtro!$A$4:$AX$552,3,FALSE),0)","v":0},{"$f":"IFERROR(VLOOKUP($A12,Filtro!$A$4:$AX$552,4,FALSE),0)","v":9},{"$f":"IFERROR(VLOOKUP($A12,Filtro!$A$4:$AX$552,5,FALSE),0)","v":47},{"$f":"IFERROR(VLOOKUP($A12,Filtro!$A$4:$AX$552,6,FALSE),0)","v":62},{"$f":"IFERROR(VLOOKUP($A12,Filtro!$A$4:$AX$552,7,FALSE),0)","v":64},{"$f":"IFERROR(VLOOKUP($A12,Filtro!$A$4:$AX$552,8,FALSE),0)","v":37},{"$f":"IFERROR(VLOOKUP($A12,Filtro!$A$4:$AX$552,9,FALSE),0)","v":38},{"$f":"IFERROR(VLOOKUP($A12,Filtro!$A$4:$AX$552,10,FALSE),0)","v":1},{"$f":"IFERROR(VLOOKUP($A12,Filtro!$A$4:$AX$552,11,FALSE),0)","v":3},{"$f":"IFERROR(VLOOKUP($A12,Filtro!$A$4:$AX$552,12,FALSE),0)","v":0},{"$f":"IFERROR(VLOOKUP($A12,Filtro!$A$4:$AX$552,13,FALSE),0)","v":7},{"$f":"IFERROR(VLOOKUP($A12,Filtro!$A$4:$AX$552,14,FALSE),0)","v":11},{"$f":"IFERROR(VLOOKUP($A12,Filtro!$A$4:$AX$552,15,FALSE),0)","v":0},"",{"$nulls":60},{"$f":"IF(DA12=1,\"* La celda 'Pueblos Originarios' debe ser menor o igual al Total en control. \",\"\")","v":""},{"$f":"IF(DB12=1,\"* La celda 'Población Migrantes' debe ser menor o igual al Total en control. \",\"\")","v":""},{"$f":"IF(DC12=1,\"* No olvide escribir en la celda de 'Pueblos Originarios' (Digite CERO si no tiene). \",\"\")","v":""},{"$f":"IF(DD12=1,\"* No olvide escribir en la celda de 'Población Migrantes' (Digite CERO si no tiene). \",\"\")","v":""},{"$nulls":22},{"$f":"IF($O12>$D12,1,0)","v":0},{"$f":"IF($P12>$D12,1,0)","v":0},0,0]
["P1010201","HORMONAL","Oral Combinado",{"$f":"IFERROR(VLOOKUP($A13,Filtro!$A$4:$AX$552,2,FALSE),0)","v":16735},{"$f":"IFERROR(VLOOKUP($A13,Filtro!$A$4:$AX$552,3,FALSE),0)","v":223},{"$f":"IFERROR(VLOOKUP($A13,Filtro!$A$4:$AX$552,4,FALSE),0)","v":2883},{"$f":"IFERROR(VLOOKUP($A13,Filtro!$A$4:$AX$552,5,FALSE),0)","v":3222},{"$f":"IFERROR(VLOOKUP($A13,Filtro!$A$4:$AX$552,6,FALSE),0)","v":2985},{"$f":"IFERROR(VLOOKUP($A13,Filtro!$A$4:$AX$552,7,FALSE),0)","v":2691},{"$f":"IFERROR(VLOOKUP($A13,Filtro!$A$4:$AX$552,8,FALSE),0)","v":2048},{"$f":"IFERROR(VLOOKUP($A13,Filtro!$A$4:$AX$552,9,FALSE),0)","v":1586},{"$f":"IFERROR(VLOOKUP($A13,Filtro!$A$4:$AX$552,10,FALSE),0)","v":870},{"$f":"IFERROR(VLOOKUP($A13,Filtro!$A$4:$AX$552,11,FALSE),0)","v":227},{"$f":"IFERROR(VLOOKUP($A13,Filtro!$A$4:$AX$552,12,FALSE),0)","v":0},{"$f":"IFERROR(VLOOKUP($A13,Filtro!$A$4:$AX$552,13,FALSE),0)","v":148},{"$f":"IFERROR(VLOOKUP($A13,Filtro!$A$4:$AX$552,14,FALSE),0)","v":267},{"$f":"IFERROR(VLOOKUP($A13,Filtro!$A$4:$AX$552,15,FALSE),0)","v":3},"",{"$nulls":60},"","","","",{"$nulls":22},0,0,0,0]
["P1010202",null,"Oral Progestágeno",{"$f":"IFERROR(VLOOKUP($A14,Filtro!$A$4:$AX$552,2,FALSE),0)","v":4731},{"$f":"IFERROR(VLOOKUP($A14,Filtro!$A$4:$AX$552,3,FALSE),0)","v":8},{"$f":"IFERROR(VLOOKUP($A14,Filtro!$A$4:$AX$552,4,FALSE),0)","v":137},{"$f":"IFERROR(VLOOKUP($A14,Filtro!$A$4:$AX$552,5,FALSE),0)","v":466},{"$f":"IFERROR(VLOOKUP($A14,Filtro!$A$4:$AX$552,6,FALSE),0)","v":689},{"$f":"IFERROR(VLOOKUP($A14,Filtro!$A$4:$AX$552,7,FALSE),0)","v":674},{"$f":"IFERROR(VLOOKUP($A14,Filtro!$A$4:$AX$552,8,FALSE),0)","v":581},{"$f":"IFERROR(VLOOKUP($A14,Filtro!$A$4:$AX$552,9,FALSE),0)","v":716},{"$f":"IFERROR(VLOOKUP($A14,Filtro!$A$4:$AX$552,10,FALSE),0)","v":1004},{"$f":"IFERROR(VLOOKUP($A14,Filtro!$A$4:$AX$552,11,FALSE),0)","v":456},{"$f":"IFERROR(VLOOKUP($A14,Filtro!$A$4:$AX$552,12,FALSE),0)","v":0},{"$f":"IFERROR(VLOOKUP($A14,Filtro!$A$4:$AX$552,13,FALSE),0)","v":39},{"$f":"IFERROR(VLOOKUP($A14,Filtro!$A$4:$AX$552,14,FALSE),0)","v":116},{"$f":"IFERROR(VLOOKUP($A14,Filtro!$A$4:$AX$552,15,FALSE),0)","v":0},"",{"$nulls":60},"","","","",{"$nulls":22},0,0,0,0]
["P1010203",null,"Inyectable Combinado",{"$f":"IFERROR(VLOOKUP($A15,Filtro!$A$4:$AX$552,2,FALSE),0)","v":8171},{"$f":"IFERROR(VLOOKUP($A15,Filtro!$A$4:$AX$552,3,FALSE),0)","v":80},{"$f":"IFERROR(VLOOKUP($A15,Filtro!$A$4:$AX$552,4,FALSE),0)","v":1300},{"$f":"IFERROR(VLOOKUP($A15,Filtro!$A$4:$AX$552,5,FALSE),0)","v":1999},{"$f":"IFERROR(VLOOKUP($A15,Filtro!$A$4:$AX$552,6,FALSE),0)","v":1761},{"$f":"IFERROR(VLOOKUP($A15,Filtro!$A$4:$AX$552,7,FALSE),0)","v":1289},{"$f":"IFERROR(VLOOKUP($A15,Filtro!$A$4:$AX$552,8,FALSE),0)","v":885},{"$f":"IFERROR(VLOOKUP($A15,Filtro!$A$4:$AX$552,9,FALSE),0)","v":578},{"$f":"IFERROR(VLOOKUP($A15,Filtro!$A$4:$AX$552,10,FALSE),0)","v":247},{"$f":"IFERROR(VLOOKUP($A15,Filtro!$A$4:$AX$552,11,FALSE),0)","v":32},{"$f":"IFERROR(VLOOKUP($A15,Filtro!$A$4:$AX$552,12,FALSE),0)","v":0},{"$f":"IFERROR(VLOOKUP($A15,Filtro!$A$4:$AX$552,13,FALSE),0)","v":94},{"$f":"IFERROR(VLOOKUP($A15,Filtro!$A$4:$AX$552,14,FALSE),0)","v":182},{"$f":"IFERROR(VLOOKUP($A15,Filtro!$A$4:$AX$552,15,FALSE),0)","v":2},"",{"$nulls":60},"","","","",{"$nulls":22},0,0,0,0]
["P1040508",null,"Inyectable Progestágeno",{"$f":"IFERROR(VLOOKUP($A16,Filtro!$A$4:$AX$552,2,FALSE),0)","v":11777},{"$f":"IFERROR(VLOOKUP($A16,Filtro!$A$4:$AX$552,3,FALSE),0)","v":82},{"$f":"IFERROR(VLOOKUP($A16,Filtro!$A$4:$AX$552,4,FALSE),0)","v":1214},{"$f":"IFERROR(VLOOKUP($A16,Filtro!$A$4:$AX$552,5,FALSE),0)","v":2205},{"$f":"IFERROR(VLOOKUP($A16,Filtro!$A$4:$AX$552,6,FALSE),0)","v":2486},{"$f":"IFERROR(VLOOKUP($A16,Filtro!$A$4:$AX$552,7,FALSE),0)","v":1898},{"$f":"IFERROR(VLOOKUP($A16,Filtro!$A$4:$AX$552,8,FALSE),0)","v":2014},{"$f":"IFERROR(VLOOKUP($A16,Filtro!$A$4:$AX$552,9,FALSE),0)","v":909},{"$f":"IFERROR(VLOOKUP($A16,Filtro!$A$4:$AX$552,10,FALSE),0)","v":747},{"$f":"IFERROR(VLOOKUP($A16,Filtro!$A$4:$AX$552,11,FALSE),0)","v":222},{"$f":"IFERROR(VLOOKUP($A16,Filtro!$A$4:$AX$552,12,FALSE),0)","v":0},{"$f":"IFERROR(VLOOKUP($A16,Filtro!$A$4:$AX$552,13,FALSE),0)","v":132},{"$f":"IFERROR(VLOOKUP($A16,Filtro!$A$4:$AX$552,14,FALSE),0)","v":469},{"$f":"IFERROR(VLOOKUP($A16,Filtro!$A$4:$AX$552,15,FALSE),0)","v":5},"",{"$nulls":60},"","","","",{"$nulls":22},0,0,0,0]
["P1040500",null,"Implante Etonogestrel (3 años)",{"$f":"IFERROR(VLOOKUP($A17,Filtro!$A$4:$AX$552,2,FALSE),0)","v":9895},{"$f":"IFERROR(VLOOKUP($A17,Filtro!$A$4:$AX$552,3,FALSE),0)","v":91},{"$f":"IFERROR(VLOOKUP($A17,Filtro!$A$4:$AX$552,4,FALSE),0)","v":1743},{"$f":"IFERROR(VLOOKUP($A17,Filtro!$A$4:$AX$552,5,FALSE),0)","v":2635},{"$f":"IFERROR(VLOOKUP($A17,Filtro!$A$4:$AX$552,6,FALSE),0)","v":2359},{"$f":"IFERROR(VLOOKUP($A17,Filtro!$A$4:$AX$552,7,FALSE),0)","v":1534},{"$f":"IFERROR(VLOOKUP($A17,Filtro!$A$4:$AX$552,8,FALSE),0)","v":927},{"$f":"IFERROR(VLOOKUP($A17,Filtro!$A$4:$AX$552,9,FALSE),0)","v":434},{"$f":"IFERROR(VLOOKUP($A17,Filtro!$A$4:$AX$552,10,FALSE),0)","v":154},{"$f":"IFERROR(VLOOKUP($A17,Filtro!$A$4:$AX$552,11,FALSE),0)","v":18},{"$f":"IFERROR(VLOOKUP($A17,Filtro!$A$4:$AX$552,12,FALSE),0)","v":0},{"$f":"IFERROR(VLOOKUP($A17,Filtro!$A$4:$AX$552,13,FALSE),0)","v":91},{"$f":"IFERROR(VLOOKUP($A17,Filtro!$A$4:$AX$552,14,FALSE),0)","v":421},{"$f":"IFERROR(VLOOKUP($A17,Filtro!$A$4:$AX$552,15,FALSE),0)","v":5},"",{"$nulls":60},{"$f":"IF(DA17=1,\"* La celda 'Pueblos Originarios' debe ser menor o igual al Total en control. \",\"\")","v":""},{"$f":"IF(DB17=1,\"* La celda 'Población Migrantes' debe ser menor o igual al Total en control. \",\"\")","v":""},{"$f":"IF(DC17=1,\"* No olvide escribir en la celda de 'Pueblos Originarios' (Digite CERO si no tiene). \",\"\")","v":""},{"$f":"IF(DD17=1,\"* No olvide escribir en la celda de 'Población Migrantes' (Digite CERO si no tiene). \",\"\")","v":""},{"$nulls":22},0,0,0,0]
["P1200190",null,"Implante Levonorgestrel (5 años)",{"$f":"IFERROR(VLOOKUP($A18,Filtro!$A$4:$AX$552,2,FALSE),0)","v":1246},{"$f":"IFERROR(VLOOKUP($A18,Filtro!$A$4:$AX$552,3,FALSE),0)","v":23},{"$f":"IFERROR(VLOOKUP($A18,Filtro!$A$4:$AX$552,4,FALSE),0)","v":313},{"$f":"IFERROR(VLOOKUP($A18,Filtro!$A$4:$AX$552,5,FALSE),0)","v":324},{"$f":"IFERROR(VLOOKUP($A18,Filtro!$A$4:$AX$552,6,FALSE),0)","v":253},{"$f":"IFERROR(VLOOKUP($A18,Filtro!$A$4:$AX$552,7,FALSE),0)","v":190},{"$f":"IFERROR(VLOOKUP($A18,Filtro!$A$4:$AX$552,8,FALSE),0)","v":95},{"$f":"IFERROR(VLOOKUP($A18,Filtro!$A$4:$AX$552,9,FALSE),0)","v":40},{"$f":"IFERROR(VLOOKUP($A18,Filtro!$A$4:$AX$552,10,FALSE),0)","v":7},{"$f":"IFERROR(VLOOKUP($A18,Filtro!$A$4:$AX$552,11,FALSE),0)","v":1},{"$f":"IFERROR(VLOOKUP($A18,Filtro!$A$4:$AX$552,12,FALSE),0)","v":0},{"$f":"IFERROR(VLOOKUP($A18,Filtro!$A$4:$AX$552,13,FALSE),0)","v":9},{"$f":"IFERROR(VLOOKUP($A18,Filtro!$A$4:$AX$552,14,FALSE),0)","v":52},{"$f":"IFERROR(VLOOKUP($A18,Filtro!$A$4:$AX$552,15,FALSE),0)","v":0},"",{"$nulls":60},{"$f":"IF(DA18=1,\"* La celda 'Pueblos Originarios' debe ser menor o igual al Total en control. \",\"\")","v":""},{"$f":"IF(DB18=1,\"* La celda 'Población Migrantes' debe ser menor o igual al Total en control. \",\"\")","v":""},{"$f":"IF(DC18=1,\"* No olvide escribir en la celda de 'Pueblos Originarios' (Digite CERO si no tiene). \",\"\")","v":""},{"$f":"IF(DD18=1,\"* No olvide escribir en la celda de 'Población Migrantes' (Digite CERO si no tiene). \",\"\")","v":""},{"$nulls":22},0,0,0,0]
["P1010301","SÓLO PRESERVATIVO MAC","Mujer",{"$f":"IFERROR(VLOOKUP($A19,Filtro!$A$4:$AX$552,2,FALSE),0)","v":1490},{"$f":"IFERROR(VLOOKUP($A19,Filtro!$A$4:$AX$552,3,FALSE),0)","v":15},{"$f":"IFERROR(VLOOKUP($A19,Filtro!$A$4:$AX$552,4,FALSE),0)","v":142},{"$f":"IFERROR(VLOOKUP($A19,Filtro!$A$4:$AX$552,5,FALSE),0)","v":209},{"$f":"IFERROR(VLOOKUP($A19,Filtro!$A$4:$AX$552,6,FALSE),0)","v":224},{"$f":"IFERROR(VLOOKUP($A19,Filtro!$A$4:$AX$552,7,FALSE),0)","v":233},{"$f":"IFERROR(VLOOKUP($A19,Filtro!$A$4:$AX$552,8,FALSE),0)","v":188},{"$f":"IFERROR(VLOOKUP($A19,Filtro!$A$4:$AX$552,9,FALSE),0)","v":173},{"$f":"IFERROR(VLOOKUP($A19,Filtro!$A$4:$AX$552,10,FALSE),0)","v":155},{"$f":"IFERROR(VLOOKUP($A19,Filtro!$A$4:$AX$552,11,FALSE),0)","v":141},{"$f":"IFERROR(VLOOKUP($A19,Filtro!$A$4:$AX$552,12,FALSE),0)","v":10},{"$f":"IFERROR(VLOOKUP($A19,Filtro!$A$4:$AX$552,13,FALSE),0)","v":3},{"$f":"IFERROR(VLOOKUP($A19,Filtro!$A$4:$AX$552,14,FALSE),0)","v":46},{"$f":"IFERROR(VLOOKUP($A19,Filtro!$A$4:$AX$552,15,FALSE),0)","v":2},"",{"$nulls":60},"","","","",{"$nulls":22},0,0,0,0]
["P1010302",null,"Hombres",{"$f":"IFERROR(VLOOKUP($A20,Filtro!$A$4:$AX$552,2,FALSE),0)","v":360},{"$f":"IFERROR(VLOOKUP($A20,Filtro!$A$4:$AX$552,3,FALSE),0)","v":16},{"$f":"IFERROR(VLOOKUP($A20,Filtro!$A$4:$AX$552,4,FALSE),0)","v":154},{"$f":"IFERROR(VLOOKUP($A20,Filtro!$A$4:$AX$552,5,FALSE),0)","v":57},{"$f":"IFERROR(VLOOKUP($A20,Filtro!$A$4:$AX$552,6,FALSE),0)","v":41},{"$f":"IFERROR(VLOOKUP($A20,Filtro!$A$4:$AX$552,7,FALSE),0)","v":30},{"$f":"IFERROR(VLOOKUP($A20,Filtro!$A$4:$AX$552,8,FALSE),0)","v":14},{"$f":"IFERROR(VLOOKUP($A20,Filtro!$A$4:$AX$552,9,FALSE),0)","v":18},{"$f":"IFERROR(VLOOKUP($A20,Filtro!$A$4:$AX$552,10,FALSE),0)","v":11},{"$f":"IFERROR(VLOOKUP($A20,Filtro!$A$4:$AX$552,11,FALSE),0)","v":11},{"$f":"IFERROR(VLOOKUP($A20,Filtro!$A$4:$AX$552,12,FALSE),0)","v":8},{"$f":"IFERROR(VLOOKUP($A20,Filtro!$A$4:$AX$552,13,FALSE),0)","v":1},{"$f":"IFERROR(VLOOKUP($A20,Filtro!$A$4:$AX$552,14,FALSE),0)","v":17},{"$f":"IFERROR(VLOOKUP($A20,Filtro!$A$4:$AX$552,15,FALSE),0)","v":7},"",{"$nulls":60},"","","","",{"$nulls":22},0,0,0,0]
["P1200240","ESTERILIZACIÓN QUIRURGICA","Mujer",{"$f":"IFERROR(VLOOKUP($A21,Filtro!$A$4:$AX$552,2,FALSE),0)","v":2736},{"$f":"IFERROR(VLOOKUP($A21,Filtro!$A$4:$AX$552,3,FALSE),0)","v":0},{"$f":"IFERROR(VLOOKUP($A21,Filtro!$A$4:$AX$552,4,FALSE),0)","v":0},{"$f":"IFERROR(VLOOKUP($A21,Filtro!$A$4:$AX$552,5,FALSE),0)","v":22},{"$f":"IFERROR(VLOOKUP($A21,Filtro!$A$4:$AX$552,6,FALSE),0)","v":138},{"$f":"IFERROR(VLOOKUP($A21,Filtro!$A$4:$AX$552,7,FALSE),0)","v":316},{"$f":"IFERROR(VLOOKUP($A21,Filtro!$A$4:$AX$552,8,FALSE),0)","v":549},{"$f":"IFERROR(VLOOKUP($A21,Filtro!$A$4:$AX$552,9,FALSE),0)","v":586},{"$f":"IFERROR(VLOOKUP($A21,Filtro!$A$4:$AX$552,10,FALSE),0)","v":524},{"$f":"IFERROR(VLOOKUP($A21,Filtro!$A$4:$AX$552,11,FALSE),0)","v":601},{"$f":"IFERROR(VLOOKUP($A21,Filtro!$A$4:$AX$552,12,FALSE),0)","v":0},{"$f":"IFERROR(VLOOKUP($A21,Filtro!$A$4:$AX$552,13,FALSE),0)","v":42},{"$f":"IFERROR(VLOOKUP($A21,Filtro!$A$4:$AX$552,14,FALSE),0)","v":40},{"$f":"IFERROR(VLOOKUP($A21,Filtro!$A$4:$AX$552,15,FALSE),0)","v":4},"",{"$nulls":60},{"$f":"IF(DA21=1,\"* La celda 'Pueblos Originarios' debe ser menor o igual al Total en control. \",\"\")","v":""},{"$f":"IF(DB21=1,\"* La celda 'Población Migrantes' debe ser menor o igual al Total en control. \",\"\")","v":""},{"$f":"IF(DC21=1,\"* No olvide escribir en la celda de 'Pueblos Originarios' (Digite CERO si no tiene). \",\"\")","v":""},{"$f":"IF(DD21=1,\"* No olvide escribir en la celda de 'Población Migrantes' (Digite CERO si no tiene). \",\"\")","v":""},{"$nulls":22},0,0,0,0]
["P1200250",null,"Hombres",{"$f":"IFERROR(VLOOKUP($A22,Filtro!$A$4:$AX$552,2,FALSE),0)","v":139},{"$f":"IFERROR(VLOOKUP($A22,Filtro!$A$4:$AX$552,3,FALSE),0)","v":0},{"$f":"IFERROR(VLOOKUP($A22,Filtro!$A$4:$AX$552,4,FALSE),0)","v":0},{"$f":"IFERROR(VLOOKUP($A22,Filtro!$A$4:$AX$552,5,FALSE),0)","v":0},{"$f":"IFERROR(VLOOKUP($A22,Filtro!$A$4:$AX$552,6,FALSE),0)","v":1},{"$f":"IFERROR(VLOOKUP($A22,Filtro!$A$4:$AX$552,7,FALSE),0)","v":6},{"$f":"IFERROR(VLOOKUP($A22,Filtro!$A$4:$AX$552,8,FALSE),0)","v":25},{"$f":"IFERROR(VLOOKUP($A22,Filtro!$A$4:$AX$552,9,FALSE),0)","v":41},{"$f":"IFERROR(VLOOKUP($A22,Filtro!$A$4:$AX$552,10,FALSE),0)","v":40},{"$f":"IFERROR(VLOOKUP($A22,Filtro!$A$4:$AX$552,11,FALSE),0)","v":26},{"$f":"IFERROR(VLOOKUP($A22,Filtro!$A$4:$AX$552,12,FALSE),0)","v":0},{"$f":"IFERROR(VLOOKUP($A22,Filtro!$A$4:$AX$552,13,FALSE),0)","v":0},{"$f":"IFERROR(VLOOKUP($A22,Filtro!$A$4:$AX$552,14,FALSE),0)","v":4},{"$f":"IFERROR(VLOOKUP($A22,Filtro!$A$4:$AX$552,15,FALSE),0)","v":0},"",{"$nulls":60},{"$f":"IF(DA22=1,\"* La celda 'Pueblos Originarios' debe ser menor o igual al Total en control. \",\"\")","v":""},{"$f":"IF(DB22=1,\"* La celda 'Población Migrantes' debe ser menor o igual al Total en control. \",\"\")","v":""},{"$f":"IF(DC22=1,\"* No olvide escribir en la celda de 'Pueblos Originarios' (Digite CERO si no tiene). \",\"\")","v":""},{"$f":"IF(DD22=1,\"* No olvide escribir en la celda de 'Población Migrantes' (Digite CERO si no tiene). \",\"\")","v":""},{"$nulls":22},0,0,0,0]
[null," TOTAL",null,{"$f":"SUM(E23:N23)","v":67744},{"$f":"SUM(E11:E22)","v":538},{"$f":"SUM(F11:F22)","v":7965},{"$f":"SUM(G11:G22)","v":11919},12795,10888,9214,6740,5079,2588,{"$f":"SUM(N19:N20)","v":18},{"$f":"SUM(O11:O22)","v":735},{"$f":"SUM(P11:P22)","v":1767},{"$f":"SUM(Q11:Q22)","v":34}]
["P1060010","Mujeres en control que padecen enfermedad cardiovascular (DM-HTA)\n",null,{"$f":"IFERROR(VLOOKUP($A24,Filtro!$A$4:$AX$552,2,FALSE),0)","v":2586},{"$f":"IFERROR(VLOOKUP($A24,Filtro!$A$4:$AX$552,3,FALSE),0)","v":0},{"$f":"IFERROR(VLOOKUP($A24,Filtro!$A$4:$AX$552,4,FALSE),0)","v":19},{"$f":"IFERROR(VLOOKUP($A24,Filtro!$A$4:$AX$552,5,FALSE),0)","v":84},{"$f":"IFERROR(VLOOKUP($A24,Filtro!$A$4:$AX$552,6,FALSE),0)","v":126},{"$f":"IFERROR(VLOOKUP($A24,Filtro!$A$4:$AX$552,7,FALSE),0)","v":215},{"$f":"IFERROR(VLOOKUP($A24,Filtro!$A$4:$AX$552,8,FALSE),0)","v":350},{"$f":"IFERROR(VLOOKUP($A24,Filtro!$A$4:$AX$552,9,FALSE),0)","v":580},{"$f":"IFERROR(VLOOKUP($A24,Filtro!$A$4:$AX$552,10,FALSE),0)","v":712},{"$f":"IFERROR(VLOOKUP($A24,Filtro!$A$4:$AX$552,11,FALSE),0)","v":422},{"$f":"IFERROR(VLOOKUP($A24,Filtro!$A$4:$AX$552,12,FALSE),0)","v":78},{"$f":"IFERROR(VLOOKUP($A24,Filtro!$A$4:$AX$552,13,FALSE),0)","v":6},{"$f":"IFERROR(VLOOKUP($A24,Filtro!$A$4:$AX$552,14,FALSE),0)","v":5},{"$f":"IFERROR(VLOOKUP($A24,Filtro!$A$4:$AX$552,15,FALSE),0)","v":0},{"$nulls":61},{"$f":"IF(DA24=1,\"* La celda 'Pueblos Originarios' debe ser menor o igual al Total en control. \",\"\")","v":""},{"$f":"IF(DB24=1,\"* La celda 'Población Migrantes' debe ser menor o igual al Total en control. \",\"\")","v":""},{"$f":"IF(DC24=1,\"* No olvide escribir en la celda de 'Pueblos Originarios' (Digite CERO si no tiene). \",\"\")","v":""},{"$f":"IF(DD24=1,\"* No olvide escribir en la celda de 'Población Migrantes' (Digite CERO si no tiene). \",\"\")","v":""},{"$f":"IF(DE24=1,CONCATENATE(\"* \",$B24,\" \",E$10,\" no debe ser mayor que total mujeres con método reg. Fecundidad.\"), \"\")","v":""},"","","","","","","","","* Mujeres en control que padecen enfermedad cardiovascular (DM-HTA)\n 55 y más años no debe ser mayor que total mujeres con método reg. Fecundidad.","","","",{"$f":"IF(DR24=1,CONCATENATE(\"* \",$B24,\" \",#REF!,\" no debe ser mayor que total mujeres con método reg. Fecundidad.\"), \"\")","v":""},{"$nulls":8},{"$f":"IF(AND(D24<>0,O24=\"\"),1,0)","v":0},{"$f":"IF(AND(D24<>0,P24=\"\"),1,0)","v":0},{"$f":"IF(O24>D24,1,0)","v":0},{"$f":"IF(P24>D24,1,0)","v":0},{"$f":"IF(E24>(E11+E12+E13+E14+E15+E16+E17+E18+E19+E21),1, 0)","v":0},0,0,0,0,0,0,0,0,1,0,0,0]
["P1060020","Mujeres con Retiro de Implante Anticipado en el semestre (antes de los 3 años)",null,{"$f":"IFERROR(VLOOKUP($A25,Filtro!$A$4:$AX$552,2,FALSE),0)","v":217},{"$f":"IFERROR(VLOOKUP($A25,Filtro!$A$4:$AX$552,3,FALSE),0)","v":1},{"$f":"IFERROR(VLOOKUP($A25,Filtro!$A$4:$AX$552,4,FALSE),0)","v":35},{"$f":"IFERROR(VLOOKUP($A25,Filtro!$A$4:$AX$552,5,FALSE),0)","v":69},{"$f":"IFERROR(VLOOKUP($A25,Filtro!$A$4:$AX$552,6,FALSE),0)","v":49},{"$f":"IFERROR(VLOOKUP($A25,Filtro!$A$4:$AX$552,7,FALSE),0)","v":30},{"$f":"IFERROR(VLOOKUP($A25,Filtro!$A$4:$AX$552,8,FALSE),0)","v":22},{"$f":"IFERROR(VLOOKUP($A25,Filtro!$A$4:$AX$552,9,FALSE),0)","v":7},{"$f":"IFERROR(VLOOKUP($A25,Filtro!$A$4:$AX$552,10,FALSE),0)","v":4},{"$f":"IFERROR(VLOOKUP($A25,Filtro!$A$4:$AX$552,11,FALSE),0)","v":0},{"$f":"IFERROR(VLOOKUP($A25,Filtro!$A$4:$AX$552,12,FALSE),0)","v":0},{"$f":"IFERROR(VLOOKUP($A25,Filtro!$A$4:$AX$552,13,FALSE),0)","v":4},{"$f":"IFERROR(VLOOKUP($A25,Filtro!$A$4:$AX$552,14,FALSE),0)","v":9},{"$f":"IFERROR(VLOOKUP($A25,Filtro!$A$4:$AX$552,15,FALSE),0)","v":0},{"$nulls":61},{"$f":"IF(DA25=1,\"* La celda 'Pueblos Originarios' debe ser menor o igual al Total en control. \",\"\")","v":""},{"$f":"IF(DB25=1,\"* La celda 'Población Migrantes' debe ser menor o igual al Total en control. \",\"\")","v":""},{"$f":"IF(DC25=1,\"* No olvide escribir en la celda de 'Pueblos Originarios' (Digite CERO si no tiene). \",\"\")","v":""},{"$f":"IF(DD25=1,\"* No olvide escribir en la celda de 'Población Migrantes' (Digite CERO si no tiene). \",\"\")","v":""},{"$f":"IF(DE25=1,CONCATENATE(\"* \",$B25,\" \",E$10,\" no debe ser mayor que total mujeres en Método Hormonal con Implante Etonogestrel (3 años).\"), \"\")","v":""},"","","","","","","","","","","","",{"$f":"IF(DR25=1,CONCATENATE(\"* \",$B25,\" \",#REF!,\" no debe ser mayor que total mujeres en Método Hormonal con Implante Etonogestrel (3 años).\"), \"\")","v":""},{"$nulls":8},0,0,0,0,{"$f":"IF(E25>(E17),1,0)","v":0},0,0,0,0,0,0,0,{"$f":"IF(M25>(M17),\"* Mujeres con Retiro de Implante Anticipado en el semestre (antes de los 3 años) de 50 a 54 años no debe ser mayor que total mujeres en Método Hormonal con Implante Etonogestrel (3 años). \",0)","v":0},null,{"$f":"IF(O25>(O17),1,0)","v":0},0,0]
["P1200260","Mujeres con Retiro de Implante Anticipado en el semestre (antes de los 5 años)",null,{"$f":"IFERROR(VLOOKUP($A26,Filtro!$A$4:$AX$552,2,FALSE),0)","v":43},{"$f":"IFERROR(VLOOKUP($A26,Filtro!$A$4:$AX$552,3,FALSE),0)","v":0},{"$f":"IFERROR(VLOOKUP($A26,Filtro!$A$4:$AX$552,4,FALSE),0)","v":6},{"$f":"IFERROR(VLOOKUP($A26,Filtro!$A$4:$AX$552,5,FALSE),0)","v":14},{"$f":"IFERROR(VLOOKUP($A26,Filtro!$A$4:$AX$552,6,FALSE),0)","v":12},{"$f":"IFERROR(VLOOKUP($A26,Filtro!$A$4:$AX$552,7,FALSE),0)","v":5},{"$f":"IFERROR(VLOOKUP($A26,Filtro!$A$4:$AX$552,8,FALSE),0)","v":6},{"$f":"IFERROR(VLOOKUP($A26,Filtro!$A$4:$AX$552,9,FALSE),0)","v":0},{"$f":"IFERROR(VLOOKUP($A26,Filtro!$A$4:$AX$552,10,FALSE),0)","v":0},{"$f":"IFERROR(VLOOKUP($A26,Filtro!$A$4:$AX$552,11,FALSE),0)","v":0},{"$f":"IFERROR(VLOOKUP($A26,Filtro!$A$4:$AX$552,12,FALSE),0)","v":0},{"$f":"IFERROR(VLOOKUP($A26,Filtro!$A$4:$AX$552,13,FALSE),0)","v":0},{"$f":"IFERROR(VLOOKUP($A26,Filtro!$A$4:$AX$552,14,FALSE),0)","v":1},{"$f":"IFERROR(VLOOKUP($A26,Filtro!$A$4:$AX$552,15,FALSE),0)","v":0},{"$nulls":61},"","","","",{"$f":"IF(DE26=1,CONCATENATE(\"* \",$B26,\" \",E$10,\" no debe ser mayor que total mujeres en Método Hormonal con Implante Etonogestrel (5 años).\"), \"\")","v":""},"","","","","","","","","","","","",{"$f":"IF(DR26=1,CONCATENATE(\"* \",$B26,\" \",#REF!,\" no debe ser mayor que total mujeres en Método Hormonal con Implante Etonogestrel (5 años).\"), \"\")","v":""},{"$nulls":8},0,0,0,0,0,0,0,0,0,0,0,0,{"$f":"IF(M26>(M18),\"* Mujeres con Retiro de Implante Anticipado en el semestre (antes de los 5 años) de 50 a 54 años no debe ser mayor que total mujeres en Método Hormonal con Implante Etonogestrel (5 años). \",0)","v":0},null,0,0,0]
["P1060090","Método de Regulación de Fertilidad más Preservativo",null,{"$f":"IFERROR(VLOOKUP($A27,Filtro!$A$4:$AX$552,2,FALSE),0)","v":4660},{"$f":"IFERROR(VLOOKUP($A27,Filtro!$A$4:$AX$552,3,FALSE),0)","v":128},{"$f":"IFERROR(VLOOKUP($A27,Filtro!$A$4:$AX$552,4,FALSE),0)","v":1560},{"$f":"IFERROR(VLOOKUP($A27,Filtro!$A$4:$AX$552,5,FALSE),0)","v":945},{"$f":"IFERROR(VLOOKUP($A27,Filtro!$A$4:$AX$552,6,FALSE),0)","v":752},{"$f":"IFERROR(VLOOKUP($A27,Filtro!$A$4:$AX$552,7,FALSE),0)","v":504},{"$f":"IFERROR(VLOOKUP($A27,Filtro!$A$4:$AX$552,8,FALSE),0)","v":344},{"$f":"IFERROR(VLOOKUP($A27,Filtro!$A$4:$AX$552,9,FALSE),0)","v":194},{"$f":"IFERROR(VLOOKUP($A27,Filtro!$A$4:$AX$552,10,FALSE),0)","v":153},{"$f":"IFERROR(VLOOKUP($A27,Filtro!$A$4:$AX$552,11,FALSE),0)","v":77},{"$f":"IFERROR(VLOOKUP($A27,Filtro!$A$4:$AX$552,12,FALSE),0)","v":3},{"$f":"IFERROR(VLOOKUP($A27,Filtro!$A$4:$AX$552,13,FALSE),0)","v":26},{"$f":"IFERROR(VLOOKUP($A27,Filtro!$A$4:$AX$552,14,FALSE),0)","v":83},{"$f":"IFERROR(VLOOKUP($A27,Filtro!$A$4:$AX$552,15,FALSE),0)","v":4},{"$nulls":61},"","","","",{"$f":"IF(DE27=1,CONCATENATE(\"* \",$B27,\" \",E$10,\" no debe ser mayor que total mujeres con Método Preservativo MAC.\"), \"\")","v":"* Método de Regulación de Fertilidad más Preservativo Menor \nde 15 años no debe ser mayor que total mujeres con Método Preservativo MAC."},"* Método de Regulación de Fertilidad más Preservativo 15 a 19 años no debe ser mayor que total mujeres con Método Preservativo MAC.","* Método de Regulación de Fertilidad más Preservativo 20 a 24 años no debe ser mayor que total mujeres con Método Preservativo MAC.","* Método de Regulación de Fertilidad más Preservativo 25 a 29 años no debe ser mayor que total mujeres con Método Preservativo MAC.","* Método de Regulación de Fertilidad más Preservativo 30 a 34 años no debe ser mayor que total mujeres con Método Preservativo MAC.","* Método de Regulación de Fertilidad más Preservativo 35 a 39 años no debe ser mayor que total mujeres con Método Preservativo MAC.","* Método de Regulación de Fertilidad más Preservativo 40 a 44 años no debe ser mayor que total mujeres con Método Preservativo MAC.","","","","* Método de Regulación de Fertilidad más Preservativo  no debe ser mayor que total mujeres con Método Preservativo MAC.","* Método de Regulación de Fertilidad más Preservativo  no debe ser mayor que total mujeres con Método Preservativo MAC.","* Método de Regulación de Fertilidad más Preservativo  no debe ser mayor que total mujeres con Método Preservativo MAC.",{"$f":"IF(DR27=1,CONCATENATE(\"* \",$B27,\" \",#REF!,\" no debe ser mayor que total mujeres con Método Preservativo MAC.\"), \"\")","v":""},{"$nulls":8},0,0,0,0,1,1,1,1,1,1,1,0,{"$f":"IF(M27>(M19),1,0)","v":0},{"$f":"IF(N27>(N19),1,0)","v":0},1,1,1]
["P1200270","Gestantes que reciben preservativo",null,{"$f":"IFERROR(VLOOKUP($A28,Filtro!$A$4:$AX$552,2,FALSE),0)","v":549},{"$f":"IFERROR(VLOOKUP($A28,Filtro!$A$4:$AX$552,3,FALSE),0)","v":3},{"$f":"IFERROR(VLOOKUP($A28,Filtro!$A$4:$AX$552,4,FALSE),0)","v":52},{"$f":"IFERROR(VLOOKUP($A28,Filtro!$A$4:$AX$552,5,FALSE),0)","v":141},{"$f":"IFERROR(VLOOKUP($A28,Filtro!$A$4:$AX$552,6,FALSE),0)","v":159},{"$f":"IFERROR(VLOOKUP($A28,Filtro!$A$4:$AX$552,7,FALSE),0)","v":97},{"$f":"IFERROR(VLOOKUP($A28,Filtro!$A$4:$AX$552,8,FALSE),0)","v":70},{"$f":"IFERROR(VLOOKUP($A28,Filtro!$A$4:$AX$552,9,FALSE),0)","v":21},{"$f":"IFERROR(VLOOKUP($A28,Filtro!$A$4:$AX$552,10,FALSE),0)","v":3},{"$f":"IFERROR(VLOOKUP($A28,Filtro!$A$4:$AX$552,11,FALSE),0)","v":3},{"$f":"IFERROR(VLOOKUP($A28,Filtro!$A$4:$AX$552,12,FALSE),0)","v":0},{"$f":"IFERROR(VLOOKUP($A28,Filtro!$A$4:$AX$552,13,FALSE),0)","v":9},{"$f":"IFERROR(VLOOKUP($A28,Filtro!$A$4:$AX$552,14,FALSE),0)","v":16},{"$f":"IFERROR(VLOOKUP($A28,Filtro!$A$4:$AX$552,15,FALSE),0)","v":1},{"$nulls":61},"","","","",{"$nulls":22},0,0,0,0]
["P1200200","PRESERVATIVO/PRACTICA SEXUAL SEGURA","Mujer",{"$f":"IFERROR(VLOOKUP($A29,Filtro!$A$4:$AX$552,2,FALSE),0)","v":622},{"$f":"IFERROR(VLOOKUP($A29,Filtro!$A$4:$AX$552,3,FALSE),0)","v":15},{"$f":"IFERROR(VLOOKUP($A29,Filtro!$A$4:$AX$552,4,FALSE),0)","v":215},{"$f":"IFERROR(VLOOKUP($A29,Filtro!$A$4:$AX$552,5,FALSE),0)","v":146},{"$f":"IFERROR(VLOOKUP($A29,Filtro!$A$4:$AX$552,6,FALSE),0)","v":90},{"$f":"IFERROR(VLOOKUP($A29,Filtro!$A$4:$AX$552,7,FALSE),0)","v":64},{"$f":"IFERROR(VLOOKUP($A29,Filtro!$A$4:$AX$552,8,FALSE),0)","v":37},{"$f":"IFERROR(VLOOKUP($A29,Filtro!$A$4:$AX$552,9,FALSE),0)","v":28},{"$f":"IFERROR(VLOOKUP($A29,Filtro!$A$4:$AX$552,10,FALSE),0)","v":17},{"$f":"IFERROR(VLOOKUP($A29,Filtro!$A$4:$AX$552,11,FALSE),0)","v":8},{"$f":"IFERROR(VLOOKUP($A29,Filtro!$A$4:$AX$552,12,FALSE),0)","v":2},{"$f":"IFERROR(VLOOKUP($A29,Filtro!$A$4:$AX$552,13,FALSE),0)","v":0},{"$f":"IFERROR(VLOOKUP($A29,Filtro!$A$4:$AX$552,14,FALSE),0)","v":48},{"$f":"IFERROR(VLOOKUP($A29,Filtro!$A$4:$AX$552,15,FALSE),0)","v":2},{"$nulls":61},{"$f":"IF(DA29=1,\"* La celda 'Pueblos Originarios' debe ser menor o igual al Total en control. \",\"\")","v":""},{"$f":"IF(DB29=1,\"* La celda 'Población Migrantes' debe ser menor o igual al Total en control. \",\"\")","v":""},{"$f":"IF(DC29=1,\"* No olvide escribir en la celda de 'Pueblos Originarios' (Digite CERO si no tiene). \",\"\")","v":""},{"$f":"IF(DD29=1,\"* No olvide escribir en la celda de 'Población Migrantes' (Digite CERO si no tiene). \",\"\")","v":""},{"$nulls":22},0,0,0,0]
["P1200210",null,"Hombres",{"$f":"IFERROR(VLOOKUP($A30,Filtro!$A$4:$AX$552,2,FALSE),0)","v":98},{"$f":"IFERROR(VLOOKUP($A30,Filtro!$A$4:$AX$552,3,FALSE),0)","v":4},{"$f":"IFERROR(VLOOKUP($A30,Filtro!$A$4:$AX$552,4,FALSE),0)","v":47},{"$f":"IFERROR(VLOOKUP($A30,Filtro!$A$4:$AX$552,5,FALSE),0)","v":18},{"$f":"IFERROR(VLOOKUP($A30,Filtro!$A$4:$AX$552,6,FALSE),0)","v":10},{"$f":"IFERROR(VLOOKUP($A30,Filtro!$A$4:$AX$552,7,FALSE),0)","v":4},{"$f":"IFERROR(VLOOKUP($A30,Filtro!$A$4:$AX$552,8,FALSE),0)","v":1},{"$f":"IFERROR(VLOOKUP($A30,Filtro!$A$4:$AX$552,9,FALSE),0)","v":3},{"$f":"IFERROR(VLOOKUP($A30,Filtro!$A$4:$AX$552,10,FALSE),0)","v":6},{"$f":"IFERROR(VLOOKUP($A30,Filtro!$A$4:$AX$552,11,FALSE),0)","v":0},{"$f":"IFERROR(VLOOKUP($A30,Filtro!$A$4:$AX$552,12,FALSE),0)","v":5},{"$f":"IFERROR(VLOOKUP($A30,Filtro!$A$4:$AX$552,13,FALSE),0)","v":0},{"$f":"IFERROR(VLOOKUP($A30,Filtro!$A$4:$AX$552,14,FALSE),0)","v":2},{"$f":"IFERROR(VLOOKUP($A30,Filtro!$A$4:$AX$552,15,FALSE),0)","v":0},{"$nulls":61},{"$f":"IF(DA30=1,\"* La celda 'Pueblos Originarios' debe ser menor o igual al Total en control. \",\"\")","v":""},{"$f":"IF(DB30=1,\"* La celda 'Población Migrantes' debe ser menor o igual al Total en control. \",\"\")","v":""},{"$f":"IF(DC30=1,\"* No olvide escribir en la celda de 'Pueblos Originarios' (Digite CERO si no tiene). \",\"\")","v":""},{"$f":"IF(DD30=1,\"* No olvide escribir en la celda de 'Población Migrantes' (Digite CERO si no tiene). \",\"\")","v":""},{"$nulls":22},{"$f":"IF(AND(D30<>0,O30=\"\"),1,0)","v":0},{"$f":"IF(AND(D30<>0,P30=\"\"),1,0)","v":0},{"$f":"IF(O30>D30,1,0)","v":0},{"$f":"IF(P30>D30,1,0)","v":0}]
["P1200220","LUBRICANTES","Mujer",{"$f":"IFERROR(VLOOKUP($A31,Filtro!$A$4:$AX$552,2,FALSE),0)","v":1090},{"$f":"IFERROR(VLOOKUP($A31,Filtro!$A$4:$AX$552,3,FALSE),0)","v":0},{"$f":"IFERROR(VLOOKUP($A31,Filtro!$A$4:$AX$552,4,FALSE),0)","v":10},{"$f":"IFERROR(VLOOKUP($A31,Filtro!$A$4:$AX$552,5,FALSE),0)","v":44},{"$f":"IFERROR(VLOOKUP($A31,Filtro!$A$4:$AX$552,6,FALSE),0)","v":54},{"$f":"IFERROR(VLOOKUP($A31,Filtro!$A$4:$AX$552,7,FALSE),0)","v":73},{"$f":"IFERROR(VLOOKUP($A31,Filtro!$A$4:$AX$552,8,FALSE),0)","v":98},{"$f":"IFERROR(VLOOKUP($A31,Filtro!$A$4:$AX$552,9,FALSE),0)","v":190},{"$f":"IFERROR(VLOOKUP($A31,Filtro!$A$4:$AX$552,10,FALSE),0)","v":216},{"$f":"IFERROR(VLOOKUP($A31,Filtro!$A$4:$AX$552,11,FALSE),0)","v":218},{"$f":"IFERROR(VLOOKUP($A31,Filtro!$A$4:$AX$552,12,FALSE),0)","v":187},{"$f":"IFERROR(VLOOKUP($A31,Filtro!$A$4:$AX$552,13,FALSE),0)","v":20},{"$f":"IFERROR(VLOOKUP($A31,Filtro!$A$4:$AX$552,14,FALSE),0)","v":42},{"$f":"IFERROR(VLOOKUP($A31,Filtro!$A$4:$AX$552,15,FALSE),0)","v":1},{"$nulls":61},"","","","",{"$nulls":22},{"$f":"IF(AND(D31<>0,O31=\"\"),1,0)","v":0},{"$f":"IF(AND(D31<>0,P31=\"\"),1,0)","v":0},{"$f":"IF(O31>D31,1,0)","v":0},{"$f":"IF(P31>D31,1,0)","v":0}]
["P1200230",null,"Hombres",{"$f":"IFERROR(VLOOKUP($A32,Filtro!$A$4:$AX$552,2,FALSE),0)","v":29},{"$f":"IFERROR(VLOOKUP($A32,Filtro!$A$4:$AX$552,3,FALSE),0)","v":2},{"$f":"IFERROR(VLOOKUP($A32,Filtro!$A$4:$AX$552,4,FALSE),0)","v":4},{"$f":"IFERROR(VLOOKUP($A32,Filtro!$A$4:$AX$552,5,FALSE),0)","v":1},{"$f":"IFERROR(VLOOKUP($A32,Filtro!$A$4:$AX$552,6,FALSE),0)","v":4},{"$f":"IFERROR(VLOOKUP($A32,Filtro!$A$4:$AX$552,7,FALSE),0)","v":1},{"$f":"IFERROR(VLOOKUP($A32,Filtro!$A$4:$AX$552,8,FALSE),0)","v":0},{"$f":"IFERROR(VLOOKUP($A32,Filtro!$A$4:$AX$552,9,FALSE),0)","v":7},{"$f":"IFERROR(VLOOKUP($A32,Filtro!$A$4:$AX$552,10,FALSE),0)","v":4},{"$f":"IFERROR(VLOOKUP($A32,Filtro!$A$4:$AX$552,11,FALSE),0)","v":1},{"$f":"IFERROR(VLOOKUP($A32,Filtro!$A$4:$AX$552,12,FALSE),0)","v":5},{"$f":"IFERROR(VLOOKUP($A32,Filtro!$A$4:$AX$552,13,FALSE),0)","v":0},{"$f":"IFERROR(VLOOKUP($A32,Filtro!$A$4:$AX$552,14,FALSE),0)","v":0},{"$f":"IFERROR(VLOOKUP($A32,Filtro!$A$4:$AX$552,15,FALSE),0)","v":1},{"$nulls":61},"","","","",{"$nulls":22},{"$f":"IF(AND(D32<>0,O32=\"\"),1,0)","v":0},{"$f":"IF(AND(D32<>0,P32=\"\"),1,0)","v":0},{"$f":"IF(O32>D32,1,0)","v":0},{"$f":"IF(P32>D32,1,0)","v":0}]
["P1200350","CONDON FEMENINO",null,{"$f":"IFERROR(VLOOKUP($A33,Filtro!$A$4:$AX$552,2,FALSE),0)","v":90},{"$f":"IFERROR(VLOOKUP($A33,Filtro!$A$4:$AX$552,3,FALSE),0)","v":0},{"$f":"IFERROR(VLOOKUP($A33,Filtro!$A$4:$AX$552,4,FALSE),0)","v":13},{"$f":"IFERROR(VLOOKUP($A33,Filtro!$A$4:$AX$552,5,FALSE),0)","v":26},{"$f":"IFERROR(VLOOKUP($A33,Filtro!$A$4:$AX$552,6,FALSE),0)","v":19},{"$f":"IFERROR(VLOOKUP($A33,Filtro!$A$4:$AX$552,7,FALSE),0)","v":11},{"$f":"IFERROR(VLOOKUP($A33,Filtro!$A$4:$AX$552,8,FALSE),0)","v":7},{"$f":"IFERROR(VLOOKUP($A33,Filtro!$A$4:$AX$552,9,FALSE),0)","v":8},{"$f":"IFERROR(VLOOKUP($A33,Filtro!$A$4:$AX$552,10,FALSE),0)","v":2},{"$f":"IFERROR(VLOOKUP($A33,Filtro!$A$4:$AX$552,11,FALSE),0)","v":4},{"$f":"IFERROR(VLOOKUP($A33,Filtro!$A$4:$AX$552,12,FALSE),0)","v":0},{"$f":"IFERROR(VLOOKUP($A33,Filtro!$A$4:$AX$552,13,FALSE),0)","v":0},{"$f":"IFERROR(VLOOKUP($A33,Filtro!$A$4:$AX$552,14,FALSE),0)","v":0},{"$f":"IFERROR(VLOOKUP($A33,Filtro!$A$4:$AX$552,15,FALSE),0)","v":0},{"$f":"($CA33&$CB33&$CC33&$CD33&$CE33&$CF33&$CG33&$CH33&$CI33&$CJ33&$CL33&$CM33&$CN33&$CO33&$CP33&$CQ33&$CR33&$CS33&$CT33&$CU33&$CV33&$CW33&$CX33&$CY33&$CZ33)","v":""},{"$nulls":60},"","","","",{"$nulls":22},{"$f":"IF(AND(D33<>0,O33=\"\"),1,0)","v":0},{"$f":"IF(AND(D33<>0,P33=\"\"),1,0)","v":0},{"$f":"IF(O33>D33,1,0)","v":0},{"$f":"IF(P33>D33,1,0)","v":0}]
[null,"SECCION B: GESTANTES EN CONTROL CON RIESGO PSICOSOCIAL "]
[null,"GRUPOS DE EDAD","TOTAL DE GESTANTES EN CONTROL","EN RIESGO \nPSICO-\nSOCIAL","QUE PRESENTAN VIOLENCIA DE GÉNERO","GESTANTES QUE PRESENTAN ARO","POBLACION MIGRANTES"]
[]
["P1020100","Menos de 15 años",{"$f":"IFERROR(VLOOKUP($A37,Filtro!$A$4:$AX$552,2,FALSE),0)","v":5},{"$f":"IFERROR(VLOOKUP($A37,Filtro!$A$4:$AX$552,3,FALSE),0)","v":5},{"$f":"IFERROR(VLOOKUP($A37,Filtro!$A$4:$AX$552,4,FALSE),0)","v":0},{"$f":"IFERROR(VLOOKUP($A37,Filtro!$A$4:$AX$552,5,FALSE),0)","v":5},{"$f":"IFERROR(VLOOKUP($A37,Filtro!$A$4:$AX$552,6,FALSE),0)","v":0},{"$f":"($CB37&$CC37&$CD37&$CE37&$CF37&$CG37&$CH37&$CI37&$CJ37&$CK37&$CM37&$CN37&$CO37&$CP37&$CQ37&$CR37&$CS37&$CT37&$CU37&$CV37&$CW37&$CX37&$CY37&$CZ37&$DA37)","v":""},{"$nulls":71},{"$f":"IF($D37<$E37,\"* Las Gestantes Menores de 15 años con violencia de género deben estar incluidas en las Gestantes con riesgo psicosocial. \",\"\")","v":""},{"$f":"IF($C37<$D37,\"* Las Gestantes Menores de 15 años con Riesgo Psicosocial deben estar incluidas en el Total de Gestantes en Control misma edad. \",\"\")","v":""},{"$f":"IF($C37<$F37,\"* Las Gestantes Menores de 15 años que presentan ARO deben estar incluidas en el Total de Gestantes en Control misma edad. \",\"\")","v":""},{"$f":"IF($C37<$G37,\"* Las Gestantes Menores de 15 años que pertenecen a 'Población Migrantes' deben estar incluidas en el Total de Gestantes en Control misma edad. \",\"\")","v":""},null,{"$f":"IF(AND(C37<>0,G37=\"\"),\"* No olvide escribir en la celda de 'Población Migrantes' (Digite CERO si no tiene). \",\"\")","v":""},{"$nulls":20},{"$f":"IF($D37<$E37,1,0)","v":0},{"$f":"IF($C37<$D37,1,0)","v":0},{"$f":"IF($C37<$F37,1,0)","v":0},{"$f":"IF($C37<$G37,1,0)","v":0},null,{"$f":"IF(AND(C37<>0,G37=\"\"),1,0)","v":0}]
["P1020200","15 a 19 años",{"$f":"IFERROR(VLOOKUP($A38,Filtro!$A$4:$AX$552,2,FALSE),0)","v":261},{"$f":"IFERROR(VLOOKUP($A38,Filtro!$A$4:$AX$552,3,FALSE),0)","v":116},{"$f":"IFERROR(VLOOKUP($A38,Filtro!$A$4:$AX$552,4,FALSE),0)","v":8},{"$f":"IFERROR(VLOOKUP($A38,Filtro!$A$4:$AX$552,5,FALSE),0)","v":63},{"$f":"IFERROR(VLOOKUP($A38,Filtro!$A$4:$AX$552,6,FALSE),0)","v":11},"",{"$nulls":71},{"$f":"IF($D38<$E38,\"* Las Gestantes de 15 a 19 años con violencia de género deben estar incluidas en las Gestantes con riesgo psicosocial. \",\"\")","v":""},{"$f":"IF($C38<$D38,\"* Las Gestantes de 15 a 19 años con Riesgo Psicosocial deben estar incluidas en el Total de Gestantes en Control misma edad. \",\"\")","v":""},{"$f":"IF($C38<$F38,\"* Las Gestantes de 15 a 19 años que presentan ARO deben estar incluidas en el Total de Gestantes en Control misma edad. \",\"\")","v":""},{"$f":"IF($C38<$G38,\"* Las Gestantes de 15 a 19 años que pertenecen a 'Población Migrantes' deben estar incluidas en el Total de Gestantes en Control misma edad. \",\"\")","v":""},null,"",{"$nulls":20},0,0,0,0,null,0]
["P1040501","20 a 24 años",{"$f":"IFERROR(VLOOKUP($A39,Filtro!$A$4:$AX$552,2,FALSE),0)","v":728},{"$f":"IFERROR(VLOOKUP($A39,Filtro!$A$4:$AX$552,3,FALSE),0)","v":205},{"$f":"IFERROR(VLOOKUP($A39,Filtro!$A$4:$AX$552,4,FALSE),0)","v":15},{"$f":"IFERROR(VLOOKUP($A39,Filtro!$A$4:$AX$552,5,FALSE),0)","v":189},{"$f":"IFERROR(VLOOKUP($A39,Filtro!$A$4:$AX$552,6,FALSE),0)","v":78},"",{"$nulls":71},{"$f":"IF($D39<$E39,\"* Las Gestantes de 20 a 24 años con violencia de género deben estar incluidas en las Gestantes con riesgo psicosocial. \",\"\")","v":""},{"$f":"IF($C39<$D39,\"* Las Gestantes de 20 a 24 años con Riesgo Psicosocial deben estar incluidas en el Total de Gestantes en Control misma edad. \",\"\")","v":""},{"$f":"IF($C39<$F39,\"* Las Gestantes de 20 a 24 años que presentan ARO deben estar incluidas en el Total de Gestantes en Control misma edad. \",\"\")","v":""},{"$f":"IF($C39<$G39,\"* Las Gestantes de 20 a 24 años que pertenecen a 'Población Migrantes' deben estar incluidas en el Total de Gestantes en Control misma edad. \",\"\")","v":""},null,"",{"$nulls":20},0,0,0,0,null,0]
["P1060100","25 a 29 años",{"$f":"IFERROR(VLOOKUP($A40,Filtro!$A$4:$AX$552,2,FALSE),0)","v":895},{"$f":"IFERROR(VLOOKUP($A40,Filtro!$A$4:$AX$552,3,FALSE),0)","v":191},{"$f":"IFERROR(VLOOKUP($A40,Filtro!$A$4:$AX$552,4,FALSE),0)","v":10},{"$f":"IFERROR(VLOOKUP($A40,Filtro!$A$4:$AX$552,5,FALSE),0)","v":299},{"$f":"IFERROR(VLOOKUP($A40,Filtro!$A$4:$AX$552,6,FALSE),0)","v":120},"",{"$nulls":71},{"$f":"IF($D40<$E40,\"* Las Gestantes de 25 a 29 años con violencia de género deben estar incluidas en las Gestantes con riesgo psicosocial. \",\"\")","v":""},{"$f":"IF($C40<$D40,\"* Las Gestantes de 25 a 29 años con Riesgo Psicosocial deben estar incluidas en el Total de Gestantes en Control misma edad. \",\"\")","v":""},{"$f":"IF($C40<$F40,\"* Las Gestantes de 25 a 29 años que presentan ARO deben estar incluidas en el Total de Gestantes en Control misma edad. \",\"\")","v":""},{"$f":"IF($C40<$G40,\"* Las Gestantes de 25 a 29 años que pertenecen a 'Población Migrantes' deben estar incluidas en el Total de Gestantes en Control misma edad. \",\"\")","v":""},null,"",{"$nulls":20},0,0,0,0,null,0]
["P1060101","30 a 34 años",{"$f":"IFERROR(VLOOKUP($A41,Filtro!$A$4:$AX$552,2,FALSE),0)","v":710},{"$f":"IFERROR(VLOOKUP($A41,Filtro!$A$4:$AX$552,3,FALSE),0)","v":167},{"$f":"IFERROR(VLOOKUP($A41,Filtro!$A$4:$AX$552,4,FALSE),0)","v":14},{"$f":"IFERROR(VLOOKUP($A41,Filtro!$A$4:$AX$552,5,FALSE),0)","v":246},{"$f":"IFERROR(VLOOKUP($A41,Filtro!$A$4:$AX$552,6,FALSE),0)","v":89},"",{"$nulls":71},{"$f":"IF($D41<$E41,\"* Las Gestantes de 30 a 34 años con violencia de género deben estar incluidas en las Gestantes con riesgo psicosocial. \",\"\")","v":""},{"$f":"IF($C41<$D41,\"* Las Gestantes de 30 a 34 años con Riesgo Psicosocial deben estar incluidas en el Total de Gestantes en Control misma edad. \",\"\")","v":""},{"$f":"IF($C41<$F41,\"* Las Gestantes de 30 a 34 años que presentan ARO deben estar incluidas en el Total de Gestantes en Control misma edad. \",\"\")","v":""},{"$f":"IF($C41<$G41,\"* Las Gestantes de 30 a 34 años que pertenecen a 'Población Migrantes' deben estar incluidas en el Total de Gestantes en Control misma edad. \",\"\")","v":""},null,"",{"$nulls":20},0,0,0,0,null,0]
["P1060102","35 a 39 años",{"$f":"IFERROR(VLOOKUP($A42,Filtro!$A$4:$AX$552,2,FALSE),0)","v":358},{"$f":"IFERROR(VLOOKUP($A42,Filtro!$A$4:$AX$552,3,FALSE),0)","v":93},{"$f":"IFERROR(VLOOKUP($A42,Filtro!$A$4:$AX$552,4,FALSE),0)","v":7},{"$f":"IFERROR(VLOOKUP($A42,Filtro!$A$4:$AX$552,5,FALSE),0)","v":165},{"$f":"IFERROR(VLOOKUP($A42,Filtro!$A$4:$AX$552,6,FALSE),0)","v":48},"",{"$nulls":71},{"$f":"IF($D42<$E42,\"* Las Gestantes de 35 a 39 años con violencia de género deben estar incluidas en las Gestantes con riesgo psicosocial. \",\"\")","v":""},{"$f":"IF($C42<$D42,\"* Las Gestantes de 35 a 39 años con Riesgo Psicosocial deben estar incluidas en el Total de Gestantes en Control misma edad. \",\"\")","v":""},{"$f":"IF($C42<$F42,\"* Las Gestantes de 35 a 39 años que presentan ARO deben estar incluidas en el Total de Gestantes en Control misma edad. \",\"\")","v":""},{"$f":"IF($C42<$G42,\"* Las Gestantes de 35 a 39 años que pertenecen a 'Población Migrantes' deben estar incluidas en el Total de Gestantes en Control misma edad. \",\"\")","v":""},null,"",{"$nulls":20},0,0,0,0,null,0]
["P1060103","40 a 44 años",{"$f":"IFERROR(VLOOKUP($A43,Filtro!$A$4:$AX$552,2,FALSE),0)","v":97},{"$f":"IFERROR(VLOOKUP($A43,Filtro!$A$4:$AX$552,3,FALSE),0)","v":33},{"$f":"IFERROR(VLOOKUP($A43,Filtro!$A$4:$AX$552,4,FALSE),0)","v":1},{"$f":"IFERROR(VLOOKUP($A43,Filtro!$A$4:$AX$552,5,FALSE),0)","v":70},{"$f":"IFERROR(VLOOKUP($A43,Filtro!$A$4:$AX$552,6,FALSE),0)","v":9},"",{"$nulls":71},{"$f":"IF($D43<$E43,\"* Las Gestantes de 40 a 44 años con violencia de género deben estar incluidas en las Gestantes con riesgo psicosocial. \",\"\")","v":""},{"$f":"IF($C43<$D43,\"* Las Gestantes de 40 a 44 años con Riesgo Psicosocial deben estar incluidas en el Total de Gestantes en Control misma edad. \",\"\")","v":""},{"$f":"IF($C43<$F43,\"* Las Gestantes de 40 a 44 años que presentan ARO deben estar incluidas en el Total de Gestantes en Control misma edad. \",\"\")","v":""},{"$f":"IF($C43<$G43,\"* Las Gestantes de 40 a 44 años que pertenecen a 'Población Migrantes' deben estar incluidas en el Total de Gestantes en Control misma edad. \",\"\")","v":""},null,"",{"$nulls":20},0,0,0,0,null,0]
["P1060104","45 a 49 años",{"$f":"IFERROR(VLOOKUP($A44,Filtro!$A$4:$AX$552,2,FALSE),0)","v":4},{"$f":"IFERROR(VLOOKUP($A44,Filtro!$A$4:$AX$552,3,FALSE),0)","v":2},{"$f":"IFERROR(VLOOKUP($A44,Filtro!$A$4:$AX$552,4,FALSE),0)","v":0},{"$f":"IFERROR(VLOOKUP($A44,Filtro!$A$4:$AX$552,5,FALSE),0)","v":3},{"$f":"IFERROR(VLOOKUP($A44,Filtro!$A$4:$AX$552,6,FALSE),0)","v":0},"",{"$nulls":71},{"$f":"IF($D44<$E44,\"* Las Gestantes de 45 a 49 años con violencia de género deben estar incluidas en las Gestantes con riesgo psicosocial. \",\"\")","v":""},{"$f":"IF($C44<$D44,\"* Las Gestantes de 45 a 49 años con Riesgo Psicosocial deben estar incluidas en el Total de Gestantes en Control misma edad. \",\"\")","v":""},{"$f":"IF($C44<$F44,\"* Las Gestantes de 45 a 49 años que presentan ARO deben estar incluidas en el Total de Gestantes en Control misma edad. \",\"\")","v":""},{"$f":"IF($C44<$G44,\"* Las Gestantes de 45 a 49 años que pertenecen a 'Población Migrantes' deben estar incluidas en el Total de Gestantes en Control misma edad. \",\"\")","v":""},null,"",{"$nulls":20},0,0,0,0,null,0]
["P1060105","50 a 54 años",{"$f":"IFERROR(VLOOKUP($A45,Filtro!$A$4:$AX$552,2,FALSE),0)","v":0},{"$f":"IFERROR(VLOOKUP($A45,Filtro!$A$4:$AX$552,3,FALSE),0)","v":0},{"$f":"IFERROR(VLOOKUP($A45,Filtro!$A$4:$AX$552,4,FALSE),0)","v":0},{"$f":"IFERROR(VLOOKUP($A45,Filtro!$A$4:$AX$552,5,FALSE),0)","v":0},{"$f":"IFERROR(VLOOKUP($A45,Filtro!$A$4:$AX$552,6,FALSE),0)","v":0},"",{"$nulls":71},{"$f":"IF($D45<$E45,\"* Las Gestantes de 50 a 54 años con violencia de género deben estar incluidas en las Gestantes con riesgo psicosocial. \",\"\")","v":""},{"$f":"IF($C45<$D45,\"* Las Gestantes de 50 a 54 años con Riesgo Psicosocial deben estar incluidas en el Total de Gestantes en Control misma edad. \",\"\")","v":""},{"$f":"IF($C45<$F45,\"* Las Gestantes de 50 a 54 años que presentan ARO deben estar incluidas en el Total de Gestantes en Control misma edad. \",\"\")","v":""},{"$f":"IF($C45<$G45,\"* Las Gestantes de 50 a 54 años que pertenecen a 'Población Migrantes' deben estar incluidas en el Total de Gestantes en Control misma edad. \",\"\")","v":""},null,"",{"$nulls":20},0,0,0,0,null,0]
[null,"TOTAL",{"$f":"SUM(C37:C45)","v":3058},{"$f":"SUM(D37:D45)","v":812},{"$f":"SUM(E37:E45)","v":55},{"$f":"SUM(F37:F45)","v":1040},{"$f":"SUM(G37:G45)","v":355}]
[null,"SECCION C: GESTANTES EN RIESGO PSICOSOCIAL CON VISITA DOMICILIARIA INTEGRAL REALIZADA EN EL SEMESTRE "]
[null,"N° VDI","N° Gestantes \ncon VDI","TOTAL de Visitas"]
[]
["P1040502","1 Visita",{"$f":"IFERROR(VLOOKUP($A50,Filtro!$A$4:$AX$552,2,FALSE),0)","v":199},{"$f":"IFERROR(VLOOKUP($A50,Filtro!$A$4:$AX$552,3,FALSE),0)","v":199},{"$f":"($CB50&$CC50&$CD50&$CE50&$CF50&$CG50&$CH50&$CI50&$CJ50&$CK50&$CM50&$CN50&$CO50&$CP50&$CQ50&$CR50&$CS50&$CT50&$CU50&$CV50&$CW50&$CX50&$CY50&$CZ50&$DA50)","v":""},{"$nulls":74},{"$f":"IF($D$50<>$C$50*1,\"* NO ALTERE LAS FÓRMULAS, el Total de Visitas equivale a 1 visita por gestante. \",\"\")","v":""},{"$nulls":25},{"$f":"IF($D$50<>$C$50*1,1,0)","v":0}]
["P1040503","2 Visitas",{"$f":"IFERROR(VLOOKUP($A51,Filtro!$A$4:$AX$552,2,FALSE),0)","v":86},{"$f":"IFERROR(VLOOKUP($A51,Filtro!$A$4:$AX$552,3,FALSE),0)","v":172},"",{"$nulls":74},{"$f":"IF($D$51<>$C$51*2,\"* NO ALTERE LAS FÓRMULAS, el Total de Visitas equivale a 2 visitas por gestante. \",\"\")","v":""},{"$nulls":25},{"$f":"IF($D$51<>$C$51*2,1,0)","v":0}]
["P1040504","3 Visitas",{"$f":"IFERROR(VLOOKUP($A52,Filtro!$A$4:$AX$552,2,FALSE),0)","v":39},{"$f":"IFERROR(VLOOKUP($A52,Filtro!$A$4:$AX$552,3,FALSE),0)","v":117},"",{"$nulls":74},{"$f":"IF($D$52<>$C$52*3,\"* NO ALTERE LAS FÓRMULAS, el Total de Visitas equivale a 3 visitas por gestante. \",\"\")","v":""},{"$nulls":25},{"$f":"IF($D$52<>$C$52*3,1,0)","v":0}]
["P1040505","4 y más visitas",{"$f":"IFERROR(VLOOKUP($A53,Filtro!$A$4:$AX$552,2,FALSE),0)","v":22},{"$f":"IFERROR(VLOOKUP($A53,Filtro!$A$4:$AX$552,3,FALSE),0)","v":47},""]
[null,"TOTAL",{"$f":"SUM(C50:C53)","v":346},{"$f":"SUM(D50:D53)","v":535}]
[null,"SECCION D: GESTANTES Y MUJERES DE 8° MES POST-PARTO EN CONTROL, SEGÚN ESTADO NUTRICIONAL"]
[null,"POBLACION","ESTADO\nNUTRICIONAL","TOTAL","GRUPOS DE EDAD (en años)"]
[{"$nulls":4},"Menos 15 años","15 a 19 años","20 a 24 años","25 a 29 años","30 a 34 años","35 a 39 años","40 a 44 años","45 a 49 años","50 a 54 años"]
["P1030101","GESTANTES EN CONTROL\n(Información a la fecha de corte)","OBESA",{"$f":"IFERROR(VLOOKUP($A58,Filtro!$A$4:$AX$552,2,FALSE),0)","v":1114},{"$f":"IFERROR(VLOOKUP($A58,Filtro!$A$4:$AX$552,3,FALSE),0)","v":0},{"$f":"IFERROR(VLOOKUP($A58,Filtro!$A$4:$AX$552,4,FALSE),0)","v":47},{"$f":"IFERROR(VLOOKUP($A58,Filtro!$A$4:$AX$552,5,FALSE),0)","v":210},{"$f":"IFERROR(VLOOKUP($A58,Filtro!$A$4:$AX$552,6,FALSE),0)","v":351},{"$f":"IFERROR(VLOOKUP($A58,Filtro!$A$4:$AX$552,7,FALSE),0)","v":301},{"$f":"IFERROR(VLOOKUP($A58,Filtro!$A$4:$AX$552,8,FALSE),0)","v":160},{"$f":"IFERROR(VLOOKUP($A58,Filtro!$A$4:$AX$552,9,FALSE),0)","v":44},{"$f":"IFERROR(VLOOKUP($A58,Filtro!$A$4:$AX$552,10,FALSE),0)","v":1},{"$f":"IFERROR(VLOOKUP($A58,Filtro!$A$4:$AX$552,11,FALSE),0)","v":0},{"$f":"($CB58&$CC58&$CD58&$CE58&$CF58&$CG58&$CH58&$CI58&$CJ58&$CK58&$CM58&$CN58&$CO58&$CP58&$CQ58&$CR58&$CS58&$CT58&$CU58&$CV58&$CW58&$CX58&$CY58&$CZ58&$DA58)","v":""}]
["P1030102",null,"SOBREPESO",{"$f":"IFERROR(VLOOKUP($A59,Filtro!$A$4:$AX$552,2,FALSE),0)","v":1011},{"$f":"IFERROR(VLOOKUP($A59,Filtro!$A$4:$AX$552,3,FALSE),0)","v":3},{"$f":"IFERROR(VLOOKUP($A59,Filtro!$A$4:$AX$552,4,FALSE),0)","v":74},{"$f":"IFERROR(VLOOKUP($A59,Filtro!$A$4:$AX$552,5,FALSE),0)","v":242},{"$f":"IFERROR(VLOOKUP($A59,Filtro!$A$4:$AX$552,6,FALSE),0)","v":281},{"$f":"IFERROR(VLOOKUP($A59,Filtro!$A$4:$AX$552,7,FALSE),0)","v":241},{"$f":"IFERROR(VLOOKUP($A59,Filtro!$A$4:$AX$552,8,FALSE),0)","v":132},{"$f":"IFERROR(VLOOKUP($A59,Filtro!$A$4:$AX$552,9,FALSE),0)","v":36},{"$f":"IFERROR(VLOOKUP($A59,Filtro!$A$4:$AX$552,10,FALSE),0)","v":2},{"$f":"IFERROR(VLOOKUP($A59,Filtro!$A$4:$AX$552,11,FALSE),0)","v":0},""]
["P1030103",null,"NORMAL",{"$f":"IFERROR(VLOOKUP($A60,Filtro!$A$4:$AX$552,2,FALSE),0)","v":862},{"$f":"IFERROR(VLOOKUP($A60,Filtro!$A$4:$AX$552,3,FALSE),0)","v":2},{"$f":"IFERROR(VLOOKUP($A60,Filtro!$A$4:$AX$552,4,FALSE),0)","v":123},{"$f":"IFERROR(VLOOKUP($A60,Filtro!$A$4:$AX$552,5,FALSE),0)","v":251},{"$f":"IFERROR(VLOOKUP($A60,Filtro!$A$4:$AX$552,6,FALSE),0)","v":248},{"$f":"IFERROR(VLOOKUP($A60,Filtro!$A$4:$AX$552,7,FALSE),0)","v":159},{"$f":"IFERROR(VLOOKUP($A60,Filtro!$A$4:$AX$552,8,FALSE),0)","v":62},{"$f":"IFERROR(VLOOKUP($A60,Filtro!$A$4:$AX$552,9,FALSE),0)","v":16},{"$f":"IFERROR(VLOOKUP($A60,Filtro!$A$4:$AX$552,10,FALSE),0)","v":1},{"$f":"IFERROR(VLOOKUP($A60,Filtro!$A$4:$AX$552,11,FALSE),0)","v":0},""]
["P1030104",null,"BAJO PESO",{"$f":"IFERROR(VLOOKUP($A61,Filtro!$A$4:$AX$552,2,FALSE),0)","v":71},{"$f":"IFERROR(VLOOKUP($A61,Filtro!$A$4:$AX$552,3,FALSE),0)","v":0},{"$f":"IFERROR(VLOOKUP($A61,Filtro!$A$4:$AX$552,4,FALSE),0)","v":17},{"$f":"IFERROR(VLOOKUP($A61,Filtro!$A$4:$AX$552,5,FALSE),0)","v":25},{"$f":"IFERROR(VLOOKUP($A61,Filtro!$A$4:$AX$552,6,FALSE),0)","v":15},{"$f":"IFERROR(VLOOKUP($A61,Filtro!$A$4:$AX$552,7,FALSE),0)","v":9},{"$f":"IFERROR(VLOOKUP($A61,Filtro!$A$4:$AX$552,8,FALSE),0)","v":4},{"$f":"IFERROR(VLOOKUP($A61,Filtro!$A$4:$AX$552,9,FALSE),0)","v":1},{"$f":"IFERROR(VLOOKUP($A61,Filtro!$A$4:$AX$552,10,FALSE),0)","v":0},{"$f":"IFERROR(VLOOKUP($A61,Filtro!$A$4:$AX$552,11,FALSE),0)","v":0},""]
[null,null,"TOTAL",{"$f":"SUM(E62:M62)","v":3058},{"$f":"SUM(E58:E61)","v":5},{"$f":"SUM(F58:F61)","v":261},728,895,710,358,97,4,0,{"$nulls":66},{"$f":"IF($C$37<>$E62,\"* Las Gestantes Menores de 15 años, según Estado Nutricional debe ser igual al Total de gestantes en Control de esa edad en Sección B. \",\"\")","v":""},{"$f":"IF($C$38<>$F62,\"* Las gestantes 15-19 años, según Estado Nutricional debe ser igual al Total de gestantes en Control de esa edad en Sección B. \",\"\")","v":""},{"$f":"IF($C$39<>$G62,\"* Las gestantes20-24 años, según Estado Nutricional debe ser igual al Total de gestantes en Control de esa edad en Sección B. \",\"\")","v":""},{"$f":"IF($C$40<>$H62,\"* Las gestantes 25-29 años, según Estado Nutricional debe ser igual al Total de gestantes en Control de esa edad en Sección B. \",\"\")","v":""},{"$f":"IF($C$41<>$I62,\"* Las gestantes30-34 años, según Estado Nutricional debe ser igual al Total de gestantes en Control de esa edad en Sección B. \",\"\")","v":""},{"$f":"IF($C$42<>$J62,\"* Las gestantes 35-39 años, según Estado Nutricional debe ser igual al Total de gestantes en Control de esa edad en Sección B. \",\"\")","v":""},{"$f":"IF($C$43<>$K62,\"* Las gestantes 40-44 años, según Estado Nutricional debe ser igual al Total de gestantes en Control de esa edad en Sección B. \",\"\")","v":""},{"$f":"IF($C$44<>$L62,\"* Las gestantes 45-49 años, según Estado Nutricional debe ser igual al Total de gestantes en Control de esa edad en Sección B. \",\"\")","v":""},{"$f":"IF($C$45<>$M62,\"* Las gestantes 50-54 años, según Estado Nutricional debe ser igual al Total de gestantes en Control de esa edad en Sección B. \",\"\")","v":""},{"$nulls":17},{"$f":"IF($C$37<>$E62,1,0)","v":0},{"$f":"IF($C$38<>$F62,1,0)","v":0},{"$f":"IF($C$39<>$G62,1,0)","v":0},{"$f":"IF($C$40<>$H62,1,0)","v":0},{"$f":"IF($C$41<>$I62,1,0)","v":0},{"$f":"IF($C$42<>$J62,1,0)","v":0},{"$f":"IF($C$43<>$K62,1,0)","v":0},{"$f":"IF($C$44<>$L62,1,0)","v":0},{"$f":"IF($C$45<>$M62,1,0)","v":0}]
["P1030201","CONTROL AL 8º MES POST-PARTO\n(Información del semestre)","OBESA",{"$f":"IFERROR(VLOOKUP($A63,Filtro!$A$4:$AX$552,2,FALSE),0)","v":91},{"$f":"IFERROR(VLOOKUP($A63,Filtro!$A$4:$AX$552,3,FALSE),0)","v":0},{"$f":"IFERROR(VLOOKUP($A63,Filtro!$A$4:$AX$552,4,FALSE),0)","v":10},{"$f":"IFERROR(VLOOKUP($A63,Filtro!$A$4:$AX$552,5,FALSE),0)","v":32},{"$f":"IFERROR(VLOOKUP($A63,Filtro!$A$4:$AX$552,6,FALSE),0)","v":20},{"$f":"IFERROR(VLOOKUP($A63,Filtro!$A$4:$AX$552,7,FALSE),0)","v":16},{"$f":"IFERROR(VLOOKUP($A63,Filtro!$A$4:$AX$552,8,FALSE),0)","v":9},{"$f":"IFERROR(VLOOKUP($A63,Filtro!$A$4:$AX$552,9,FALSE),0)","v":4},{"$f":"IFERROR(VLOOKUP($A63,Filtro!$A$4:$AX$552,10,FALSE),0)","v":0},{"$f":"IFERROR(VLOOKUP($A63,Filtro!$A$4:$AX$552,11,FALSE),0)","v":0},""]
["P1030202",null,"SOBREPESO",{"$f":"IFERROR(VLOOKUP($A64,Filtro!$A$4:$AX$552,2,FALSE),0)","v":108},{"$f":"IFERROR(VLOOKUP($A64,Filtro!$A$4:$AX$552,3,FALSE),0)","v":0},{"$f":"IFERROR(VLOOKUP($A64,Filtro!$A$4:$AX$552,4,FALSE),0)","v":14},{"$f":"IFERROR(VLOOKUP($A64,Filtro!$A$4:$AX$552,5,FALSE),0)","v":35},{"$f":"IFERROR(VLOOKUP($A64,Filtro!$A$4:$AX$552,6,FALSE),0)","v":29},{"$f":"IFERROR(VLOOKUP($A64,Filtro!$A$4:$AX$552,7,FALSE),0)","v":19},{"$f":"IFERROR(VLOOKUP($A64,Filtro!$A$4:$AX$552,8,FALSE),0)","v":11},{"$f":"IFERROR(VLOOKUP($A64,Filtro!$A$4:$AX$552,9,FALSE),0)","v":0},{"$f":"IFERROR(VLOOKUP($A64,Filtro!$A$4:$AX$552,10,FALSE),0)","v":0},{"$f":"IFERROR(VLOOKUP($A64,Filtro!$A$4:$AX$552,11,FALSE),0)","v":0},""]
["P1030203",null,"NORMAL",{"$f":"IFERROR(VLOOKUP($A65,Filtro!$A$4:$AX$552,2,FALSE),0)","v":100},{"$f":"IFERROR(VLOOKUP($A65,Filtro!$A$4:$AX$552,3,FALSE),0)","v":0},{"$f":"IFERROR(VLOOKUP($A65,Filtro!$A$4:$AX$552,4,FALSE),0)","v":20},{"$f":"IFERROR(VLOOKUP($A65,Filtro!$A$4:$AX$552,5,FALSE),0)","v":33},{"$f":"IFERROR(VLOOKUP($A65,Filtro!$A$4:$AX$552,6,FALSE),0)","v":26},{"$f":"IFERROR(VLOOKUP($A65,Filtro!$A$4:$AX$552,7,FALSE),0)","v":14},{"$f":"IFERROR(VLOOKUP($A65,Filtro!$A$4:$AX$552,8,FALSE),0)","v":5},{"$f":"IFERROR(VLOOKUP($A65,Filtro!$A$4:$AX$552,9,FALSE),0)","v":2},{"$f":"IFERROR(VLOOKUP($A65,Filtro!$A$4:$AX$552,10,FALSE),0)","v":0},{"$f":"IFERROR(VLOOKUP($A65,Filtro!$A$4:$AX$552,11,FALSE),0)","v":0},""]
["P1030204",null,"BAJO PESO",{"$f":"IFERROR(VLOOKUP($A66,Filtro!$A$4:$AX$552,2,FALSE),0)","v":27},{"$f":"IFERROR(VLOOKUP($A66,Filtro!$A$4:$AX$552,3,FALSE),0)","v":0},{"$f":"IFERROR(VLOOKUP($A66,Filtro!$A$4:$AX$552,4,FALSE),0)","v":7},{"$f":"IFERROR(VLOOKUP($A66,Filtro!$A$4:$AX$552,5,FALSE),0)","v":12},{"$f":"IFERROR(VLOOKUP($A66,Filtro!$A$4:$AX$552,6,FALSE),0)","v":3},{"$f":"IFERROR(VLOOKUP($A66,Filtro!$A$4:$AX$552,7,FALSE),0)","v":2},{"$f":"IFERROR(VLOOKUP($A66,Filtro!$A$4:$AX$552,8,FALSE),0)","v":2},{"$f":"IFERROR(VLOOKUP($A66,Filtro!$A$4:$AX$552,9,FALSE),0)","v":1},{"$f":"IFERROR(VLOOKUP($A66,Filtro!$A$4:$AX$552,10,FALSE),0)","v":0},{"$f":"IFERROR(VLOOKUP($A66,Filtro!$A$4:$AX$552,11,FALSE),0)","v":0},""]
[null,null,"TOTAL",{"$f":"SUM(E67:M67)","v":326},{"$f":"SUM(E63:E66)","v":0},{"$f":"SUM(F63:F66)","v":51},{"$f":"SUM(G63:G66)","v":112},{"$f":"SUM(H63:H66)","v":78},51,27,{"$f":"SUM(K63:K66)","v":7},0,0]
[null,"SECCION E: MUJERES Y GESTANTES EN CONTROL CON CONSULTA NUTRICIONAL "]
[null,"MUJERES","TOTAL"]
["P1050100","Gestantes con malnutrición por déficit (bajo peso)",{"$f":"IFERROR(VLOOKUP($A70,Filtro!$A$4:$AX$552,2,FALSE),0)","v":33},{"$f":"($CB70&$CC70&$CD70&$CE70&$CF70&$CG70&$CH70&$CI70&$CJ70&$CK70&$CM70&$CN70&$CO70&$CP70&$CQ70&$CR70&$CS70&$CT70&$CU70&$CV70&$CW70&$CX70&$CY70&$CZ70&$DA70)","v":""},{"$nulls":75},{"$f":"IF($C$70<=$D$61,\"\",\"* Gestantes malnutricion no debe ser mayor que Gestantes en Control Bajo Peso (Seccion D). \")","v":""},{"$nulls":25},{"$f":"IF($C$70<=$D$61,0,1)","v":0}]
["P1050101","Gestantes con malnutrición por exceso - Obesa",{"$f":"IFERROR(VLOOKUP($A71,Filtro!$A$4:$AX$552,2,FALSE),0)","v":433},"",{"$nulls":75},{"$f":"IF($C$71<=$D$58,\"\",\"* Gestantes malnutricion no debe ser mayor que Gestantes en Control Obesa (Seccion D). \")","v":""},{"$nulls":25},{"$f":"IF($C$71<=$D$58,0,1)","v":0}]
["P1050102","Gestantes con malnutrición por exceso - Sobrepeso",{"$f":"IFERROR(VLOOKUP($A72,Filtro!$A$4:$AX$552,2,FALSE),0)","v":333},"",{"$nulls":75},{"$f":"IF($C$72<=$D$59,\"\",\"* Gestantes malnutricion no debe ser mayor que Gestantes en Control Sobrepeso (Seccion D). \")","v":""},{"$nulls":25},{"$f":"IF($C$72<=$D$59,0,1)","v":0}]
["P1050103","En 3º mes post parto",{"$f":"IFERROR(VLOOKUP($A73,Filtro!$A$4:$AX$552,2,FALSE),0)","v":32},""]
["P1050104","En 6º mes post parto",{"$f":"IFERROR(VLOOKUP($A74,Filtro!$A$4:$AX$552,2,FALSE),0)","v":45},""]
[null,"SECCION F: MUJERES EN CONTROL DE CLIMATERIO "]
[null,"Población","45 a 64 años"]
["P1030301","Población en Control",{"$f":"IFERROR(VLOOKUP($A77,Filtro!$A$4:$AX$552,2,FALSE),0)","v":2257},{"$f":"($CB77&$CC77&$CD77&$CE77&$CF77&$CG77&$CH77&$CI77&$CJ77&$CK77&$CM77&$CN77&$CO77&$CP77&$CQ77&$CR77&$CS77&$CT77&$CU77&$CV77&$CW77&$CX77&$CY77&$CZ77&$DA77)","v":""}]
["P1060040","Mujeres con pauta aplicada MRS*",{"$f":"IFERROR(VLOOKUP($A78,Filtro!$A$4:$AX$552,2,FALSE),0)","v":1430},"",{"$nulls":75},{"$f":"IF($C78>$C77,\"* El Nº de mujeres con pauta aplicada MRS no debe ser mayor a la población de mujeres en control por climaterio. \",\"\")","v":""},{"$nulls":25},{"$f":"IF($C78>$C77,1,0)","v":0}]
["P1060050","Mujeres con puntaje elevado de MRS*",{"$f":"IFERROR(VLOOKUP($A79,Filtro!$A$4:$AX$552,2,FALSE),0)","v":357},"",{"$nulls":75},{"$f":"IF($C79>$C78,\"* El Nº de mujeres con puntaje elevado de MRS no debe ser mayor al Nº de mujeres con pauta aplicada MRS. \",\"\")","v":""},{"$nulls":25},{"$f":"IF($C79>$C78,1,0)","v":0}]
["P1060060","Mujeres con aplicación de terapia hormonal de reemplazo según MRS*",{"$f":"IFERROR(VLOOKUP($A80,Filtro!$A$4:$AX$552,2,FALSE),0)","v":196},"",{"$nulls":75},{"$f":"IF($C80>$C79,\"* El Nº de mujeres con aplicación de terapia hormonal de reemplazo según MRS no debe ser mayor que el numero de mujeres con puntaje elevado de MRS. \",\"\")","v":""},{"$nulls":25},{"$f":"IF($C80>$C79,1,0)","v":0}]
["P1200340","Talleres educativos",{"$f":"IFERROR(VLOOKUP($A81,Filtro!$A$4:$AX$552,2,FALSE),0)","v":1},""]
[null,"* MRS: Menopause Rating Scale"]
[null,"SECCION F.1: POBLACIÓN EN CONTROL CLIMATERIO SEGÚN TIPO TERAPIA REEMPLAZO HORMONAL"]
[null,"MÉTODOS",null,"TOTAL","GRUPO DE EDAD (en años)",{"$nulls":4},"Pueblos Originarios","Población Migrantes"]
[{"$nulls":4},"Menor \nde 45 años","45 a 49 años","50 a 54 años","55 a 60 años","60 a 64 años"]
["P1200280","Estradiol Micronizado 1mg",null,{"$f":"IFERROR(VLOOKUP($A86,Filtro!$A$4:$AX$552,2,FALSE),0)","v":40},{"$f":"IFERROR(VLOOKUP($A86,Filtro!$A$4:$AX$552,3,FALSE),0)","v":0},{"$f":"IFERROR(VLOOKUP($A86,Filtro!$A$4:$AX$552,4,FALSE),0)","v":10},{"$f":"IFERROR(VLOOKUP($A86,Filtro!$A$4:$AX$552,5,FALSE),0)","v":17},{"$f":"IFERROR(VLOOKUP($A86,Filtro!$A$4:$AX$552,6,FALSE),0)","v":10},{"$f":"IFERROR(VLOOKUP($A86,Filtro!$A$4:$AX$552,7,FALSE),0)","v":3},{"$f":"IFERROR(VLOOKUP($A86,Filtro!$A$4:$AX$552,8,FALSE),0)","v":0},{"$f":"IFERROR(VLOOKUP($A86,Filtro!$A$4:$AX$552,9,FALSE),0)","v":1},{"$f":"($CB86&$CC86&$CD86&$CE86&$CF86&$CG86&$CH86&$CI86&$CJ86&$CK86&$CM86&$CN86&$CO86&$CP86&$CQ86&$CR86&$CS86&$CT86&$CU86&$CV86&$CW86&$CX86&$CY86&$CZ86&$DA86)","v":""},{"$nulls":67},{"$f":"IF($J86>$D86,\"* La celda 'Pueblos Originarios' debe ser menor o igual al Total en control. \",\"\")","v":""},{"$f":"IF($K86>$D86,\"* La celda 'Población Migrantes' debe ser menor o igual al Total en control. \",\"\")","v":""},{"$f":"IF(AND($D86<>0,$J86=\"\"),\"* No olvide escribir en la celda de 'Pueblos Originarios' (Digite CERO si no tiene). \",\"\")","v":""},{"$f":"IF(AND($D86<>0,$K86=\"\"),\"* No olvide escribir en la celda de 'Población Migrantes' (Digite CERO si no tiene). \",\"\")","v":""},{"$nulls":22},{"$f":"IF($J86>$D86,1,0)","v":0},{"$f":"IF($K86>$D86,1,0)","v":0},{"$f":"IF(AND($D86<>0,$J86=\"\"),1,0)","v":0},{"$f":"IF(AND($D86<>0,$K86=\"\"),1,0)","v":0}]
["P1200290","Estradiol Gel",null,{"$f":"IFERROR(VLOOKUP($A87,Filtro!$A$4:$AX$552,2,FALSE),0)","v":60},{"$f":"IFERROR(VLOOKUP($A87,Filtro!$A$4:$AX$552,3,FALSE),0)","v":0},{"$f":"IFERROR(VLOOKUP($A87,Filtro!$A$4:$AX$552,4,FALSE),0)","v":16},{"$f":"IFERROR(VLOOKUP($A87,Filtro!$A$4:$AX$552,5,FALSE),0)","v":20},{"$f":"IFERROR(VLOOKUP($A87,Filtro!$A$4:$AX$552,6,FALSE),0)","v":22},{"$f":"IFERROR(VLOOKUP($A87,Filtro!$A$4:$AX$552,7,FALSE),0)","v":2},{"$f":"IFERROR(VLOOKUP($A87,Filtro!$A$4:$AX$552,8,FALSE),0)","v":0},{"$f":"IFERROR(VLOOKUP($A87,Filtro!$A$4:$AX$552,9,FALSE),0)","v":0},"",{"$nulls":67},{"$f":"IF($J87>$D87,\"* La celda 'Pueblos Originarios' debe ser menor o igual al Total en control. \",\"\")","v":""},{"$f":"IF($K87>$D87,\"* La celda 'Población Migrantes' debe ser menor o igual al Total en control. \",\"\")","v":""},{"$f":"IF(AND($D87<>0,$J87=\"\"),\"* No olvide escribir en la celda de 'Pueblos Originarios' (Digite CERO si no tiene). \",\"\")","v":""},{"$f":"IF(AND($D87<>0,$K87=\"\"),\"* No olvide escribir en la celda de 'Población Migrantes' (Digite CERO si no tiene). \",\"\")","v":""},{"$nulls":22},{"$f":"IF($J87>$D87,1,0)","v":0},{"$f":"IF($K87>$D87,1,0)","v":0},{"$f":"IF(AND($D87<>0,$J87=\"\"),1,0)","v":0},{"$f":"IF(AND($D87<>0,$K87=\"\"),1,0)","v":0}]
["P1200300","Progesterona Micronizada 100mg",null,{"$f":"IFERROR(VLOOKUP($A88,Filtro!$A$4:$AX$552,2,FALSE),0)","v":18},{"$f":"IFERROR(VLOOKUP($A88,Filtro!$A$4:$AX$552,3,FALSE),0)","v":1},{"$f":"IFERROR(VLOOKUP($A88,Filtro!$A$4:$AX$552,4,FALSE),0)","v":6},{"$f":"IFERROR(VLOOKUP($A88,Filtro!$A$4:$AX$552,5,FALSE),0)","v":10},{"$f":"IFERROR(VLOOKUP($A88,Filtro!$A$4:$AX$552,6,FALSE),0)","v":1},{"$f":"IFERROR(VLOOKUP($A88,Filtro!$A$4:$AX$552,7,FALSE),0)","v":0},{"$f":"IFERROR(VLOOKUP($A88,Filtro!$A$4:$AX$552,8,FALSE),0)","v":0},{"$f":"IFERROR(VLOOKUP($A88,Filtro!$A$4:$AX$552,9,FALSE),0)","v":1},"",{"$nulls":67},"","","","",{"$nulls":22},0,0,0,0]
["P1200310","Progesterona Micronizada 200mg",null,{"$f":"IFERROR(VLOOKUP($A89,Filtro!$A$4:$AX$552,2,FALSE),0)","v":4},{"$f":"IFERROR(VLOOKUP($A89,Filtro!$A$4:$AX$552,3,FALSE),0)","v":0},{"$f":"IFERROR(VLOOKUP($A89,Filtro!$A$4:$AX$552,4,FALSE),0)","v":2},{"$f":"IFERROR(VLOOKUP($A89,Filtro!$A$4:$AX$552,5,FALSE),0)","v":2},{"$f":"IFERROR(VLOOKUP($A89,Filtro!$A$4:$AX$552,6,FALSE),0)","v":0},{"$f":"IFERROR(VLOOKUP($A89,Filtro!$A$4:$AX$552,7,FALSE),0)","v":0},{"$f":"IFERROR(VLOOKUP($A89,Filtro!$A$4:$AX$552,8,FALSE),0)","v":0},{"$f":"IFERROR(VLOOKUP($A89,Filtro!$A$4:$AX$552,9,FALSE),0)","v":0},"",{"$nulls":67},"","","","",{"$nulls":22},0,0,0,0]
["P1200320","Nomegestrol 5mg comp.",null,{"$f":"IFERROR(VLOOKUP($A90,Filtro!$A$4:$AX$552,2,FALSE),0)","v":1},{"$f":"IFERROR(VLOOKUP($A90,Filtro!$A$4:$AX$552,3,FALSE),0)","v":0},{"$f":"IFERROR(VLOOKUP($A90,Filtro!$A$4:$AX$552,4,FALSE),0)","v":0},{"$f":"IFERROR(VLOOKUP($A90,Filtro!$A$4:$AX$552,5,FALSE),0)","v":1},{"$f":"IFERROR(VLOOKUP($A90,Filtro!$A$4:$AX$552,6,FALSE),0)","v":0},{"$f":"IFERROR(VLOOKUP($A90,Filtro!$A$4:$AX$552,7,FALSE),0)","v":0},{"$f":"IFERROR(VLOOKUP($A90,Filtro!$A$4:$AX$552,8,FALSE),0)","v":0},{"$f":"IFERROR(VLOOKUP($A90,Filtro!$A$4:$AX$552,9,FALSE),0)","v":0},"",{"$nulls":67},"","","","",{"$nulls":22},0,0,0,0]
["P1200330","Tibolona 2,5mg comp.",null,{"$f":"IFERROR(VLOOKUP($A91,Filtro!$A$4:$AX$552,2,FALSE),0)","v":150},{"$f":"IFERROR(VLOOKUP($A91,Filtro!$A$4:$AX$552,3,FALSE),0)","v":1},{"$f":"IFERROR(VLOOKUP($A91,Filtro!$A$4:$AX$552,4,FALSE),0)","v":39},{"$f":"IFERROR(VLOOKUP($A91,Filtro!$A$4:$AX$552,5,FALSE),0)","v":65},{"$f":"IFERROR(VLOOKUP($A91,Filtro!$A$4:$AX$552,6,FALSE),0)","v":39},{"$f":"IFERROR(VLOOKUP($A91,Filtro!$A$4:$AX$552,7,FALSE),0)","v":6},{"$f":"IFERROR(VLOOKUP($A91,Filtro!$A$4:$AX$552,8,FALSE),0)","v":3},{"$f":"IFERROR(VLOOKUP($A91,Filtro!$A$4:$AX$552,9,FALSE),0)","v":1},"",{"$nulls":67},"","","","",{"$nulls":22},0,0,0,0]
[null,"Total",null,{"$f":"SUM(E92:I92)","v":273},{"$f":"SUM(E86:E91)","v":2},{"$f":"SUM(F86:F91)","v":73},115,72,11,3,3]
[null,"SECCION G: GESTANTES EN CONTROL CON ECOGRAFÍA POR TRIMESTRE DE GESTACION (EN EL SEMESTRE)"]
[null,"Población","Primer trimestre","Segundo trimestre","Tercer trimestre","Total de Gestantes con Ecografías del extrasistema"]
["P1060106","Menor de 15",{"$f":"IFERROR(VLOOKUP($A95,Filtro!$A$4:$AX$552,2,FALSE),0)","v":11},{"$f":"IFERROR(VLOOKUP($A95,Filtro!$A$4:$AX$552,3,FALSE),0)","v":1},{"$f":"IFERROR(VLOOKUP($A95,Filtro!$A$4:$AX$552,4,FALSE),0)","v":0},{"$f":"IFERROR(VLOOKUP($A95,Filtro!$A$4:$AX$552,5,FALSE),0)","v":2},{"$f":"($CB95&$CC95&$CD95&$CE95&$CF95&$CG95&$CH95&$CI95&$CJ95&$CK95&$CM95&$CN95&$CO95&$CP95&$CQ95&$CR95&$CS95&$CT95&$CU95&$CV95&$CW95&$CX95&$CY95&$CZ95&$DA95)","v":""},{"$nulls":72},{"$f":"IF($F95>$C95+$D95+$E95, \"* El total de ecografías realizadas en el extrasistema en menores de 15 años, no puede ser mayor al nº de ecografias realizadas en los tres trimestres. \", \"\")","v":""},{"$nulls":25},{"$f":"IF($F95>$C95+$D95+$E95, 1,0)","v":0}]
["P1060107","15 - 19 ",{"$f":"IFERROR(VLOOKUP($A96,Filtro!$A$4:$AX$552,2,FALSE),0)","v":184},{"$f":"IFERROR(VLOOKUP($A96,Filtro!$A$4:$AX$552,3,FALSE),0)","v":122},{"$f":"IFERROR(VLOOKUP($A96,Filtro!$A$4:$AX$552,4,FALSE),0)","v":44},{"$f":"IFERROR(VLOOKUP($A96,Filtro!$A$4:$AX$552,5,FALSE),0)","v":81},"",{"$nulls":72},{"$f":"IF($F96>$C96+$D96+$E96, \"* El total de ecografías realizadas en el extrasistema en menores de 15-19 años, no puede ser mayor al nº de ecografias realizadas en los tres trimestres. \", \"\")","v":""},{"$nulls":25},{"$f":"IF($F96>$C96+$D96+$E96, 1,0)","v":0}]
["P1060108","20 - 24",{"$f":"IFERROR(VLOOKUP($A97,Filtro!$A$4:$AX$552,2,FALSE),0)","v":512},{"$f":"IFERROR(VLOOKUP($A97,Filtro!$A$4:$AX$552,3,FALSE),0)","v":322},{"$f":"IFERROR(VLOOKUP($A97,Filtro!$A$4:$AX$552,4,FALSE),0)","v":116},{"$f":"IFERROR(VLOOKUP($A97,Filtro!$A$4:$AX$552,5,FALSE),0)","v":240},"",{"$nulls":72},{"$f":"IF($F97>$C97+$D97+$E97, \"* El total de ecografías realizadas en el extrasistema en menores de 20-24 años, no puede ser mayor al nº de ecografias realizadas en los tres trimestres. \", \"\")","v":""},{"$nulls":25},0]
["P1060109","25 - 29",{"$f":"IFERROR(VLOOKUP($A98,Filtro!$A$4:$AX$552,2,FALSE),0)","v":615},{"$f":"IFERROR(VLOOKUP($A98,Filtro!$A$4:$AX$552,3,FALSE),0)","v":370},{"$f":"IFERROR(VLOOKUP($A98,Filtro!$A$4:$AX$552,4,FALSE),0)","v":150},{"$f":"IFERROR(VLOOKUP($A98,Filtro!$A$4:$AX$552,5,FALSE),0)","v":342},"",{"$nulls":72},{"$f":"IF($F98>$C98+$D98+$E98, \"* El total de ecografías realizadas en el extrasistema en menores de 28-29 años, no puede ser mayor al nº de ecografias realizadas en los tres trimestres. \", \"\")","v":""},{"$nulls":25},0]
["P1060110","30 - 34",{"$f":"IFERROR(VLOOKUP($A99,Filtro!$A$4:$AX$552,2,FALSE),0)","v":496},{"$f":"IFERROR(VLOOKUP($A99,Filtro!$A$4:$AX$552,3,FALSE),0)","v":322},{"$f":"IFERROR(VLOOKUP($A99,Filtro!$A$4:$AX$552,4,FALSE),0)","v":102},{"$f":"IFERROR(VLOOKUP($A99,Filtro!$A$4:$AX$552,5,FALSE),0)","v":251},"",{"$nulls":72},{"$f":"IF($F99>$C99+$D99+$E99, \"* El total de ecografías realizadas en el extrasistema en menores de 30-34 años, no puede ser mayor al nº de ecografias realizadas en los tres trimestres. \", \"\")","v":""},{"$nulls":25},0]
["P1060111","35 - 39",{"$f":"IFERROR(VLOOKUP($A100,Filtro!$A$4:$AX$552,2,FALSE),0)","v":233},{"$f":"IFERROR(VLOOKUP($A100,Filtro!$A$4:$AX$552,3,FALSE),0)","v":140},{"$f":"IFERROR(VLOOKUP($A100,Filtro!$A$4:$AX$552,4,FALSE),0)","v":63},{"$f":"IFERROR(VLOOKUP($A100,Filtro!$A$4:$AX$552,5,FALSE),0)","v":108},"",{"$nulls":72},{"$f":"IF($F100>$C100+$D100+$E100, \"* El total de ecografías realizadas en el extrasistema en menores de 35-39 años, no puede ser mayor al nº de ecografias realizadas en los tres trimestres. \", \"\")","v":""},{"$nulls":25},0]
["P1060112","40 - 44",{"$f":"IFERROR(VLOOKUP($A101,Filtro!$A$4:$AX$552,2,FALSE),0)","v":64},{"$f":"IFERROR(VLOOKUP($A101,Filtro!$A$4:$AX$552,3,FALSE),0)","v":51},{"$f":"IFERROR(VLOOKUP($A101,Filtro!$A$4:$AX$552,4,FALSE),0)","v":18},{"$f":"IFERROR(VLOOKUP($A101,Filtro!$A$4:$AX$552,5,FALSE),0)","v":25},"",{"$nulls":72},{"$f":"IF($F101>$C101+$D101+$E101, \"* El total de ecografías realizadas en el extrasistema en menores de 40-44 años, no puede ser mayor al nº de ecografias realizadas en los tres trimestres. \", \"\")","v":""},{"$nulls":25},0]
["P1060113","45 - 49",{"$f":"IFERROR(VLOOKUP($A102,Filtro!$A$4:$AX$552,2,FALSE),0)","v":3},{"$f":"IFERROR(VLOOKUP($A102,Filtro!$A$4:$AX$552,3,FALSE),0)","v":2},{"$f":"IFERROR(VLOOKUP($A102,Filtro!$A$4:$AX$552,4,FALSE),0)","v":2},{"$f":"IFERROR(VLOOKUP($A102,Filtro!$A$4:$AX$552,5,FALSE),0)","v":0},"",{"$nulls":72},{"$f":"IF($F102>$C102+$D102+$E102, \"* El total de ecografías realizadas en el extrasistema en menores de 45-49 años, no puede ser mayor al nº de ecografias realizadas en los tres trimestres. \", \"\")","v":""},{"$nulls":25},0]
["P1060114","50 - 54",{"$f":"IFERROR(VLOOKUP($A103,Filtro!$A$4:$AX$552,2,FALSE),0)","v":2},{"$f":"IFERROR(VLOOKUP($A103,Filtro!$A$4:$AX$552,3,FALSE),0)","v":1},{"$f":"IFERROR(VLOOKUP($A103,Filtro!$A$4:$AX$552,4,FALSE),0)","v":1},{"$f":"IFERROR(VLOOKUP($A103,Filtro!$A$4:$AX$552,5,FALSE),0)","v":0},"",{"$nulls":72},{"$f":"IF($F103>$C103+$D103+$E103, \"* El total de ecografías realizadas en el extrasistema en menores de 50-54 años, no puede ser mayor al nº de ecografias realizadas en los tres trimestres. \", \"\")","v":""},{"$nulls":25},0]
[null,"TOTAL",{"$f":"SUM(C95:C103)","v":2120},{"$f":"SUM(D95:D103)","v":1331},{"$f":"SUM(E95:E103)","v":496},{"$f":"SUM(F95:F103)","v":1049}]
[null,"SECCION H: GESTANTES EN CONTROL DE ENFERMEDADES TRANSMISIBLES (HEPATITIS B, CHAGAS)"]
[null,null,"HEPATITIS B",null,"CHAGAS"]
[null,"Población","Solicitados","Informados","Solicitados","Informados"]
["P1200100","Menor de 15",{"$f":"IFERROR(VLOOKUP($A108,Filtro!$A$4:$AX$552,2,FALSE),0)","v":1},{"$f":"IFERROR(VLOOKUP($A108,Filtro!$A$4:$AX$552,3,FALSE),0)","v":0},{"$f":"IFERROR(VLOOKUP($A108,Filtro!$A$4:$AX$552,4,FALSE),0)","v":7},{"$f":"IFERROR(VLOOKUP($A108,Filtro!$A$4:$AX$552,5,FALSE),0)","v":6},{"$f":"($CB108&$CC108&$CD108&$CE108&$CF108&$CG108&$CH108&$CI108&$CJ108&$CK108&$CM108&$CN108&$CO108&$CP108&$CQ108&$CR108&$CS108&$CT108&$CU108&$CV108&$CW108&$CX108&$CY108&$CZ108&$DA108)","v":""}]
["P1200110","15 - 19 ",{"$f":"IFERROR(VLOOKUP($A109,Filtro!$A$4:$AX$552,2,FALSE),0)","v":3},{"$f":"IFERROR(VLOOKUP($A109,Filtro!$A$4:$AX$552,3,FALSE),0)","v":1},{"$f":"IFERROR(VLOOKUP($A109,Filtro!$A$4:$AX$552,4,FALSE),0)","v":189},{"$f":"IFERROR(VLOOKUP($A109,Filtro!$A$4:$AX$552,5,FALSE),0)","v":143},""]
["P1200120","20 - 24",{"$f":"IFERROR(VLOOKUP($A110,Filtro!$A$4:$AX$552,2,FALSE),0)","v":6},{"$f":"IFERROR(VLOOKUP($A110,Filtro!$A$4:$AX$552,3,FALSE),0)","v":4},{"$f":"IFERROR(VLOOKUP($A110,Filtro!$A$4:$AX$552,4,FALSE),0)","v":425},{"$f":"IFERROR(VLOOKUP($A110,Filtro!$A$4:$AX$552,5,FALSE),0)","v":347},""]
["P1200130","25 - 29",{"$f":"IFERROR(VLOOKUP($A111,Filtro!$A$4:$AX$552,2,FALSE),0)","v":7},{"$f":"IFERROR(VLOOKUP($A111,Filtro!$A$4:$AX$552,3,FALSE),0)","v":2},{"$f":"IFERROR(VLOOKUP($A111,Filtro!$A$4:$AX$552,4,FALSE),0)","v":517},{"$f":"IFERROR(VLOOKUP($A111,Filtro!$A$4:$AX$552,5,FALSE),0)","v":436},""]
["P1200140","30 - 34",{"$f":"IFERROR(VLOOKUP($A112,Filtro!$A$4:$AX$552,2,FALSE),0)","v":8},{"$f":"IFERROR(VLOOKUP($A112,Filtro!$A$4:$AX$552,3,FALSE),0)","v":6},{"$f":"IFERROR(VLOOKUP($A112,Filtro!$A$4:$AX$552,4,FALSE),0)","v":400},{"$f":"IFERROR(VLOOKUP($A112,Filtro!$A$4:$AX$552,5,FALSE),0)","v":308},""]
["P1200150","35 - 39",{"$f":"IFERROR(VLOOKUP($A113,Filtro!$A$4:$AX$552,2,FALSE),0)","v":7},{"$f":"IFERROR(VLOOKUP($A113,Filtro!$A$4:$AX$552,3,FALSE),0)","v":5},{"$f":"IFERROR(VLOOKUP($A113,Filtro!$A$4:$AX$552,4,FALSE),0)","v":191},{"$f":"IFERROR(VLOOKUP($A113,Filtro!$A$4:$AX$552,5,FALSE),0)","v":147},""]
["P1200160","40 - 44",{"$f":"IFERROR(VLOOKUP($A114,Filtro!$A$4:$AX$552,2,FALSE),0)","v":1},{"$f":"IFERROR(VLOOKUP($A114,Filtro!$A$4:$AX$552,3,FALSE),0)","v":0},{"$f":"IFERROR(VLOOKUP($A114,Filtro!$A$4:$AX$552,4,FALSE),0)","v":56},{"$f":"IFERROR(VLOOKUP($A114,Filtro!$A$4:$AX$552,5,FALSE),0)","v":46},""]
["P1200170","45 - 49",{"$f":"IFERROR(VLOOKUP($A115,Filtro!$A$4:$AX$552,2,FALSE),0)","v":0},{"$f":"IFERROR(VLOOKUP($A115,Filtro!$A$4:$AX$552,3,FALSE),0)","v":0},{"$f":"IFERROR(VLOOKUP($A115,Filtro!$A$4:$AX$552,4,FALSE),0)","v":1},{"$f":"IFERROR(VLOOKUP($A115,Filtro!$A$4:$AX$552,5,FALSE),0)","v":1},""]
["P1200180","50 - 54",{"$f":"IFERROR(VLOOKUP($A116,Filtro!$A$4:$AX$552,2,FALSE),0)","v":0},{"$f":"IFERROR(VLOOKUP($A116,Filtro!$A$4:$AX$552,3,FALSE),0)","v":0},{"$f":"IFERROR(VLOOKUP($A116,Filtro!$A$4:$AX$552,4,FALSE),0)","v":0},{"$f":"IFERROR(VLOOKUP($A116,Filtro!$A$4:$AX$552,5,FALSE),0)","v":0},""]
[null,"TOTAL",{"$f":"SUM(C108:C116)","v":33},{"$f":"SUM(D108:D116)","v":18},{"$f":"SUM(E108:E116)","v":1786},{"$f":"SUM(F108:F116)","v":1434}]
[null,"NIVEL SECUNDARIO"]
[null,"SECCIÓN I: POBLACIÓN EN CONTROL POR PATOLOGÍAS DE ALTO RIESGO OBSTÉTRICO"]
[null,"PATOLOGÍA","TOTAL"]
["P1030303","Preeclampsia (PE) ",{"$f":"IFERROR(VLOOKUP($A121,Filtro!$A$4:$AX$552,2,FALSE),0)","v":31},{"$f":"($CB121&$CC121&$CD121&$CE121&$CF121&$CG121&$CH121&$CI121&$CJ121&$CK121&$CM121&$CN121&$CO121&$CP121&$CQ121&$CR121&$CS121&$CT121&$CU121&$CV121&$CW121&$CX121&$CY121&$CZ121&$DA121)","v":""}]
["P1060070","Sindrome Hipertensivo del Embarazo (SHE)",{"$f":"IFERROR(VLOOKUP($A122,Filtro!$A$4:$AX$552,2,FALSE),0)","v":86},""]
["P1030304","Factores de riesgo y condicionantes de Parto Prematuro",{"$f":"IFERROR(VLOOKUP($A123,Filtro!$A$4:$AX$552,2,FALSE),0)","v":155},""]
["P1030401","Retardo Crecimiento Intrauterino (RCIU )",{"$f":"IFERROR(VLOOKUP($A124,Filtro!$A$4:$AX$552,2,FALSE),0)","v":61},""]
["P1040506","SÍFILIS",{"$f":"IFERROR(VLOOKUP($A125,Filtro!$A$4:$AX$552,2,FALSE),0)","v":25},""]
["P1040507","VIH",{"$f":"IFERROR(VLOOKUP($A126,Filtro!$A$4:$AX$552,2,FALSE),0)","v":10},""]
["P1060115","Diabetes Pre Gestacional",{"$f":"IFERROR(VLOOKUP($A127,Filtro!$A$4:$AX$552,2,FALSE),0)","v":104},""]
["P1060116","Diabetes Gestacional",{"$f":"IFERROR(VLOOKUP($A128,Filtro!$A$4:$AX$552,2,FALSE),0)","v":327},""]
["P1030403","Cesárea anterior",{"$f":"IFERROR(VLOOKUP($A129,Filtro!$A$4:$AX$552,2,FALSE),0)","v":500},""]
["P1060080","Malformación Congénita",{"$f":"IFERROR(VLOOKUP($A130,Filtro!$A$4:$AX$552,2,FALSE),0)","v":47},""]
["P1060117","Anemia",{"$f":"IFERROR(VLOOKUP($A131,Filtro!$A$4:$AX$552,2,FALSE),0)","v":21},""]
["P1060118","Cardiopatías",{"$f":"IFERROR(VLOOKUP($A132,Filtro!$A$4:$AX$552,2,FALSE),0)","v":8},""]
["P1060119","Pielonefritis",{"$f":"IFERROR(VLOOKUP($A133,Filtro!$A$4:$AX$552,2,FALSE),0)","v":8},""]
["P1060120","Rh(-) sensibilizada",{"$f":"IFERROR(VLOOKUP($A134,Filtro!$A$4:$AX$552,2,FALSE),0)","v":22},""]
["P1060121","Placenta previa",{"$f":"IFERROR(VLOOKUP($A135,Filtro!$A$4:$AX$552,2,FALSE),0)","v":12},""]
["P1060122","Chagas",{"$f":"IFERROR(VLOOKUP($A136,Filtro!$A$4:$AX$552,2,FALSE),0)","v":18},""]
["P1060123","Colestasia Intrahépatica de Embarazo",{"$f":"IFERROR(VLOOKUP($A137,Filtro!$A$4:$AX$552,2,FALSE),0)","v":19},""]
["P1030404","Otras patologías del embarazo",{"$f":"IFERROR(VLOOKUP($A138,Filtro!$A$4:$AX$552,2,FALSE),0)","v":1404},""]
[null,"TOTAL",{"$f":"SUM(C121:C138)","v":2858}]
{"$rows_empty":11}
[null,{"$f":"SUM(D11:Q33,C37:G46,C50:D54,D58:M67,C70:C74,C77:C81,D86:K92,C95:F104,C108:F117,C121:C139)","v":350705},"datos"]
[null,{"$f":"SUM(DB$10:EA150)","v":11},"errores"]

{"sheet":"P2","index":2,"n_rows":168,"n_cols":70,"rows_kept":168,"merged":[[5,1,5,24],[7,1,9,2],[7,3,8,5],[7,6,7,33],[7,34,8,35],[7,36,8,37],[8,6,8,7],[8,8,8,9],[8,10,8,11],[8,12,8,13],[8,14,8,15],[8,16,8,17],[8,18,8,19],[8,20,8,21],[8,22,8,23],[8,24,8,25],[8,26,8,27],[8,28,8,29],[8,30,8,31],[8,32,8,33],[10,1,10,2],[11,1,16,1],[17,1,22,1],[23,1,29,1],[30,1,38,1],[39,1,39,13],[40,1,42,2],[40,3,41,5],[40,6,40,13],[41,6,41,7],[41,8,41,9],[41,10,41,11],[41,12,41,13],[43,1,43,2],[44,1,51,1],[52,1,58,1],[59,1,62,1],[63,1,71,1],[72,1,72,20],[74,1,74,2],[75,1,79,1],[80,1,84,1],[86,1,87,2],[86,3,87,3],[86,4,87,4],[86,5,87,5],[86,6,87,6],[86,7,87,7],[86,8,87,8],[86,9,87,9],[86,10,87,10],[86,11,87,11],[88,1,91,1],[93,1,94,2],[93,3,94,3],[95,1,95,2],[96,1,96,2],[98,1,99,2],[98,3,99,3],[100,1,100,2],[101,1,101,2],[102,1,102,2],[103,1,103,2],[104,1,104,2],[105,1,105,2],[106,1,106,2],[107,1,107,2],[108,1,108,2],[109,1,109,2],[111,1,112,2],[111,3,112,3],[111,4,111,6],[113,1,113,2],[114,1,114,2],[115,1,115,2],[116,1,116,2],[117,1,117,2],[119,1,120,2],[119,3,120,3],[119,4,119,9],[121,1,121,2],[122,1,122,2],[123,1,123,2],[125,1,127,2],[125,3,126,5],[125,6,125,39],[125,40,126,41],[125,42,126,43],[126,6,126,7],[126,8,126,9],[126,10,126,11],[126,12,126,13],[126,14,126,15],[126,16,126,17],[126,18,126,19],[126,20,126,21],[126,22,126,23],[126,24,126,25],[126,26,126,27],[126,28,126,29],[126,30,126,31],[126,32,126,33],[126,34,126,35],[126,36,126,37],[126,38,126,39],[128,1,128,2],[129,1,129,2],[130,1,130,2],[131,1,131,2],[132,1,132,2],[133,1,133,2],[134,1,134,2],[135,1,135,2],[136,1,136,2],[137,1,137,2],[138,1,138,2],[139,1,139,2],[140,1,140,2],[141,1,141,2],[142,1,142,2],[143,1,143,2],[144,1,144,2],[145,1,145,2]]}
[]
[]
[]
[]
[]
[null,"REM-P2. POBLACIÓN EN CONTROL PROGRAMA DE SALUD DEL NIÑO"]
[null,"SECCION A: POBLACIÓN EN CONTROL, SEGÚN ESTADO NUTRICIONAL PARA NIÑOS MENOR DE UN MES-59 MESES"]
[null,"INDICADOR NUTRICIONAL\nY\nPARÁMETROS DE MEDICIÓN",null,"TOTAL",null,null,"GRUPOS DE EDAD (en meses - años) Y SEXO",{"$nulls":27},"Pueblos Originarios",null,"Población Migrantes"]
[{"$nulls":6},"Menor de 1 mes",null,"1 mes",null,"2 meses",null,"3 meses",null,"4 meses",null,"5 meses",null,"6 meses",null,"7 a 11 meses",null,"12 a 17 meses",null,"18 a 23 meses",null,"24 a 35 meses",null,"36 a 41 meses",null,"42 a 47 meses",null,"48 a 59 meses"]
[{"$nulls":3},"Ambos\nsexos","Hombres","Mujeres","Hombres","Mujeres","Hombres","Mujeres","Hombres","Mujeres","Hombres","Mujeres","Hombres","Mujeres","Hombres","Mujeres","Hombres","Mujeres","Hombres","Mujeres","Hombres","Mujeres","Hombres","Mujeres","Hombres","Mujeres","Hombres","Mujeres","Hombres","Mujeres","Hombres","Mujeres","Hombres","Mujeres","Hombres","Mujeres"]
["P2060000","TOTAL DE NIÑOS EN CONTROL",null,{"$f":"IFERROR(VLOOKUP($A11,Filtro!$A$4:$AX$552,2,FALSE),0)","v":34669},{"$f":"IFERROR(VLOOKUP($A11,Filtro!$A$4:$AX$552,3,FALSE),0)","v":17577},{"$f":"IFERROR(VLOOKUP($A11,Filtro!$A$4:$AX$552,4,FALSE),0)","v":17092},{"$f":"IFERROR(VLOOKUP($A11,Filtro!$A$4:$AX$552,5,FALSE),0)","v":117},{"$f":"IFERROR(VLOOKUP($A11,Filtro!$A$4:$AX$552,6,FALSE),0)","v":163},{"$f":"IFERROR(VLOOKUP($A11,Filtro!$A$4:$AX$552,7,FALSE),0)","v":216},{"$f":"IFERROR(VLOOKUP($A11,Filtro!$A$4:$AX$552,8,FALSE),0)","v":189},{"$f":"IFERROR(VLOOKUP($A11,Filtro!$A$4:$AX$552,9,FALSE),0)","v":261},{"$f":"IFERROR(VLOOKUP($A11,Filtro!$A$4:$AX$552,10,FALSE),0)","v":246},{"$f":"IFERROR(VLOOKUP($A11,Filtro!$A$4:$AX$552,11,FALSE),0)","v":276},{"$f":"IFERROR(VLOOKUP($A11,Filtro!$A$4:$AX$552,12,FALSE),0)","v":268},{"$f":"IFERROR(VLOOKUP($A11,Filtro!$A$4:$AX$552,13,FALSE),0)","v":272},{"$f":"IFERROR(VLOOKUP($A11,Filtro!$A$4:$AX$552,14,FALSE),0)","v":274},{"$f":"IFERROR(VLOOKUP($A11,Filtro!$A$4:$AX$552,15,FALSE),0)","v":268},{"$f":"IFERROR(VLOOKUP($A11,Filtro!$A$4:$AX$552,16,FALSE),0)","v":293},{"$f":"IFERROR(VLOOKUP($A11,Filtro!$A$4:$AX$552,17,FALSE),0)","v":470},{"$f":"IFERROR(VLOOKUP($A11,Filtro!$A$4:$AX$552,18,FALSE),0)","v":455},{"$f":"IFERROR(VLOOKUP($A11,Filtro!$A$4:$AX$552,19,FALSE),0)","v":1360},{"$f":"IFERROR(VLOOKUP($A11,Filtro!$A$4:$AX$552,20,FALSE),0)","v":1302},{"$f":"IFERROR(VLOOKUP($A11,Filtro!$A$4:$AX$552,21,FALSE),0)","v":1807},{"$f":"IFERROR(VLOOKUP($A11,Filtro!$A$4:$AX$552,22,FALSE),0)","v":1792},{"$f":"IFERROR(VLOOKUP($A11,Filtro!$A$4:$AX$552,23,FALSE),0)","v":1992},{"$f":"IFERROR(VLOOKUP($A11,Filtro!$A$4:$AX$552,24,FALSE),0)","v":1823},{"$f":"IFERROR(VLOOKUP($A11,Filtro!$A$4:$AX$552,25,FALSE),0)","v":3494},{"$f":"IFERROR(VLOOKUP($A11,Filtro!$A$4:$AX$552,26,FALSE),0)","v":3356},{"$f":"IFERROR(VLOOKUP($A11,Filtro!$A$4:$AX$552,27,FALSE),0)","v":1940},{"$f":"IFERROR(VLOOKUP($A11,Filtro!$A$4:$AX$552,28,FALSE),0)","v":1853},{"$f":"IFERROR(VLOOKUP($A11,Filtro!$A$4:$AX$552,29,FALSE),0)","v":1610},{"$f":"IFERROR(VLOOKUP($A11,Filtro!$A$4:$AX$552,30,FALSE),0)","v":1559},{"$f":"IFERROR(VLOOKUP($A11,Filtro!$A$4:$AX$552,31,FALSE),0)","v":3494},{"$f":"IFERROR(VLOOKUP($A11,Filtro!$A$4:$AX$552,32,FALSE),0)","v":3519},{"$f":"IFERROR(VLOOKUP($A11,Filtro!$A$4:$AX$552,33,FALSE),0)","v":71},{"$f":"IFERROR(VLOOKUP($A11,Filtro!$A$4:$AX$552,34,FALSE),0)","v":74},{"$f":"IFERROR(VLOOKUP($A11,Filtro!$A$4:$AX$552,35,FALSE),0)","v":224},{"$f":"IFERROR(VLOOKUP($A11,Filtro!$A$4:$AX$552,36,FALSE),0)","v":245},{"$f":" AY11 & AZ11 & BA11 & BB11 & BC11 & BD11 & BE11 & BF11 & BD12 & AY12 & AZ12 & BA12 & BB12 & BC12 & BE12 & BF12 & BG12 & BF13 & BG13","v":""},{"$nulls":11},{"$f":"IF($I$11+$J$11<>$I$39+$J$39,\"* El Total de niños (as) en Control de 1 mes debe ser igual al Total de niños(as) según Diagnóstico Nutricional Integrado. \",\"\")","v":""},{"$f":"IF($K$11+$L$11<>$K$39+$L$39,\"* El Total de niños (as) en Control de 2 meses debe ser igual al Total de niños(as) según Diagnóstico Nutricional Integrado. \",\"\")","v":""},{"$f":"IF($M$11+$N$11<>$M$39+$N$39,\"* El Total de niños (as) en Control de 3 meses debe ser igual al Total de niños(as) según Diagnóstico Nutricional Integrado. \",\"\")","v":""},{"$f":"IF($O$11+$P$11<>$O$39+$P$39,\"* El Total de niños (as) en Control de 4 meses debe ser igual al Total de niños(as) según Diagnóstico Nutricional Integrado. \",\"\")","v":""},{"$f":"IF($Q$11+$R$11<>$Q$39+$R$39,\"* El Total de niños (as) en Control de 5 meses debe ser igual al Total de niños(as) según Diagnóstico Nutricional Integrado. \",\"\")","v":""},{"$f":"IF($S$11+$T$11<>$S$39+$T$39,\"* El Total de niños (as) en Control de 6 meses debe ser igual al Total de niños(as) según Diagnóstico Nutricional Integrado. \",\"\")","v":""},{"$f":"IF($U$11+$V$11<>$U$39+$V$39,\"* El Total de niños (as) en Control de 7 a 11 meses debe ser igual al Total de niños(as) según Diagnóstico Nutricional Integrado. \",\"\")","v":""},{"$f":"IF($W$11+$X$11<>$W$39+$X$39,\"* El Total de niños (as) en Control de 12 a 17 meses debe ser igual al Total de niños(as) según Diagnóstico Nutricional Integrado. \",\"\")","v":""},null,null,{"$f":"IF($I$11+$J$11<>$I$39+$J$39,1,0)","v":0},{"$f":"IF($K$11+$L$11<>$K$39+$L$39,1,0)","v":0},{"$f":"IF($M$11+$N$11<>$M$39+$N$39,1,0)","v":0},{"$f":"IF($O$11+$P$11<>$O$39+$P$39,1,0)","v":0},{"$f":"IF($Q$11+$R$11<>$Q$39+$R$39,1,0)","v":0},{"$f":"IF($S$11+$T$11<>$S$39+$T$39,1,0)","v":0},{"$f":"IF($U$11+$V$11<>$U$39+$V$39,1,0)","v":0},{"$f":"IF($W$11+$X$11<>$W$39+$X$39,1,0)","v":0}]
["P2400100","INDICADOR PESO/EDAD","+ 2 D.S. (>= +2.0)",{"$f":"IFERROR(VLOOKUP($A12,Filtro!$A$4:$AX$552,2,FALSE),0)","v":2566},{"$f":"IFERROR(VLOOKUP($A12,Filtro!$A$4:$AX$552,3,FALSE),0)","v":1400},{"$f":"IFERROR(VLOOKUP($A12,Filtro!$A$4:$AX$552,4,FALSE),0)","v":1166},{"$f":"IFERROR(VLOOKUP($A12,Filtro!$A$4:$AX$552,5,FALSE),0)","v":0},{"$f":"IFERROR(VLOOKUP($A12,Filtro!$A$4:$AX$552,6,FALSE),0)","v":0},{"$f":"IFERROR(VLOOKUP($A12,Filtro!$A$4:$AX$552,7,FALSE),0)","v":3},{"$f":"IFERROR(VLOOKUP($A12,Filtro!$A$4:$AX$552,8,FALSE),0)","v":4},{"$f":"IFERROR(VLOOKUP($A12,Filtro!$A$4:$AX$552,9,FALSE),0)","v":11},{"$f":"IFERROR(VLOOKUP($A12,Filtro!$A$4:$AX$552,10,FALSE),0)","v":7},{"$f":"IFERROR(VLOOKUP($A12,Filtro!$A$4:$AX$552,11,FALSE),0)","v":18},{"$f":"IFERROR(VLOOKUP($A12,Filtro!$A$4:$AX$552,12,FALSE),0)","v":12},{"$f":"IFERROR(VLOOKUP($A12,Filtro!$A$4:$AX$552,13,FALSE),0)","v":9},{"$f":"IFERROR(VLOOKUP($A12,Filtro!$A$4:$AX$552,14,FALSE),0)","v":9},{"$f":"IFERROR(VLOOKUP($A12,Filtro!$A$4:$AX$552,15,FALSE),0)","v":26},{"$f":"IFERROR(VLOOKUP($A12,Filtro!$A$4:$AX$552,16,FALSE),0)","v":14},{"$f":"IFERROR(VLOOKUP($A12,Filtro!$A$4:$AX$552,17,FALSE),0)","v":27},{"$f":"IFERROR(VLOOKUP($A12,Filtro!$A$4:$AX$552,18,FALSE),0)","v":27},{"$f":"IFERROR(VLOOKUP($A12,Filtro!$A$4:$AX$552,19,FALSE),0)","v":126},{"$f":"IFERROR(VLOOKUP($A12,Filtro!$A$4:$AX$552,20,FALSE),0)","v":93},{"$f":"IFERROR(VLOOKUP($A12,Filtro!$A$4:$AX$552,21,FALSE),0)","v":136},{"$f":"IFERROR(VLOOKUP($A12,Filtro!$A$4:$AX$552,22,FALSE),0)","v":111},{"$f":"IFERROR(VLOOKUP($A12,Filtro!$A$4:$AX$552,23,FALSE),0)","v":151},{"$f":"IFERROR(VLOOKUP($A12,Filtro!$A$4:$AX$552,24,FALSE),0)","v":124},{"$f":"IFERROR(VLOOKUP($A12,Filtro!$A$4:$AX$552,25,FALSE),0)","v":292},{"$f":"IFERROR(VLOOKUP($A12,Filtro!$A$4:$AX$552,26,FALSE),0)","v":240},{"$f":"IFERROR(VLOOKUP($A12,Filtro!$A$4:$AX$552,27,FALSE),0)","v":140},{"$f":"IFERROR(VLOOKUP($A12,Filtro!$A$4:$AX$552,28,FALSE),0)","v":142},{"$f":"IFERROR(VLOOKUP($A12,Filtro!$A$4:$AX$552,29,FALSE),0)","v":123},{"$f":"IFERROR(VLOOKUP($A12,Filtro!$A$4:$AX$552,30,FALSE),0)","v":115},{"$f":"IFERROR(VLOOKUP($A12,Filtro!$A$4:$AX$552,31,FALSE),0)","v":338},{"$f":"IFERROR(VLOOKUP($A12,Filtro!$A$4:$AX$552,32,FALSE),0)","v":268},{"$f":"IFERROR(VLOOKUP($A12,Filtro!$A$4:$AX$552,33,FALSE),0)","v":11},{"$f":"IFERROR(VLOOKUP($A12,Filtro!$A$4:$AX$552,34,FALSE),0)","v":2},{"$f":"IFERROR(VLOOKUP($A12,Filtro!$A$4:$AX$552,35,FALSE),0)","v":12},{"$f":"IFERROR(VLOOKUP($A12,Filtro!$A$4:$AX$552,36,FALSE),0)","v":5},{"$f":" AY12 & AZ12 & BA12 & BB12 & BC12 & BD12 & BE12 & BF12 & BD13 & AY13 & AZ13 & BA13 & BB13 & BC13 & BE13 & BF13 & BG13 & BF14 & BG14","v":""},{"$nulls":11},{"$f":"IF($Y$11+$Z$11<>$Y$39+$Z$39,\"* El Total de niños (as) en Control de 18 a 23 meses debe ser igual al Total de niños(as) según Diagnóstico Nutricional Integrado. \",\"\")","v":""},{"$f":"IF($AA$11+$AB$11<>$AA$39+$AB$39,\"* El Total de niños (as) en Control de 24 a 35 meses debe ser igual al Total de niños(as) según Diagnóstico Nutricional Integrado. \",\"\")","v":""},{"$f":"IF($AC$11+$AD$11<>$AC$39+$AD$39,\"* El Total de niños (as) en Control de 36 a 41 meses debe ser igual al Total de niños(as) según Diagnóstico Nutricional Integrado. \",\"\")","v":""},{"$f":"IF($AE$11+$AF$11<>$AE$39+$AF$39,\"* El Total de niños (as) en Control de 42 a 47 meses debe ser igual al Total de niños(as) según Diagnóstico Nutricional Integrado. \",\"\")","v":""},{"$f":"IF($AG$11+$AH$11<>$AG$39+$AH$39,\"* El Total de niños (as) en Control de 48 a 59 meses debe ser igual al Total de niños(as) según Diagnóstico Nutricional Integrado. \",\"\")","v":""},{"$f":"IF($D11>=$AI11+$AJ11,\"\",\"* El Total de Pueblos Originarios no debe ser mayor al total de niños en control. \")","v":""},{"$f":"IF($D11>=$AK11+$AL11,\"\",\"* El Total de Población Migrantes no debe ser mayor al total de niños en control. \")","v":""},{"$f":"IF($AI$11+$AJ$11<>$AI$39+$AJ$39,\"* El Total de niños (as) en Control de Pueblos Originarios debe ser igual al Total de niños(as) según Diagnóstico Nutricional Integrado. \",\"\")","v":""},{"$f":"IF($AK$11+$AL$11<>$AK$39+$AL$39,\"* El Total de niños (as) en Control de Población Migrantes debe ser igual al Total de niños(as) según Diagnóstico Nutricional Integrado. \",\"\")","v":""},null,{"$f":"IF($Y$11+$Z$11<>$Y$39+$Z$39,1,0)","v":0},{"$f":"IF($AA$11+$AB$11<>$AA$39+$AB$39,1,0)","v":0},{"$f":"IF($AC$11+$AD$11<>$AC$39+$AD$39,1,0)","v":0},{"$f":"IF($AE$11+$AF$11<>$AE$39+$AF$39,1,0)","v":0},{"$f":"IF($AG$11+$AH$11<>$AG$39+$AH$39,1,0)","v":0},{"$f":"IF($D11>=$AI11+$AJ11,0,1)","v":0},{"$f":"IF($D11>=$AK11+$AL11,0,1)","v":0},{"$f":"IF($AI$11+$AJ$11<>$AI$39+$AJ$39,1,0)","v":0},{"$f":"IF($AK$11+$AL$11<>$AK$39+$AL$39,1,0)","v":0}]
["P2400110",null,"+ 1 D.S. (+1.0 a +1.9)",{"$f":"IFERROR(VLOOKUP($A13,Filtro!$A$4:$AX$552,2,FALSE),0)","v":6693},{"$f":"IFERROR(VLOOKUP($A13,Filtro!$A$4:$AX$552,3,FALSE),0)","v":3360},{"$f":"IFERROR(VLOOKUP($A13,Filtro!$A$4:$AX$552,4,FALSE),0)","v":3333},{"$f":"IFERROR(VLOOKUP($A13,Filtro!$A$4:$AX$552,5,FALSE),0)","v":0},{"$f":"IFERROR(VLOOKUP($A13,Filtro!$A$4:$AX$552,6,FALSE),0)","v":0},{"$f":"IFERROR(VLOOKUP($A13,Filtro!$A$4:$AX$552,7,FALSE),0)","v":21},{"$f":"IFERROR(VLOOKUP($A13,Filtro!$A$4:$AX$552,8,FALSE),0)","v":18},{"$f":"IFERROR(VLOOKUP($A13,Filtro!$A$4:$AX$552,9,FALSE),0)","v":39},{"$f":"IFERROR(VLOOKUP($A13,Filtro!$A$4:$AX$552,10,FALSE),0)","v":21},{"$f":"IFERROR(VLOOKUP($A13,Filtro!$A$4:$AX$552,11,FALSE),0)","v":52},{"$f":"IFERROR(VLOOKUP($A13,Filtro!$A$4:$AX$552,12,FALSE),0)","v":38},{"$f":"IFERROR(VLOOKUP($A13,Filtro!$A$4:$AX$552,13,FALSE),0)","v":49},{"$f":"IFERROR(VLOOKUP($A13,Filtro!$A$4:$AX$552,14,FALSE),0)","v":48},{"$f":"IFERROR(VLOOKUP($A13,Filtro!$A$4:$AX$552,15,FALSE),0)","v":57},{"$f":"IFERROR(VLOOKUP($A13,Filtro!$A$4:$AX$552,16,FALSE),0)","v":52},{"$f":"IFERROR(VLOOKUP($A13,Filtro!$A$4:$AX$552,17,FALSE),0)","v":87},{"$f":"IFERROR(VLOOKUP($A13,Filtro!$A$4:$AX$552,18,FALSE),0)","v":99},{"$f":"IFERROR(VLOOKUP($A13,Filtro!$A$4:$AX$552,19,FALSE),0)","v":270},{"$f":"IFERROR(VLOOKUP($A13,Filtro!$A$4:$AX$552,20,FALSE),0)","v":253},{"$f":"IFERROR(VLOOKUP($A13,Filtro!$A$4:$AX$552,21,FALSE),0)","v":391},{"$f":"IFERROR(VLOOKUP($A13,Filtro!$A$4:$AX$552,22,FALSE),0)","v":421},{"$f":"IFERROR(VLOOKUP($A13,Filtro!$A$4:$AX$552,23,FALSE),0)","v":402},{"$f":"IFERROR(VLOOKUP($A13,Filtro!$A$4:$AX$552,24,FALSE),0)","v":394},{"$f":"IFERROR(VLOOKUP($A13,Filtro!$A$4:$AX$552,25,FALSE),0)","v":699},{"$f":"IFERROR(VLOOKUP($A13,Filtro!$A$4:$AX$552,26,FALSE),0)","v":653},{"$f":"IFERROR(VLOOKUP($A13,Filtro!$A$4:$AX$552,27,FALSE),0)","v":342},{"$f":"IFERROR(VLOOKUP($A13,Filtro!$A$4:$AX$552,28,FALSE),0)","v":360},{"$f":"IFERROR(VLOOKUP($A13,Filtro!$A$4:$AX$552,29,FALSE),0)","v":295},{"$f":"IFERROR(VLOOKUP($A13,Filtro!$A$4:$AX$552,30,FALSE),0)","v":302},{"$f":"IFERROR(VLOOKUP($A13,Filtro!$A$4:$AX$552,31,FALSE),0)","v":656},{"$f":"IFERROR(VLOOKUP($A13,Filtro!$A$4:$AX$552,32,FALSE),0)","v":674},{"$f":"IFERROR(VLOOKUP($A13,Filtro!$A$4:$AX$552,33,FALSE),0)","v":11},{"$f":"IFERROR(VLOOKUP($A13,Filtro!$A$4:$AX$552,34,FALSE),0)","v":19},{"$f":"IFERROR(VLOOKUP($A13,Filtro!$A$4:$AX$552,35,FALSE),0)","v":23},{"$f":"IFERROR(VLOOKUP($A13,Filtro!$A$4:$AX$552,36,FALSE),0)","v":34},"",{"$nulls":18},{"$f":"IF(AND(E11<>0,AI11=\"\"), \"* No olvide escribir en la celda de Pueblos Originarios (Digite CERO si no tiene). \",IF(AND(F11<>0,AJ11=\"\"), \"* No olvide escribir en la celda de Pueblos Originarios (Digite CERO si no tiene). \",\"\"))","v":""},{"$f":"IF(AND(E11<>0,AK11=\"\"), \"* No olvide escribir en la celda de Población Migrantes (Digite CERO si no tiene). \",IF(AND(F11<>0,AL11=\"\"), \"* No olvide escribir en la celda de Población Migrantes (Digite CERO si no tiene). \",\"\"))","v":""},{"$nulls":8},{"$f":"IF(AND(E11<>0,AI11=\"\"), 1,IF(AND(F11<>0,AJ11=\"\"), 1,0))","v":0},{"$f":"IF(AND(E11<>0,AK11=\"\"), 1,IF(AND(F11<>0,AL11=\"\"), 1,0))","v":0}]
[null,null,"TOTAL",{"$f":"SUM(E14:F14)","v":9259},{"$f":"+I14+K14+M14+O14+Q14+S14+U14+W14+Y14+AA14+AC14+AE14+AG14","v":4760},4499,null,null,{"$f":"+SUM(I12:I13)","v":24},{"$f":"+SUM(J12:J13)","v":22},50,28,70,50,58,57,83,66,114,126,396,{"$f":"+SUM(V12:V13)","v":346},{"$f":"SUM(W12:W13)","v":527},{"$f":"SUM(X12:X13)","v":532},{"$f":"SUM(Y12:Y13)","v":553},518,991,893,482,502,418,417,994,942,{"$f":"+SUM(AI12:AI13)","v":22},{"$f":"+SUM(AJ12:AJ13)","v":21},{"$f":"+SUM(AK12:AK13)","v":35},{"$f":"+SUM(AL12:AL13)","v":39},{"$f":"\"\" & AY14 & AZ14","v":""},{"$nulls":11},{"$f":"IF($D14>=$AI14+$AJ14,\"\",\"* El Total de Pueblos Originarios no debe ser mayor al Total Indicador peso/edad\")","v":""},{"$f":"IF($D14>=$AK14+$AL14,\"\",\"* El Total de Población Migrante no debe ser mayor al Total Indicador peso/edad\")","v":""},null,{"$f":"IF(AND(E12<>0,AI12=\"\"), \"* No olvide escribir en la celda de Pueblos Originarios (Digite CERO si no tiene). \",IF(AND(F12<>0,AJ12=\"\"), \"* No olvide escribir en la celda de Pueblos Originarios (Digite CERO si no tiene). \",\"\"))","v":""},{"$f":"IF(AND(E12<>0,AK12=\"\"), \"* No olvide escribir en la celda de Población Migrantes (Digite CERO si no tiene). \",IF(AND(F12<>0,AL12=\"\"), \"* No olvide escribir en la celda de Población Migrantes (Digite CERO si no tiene). \",\"\"))","v":""},{"$f":"IF(AND(E13<>0,AI13=\"\"), \"* No olvide escribir en la celda de Pueblos Originarios (Digite CERO si no tiene). \",IF(AND(F13<>0,AJ13=\"\"), \"* No olvide escribir en la celda de Pueblos Originarios (Digite CERO si no tiene). \",\"\"))","v":""},{"$f":"IF(AND(E13<>0,AK13=\"\"), \"* No olvide escribir en la celda de Población Migrantes (Digite CERO si no tiene). \",IF(AND(F13<>0,AL13=\"\"), \"* No olvide escribir en la celda de Población Migrantes (Digite CERO si no tiene). \",\"\"))","v":""},{"$nulls":3},{"$f":"IF($D14>=$AI14+$AJ14,0,1)","v":0},{"$f":"IF($D14>=$AK14+$AL14,0,1)","v":0},null,null,{"$f":"IF(AND(E12<>0,AI12=\"\"), 1,IF(AND(F12<>0,AJ12=\"\"), 1,0))","v":0},{"$f":"IF(AND(E12<>0,AK12=\"\"), 1,IF(AND(F12<>0,AL12=\"\"), 1,0))","v":0},{"$f":"IF(AND(E13<>0,AK13=\"\"), 1,IF(AND(F13<>0,AL13=\"\"), 1,0))","v":0},{"$f":"IF(AND(E13<>0,AK13=\"\"), 1,IF(AND(F13<>0,AL13=\"\"), 1,0))","v":0}]
["P2070101",null,"- 1 D.S. (-1.0 a -1.9)",{"$f":"IFERROR(VLOOKUP($A15,Filtro!$A$4:$AX$552,2,FALSE),0)","v":1604},{"$f":"IFERROR(VLOOKUP($A15,Filtro!$A$4:$AX$552,3,FALSE),0)","v":885},{"$f":"IFERROR(VLOOKUP($A15,Filtro!$A$4:$AX$552,4,FALSE),0)","v":719},{"$f":"IFERROR(VLOOKUP($A15,Filtro!$A$4:$AX$552,5,FALSE),0)","v":0},{"$f":"IFERROR(VLOOKUP($A15,Filtro!$A$4:$AX$552,6,FALSE),0)","v":0},{"$f":"IFERROR(VLOOKUP($A15,Filtro!$A$4:$AX$552,7,FALSE),0)","v":9},{"$f":"IFERROR(VLOOKUP($A15,Filtro!$A$4:$AX$552,8,FALSE),0)","v":9},{"$f":"IFERROR(VLOOKUP($A15,Filtro!$A$4:$AX$552,9,FALSE),0)","v":14},{"$f":"IFERROR(VLOOKUP($A15,Filtro!$A$4:$AX$552,10,FALSE),0)","v":15},{"$f":"IFERROR(VLOOKUP($A15,Filtro!$A$4:$AX$552,11,FALSE),0)","v":18},{"$f":"IFERROR(VLOOKUP($A15,Filtro!$A$4:$AX$552,12,FALSE),0)","v":10},{"$f":"IFERROR(VLOOKUP($A15,Filtro!$A$4:$AX$552,13,FALSE),0)","v":13},{"$f":"IFERROR(VLOOKUP($A15,Filtro!$A$4:$AX$552,14,FALSE),0)","v":16},{"$f":"IFERROR(VLOOKUP($A15,Filtro!$A$4:$AX$552,15,FALSE),0)","v":8},{"$f":"IFERROR(VLOOKUP($A15,Filtro!$A$4:$AX$552,16,FALSE),0)","v":10},{"$f":"IFERROR(VLOOKUP($A15,Filtro!$A$4:$AX$552,17,FALSE),0)","v":23},{"$f":"IFERROR(VLOOKUP($A15,Filtro!$A$4:$AX$552,18,FALSE),0)","v":17},{"$f":"IFERROR(VLOOKUP($A15,Filtro!$A$4:$AX$552,19,FALSE),0)","v":68},{"$f":"IFERROR(VLOOKUP($A15,Filtro!$A$4:$AX$552,20,FALSE),0)","v":55},{"$f":"IFERROR(VLOOKUP($A15,Filtro!$A$4:$AX$552,21,FALSE),0)","v":97},{"$f":"IFERROR(VLOOKUP($A15,Filtro!$A$4:$AX$552,22,FALSE),0)","v":63},{"$f":"IFERROR(VLOOKUP($A15,Filtro!$A$4:$AX$552,23,FALSE),0)","v":81},{"$f":"IFERROR(VLOOKUP($A15,Filtro!$A$4:$AX$552,24,FALSE),0)","v":68},{"$f":"IFERROR(VLOOKUP($A15,Filtro!$A$4:$AX$552,25,FALSE),0)","v":193},{"$f":"IFERROR(VLOOKUP($A15,Filtro!$A$4:$AX$552,26,FALSE),0)","v":142},{"$f":"IFERROR(VLOOKUP($A15,Filtro!$A$4:$AX$552,27,FALSE),0)","v":102},{"$f":"IFERROR(VLOOKUP($A15,Filtro!$A$4:$AX$552,28,FALSE),0)","v":75},{"$f":"IFERROR(VLOOKUP($A15,Filtro!$A$4:$AX$552,29,FALSE),0)","v":86},{"$f":"IFERROR(VLOOKUP($A15,Filtro!$A$4:$AX$552,30,FALSE),0)","v":65},{"$f":"IFERROR(VLOOKUP($A15,Filtro!$A$4:$AX$552,31,FALSE),0)","v":173},{"$f":"IFERROR(VLOOKUP($A15,Filtro!$A$4:$AX$552,32,FALSE),0)","v":174},{"$f":"IFERROR(VLOOKUP($A15,Filtro!$A$4:$AX$552,33,FALSE),0)","v":5},{"$f":"IFERROR(VLOOKUP($A15,Filtro!$A$4:$AX$552,34,FALSE),0)","v":3},{"$f":"IFERROR(VLOOKUP($A15,Filtro!$A$4:$AX$552,35,FALSE),0)","v":11},{"$f":"IFERROR(VLOOKUP($A15,Filtro!$A$4:$AX$552,36,FALSE),0)","v":17},{"$f":" AY15 & AZ15 & BA15 & BB15 & BC15 & BD15 & BE15 & BF15 & BD16 & AY16 & AZ16 & BA16 & BB16 & BC16 & BE16 & BF16 & BG16 & BF17 & BG17","v":""},{"$nulls":11},{"$f":"IF($D17>=$AI17+$AJ17,\"\",\"* El Total de Pueblos Originarios no debe ser mayor al Total Indicador peso/edad\")","v":""},{"$f":"IF($D17>=$AK17+$AL17,\"\",\"* El Total de Población Migrante no debe ser mayor al Total Indicador peso/edad\")","v":""},{"$nulls":5},{"$f":"IF(AND(E15<>0,AI15=\"\"), \"* No olvide escribir en la celda de Pueblos Originarios (Digite CERO si no tiene). \",IF(AND(F15<>0,AJ15=\"\"), \"* No olvide escribir en la celda de Pueblos Originarios (Digite CERO si no tiene). \",\"\"))","v":""},{"$f":"IF(AND(E15<>0,AK15=\"\"), \"* No olvide escribir en la celda de Población Migrantes (Digite CERO si no tiene). \",IF(AND(F15<>0,AL15=\"\"), \"* No olvide escribir en la celda de Población Migrantes (Digite CERO si no tiene). \",\"\"))","v":""},null,{"$f":"IF($D17>=$AI17+$AJ17,0,1)","v":0},{"$f":"IF($D17>=$AK17+$AL17,0,1)","v":0},{"$nulls":5},{"$f":"IF(AND(E15<>0,AI15=\"\"), 1,IF(AND(F15<>0,AJ15=\"\"), 1,0))","v":0},{"$f":"IF(AND(E15<>0,AK15=\"\"), 1,IF(AND(F15<>0,AL15=\"\"), 1,0))","v":0}]
["P2070102",null,"- 2 D.S. (<= -2.0)",{"$f":"IFERROR(VLOOKUP($A16,Filtro!$A$4:$AX$552,2,FALSE),0)","v":190},{"$f":"IFERROR(VLOOKUP($A16,Filtro!$A$4:$AX$552,3,FALSE),0)","v":104},{"$f":"IFERROR(VLOOKUP($A16,Filtro!$A$4:$AX$552,4,FALSE),0)","v":86},{"$f":"IFERROR(VLOOKUP($A16,Filtro!$A$4:$AX$552,5,FALSE),0)","v":0},{"$f":"IFERROR(VLOOKUP($A16,Filtro!$A$4:$AX$552,6,FALSE),0)","v":0},{"$f":"IFERROR(VLOOKUP($A16,Filtro!$A$4:$AX$552,7,FALSE),0)","v":2},{"$f":"IFERROR(VLOOKUP($A16,Filtro!$A$4:$AX$552,8,FALSE),0)","v":2},{"$f":"IFERROR(VLOOKUP($A16,Filtro!$A$4:$AX$552,9,FALSE),0)","v":3},{"$f":"IFERROR(VLOOKUP($A16,Filtro!$A$4:$AX$552,10,FALSE),0)","v":2},{"$f":"IFERROR(VLOOKUP($A16,Filtro!$A$4:$AX$552,11,FALSE),0)","v":0},{"$f":"IFERROR(VLOOKUP($A16,Filtro!$A$4:$AX$552,12,FALSE),0)","v":3},{"$f":"IFERROR(VLOOKUP($A16,Filtro!$A$4:$AX$552,13,FALSE),0)","v":1},{"$f":"IFERROR(VLOOKUP($A16,Filtro!$A$4:$AX$552,14,FALSE),0)","v":2},{"$f":"IFERROR(VLOOKUP($A16,Filtro!$A$4:$AX$552,15,FALSE),0)","v":2},{"$f":"IFERROR(VLOOKUP($A16,Filtro!$A$4:$AX$552,16,FALSE),0)","v":1},{"$f":"IFERROR(VLOOKUP($A16,Filtro!$A$4:$AX$552,17,FALSE),0)","v":1},{"$f":"IFERROR(VLOOKUP($A16,Filtro!$A$4:$AX$552,18,FALSE),0)","v":1},{"$f":"IFERROR(VLOOKUP($A16,Filtro!$A$4:$AX$552,19,FALSE),0)","v":11},{"$f":"IFERROR(VLOOKUP($A16,Filtro!$A$4:$AX$552,20,FALSE),0)","v":4},{"$f":"IFERROR(VLOOKUP($A16,Filtro!$A$4:$AX$552,21,FALSE),0)","v":10},{"$f":"IFERROR(VLOOKUP($A16,Filtro!$A$4:$AX$552,22,FALSE),0)","v":6},{"$f":"IFERROR(VLOOKUP($A16,Filtro!$A$4:$AX$552,23,FALSE),0)","v":14},{"$f":"IFERROR(VLOOKUP($A16,Filtro!$A$4:$AX$552,24,FALSE),0)","v":9},{"$f":"IFERROR(VLOOKUP($A16,Filtro!$A$4:$AX$552,25,FALSE),0)","v":26},{"$f":"IFERROR(VLOOKUP($A16,Filtro!$A$4:$AX$552,26,FALSE),0)","v":20},{"$f":"IFERROR(VLOOKUP($A16,Filtro!$A$4:$AX$552,27,FALSE),0)","v":7},{"$f":"IFERROR(VLOOKUP($A16,Filtro!$A$4:$AX$552,28,FALSE),0)","v":11},{"$f":"IFERROR(VLOOKUP($A16,Filtro!$A$4:$AX$552,29,FALSE),0)","v":14},{"$f":"IFERROR(VLOOKUP($A16,Filtro!$A$4:$AX$552,30,FALSE),0)","v":5},{"$f":"IFERROR(VLOOKUP($A16,Filtro!$A$4:$AX$552,31,FALSE),0)","v":13},{"$f":"IFERROR(VLOOKUP($A16,Filtro!$A$4:$AX$552,32,FALSE),0)","v":20},{"$f":"IFERROR(VLOOKUP($A16,Filtro!$A$4:$AX$552,33,FALSE),0)","v":2},{"$f":"IFERROR(VLOOKUP($A16,Filtro!$A$4:$AX$552,34,FALSE),0)","v":0},{"$f":"IFERROR(VLOOKUP($A16,Filtro!$A$4:$AX$552,35,FALSE),0)","v":1},{"$f":"IFERROR(VLOOKUP($A16,Filtro!$A$4:$AX$552,36,FALSE),0)","v":2},"",{"$nulls":18},{"$f":"IF(AND(E16<>0,AI16=\"\"), \"* No olvide escribir en la celda de Pueblos Originarios (Digite CERO si no tiene). \",IF(AND(F16<>0,AJ16=\"\"), \"* No olvide escribir en la celda de Pueblos Originarios (Digite CERO si no tiene). \",\"\"))","v":""},{"$f":"IF(AND(E16<>0,AK16=\"\"), \"* No olvide escribir en la celda de Población Migrantes (Digite CERO si no tiene). \",IF(AND(F16<>0,AL16=\"\"), \"* No olvide escribir en la celda de Población Migrantes (Digite CERO si no tiene). \",\"\"))","v":""},{"$nulls":8},{"$f":"IF(AND(E16<>0,AI16=\"\"), 1,IF(AND(F16<>0,AJ16=\"\"), 1,0))","v":0},{"$f":"IF(AND(E16<>0,AK16=\"\"), 1,IF(AND(F16<>0,AL16=\"\"), 1,0))","v":0}]
[null,null,"TOTAL",1794,989,805,null,null,{"$f":"SUM(I15:I16)","v":11},{"$f":"SUM(J15:J16)","v":11},17,17,18,13,14,18,10,11,24,18,79,59,{"$f":"SUM(W15:W16)","v":107},{"$f":"SUM(X15:X16)","v":69},95,77,219,162,109,86,100,70,{"$f":"SUM(AG15:AG16)","v":186},194,{"$f":"SUM(AI15:AI16)","v":7},{"$f":"SUM(AJ15:AJ16)","v":3},{"$f":"SUM(AK15:AK16)","v":12},{"$f":"SUM(AL15:AL16)","v":19},{"$f":"\"\" & AY15 & AZ15","v":""}]
["P2070201","INDICADOR PESO/TALLA","+ 2 D.S. (>= +2.0)",{"$f":"IFERROR(VLOOKUP($A18,Filtro!$A$4:$AX$552,2,FALSE),0)","v":3971},{"$f":"IFERROR(VLOOKUP($A18,Filtro!$A$4:$AX$552,3,FALSE),0)","v":2102},{"$f":"IFERROR(VLOOKUP($A18,Filtro!$A$4:$AX$552,4,FALSE),0)","v":1869},{"$f":"IFERROR(VLOOKUP($A18,Filtro!$A$4:$AX$552,5,FALSE),0)","v":0},{"$f":"IFERROR(VLOOKUP($A18,Filtro!$A$4:$AX$552,6,FALSE),0)","v":0},{"$f":"IFERROR(VLOOKUP($A18,Filtro!$A$4:$AX$552,7,FALSE),0)","v":5},{"$f":"IFERROR(VLOOKUP($A18,Filtro!$A$4:$AX$552,8,FALSE),0)","v":3},{"$f":"IFERROR(VLOOKUP($A18,Filtro!$A$4:$AX$552,9,FALSE),0)","v":25},{"$f":"IFERROR(VLOOKUP($A18,Filtro!$A$4:$AX$552,10,FALSE),0)","v":19},{"$f":"IFERROR(VLOOKUP($A18,Filtro!$A$4:$AX$552,11,FALSE),0)","v":28},{"$f":"IFERROR(VLOOKUP($A18,Filtro!$A$4:$AX$552,12,FALSE),0)","v":11},{"$f":"IFERROR(VLOOKUP($A18,Filtro!$A$4:$AX$552,13,FALSE),0)","v":20},{"$f":"IFERROR(VLOOKUP($A18,Filtro!$A$4:$AX$552,14,FALSE),0)","v":21},{"$f":"IFERROR(VLOOKUP($A18,Filtro!$A$4:$AX$552,15,FALSE),0)","v":35},{"$f":"IFERROR(VLOOKUP($A18,Filtro!$A$4:$AX$552,16,FALSE),0)","v":17},{"$f":"IFERROR(VLOOKUP($A18,Filtro!$A$4:$AX$552,17,FALSE),0)","v":42},{"$f":"IFERROR(VLOOKUP($A18,Filtro!$A$4:$AX$552,18,FALSE),0)","v":47},{"$f":"IFERROR(VLOOKUP($A18,Filtro!$A$4:$AX$552,19,FALSE),0)","v":173},{"$f":"IFERROR(VLOOKUP($A18,Filtro!$A$4:$AX$552,20,FALSE),0)","v":150},{"$f":"IFERROR(VLOOKUP($A18,Filtro!$A$4:$AX$552,21,FALSE),0)","v":219},{"$f":"IFERROR(VLOOKUP($A18,Filtro!$A$4:$AX$552,22,FALSE),0)","v":198},{"$f":"IFERROR(VLOOKUP($A18,Filtro!$A$4:$AX$552,23,FALSE),0)","v":243},{"$f":"IFERROR(VLOOKUP($A18,Filtro!$A$4:$AX$552,24,FALSE),0)","v":205},{"$f":"IFERROR(VLOOKUP($A18,Filtro!$A$4:$AX$552,25,FALSE),0)","v":403},{"$f":"IFERROR(VLOOKUP($A18,Filtro!$A$4:$AX$552,26,FALSE),0)","v":352},{"$f":"IFERROR(VLOOKUP($A18,Filtro!$A$4:$AX$552,27,FALSE),0)","v":231},{"$f":"IFERROR(VLOOKUP($A18,Filtro!$A$4:$AX$552,28,FALSE),0)","v":204},{"$f":"IFERROR(VLOOKUP($A18,Filtro!$A$4:$AX$552,29,FALSE),0)","v":177},{"$f":"IFERROR(VLOOKUP($A18,Filtro!$A$4:$AX$552,30,FALSE),0)","v":178},{"$f":"IFERROR(VLOOKUP($A18,Filtro!$A$4:$AX$552,31,FALSE),0)","v":501},{"$f":"IFERROR(VLOOKUP($A18,Filtro!$A$4:$AX$552,32,FALSE),0)","v":464},{"$f":"IFERROR(VLOOKUP($A18,Filtro!$A$4:$AX$552,33,FALSE),0)","v":13},{"$f":"IFERROR(VLOOKUP($A18,Filtro!$A$4:$AX$552,34,FALSE),0)","v":10},{"$f":"IFERROR(VLOOKUP($A18,Filtro!$A$4:$AX$552,35,FALSE),0)","v":11},{"$f":"IFERROR(VLOOKUP($A18,Filtro!$A$4:$AX$552,36,FALSE),0)","v":10},{"$f":" AY18 & AZ18 & BA18 & BB18 & BC18 & BD18 & BE18 & BF18 & BD19 & AY19 & AZ19 & BA19 & BB19 & BC19 & BE19 & BF19 & BG19 & BF20 & BG20","v":""},{"$nulls":18},{"$f":"IF(AND(E18<>0,AI18=\"\"), \"* No olvide escribir en la celda de Pueblos Originarios (Digite CERO si no tiene). \",IF(AND(F18<>0,AJ18=\"\"), \"* No olvide escribir en la celda de Pueblos Originarios (Digite CERO si no tiene). \",\"\"))","v":""},{"$f":"IF(AND(E18<>0,AK18=\"\"), \"* No olvide escribir en la celda de Población Migrantes (Digite CERO si no tiene). \",IF(AND(F18<>0,AL18=\"\"), \"* No olvide escribir en la celda de Población Migrantes (Digite CERO si no tiene). \",\"\"))","v":""},{"$nulls":8},{"$f":"IF(AND(E18<>0,AI18=\"\"), 1,IF(AND(F18<>0,AJ18=\"\"), 1,0))","v":0},{"$f":"IF(AND(E18<>0,AK18=\"\"), 1,IF(AND(F18<>0,AL18=\"\"), 1,0))","v":0}]
["P2070202",null,"+ 1 D.S. (+1.0 a +1.9)",{"$f":"IFERROR(VLOOKUP($A19,Filtro!$A$4:$AX$552,2,FALSE),0)","v":8319},{"$f":"IFERROR(VLOOKUP($A19,Filtro!$A$4:$AX$552,3,FALSE),0)","v":4176},{"$f":"IFERROR(VLOOKUP($A19,Filtro!$A$4:$AX$552,4,FALSE),0)","v":4143},{"$f":"IFERROR(VLOOKUP($A19,Filtro!$A$4:$AX$552,5,FALSE),0)","v":0},{"$f":"IFERROR(VLOOKUP($A19,Filtro!$A$4:$AX$552,6,FALSE),0)","v":0},{"$f":"IFERROR(VLOOKUP($A19,Filtro!$A$4:$AX$552,7,FALSE),0)","v":28},{"$f":"IFERROR(VLOOKUP($A19,Filtro!$A$4:$AX$552,8,FALSE),0)","v":23},{"$f":"IFERROR(VLOOKUP($A19,Filtro!$A$4:$AX$552,9,FALSE),0)","v":52},{"$f":"IFERROR(VLOOKUP($A19,Filtro!$A$4:$AX$552,10,FALSE),0)","v":34},{"$f":"IFERROR(VLOOKUP($A19,Filtro!$A$4:$AX$552,11,FALSE),0)","v":76},{"$f":"IFERROR(VLOOKUP($A19,Filtro!$A$4:$AX$552,12,FALSE),0)","v":63},{"$f":"IFERROR(VLOOKUP($A19,Filtro!$A$4:$AX$552,13,FALSE),0)","v":66},{"$f":"IFERROR(VLOOKUP($A19,Filtro!$A$4:$AX$552,14,FALSE),0)","v":64},{"$f":"IFERROR(VLOOKUP($A19,Filtro!$A$4:$AX$552,15,FALSE),0)","v":74},{"$f":"IFERROR(VLOOKUP($A19,Filtro!$A$4:$AX$552,16,FALSE),0)","v":95},{"$f":"IFERROR(VLOOKUP($A19,Filtro!$A$4:$AX$552,17,FALSE),0)","v":121},{"$f":"IFERROR(VLOOKUP($A19,Filtro!$A$4:$AX$552,18,FALSE),0)","v":131},{"$f":"IFERROR(VLOOKUP($A19,Filtro!$A$4:$AX$552,19,FALSE),0)","v":386},{"$f":"IFERROR(VLOOKUP($A19,Filtro!$A$4:$AX$552,20,FALSE),0)","v":396},{"$f":"IFERROR(VLOOKUP($A19,Filtro!$A$4:$AX$552,21,FALSE),0)","v":491},{"$f":"IFERROR(VLOOKUP($A19,Filtro!$A$4:$AX$552,22,FALSE),0)","v":496},{"$f":"IFERROR(VLOOKUP($A19,Filtro!$A$4:$AX$552,23,FALSE),0)","v":505},{"$f":"IFERROR(VLOOKUP($A19,Filtro!$A$4:$AX$552,24,FALSE),0)","v":497},{"$f":"IFERROR(VLOOKUP($A19,Filtro!$A$4:$AX$552,25,FALSE),0)","v":842},{"$f":"IFERROR(VLOOKUP($A19,Filtro!$A$4:$AX$552,26,FALSE),0)","v":810},{"$f":"IFERROR(VLOOKUP($A19,Filtro!$A$4:$AX$552,27,FALSE),0)","v":402},{"$f":"IFERROR(VLOOKUP($A19,Filtro!$A$4:$AX$552,28,FALSE),0)","v":402},{"$f":"IFERROR(VLOOKUP($A19,Filtro!$A$4:$AX$552,29,FALSE),0)","v":354},{"$f":"IFERROR(VLOOKUP($A19,Filtro!$A$4:$AX$552,30,FALSE),0)","v":343},{"$f":"IFERROR(VLOOKUP($A19,Filtro!$A$4:$AX$552,31,FALSE),0)","v":779},{"$f":"IFERROR(VLOOKUP($A19,Filtro!$A$4:$AX$552,32,FALSE),0)","v":789},{"$f":"IFERROR(VLOOKUP($A19,Filtro!$A$4:$AX$552,33,FALSE),0)","v":16},{"$f":"IFERROR(VLOOKUP($A19,Filtro!$A$4:$AX$552,34,FALSE),0)","v":17},{"$f":"IFERROR(VLOOKUP($A19,Filtro!$A$4:$AX$552,35,FALSE),0)","v":46},{"$f":"IFERROR(VLOOKUP($A19,Filtro!$A$4:$AX$552,36,FALSE),0)","v":44},"",{"$nulls":18},{"$f":"IF(AND(E19<>0,AI19=\"\"), \"* No olvide escribir en la celda de Pueblos Originarios (Digite CERO si no tiene). \",IF(AND(F19<>0,AJ19=\"\"), \"* No olvide escribir en la celda de Pueblos Originarios (Digite CERO si no tiene). \",\"\"))","v":""},{"$f":"IF(AND(E19<>0,AK19=\"\"), \"* No olvide escribir en la celda de Población Migrantes (Digite CERO si no tiene). \",IF(AND(F19<>0,AL19=\"\"), \"* No olvide escribir en la celda de Población Migrantes (Digite CERO si no tiene). \",\"\"))","v":""},{"$nulls":8},0,0]
[null,null,"TOTAL",12290,6278,6012,null,null,{"$f":"+SUM(I18:I19)","v":33},{"$f":"+SUM(J18:J19)","v":26},{"$f":"+SUM(K18:K19)","v":77},53,104,74,86,85,109,112,163,178,559,546,710,694,748,702,1245,1162,633,606,531,521,1280,1253,29,27,57,54,{"$f":"\"\" & AY20 & AZ20","v":""},{"$nulls":11},{"$f":"IF($D20>=$AI20+$AJ20,\"\",\"* El Total de Pueblos Originarios no debe ser mayor al Total Indicador peso/talla\")","v":""},{"$f":"IF($D20>=$AK20+$AL20,\"\",\"* El Total de Población Migrante no debe ser mayor al Total Indicador peso/talla\")","v":""},{"$nulls":8},{"$f":"IF($D20>=$AI20+$AJ20,0,1)","v":0},{"$f":"IF($D20>=$AK20+$AL20,0,1)","v":0}]
["P2070301",null,"- 1 D.S. (-1.0 a -1.9)",{"$f":"IFERROR(VLOOKUP($A21,Filtro!$A$4:$AX$552,2,FALSE),0)","v":850},{"$f":"IFERROR(VLOOKUP($A21,Filtro!$A$4:$AX$552,3,FALSE),0)","v":481},{"$f":"IFERROR(VLOOKUP($A21,Filtro!$A$4:$AX$552,4,FALSE),0)","v":369},{"$f":"IFERROR(VLOOKUP($A21,Filtro!$A$4:$AX$552,5,FALSE),0)","v":0},{"$f":"IFERROR(VLOOKUP($A21,Filtro!$A$4:$AX$552,6,FALSE),0)","v":0},{"$f":"IFERROR(VLOOKUP($A21,Filtro!$A$4:$AX$552,7,FALSE),0)","v":4},{"$f":"IFERROR(VLOOKUP($A21,Filtro!$A$4:$AX$552,8,FALSE),0)","v":9},{"$f":"IFERROR(VLOOKUP($A21,Filtro!$A$4:$AX$552,9,FALSE),0)","v":11},{"$f":"IFERROR(VLOOKUP($A21,Filtro!$A$4:$AX$552,10,FALSE),0)","v":14},{"$f":"IFERROR(VLOOKUP($A21,Filtro!$A$4:$AX$552,11,FALSE),0)","v":13},{"$f":"IFERROR(VLOOKUP($A21,Filtro!$A$4:$AX$552,12,FALSE),0)","v":11},{"$f":"IFERROR(VLOOKUP($A21,Filtro!$A$4:$AX$552,13,FALSE),0)","v":13},{"$f":"IFERROR(VLOOKUP($A21,Filtro!$A$4:$AX$552,14,FALSE),0)","v":14},{"$f":"IFERROR(VLOOKUP($A21,Filtro!$A$4:$AX$552,15,FALSE),0)","v":9},{"$f":"IFERROR(VLOOKUP($A21,Filtro!$A$4:$AX$552,16,FALSE),0)","v":5},{"$f":"IFERROR(VLOOKUP($A21,Filtro!$A$4:$AX$552,17,FALSE),0)","v":17},{"$f":"IFERROR(VLOOKUP($A21,Filtro!$A$4:$AX$552,18,FALSE),0)","v":12},{"$f":"IFERROR(VLOOKUP($A21,Filtro!$A$4:$AX$552,19,FALSE),0)","v":49},{"$f":"IFERROR(VLOOKUP($A21,Filtro!$A$4:$AX$552,20,FALSE),0)","v":32},{"$f":"IFERROR(VLOOKUP($A21,Filtro!$A$4:$AX$552,21,FALSE),0)","v":46},{"$f":"IFERROR(VLOOKUP($A21,Filtro!$A$4:$AX$552,22,FALSE),0)","v":41},{"$f":"IFERROR(VLOOKUP($A21,Filtro!$A$4:$AX$552,23,FALSE),0)","v":50},{"$f":"IFERROR(VLOOKUP($A21,Filtro!$A$4:$AX$552,24,FALSE),0)","v":35},{"$f":"IFERROR(VLOOKUP($A21,Filtro!$A$4:$AX$552,25,FALSE),0)","v":96},{"$f":"IFERROR(VLOOKUP($A21,Filtro!$A$4:$AX$552,26,FALSE),0)","v":64},{"$f":"IFERROR(VLOOKUP($A21,Filtro!$A$4:$AX$552,27,FALSE),0)","v":44},{"$f":"IFERROR(VLOOKUP($A21,Filtro!$A$4:$AX$552,28,FALSE),0)","v":42},{"$f":"IFERROR(VLOOKUP($A21,Filtro!$A$4:$AX$552,29,FALSE),0)","v":35},{"$f":"IFERROR(VLOOKUP($A21,Filtro!$A$4:$AX$552,30,FALSE),0)","v":27},{"$f":"IFERROR(VLOOKUP($A21,Filtro!$A$4:$AX$552,31,FALSE),0)","v":94},{"$f":"IFERROR(VLOOKUP($A21,Filtro!$A$4:$AX$552,32,FALSE),0)","v":63},{"$f":"IFERROR(VLOOKUP($A21,Filtro!$A$4:$AX$552,33,FALSE),0)","v":4},{"$f":"IFERROR(VLOOKUP($A21,Filtro!$A$4:$AX$552,34,FALSE),0)","v":1},{"$f":"IFERROR(VLOOKUP($A21,Filtro!$A$4:$AX$552,35,FALSE),0)","v":5},{"$f":"IFERROR(VLOOKUP($A21,Filtro!$A$4:$AX$552,36,FALSE),0)","v":8},{"$f":" AY21 & AZ21 & BA21 & BB21 & BC21 & BD21 & BE21 & BF21 & BD22 & AY22 & AZ22 & BA22 & BB22 & BC22 & BE22 & BF22 & BG22 & BF23 & BG23","v":""},{"$nulls":18},{"$f":"IF(AND(E21<>0,AI21=\"\"), \"* No olvide escribir en la celda de Pueblos Originarios (Digite CERO si no tiene). \",IF(AND(F21<>0,AJ21=\"\"), \"* No olvide escribir en la celda de Pueblos Originarios (Digite CERO si no tiene). \",\"\"))","v":""},{"$f":"IF(AND(E21<>0,AK21=\"\"), \"* No olvide escribir en la celda de Población Migrantes (Digite CERO si no tiene). \",IF(AND(F21<>0,AL21=\"\"), \"* No olvide escribir en la celda de Población Migrantes (Digite CERO si no tiene). \",\"\"))","v":""},{"$nulls":8},{"$f":"IF(AND(E21<>0,AI21=\"\"), 1,IF(AND(F21<>0,AJ21=\"\"), 1,0))","v":0},{"$f":"IF(AND(E21<>0,AK21=\"\"), 1,IF(AND(F21<>0,AL21=\"\"), 1,0))","v":0}]
["P2070302",null,"- 2 D.S. (<= -2.0)",{"$f":"IFERROR(VLOOKUP($A22,Filtro!$A$4:$AX$552,2,FALSE),0)","v":105},{"$f":"IFERROR(VLOOKUP($A22,Filtro!$A$4:$AX$552,3,FALSE),0)","v":58},{"$f":"IFERROR(VLOOKUP($A22,Filtro!$A$4:$AX$552,4,FALSE),0)","v":47},{"$f":"IFERROR(VLOOKUP($A22,Filtro!$A$4:$AX$552,5,FALSE),0)","v":0},{"$f":"IFERROR(VLOOKUP($A22,Filtro!$A$4:$AX$552,6,FALSE),0)","v":0},{"$f":"IFERROR(VLOOKUP($A22,Filtro!$A$4:$AX$552,7,FALSE),0)","v":3},{"$f":"IFERROR(VLOOKUP($A22,Filtro!$A$4:$AX$552,8,FALSE),0)","v":1},{"$f":"IFERROR(VLOOKUP($A22,Filtro!$A$4:$AX$552,9,FALSE),0)","v":2},{"$f":"IFERROR(VLOOKUP($A22,Filtro!$A$4:$AX$552,10,FALSE),0)","v":1},{"$f":"IFERROR(VLOOKUP($A22,Filtro!$A$4:$AX$552,11,FALSE),0)","v":0},{"$f":"IFERROR(VLOOKUP($A22,Filtro!$A$4:$AX$552,12,FALSE),0)","v":1},{"$f":"IFERROR(VLOOKUP($A22,Filtro!$A$4:$AX$552,13,FALSE),0)","v":2},{"$f":"IFERROR(VLOOKUP($A22,Filtro!$A$4:$AX$552,14,FALSE),0)","v":1},{"$f":"IFERROR(VLOOKUP($A22,Filtro!$A$4:$AX$552,15,FALSE),0)","v":1},{"$f":"IFERROR(VLOOKUP($A22,Filtro!$A$4:$AX$552,16,FALSE),0)","v":1},{"$f":"IFERROR(VLOOKUP($A22,Filtro!$A$4:$AX$552,17,FALSE),0)","v":0},{"$f":"IFERROR(VLOOKUP($A22,Filtro!$A$4:$AX$552,18,FALSE),0)","v":2},{"$f":"IFERROR(VLOOKUP($A22,Filtro!$A$4:$AX$552,19,FALSE),0)","v":7},{"$f":"IFERROR(VLOOKUP($A22,Filtro!$A$4:$AX$552,20,FALSE),0)","v":6},{"$f":"IFERROR(VLOOKUP($A22,Filtro!$A$4:$AX$552,21,FALSE),0)","v":3},{"$f":"IFERROR(VLOOKUP($A22,Filtro!$A$4:$AX$552,22,FALSE),0)","v":3},{"$f":"IFERROR(VLOOKUP($A22,Filtro!$A$4:$AX$552,23,FALSE),0)","v":8},{"$f":"IFERROR(VLOOKUP($A22,Filtro!$A$4:$AX$552,24,FALSE),0)","v":7},{"$f":"IFERROR(VLOOKUP($A22,Filtro!$A$4:$AX$552,25,FALSE),0)","v":21},{"$f":"IFERROR(VLOOKUP($A22,Filtro!$A$4:$AX$552,26,FALSE),0)","v":8},{"$f":"IFERROR(VLOOKUP($A22,Filtro!$A$4:$AX$552,27,FALSE),0)","v":3},{"$f":"IFERROR(VLOOKUP($A22,Filtro!$A$4:$AX$552,28,FALSE),0)","v":2},{"$f":"IFERROR(VLOOKUP($A22,Filtro!$A$4:$AX$552,29,FALSE),0)","v":4},{"$f":"IFERROR(VLOOKUP($A22,Filtro!$A$4:$AX$552,30,FALSE),0)","v":2},{"$f":"IFERROR(VLOOKUP($A22,Filtro!$A$4:$AX$552,31,FALSE),0)","v":4},{"$f":"IFERROR(VLOOKUP($A22,Filtro!$A$4:$AX$552,32,FALSE),0)","v":12},{"$f":"IFERROR(VLOOKUP($A22,Filtro!$A$4:$AX$552,33,FALSE),0)","v":3},{"$f":"IFERROR(VLOOKUP($A22,Filtro!$A$4:$AX$552,34,FALSE),0)","v":3},{"$f":"IFERROR(VLOOKUP($A22,Filtro!$A$4:$AX$552,35,FALSE),0)","v":2},{"$f":"IFERROR(VLOOKUP($A22,Filtro!$A$4:$AX$552,36,FALSE),0)","v":2},"",{"$nulls":18},{"$f":"IF(AND(E22<>0,AI22=\"\"), \"* No olvide escribir en la celda de Pueblos Originarios (Digite CERO si no tiene). \",IF(AND(F22<>0,AJ22=\"\"), \"* No olvide escribir en la celda de Pueblos Originarios (Digite CERO si no tiene). \",\"\"))","v":""},{"$f":"IF(AND(E22<>0,AK22=\"\"), \"* No olvide escribir en la celda de Población Migrantes (Digite CERO si no tiene). \",IF(AND(F22<>0,AL22=\"\"), \"* No olvide escribir en la celda de Población Migrantes (Digite CERO si no tiene). \",\"\"))","v":""},{"$nulls":8},0,0]
[null,null,"TOTAL",955,539,416,null,null,{"$f":"SUM(I21:I22)","v":7},{"$f":"SUM(J21:J22)","v":10},{"$f":"SUM(K21:K22)","v":13},15,13,12,15,15,10,6,17,14,56,38,49,44,58,42,117,72,47,44,39,29,98,75,7,4,7,10,{"$f":"\"\" & AY23 & AZ23","v":""},{"$nulls":11},{"$f":"IF($D23>=$AI23+$AJ23,\"\",\"* El Total de Pueblos Originarios no debe ser mayor al Total Indicador peso/talla. \")","v":""},{"$f":"IF($D23>=$AK23+$AL23,\"\",\"* El Total de Población Migrantes no debe ser mayor al Total Indicador peso/talla. \")","v":""},{"$nulls":8},{"$f":"IF($D23>=$AI23+$AJ23,0,1)","v":0},{"$f":"IF($D23>=$AK23+$AL23,0,1)","v":0}]
["P2400120","INDICADOR TALLA/EDAD","+ 2 D.S. (>= +2.0)",{"$f":"IFERROR(VLOOKUP($A24,Filtro!$A$4:$AX$552,2,FALSE),0)","v":780},{"$f":"IFERROR(VLOOKUP($A24,Filtro!$A$4:$AX$552,3,FALSE),0)","v":424},{"$f":"IFERROR(VLOOKUP($A24,Filtro!$A$4:$AX$552,4,FALSE),0)","v":356},{"$f":"IFERROR(VLOOKUP($A24,Filtro!$A$4:$AX$552,5,FALSE),0)","v":0},{"$f":"IFERROR(VLOOKUP($A24,Filtro!$A$4:$AX$552,6,FALSE),0)","v":0},{"$f":"IFERROR(VLOOKUP($A24,Filtro!$A$4:$AX$552,7,FALSE),0)","v":2},{"$f":"IFERROR(VLOOKUP($A24,Filtro!$A$4:$AX$552,8,FALSE),0)","v":2},{"$f":"IFERROR(VLOOKUP($A24,Filtro!$A$4:$AX$552,9,FALSE),0)","v":7},{"$f":"IFERROR(VLOOKUP($A24,Filtro!$A$4:$AX$552,10,FALSE),0)","v":5},{"$f":"IFERROR(VLOOKUP($A24,Filtro!$A$4:$AX$552,11,FALSE),0)","v":3},{"$f":"IFERROR(VLOOKUP($A24,Filtro!$A$4:$AX$552,12,FALSE),0)","v":6},{"$f":"IFERROR(VLOOKUP($A24,Filtro!$A$4:$AX$552,13,FALSE),0)","v":5},{"$f":"IFERROR(VLOOKUP($A24,Filtro!$A$4:$AX$552,14,FALSE),0)","v":6},{"$f":"IFERROR(VLOOKUP($A24,Filtro!$A$4:$AX$552,15,FALSE),0)","v":8},{"$f":"IFERROR(VLOOKUP($A24,Filtro!$A$4:$AX$552,16,FALSE),0)","v":1},{"$f":"IFERROR(VLOOKUP($A24,Filtro!$A$4:$AX$552,17,FALSE),0)","v":13},{"$f":"IFERROR(VLOOKUP($A24,Filtro!$A$4:$AX$552,18,FALSE),0)","v":13},{"$f":"IFERROR(VLOOKUP($A24,Filtro!$A$4:$AX$552,19,FALSE),0)","v":48},{"$f":"IFERROR(VLOOKUP($A24,Filtro!$A$4:$AX$552,20,FALSE),0)","v":25},{"$f":"IFERROR(VLOOKUP($A24,Filtro!$A$4:$AX$552,21,FALSE),0)","v":43},{"$f":"IFERROR(VLOOKUP($A24,Filtro!$A$4:$AX$552,22,FALSE),0)","v":28},{"$f":"IFERROR(VLOOKUP($A24,Filtro!$A$4:$AX$552,23,FALSE),0)","v":42},{"$f":"IFERROR(VLOOKUP($A24,Filtro!$A$4:$AX$552,24,FALSE),0)","v":32},{"$f":"IFERROR(VLOOKUP($A24,Filtro!$A$4:$AX$552,25,FALSE),0)","v":76},{"$f":"IFERROR(VLOOKUP($A24,Filtro!$A$4:$AX$552,26,FALSE),0)","v":73},{"$f":"IFERROR(VLOOKUP($A24,Filtro!$A$4:$AX$552,27,FALSE),0)","v":46},{"$f":"IFERROR(VLOOKUP($A24,Filtro!$A$4:$AX$552,28,FALSE),0)","v":45},{"$f":"IFERROR(VLOOKUP($A24,Filtro!$A$4:$AX$552,29,FALSE),0)","v":46},{"$f":"IFERROR(VLOOKUP($A24,Filtro!$A$4:$AX$552,30,FALSE),0)","v":41},{"$f":"IFERROR(VLOOKUP($A24,Filtro!$A$4:$AX$552,31,FALSE),0)","v":85},{"$f":"IFERROR(VLOOKUP($A24,Filtro!$A$4:$AX$552,32,FALSE),0)","v":79},{"$f":"IFERROR(VLOOKUP($A24,Filtro!$A$4:$AX$552,33,FALSE),0)","v":4},{"$f":"IFERROR(VLOOKUP($A24,Filtro!$A$4:$AX$552,34,FALSE),0)","v":3},{"$f":"IFERROR(VLOOKUP($A24,Filtro!$A$4:$AX$552,35,FALSE),0)","v":2},{"$f":"IFERROR(VLOOKUP($A24,Filtro!$A$4:$AX$552,36,FALSE),0)","v":2},{"$f":" AY24 & AZ24 & BA24 & BB24 & BC24 & BD24 & BE24 & BF24 & BD25 & AY25 & AZ25 & BA25 & BB25 & BC25 & BE25 & BF25 & BG25 & BF26 & BG26","v":""},{"$nulls":18},{"$f":"IF(AND(E24<>0,AI24=\"\"), \"* No olvide escribir en la celda de Pueblos Originarios (Digite CERO si no tiene). \",IF(AND(F24<>0,AJ24=\"\"), \"* No olvide escribir en la celda de Pueblos Originarios (Digite CERO si no tiene). \",\"\"))","v":""},{"$f":"IF(AND(E24<>0,AK24=\"\"), \"* No olvide escribir en la celda de Población Migrantes (Digite CERO si no tiene). \",IF(AND(F24<>0,AL24=\"\"), \"* No olvide escribir en la celda de Población Migrantes (Digite CERO si no tiene). \",\"\"))","v":""},{"$nulls":8},{"$f":"IF(AND(E24<>0,AI24=\"\"), 1,IF(AND(F24<>0,AJ24=\"\"), 1,0))","v":0},{"$f":"IF(AND(E24<>0,AK24=\"\"), 1,IF(AND(F24<>0,AL24=\"\"), 1,0))","v":0}]
["P2400130",null,"+ 1 D.S. (+1.0 a +1.9)",{"$f":"IFERROR(VLOOKUP($A25,Filtro!$A$4:$AX$552,2,FALSE),0)","v":3570},{"$f":"IFERROR(VLOOKUP($A25,Filtro!$A$4:$AX$552,3,FALSE),0)","v":1849},{"$f":"IFERROR(VLOOKUP($A25,Filtro!$A$4:$AX$552,4,FALSE),0)","v":1721},{"$f":"IFERROR(VLOOKUP($A25,Filtro!$A$4:$AX$552,5,FALSE),0)","v":0},{"$f":"IFERROR(VLOOKUP($A25,Filtro!$A$4:$AX$552,6,FALSE),0)","v":0},{"$f":"IFERROR(VLOOKUP($A25,Filtro!$A$4:$AX$552,7,FALSE),0)","v":12},{"$f":"IFERROR(VLOOKUP($A25,Filtro!$A$4:$AX$552,8,FALSE),0)","v":15},{"$f":"IFERROR(VLOOKUP($A25,Filtro!$A$4:$AX$552,9,FALSE),0)","v":20},{"$f":"IFERROR(VLOOKUP($A25,Filtro!$A$4:$AX$552,10,FALSE),0)","v":16},{"$f":"IFERROR(VLOOKUP($A25,Filtro!$A$4:$AX$552,11,FALSE),0)","v":31},{"$f":"IFERROR(VLOOKUP($A25,Filtro!$A$4:$AX$552,12,FALSE),0)","v":23},{"$f":"IFERROR(VLOOKUP($A25,Filtro!$A$4:$AX$552,13,FALSE),0)","v":25},{"$f":"IFERROR(VLOOKUP($A25,Filtro!$A$4:$AX$552,14,FALSE),0)","v":31},{"$f":"IFERROR(VLOOKUP($A25,Filtro!$A$4:$AX$552,15,FALSE),0)","v":34},{"$f":"IFERROR(VLOOKUP($A25,Filtro!$A$4:$AX$552,16,FALSE),0)","v":38},{"$f":"IFERROR(VLOOKUP($A25,Filtro!$A$4:$AX$552,17,FALSE),0)","v":47},{"$f":"IFERROR(VLOOKUP($A25,Filtro!$A$4:$AX$552,18,FALSE),0)","v":60},{"$f":"IFERROR(VLOOKUP($A25,Filtro!$A$4:$AX$552,19,FALSE),0)","v":144},{"$f":"IFERROR(VLOOKUP($A25,Filtro!$A$4:$AX$552,20,FALSE),0)","v":151},{"$f":"IFERROR(VLOOKUP($A25,Filtro!$A$4:$AX$552,21,FALSE),0)","v":176},{"$f":"IFERROR(VLOOKUP($A25,Filtro!$A$4:$AX$552,22,FALSE),0)","v":180},{"$f":"IFERROR(VLOOKUP($A25,Filtro!$A$4:$AX$552,23,FALSE),0)","v":195},{"$f":"IFERROR(VLOOKUP($A25,Filtro!$A$4:$AX$552,24,FALSE),0)","v":169},{"$f":"IFERROR(VLOOKUP($A25,Filtro!$A$4:$AX$552,25,FALSE),0)","v":386},{"$f":"IFERROR(VLOOKUP($A25,Filtro!$A$4:$AX$552,26,FALSE),0)","v":344},{"$f":"IFERROR(VLOOKUP($A25,Filtro!$A$4:$AX$552,27,FALSE),0)","v":200},{"$f":"IFERROR(VLOOKUP($A25,Filtro!$A$4:$AX$552,28,FALSE),0)","v":239},{"$f":"IFERROR(VLOOKUP($A25,Filtro!$A$4:$AX$552,29,FALSE),0)","v":168},{"$f":"IFERROR(VLOOKUP($A25,Filtro!$A$4:$AX$552,30,FALSE),0)","v":164},{"$f":"IFERROR(VLOOKUP($A25,Filtro!$A$4:$AX$552,31,FALSE),0)","v":411},{"$f":"IFERROR(VLOOKUP($A25,Filtro!$A$4:$AX$552,32,FALSE),0)","v":291},{"$f":"IFERROR(VLOOKUP($A25,Filtro!$A$4:$AX$552,33,FALSE),0)","v":12},{"$f":"IFERROR(VLOOKUP($A25,Filtro!$A$4:$AX$552,34,FALSE),0)","v":9},{"$f":"IFERROR(VLOOKUP($A25,Filtro!$A$4:$AX$552,35,FALSE),0)","v":17},{"$f":"IFERROR(VLOOKUP($A25,Filtro!$A$4:$AX$552,36,FALSE),0)","v":13},"",{"$nulls":18},{"$f":"IF(AND(E25<>0,AI25=\"\"), \"* No olvide escribir en la celda de Pueblos Originarios (Digite CERO si no tiene). \",IF(AND(F25<>0,AJ25=\"\"), \"* No olvide escribir en la celda de Pueblos Originarios (Digite CERO si no tiene). \",\"\"))","v":""},{"$f":"IF(AND(E25<>0,AK25=\"\"), \"* No olvide escribir en la celda de Población Migrantes (Digite CERO si no tiene). \",IF(AND(F25<>0,AL25=\"\"), \"* No olvide escribir en la celda de Población Migrantes (Digite CERO si no tiene). \",\"\"))","v":""},{"$nulls":8},0,0]
[null,null,"TOTAL",4350,2273,2077,null,null,{"$f":"SUM(I24:I25)","v":14},{"$f":"SUM(J24:J25)","v":17},27,21,34,29,30,37,42,39,60,73,192,176,219,208,237,201,462,417,246,284,214,205,496,370,16,12,19,15,{"$f":"\"\" & AY26 & AZ26","v":""},{"$nulls":11},{"$f":"IF($D26>=$AI26+$AJ26,\"\",\"* El Total de Pueblos Originarios no debe ser mayor al Total Indicador peso/talla. \")","v":""},{"$f":"IF($D26>=$AK26+$AL26,\"\",\"* El Total de Población Migrantes no debe ser mayor al Total Indicador peso/talla. \")","v":""},{"$nulls":8},{"$f":"IF($D26>=$AI26+$AJ26,0,1)","v":0},{"$f":"IF($D26>=$AK26+$AL26,0,1)","v":0}]
["P2070401",null,"- 1 D.S. (-1.0 a -1.9)",{"$f":"IFERROR(VLOOKUP($A27,Filtro!$A$4:$AX$552,2,FALSE),0)","v":4152},{"$f":"IFERROR(VLOOKUP($A27,Filtro!$A$4:$AX$552,3,FALSE),0)","v":2221},{"$f":"IFERROR(VLOOKUP($A27,Filtro!$A$4:$AX$552,4,FALSE),0)","v":1931},{"$f":"IFERROR(VLOOKUP($A27,Filtro!$A$4:$AX$552,5,FALSE),0)","v":0},{"$f":"IFERROR(VLOOKUP($A27,Filtro!$A$4:$AX$552,6,FALSE),0)","v":0},{"$f":"IFERROR(VLOOKUP($A27,Filtro!$A$4:$AX$552,7,FALSE),0)","v":16},{"$f":"IFERROR(VLOOKUP($A27,Filtro!$A$4:$AX$552,8,FALSE),0)","v":14},{"$f":"IFERROR(VLOOKUP($A27,Filtro!$A$4:$AX$552,9,FALSE),0)","v":33},{"$f":"IFERROR(VLOOKUP($A27,Filtro!$A$4:$AX$552,10,FALSE),0)","v":22},{"$f":"IFERROR(VLOOKUP($A27,Filtro!$A$4:$AX$552,11,FALSE),0)","v":31},{"$f":"IFERROR(VLOOKUP($A27,Filtro!$A$4:$AX$552,12,FALSE),0)","v":24},{"$f":"IFERROR(VLOOKUP($A27,Filtro!$A$4:$AX$552,13,FALSE),0)","v":29},{"$f":"IFERROR(VLOOKUP($A27,Filtro!$A$4:$AX$552,14,FALSE),0)","v":28},{"$f":"IFERROR(VLOOKUP($A27,Filtro!$A$4:$AX$552,15,FALSE),0)","v":22},{"$f":"IFERROR(VLOOKUP($A27,Filtro!$A$4:$AX$552,16,FALSE),0)","v":23},{"$f":"IFERROR(VLOOKUP($A27,Filtro!$A$4:$AX$552,17,FALSE),0)","v":49},{"$f":"IFERROR(VLOOKUP($A27,Filtro!$A$4:$AX$552,18,FALSE),0)","v":39},{"$f":"IFERROR(VLOOKUP($A27,Filtro!$A$4:$AX$552,19,FALSE),0)","v":180},{"$f":"IFERROR(VLOOKUP($A27,Filtro!$A$4:$AX$552,20,FALSE),0)","v":119},{"$f":"IFERROR(VLOOKUP($A27,Filtro!$A$4:$AX$552,21,FALSE),0)","v":242},{"$f":"IFERROR(VLOOKUP($A27,Filtro!$A$4:$AX$552,22,FALSE),0)","v":183},{"$f":"IFERROR(VLOOKUP($A27,Filtro!$A$4:$AX$552,23,FALSE),0)","v":266},{"$f":"IFERROR(VLOOKUP($A27,Filtro!$A$4:$AX$552,24,FALSE),0)","v":215},{"$f":"IFERROR(VLOOKUP($A27,Filtro!$A$4:$AX$552,25,FALSE),0)","v":483},{"$f":"IFERROR(VLOOKUP($A27,Filtro!$A$4:$AX$552,26,FALSE),0)","v":435},{"$f":"IFERROR(VLOOKUP($A27,Filtro!$A$4:$AX$552,27,FALSE),0)","v":240},{"$f":"IFERROR(VLOOKUP($A27,Filtro!$A$4:$AX$552,28,FALSE),0)","v":221},{"$f":"IFERROR(VLOOKUP($A27,Filtro!$A$4:$AX$552,29,FALSE),0)","v":204},{"$f":"IFERROR(VLOOKUP($A27,Filtro!$A$4:$AX$552,30,FALSE),0)","v":173},{"$f":"IFERROR(VLOOKUP($A27,Filtro!$A$4:$AX$552,31,FALSE),0)","v":426},{"$f":"IFERROR(VLOOKUP($A27,Filtro!$A$4:$AX$552,32,FALSE),0)","v":435},{"$f":"IFERROR(VLOOKUP($A27,Filtro!$A$4:$AX$552,33,FALSE),0)","v":11},{"$f":"IFERROR(VLOOKUP($A27,Filtro!$A$4:$AX$552,34,FALSE),0)","v":8},{"$f":"IFERROR(VLOOKUP($A27,Filtro!$A$4:$AX$552,35,FALSE),0)","v":27},{"$f":"IFERROR(VLOOKUP($A27,Filtro!$A$4:$AX$552,36,FALSE),0)","v":20},{"$f":" AY27 & AZ27 & BA27 & BB27 & BC27 & BD27 & BE27 & BF27 & BD28 & AY28 & AZ28 & BA28 & BB28 & BC28 & BE28 & BF28 & BG28 & BF29 & BG29","v":""},{"$nulls":18},{"$f":"IF(AND(E27<>0,AI27=\"\"), \"* No olvide escribir en la celda de Pueblos Originarios (Digite CERO si no tiene). \",IF(AND(F27<>0,AJ27=\"\"), \"* No olvide escribir en la celda de Pueblos Originarios (Digite CERO si no tiene). \",\"\"))","v":""},{"$f":"IF(AND(E27<>0,AK27=\"\"), \"* No olvide escribir en la celda de Población Migrantes (Digite CERO si no tiene). \",IF(AND(F27<>0,AL27=\"\"), \"* No olvide escribir en la celda de Población Migrantes (Digite CERO si no tiene). \",\"\"))","v":""},{"$nulls":8},{"$f":"IF(AND(E27<>0,AI27=\"\"), 1,IF(AND(F27<>0,AJ27=\"\"), 1,0))","v":0},{"$f":"IF(AND(E27<>0,AK27=\"\"), 1,IF(AND(F27<>0,AL27=\"\"), 1,0))","v":0}]
["P2070402",null,"- 2 D.S. (<= -2.0)",{"$f":"IFERROR(VLOOKUP($A28,Filtro!$A$4:$AX$552,2,FALSE),0)","v":654},{"$f":"IFERROR(VLOOKUP($A28,Filtro!$A$4:$AX$552,3,FALSE),0)","v":362},{"$f":"IFERROR(VLOOKUP($A28,Filtro!$A$4:$AX$552,4,FALSE),0)","v":292},{"$f":"IFERROR(VLOOKUP($A28,Filtro!$A$4:$AX$552,5,FALSE),0)","v":0},{"$f":"IFERROR(VLOOKUP($A28,Filtro!$A$4:$AX$552,6,FALSE),0)","v":0},{"$f":"IFERROR(VLOOKUP($A28,Filtro!$A$4:$AX$552,7,FALSE),0)","v":4},{"$f":"IFERROR(VLOOKUP($A28,Filtro!$A$4:$AX$552,8,FALSE),0)","v":2},{"$f":"IFERROR(VLOOKUP($A28,Filtro!$A$4:$AX$552,9,FALSE),0)","v":4},{"$f":"IFERROR(VLOOKUP($A28,Filtro!$A$4:$AX$552,10,FALSE),0)","v":4},{"$f":"IFERROR(VLOOKUP($A28,Filtro!$A$4:$AX$552,11,FALSE),0)","v":2},{"$f":"IFERROR(VLOOKUP($A28,Filtro!$A$4:$AX$552,12,FALSE),0)","v":4},{"$f":"IFERROR(VLOOKUP($A28,Filtro!$A$4:$AX$552,13,FALSE),0)","v":6},{"$f":"IFERROR(VLOOKUP($A28,Filtro!$A$4:$AX$552,14,FALSE),0)","v":3},{"$f":"IFERROR(VLOOKUP($A28,Filtro!$A$4:$AX$552,15,FALSE),0)","v":6},{"$f":"IFERROR(VLOOKUP($A28,Filtro!$A$4:$AX$552,16,FALSE),0)","v":3},{"$f":"IFERROR(VLOOKUP($A28,Filtro!$A$4:$AX$552,17,FALSE),0)","v":4},{"$f":"IFERROR(VLOOKUP($A28,Filtro!$A$4:$AX$552,18,FALSE),0)","v":7},{"$f":"IFERROR(VLOOKUP($A28,Filtro!$A$4:$AX$552,19,FALSE),0)","v":28},{"$f":"IFERROR(VLOOKUP($A28,Filtro!$A$4:$AX$552,20,FALSE),0)","v":15},{"$f":"IFERROR(VLOOKUP($A28,Filtro!$A$4:$AX$552,21,FALSE),0)","v":40},{"$f":"IFERROR(VLOOKUP($A28,Filtro!$A$4:$AX$552,22,FALSE),0)","v":29},{"$f":"IFERROR(VLOOKUP($A28,Filtro!$A$4:$AX$552,23,FALSE),0)","v":54},{"$f":"IFERROR(VLOOKUP($A28,Filtro!$A$4:$AX$552,24,FALSE),0)","v":35},{"$f":"IFERROR(VLOOKUP($A28,Filtro!$A$4:$AX$552,25,FALSE),0)","v":90},{"$f":"IFERROR(VLOOKUP($A28,Filtro!$A$4:$AX$552,26,FALSE),0)","v":81},{"$f":"IFERROR(VLOOKUP($A28,Filtro!$A$4:$AX$552,27,FALSE),0)","v":46},{"$f":"IFERROR(VLOOKUP($A28,Filtro!$A$4:$AX$552,28,FALSE),0)","v":23},{"$f":"IFERROR(VLOOKUP($A28,Filtro!$A$4:$AX$552,29,FALSE),0)","v":29},{"$f":"IFERROR(VLOOKUP($A28,Filtro!$A$4:$AX$552,30,FALSE),0)","v":22},{"$f":"IFERROR(VLOOKUP($A28,Filtro!$A$4:$AX$552,31,FALSE),0)","v":49},{"$f":"IFERROR(VLOOKUP($A28,Filtro!$A$4:$AX$552,32,FALSE),0)","v":64},{"$f":"IFERROR(VLOOKUP($A28,Filtro!$A$4:$AX$552,33,FALSE),0)","v":5},{"$f":"IFERROR(VLOOKUP($A28,Filtro!$A$4:$AX$552,34,FALSE),0)","v":7},{"$f":"IFERROR(VLOOKUP($A28,Filtro!$A$4:$AX$552,35,FALSE),0)","v":7},{"$f":"IFERROR(VLOOKUP($A28,Filtro!$A$4:$AX$552,36,FALSE),0)","v":5},"",{"$nulls":18},{"$f":"IF(AND(E28<>0,AI28=\"\"), \"* No olvide escribir en la celda de Pueblos Originarios (Digite CERO si no tiene). \",IF(AND(F28<>0,AJ28=\"\"), \"* No olvide escribir en la celda de Pueblos Originarios (Digite CERO si no tiene). \",\"\"))","v":""},{"$f":"IF(AND(E28<>0,AK28=\"\"), \"* No olvide escribir en la celda de Población Migrantes (Digite CERO si no tiene). \",IF(AND(F28<>0,AL28=\"\"), \"* No olvide escribir en la celda de Población Migrantes (Digite CERO si no tiene). \",\"\"))","v":""},{"$nulls":8},0,0]
[null,null,"TOTAL",4806,2583,2223,null,null,{"$f":"SUM(I27:I28)","v":20},{"$f":"SUM(J27:J28)","v":16},37,26,33,28,35,31,28,26,53,46,208,134,282,212,320,250,573,516,286,244,233,195,475,499,16,15,34,25,{"$f":"\"\" & AY29 & AZ29","v":""},{"$nulls":11},{"$f":"IF($D29>=$AI29+$AJ29,\"\",\"* El Total de Pueblos Originarios no debe ser mayor al Total Indicador peso/talla. \")","v":""},{"$f":"IF($D29>=$AK29+$AL29,\"\",\"* El Total de Población Migrantes no debe ser mayor al Total Indicador peso/talla. \")","v":""},{"$nulls":8},{"$f":"IF($D29>=$AI29+$AJ29,0,1)","v":0},{"$f":"IF($D29>=$AK29+$AL29,0,1)","v":0}]
["P2400140",null,"PROMEDIO (-0,9 A + 0,9)",{"$f":"IFERROR(VLOOKUP($A30,Filtro!$A$4:$AX$552,2,FALSE),0)","v":16731},{"$f":"IFERROR(VLOOKUP($A30,Filtro!$A$4:$AX$552,3,FALSE),0)","v":8282},{"$f":"IFERROR(VLOOKUP($A30,Filtro!$A$4:$AX$552,4,FALSE),0)","v":8449},{"$f":"IFERROR(VLOOKUP($A30,Filtro!$A$4:$AX$552,5,FALSE),0)","v":0},{"$f":"IFERROR(VLOOKUP($A30,Filtro!$A$4:$AX$552,6,FALSE),0)","v":0},{"$f":"IFERROR(VLOOKUP($A30,Filtro!$A$4:$AX$552,7,FALSE),0)","v":120},{"$f":"IFERROR(VLOOKUP($A30,Filtro!$A$4:$AX$552,8,FALSE),0)","v":95},{"$f":"IFERROR(VLOOKUP($A30,Filtro!$A$4:$AX$552,9,FALSE),0)","v":127},{"$f":"IFERROR(VLOOKUP($A30,Filtro!$A$4:$AX$552,10,FALSE),0)","v":125},{"$f":"IFERROR(VLOOKUP($A30,Filtro!$A$4:$AX$552,11,FALSE),0)","v":142},{"$f":"IFERROR(VLOOKUP($A30,Filtro!$A$4:$AX$552,12,FALSE),0)","v":130},{"$f":"IFERROR(VLOOKUP($A30,Filtro!$A$4:$AX$552,13,FALSE),0)","v":120},{"$f":"IFERROR(VLOOKUP($A30,Filtro!$A$4:$AX$552,14,FALSE),0)","v":121},{"$f":"IFERROR(VLOOKUP($A30,Filtro!$A$4:$AX$552,15,FALSE),0)","v":125},{"$f":"IFERROR(VLOOKUP($A30,Filtro!$A$4:$AX$552,16,FALSE),0)","v":147},{"$f":"IFERROR(VLOOKUP($A30,Filtro!$A$4:$AX$552,17,FALSE),0)","v":211},{"$f":"IFERROR(VLOOKUP($A30,Filtro!$A$4:$AX$552,18,FALSE),0)","v":189},{"$f":"IFERROR(VLOOKUP($A30,Filtro!$A$4:$AX$552,19,FALSE),0)","v":584},{"$f":"IFERROR(VLOOKUP($A30,Filtro!$A$4:$AX$552,20,FALSE),0)","v":629},{"$f":"IFERROR(VLOOKUP($A30,Filtro!$A$4:$AX$552,21,FALSE),0)","v":859},{"$f":"IFERROR(VLOOKUP($A30,Filtro!$A$4:$AX$552,22,FALSE),0)","v":912},{"$f":"IFERROR(VLOOKUP($A30,Filtro!$A$4:$AX$552,23,FALSE),0)","v":932},{"$f":"IFERROR(VLOOKUP($A30,Filtro!$A$4:$AX$552,24,FALSE),0)","v":941},{"$f":"IFERROR(VLOOKUP($A30,Filtro!$A$4:$AX$552,25,FALSE),0)","v":1671},{"$f":"IFERROR(VLOOKUP($A30,Filtro!$A$4:$AX$552,26,FALSE),0)","v":1630},{"$f":"IFERROR(VLOOKUP($A30,Filtro!$A$4:$AX$552,27,FALSE),0)","v":884},{"$f":"IFERROR(VLOOKUP($A30,Filtro!$A$4:$AX$552,28,FALSE),0)","v":845},{"$f":"IFERROR(VLOOKUP($A30,Filtro!$A$4:$AX$552,29,FALSE),0)","v":801},{"$f":"IFERROR(VLOOKUP($A30,Filtro!$A$4:$AX$552,30,FALSE),0)","v":843},{"$f":"IFERROR(VLOOKUP($A30,Filtro!$A$4:$AX$552,31,FALSE),0)","v":1706},{"$f":"IFERROR(VLOOKUP($A30,Filtro!$A$4:$AX$552,32,FALSE),0)","v":1842},{"$f":"IFERROR(VLOOKUP($A30,Filtro!$A$4:$AX$552,33,FALSE),0)","v":25},{"$f":"IFERROR(VLOOKUP($A30,Filtro!$A$4:$AX$552,34,FALSE),0)","v":23},{"$f":"IFERROR(VLOOKUP($A30,Filtro!$A$4:$AX$552,35,FALSE),0)","v":109},{"$f":"IFERROR(VLOOKUP($A30,Filtro!$A$4:$AX$552,36,FALSE),0)","v":114},{"$f":" AY30 & AZ30 & BA30 & BB30 & BC30 & BD30 & BE30 & BF30 & BD31 & AY31 & AZ31 & BA31 & BB31 & BC31 & BE31 & BF31 & BG31 & BF32 & BG32","v":""},{"$nulls":18},{"$f":"IF(AND(E30<>0,AI30=\"\"), \"* No olvide escribir en la celda de Pueblos Originarios (Digite CERO si no tiene). \",IF(AND(F30<>0,AJ30=\"\"), \"* No olvide escribir en la celda de Pueblos Originarios (Digite CERO si no tiene). \",\"\"))","v":""},{"$f":"IF(AND(E30<>0,AK30=\"\"), \"* No olvide escribir en la celda de Población Migrantes (Digite CERO si no tiene). \",IF(AND(F30<>0,AL30=\"\"), \"* No olvide escribir en la celda de Población Migrantes (Digite CERO si no tiene). \",\"\"))","v":""},{"$nulls":8},{"$f":"IF(AND(E30<>0,AI30=\"\"), 1,IF(AND(F30<>0,AJ30=\"\"), 1,0))","v":0},{"$f":"IF(AND(E30<>0,AK30=\"\"), 1,IF(AND(F30<>0,AL30=\"\"), 1,0))","v":0}]
["P2070501","DIAGNOSTICO NUTRICIONAL INTEGRADO","RIESGO DE DESNUTRIR/ DEFICIT PONDERAL*",{"$f":"IFERROR(VLOOKUP($A31,Filtro!$A$4:$AX$552,2,FALSE),0)","v":782},{"$f":"IFERROR(VLOOKUP($A31,Filtro!$A$4:$AX$552,3,FALSE),0)","v":445},{"$f":"IFERROR(VLOOKUP($A31,Filtro!$A$4:$AX$552,4,FALSE),0)","v":337},{"$f":"IFERROR(VLOOKUP($A31,Filtro!$A$4:$AX$552,5,FALSE),0)","v":0},{"$f":"IFERROR(VLOOKUP($A31,Filtro!$A$4:$AX$552,6,FALSE),0)","v":0},{"$f":"IFERROR(VLOOKUP($A31,Filtro!$A$4:$AX$552,7,FALSE),0)","v":10},{"$f":"IFERROR(VLOOKUP($A31,Filtro!$A$4:$AX$552,8,FALSE),0)","v":7},{"$f":"IFERROR(VLOOKUP($A31,Filtro!$A$4:$AX$552,9,FALSE),0)","v":12},{"$f":"IFERROR(VLOOKUP($A31,Filtro!$A$4:$AX$552,10,FALSE),0)","v":10},{"$f":"IFERROR(VLOOKUP($A31,Filtro!$A$4:$AX$552,11,FALSE),0)","v":8},{"$f":"IFERROR(VLOOKUP($A31,Filtro!$A$4:$AX$552,12,FALSE),0)","v":11},{"$f":"IFERROR(VLOOKUP($A31,Filtro!$A$4:$AX$552,13,FALSE),0)","v":13},{"$f":"IFERROR(VLOOKUP($A31,Filtro!$A$4:$AX$552,14,FALSE),0)","v":12},{"$f":"IFERROR(VLOOKUP($A31,Filtro!$A$4:$AX$552,15,FALSE),0)","v":5},{"$f":"IFERROR(VLOOKUP($A31,Filtro!$A$4:$AX$552,16,FALSE),0)","v":5},{"$f":"IFERROR(VLOOKUP($A31,Filtro!$A$4:$AX$552,17,FALSE),0)","v":19},{"$f":"IFERROR(VLOOKUP($A31,Filtro!$A$4:$AX$552,18,FALSE),0)","v":15},{"$f":"IFERROR(VLOOKUP($A31,Filtro!$A$4:$AX$552,19,FALSE),0)","v":60},{"$f":"IFERROR(VLOOKUP($A31,Filtro!$A$4:$AX$552,20,FALSE),0)","v":36},{"$f":"IFERROR(VLOOKUP($A31,Filtro!$A$4:$AX$552,21,FALSE),0)","v":41},{"$f":"IFERROR(VLOOKUP($A31,Filtro!$A$4:$AX$552,22,FALSE),0)","v":38},{"$f":"IFERROR(VLOOKUP($A31,Filtro!$A$4:$AX$552,23,FALSE),0)","v":42},{"$f":"IFERROR(VLOOKUP($A31,Filtro!$A$4:$AX$552,24,FALSE),0)","v":33},{"$f":"IFERROR(VLOOKUP($A31,Filtro!$A$4:$AX$552,25,FALSE),0)","v":83},{"$f":"IFERROR(VLOOKUP($A31,Filtro!$A$4:$AX$552,26,FALSE),0)","v":57},{"$f":"IFERROR(VLOOKUP($A31,Filtro!$A$4:$AX$552,27,FALSE),0)","v":36},{"$f":"IFERROR(VLOOKUP($A31,Filtro!$A$4:$AX$552,28,FALSE),0)","v":37},{"$f":"IFERROR(VLOOKUP($A31,Filtro!$A$4:$AX$552,29,FALSE),0)","v":34},{"$f":"IFERROR(VLOOKUP($A31,Filtro!$A$4:$AX$552,30,FALSE),0)","v":24},{"$f":"IFERROR(VLOOKUP($A31,Filtro!$A$4:$AX$552,31,FALSE),0)","v":82},{"$f":"IFERROR(VLOOKUP($A31,Filtro!$A$4:$AX$552,32,FALSE),0)","v":52},{"$f":"IFERROR(VLOOKUP($A31,Filtro!$A$4:$AX$552,33,FALSE),0)","v":4},{"$f":"IFERROR(VLOOKUP($A31,Filtro!$A$4:$AX$552,34,FALSE),0)","v":2},{"$f":"IFERROR(VLOOKUP($A31,Filtro!$A$4:$AX$552,35,FALSE),0)","v":5},{"$f":"IFERROR(VLOOKUP($A31,Filtro!$A$4:$AX$552,36,FALSE),0)","v":10},"",{"$nulls":18},{"$f":"IF(AND(E31<>0,AI31=\"\"), \"* No olvide escribir en la celda de Pueblos Originarios (Digite CERO si no tiene). \",IF(AND(F31<>0,AJ31=\"\"), \"* No olvide escribir en la celda de Pueblos Originarios (Digite CERO si no tiene). \",\"\"))","v":""},{"$f":"IF(AND(E31<>0,AK31=\"\"), \"* No olvide escribir en la celda de Población Migrantes (Digite CERO si no tiene). \",IF(AND(F31<>0,AL31=\"\"), \"* No olvide escribir en la celda de Población Migrantes (Digite CERO si no tiene). \",\"\"))","v":""},{"$nulls":8},0,0]
["P2070502",null,"DESNUTRIDO",{"$f":"IFERROR(VLOOKUP($A32,Filtro!$A$4:$AX$552,2,FALSE),0)","v":90},{"$f":"IFERROR(VLOOKUP($A32,Filtro!$A$4:$AX$552,3,FALSE),0)","v":51},{"$f":"IFERROR(VLOOKUP($A32,Filtro!$A$4:$AX$552,4,FALSE),0)","v":39},{"$f":"IFERROR(VLOOKUP($A32,Filtro!$A$4:$AX$552,5,FALSE),0)","v":0},{"$f":"IFERROR(VLOOKUP($A32,Filtro!$A$4:$AX$552,6,FALSE),0)","v":0},{"$f":"IFERROR(VLOOKUP($A32,Filtro!$A$4:$AX$552,7,FALSE),0)","v":2},{"$f":"IFERROR(VLOOKUP($A32,Filtro!$A$4:$AX$552,8,FALSE),0)","v":1},{"$f":"IFERROR(VLOOKUP($A32,Filtro!$A$4:$AX$552,9,FALSE),0)","v":3},{"$f":"IFERROR(VLOOKUP($A32,Filtro!$A$4:$AX$552,10,FALSE),0)","v":0},{"$f":"IFERROR(VLOOKUP($A32,Filtro!$A$4:$AX$552,11,FALSE),0)","v":0},{"$f":"IFERROR(VLOOKUP($A32,Filtro!$A$4:$AX$552,12,FALSE),0)","v":2},{"$f":"IFERROR(VLOOKUP($A32,Filtro!$A$4:$AX$552,13,FALSE),0)","v":0},{"$f":"IFERROR(VLOOKUP($A32,Filtro!$A$4:$AX$552,14,FALSE),0)","v":3},{"$f":"IFERROR(VLOOKUP($A32,Filtro!$A$4:$AX$552,15,FALSE),0)","v":4},{"$f":"IFERROR(VLOOKUP($A32,Filtro!$A$4:$AX$552,16,FALSE),0)","v":1},{"$f":"IFERROR(VLOOKUP($A32,Filtro!$A$4:$AX$552,17,FALSE),0)","v":1},{"$f":"IFERROR(VLOOKUP($A32,Filtro!$A$4:$AX$552,18,FALSE),0)","v":3},{"$f":"IFERROR(VLOOKUP($A32,Filtro!$A$4:$AX$552,19,FALSE),0)","v":7},{"$f":"IFERROR(VLOOKUP($A32,Filtro!$A$4:$AX$552,20,FALSE),0)","v":4},{"$f":"IFERROR(VLOOKUP($A32,Filtro!$A$4:$AX$552,21,FALSE),0)","v":1},{"$f":"IFERROR(VLOOKUP($A32,Filtro!$A$4:$AX$552,22,FALSE),0)","v":3},{"$f":"IFERROR(VLOOKUP($A32,Filtro!$A$4:$AX$552,23,FALSE),0)","v":9},{"$f":"IFERROR(VLOOKUP($A32,Filtro!$A$4:$AX$552,24,FALSE),0)","v":8},{"$f":"IFERROR(VLOOKUP($A32,Filtro!$A$4:$AX$552,25,FALSE),0)","v":9},{"$f":"IFERROR(VLOOKUP($A32,Filtro!$A$4:$AX$552,26,FALSE),0)","v":8},{"$f":"IFERROR(VLOOKUP($A32,Filtro!$A$4:$AX$552,27,FALSE),0)","v":3},{"$f":"IFERROR(VLOOKUP($A32,Filtro!$A$4:$AX$552,28,FALSE),0)","v":1},{"$f":"IFERROR(VLOOKUP($A32,Filtro!$A$4:$AX$552,29,FALSE),0)","v":2},{"$f":"IFERROR(VLOOKUP($A32,Filtro!$A$4:$AX$552,30,FALSE),0)","v":2},{"$f":"IFERROR(VLOOKUP($A32,Filtro!$A$4:$AX$552,31,FALSE),0)","v":10},{"$f":"IFERROR(VLOOKUP($A32,Filtro!$A$4:$AX$552,32,FALSE),0)","v":3},{"$f":"IFERROR(VLOOKUP($A32,Filtro!$A$4:$AX$552,33,FALSE),0)","v":0},{"$f":"IFERROR(VLOOKUP($A32,Filtro!$A$4:$AX$552,34,FALSE),0)","v":0},{"$f":"IFERROR(VLOOKUP($A32,Filtro!$A$4:$AX$552,35,FALSE),0)","v":0},{"$f":"IFERROR(VLOOKUP($A32,Filtro!$A$4:$AX$552,36,FALSE),0)","v":3},"",{"$nulls":18},{"$f":"IF(AND(E32<>0,AI32=\"\"), \"* No olvide escribir en la celda de Pueblos Originarios (Digite CERO si no tiene). \",IF(AND(F32<>0,AJ32=\"\"), \"* No olvide escribir en la celda de Pueblos Originarios (Digite CERO si no tiene). \",\"\"))","v":""},{"$f":"IF(AND(E32<>0,AK32=\"\"), \"* No olvide escribir en la celda de Población Migrantes (Digite CERO si no tiene). \",IF(AND(F32<>0,AL32=\"\"), \"* No olvide escribir en la celda de Población Migrantes (Digite CERO si no tiene). \",\"\"))","v":""},{"$nulls":8},0,0]
["P2070503",null,"SOBREPESO / RIESGO OBESIDAD",{"$f":"IFERROR(VLOOKUP($A33,Filtro!$A$4:$AX$552,2,FALSE),0)","v":8344},{"$f":"IFERROR(VLOOKUP($A33,Filtro!$A$4:$AX$552,3,FALSE),0)","v":4194},{"$f":"IFERROR(VLOOKUP($A33,Filtro!$A$4:$AX$552,4,FALSE),0)","v":4150},{"$f":"IFERROR(VLOOKUP($A33,Filtro!$A$4:$AX$552,5,FALSE),0)","v":0},{"$f":"IFERROR(VLOOKUP($A33,Filtro!$A$4:$AX$552,6,FALSE),0)","v":0},{"$f":"IFERROR(VLOOKUP($A33,Filtro!$A$4:$AX$552,7,FALSE),0)","v":25},{"$f":"IFERROR(VLOOKUP($A33,Filtro!$A$4:$AX$552,8,FALSE),0)","v":23},{"$f":"IFERROR(VLOOKUP($A33,Filtro!$A$4:$AX$552,9,FALSE),0)","v":56},{"$f":"IFERROR(VLOOKUP($A33,Filtro!$A$4:$AX$552,10,FALSE),0)","v":36},{"$f":"IFERROR(VLOOKUP($A33,Filtro!$A$4:$AX$552,11,FALSE),0)","v":76},{"$f":"IFERROR(VLOOKUP($A33,Filtro!$A$4:$AX$552,12,FALSE),0)","v":62},{"$f":"IFERROR(VLOOKUP($A33,Filtro!$A$4:$AX$552,13,FALSE),0)","v":71},{"$f":"IFERROR(VLOOKUP($A33,Filtro!$A$4:$AX$552,14,FALSE),0)","v":63},{"$f":"IFERROR(VLOOKUP($A33,Filtro!$A$4:$AX$552,15,FALSE),0)","v":72},{"$f":"IFERROR(VLOOKUP($A33,Filtro!$A$4:$AX$552,16,FALSE),0)","v":94},{"$f":"IFERROR(VLOOKUP($A33,Filtro!$A$4:$AX$552,17,FALSE),0)","v":126},{"$f":"IFERROR(VLOOKUP($A33,Filtro!$A$4:$AX$552,18,FALSE),0)","v":131},{"$f":"IFERROR(VLOOKUP($A33,Filtro!$A$4:$AX$552,19,FALSE),0)","v":390},{"$f":"IFERROR(VLOOKUP($A33,Filtro!$A$4:$AX$552,20,FALSE),0)","v":388},{"$f":"IFERROR(VLOOKUP($A33,Filtro!$A$4:$AX$552,21,FALSE),0)","v":496},{"$f":"IFERROR(VLOOKUP($A33,Filtro!$A$4:$AX$552,22,FALSE),0)","v":496},{"$f":"IFERROR(VLOOKUP($A33,Filtro!$A$4:$AX$552,23,FALSE),0)","v":503},{"$f":"IFERROR(VLOOKUP($A33,Filtro!$A$4:$AX$552,24,FALSE),0)","v":491},{"$f":"IFERROR(VLOOKUP($A33,Filtro!$A$4:$AX$552,25,FALSE),0)","v":844},{"$f":"IFERROR(VLOOKUP($A33,Filtro!$A$4:$AX$552,26,FALSE),0)","v":814},{"$f":"IFERROR(VLOOKUP($A33,Filtro!$A$4:$AX$552,27,FALSE),0)","v":403},{"$f":"IFERROR(VLOOKUP($A33,Filtro!$A$4:$AX$552,28,FALSE),0)","v":417},{"$f":"IFERROR(VLOOKUP($A33,Filtro!$A$4:$AX$552,29,FALSE),0)","v":356},{"$f":"IFERROR(VLOOKUP($A33,Filtro!$A$4:$AX$552,30,FALSE),0)","v":342},{"$f":"IFERROR(VLOOKUP($A33,Filtro!$A$4:$AX$552,31,FALSE),0)","v":776},{"$f":"IFERROR(VLOOKUP($A33,Filtro!$A$4:$AX$552,32,FALSE),0)","v":793},{"$f":"IFERROR(VLOOKUP($A33,Filtro!$A$4:$AX$552,33,FALSE),0)","v":15},{"$f":"IFERROR(VLOOKUP($A33,Filtro!$A$4:$AX$552,34,FALSE),0)","v":14},{"$f":"IFERROR(VLOOKUP($A33,Filtro!$A$4:$AX$552,35,FALSE),0)","v":46},{"$f":"IFERROR(VLOOKUP($A33,Filtro!$A$4:$AX$552,36,FALSE),0)","v":50},"",{"$nulls":18},{"$f":"IF(AND(E33<>0,AI33=\"\"), \"* No olvide escribir en la celda de Pueblos Originarios (Digite CERO si no tiene). \",IF(AND(F33<>0,AJ33=\"\"), \"* No olvide escribir en la celda de Pueblos Originarios (Digite CERO si no tiene). \",\"\"))","v":""},{"$f":"IF(AND(E33<>0,AK33=\"\"), \"* No olvide escribir en la celda de Población Migrantes (Digite CERO si no tiene). \",IF(AND(F33<>0,AL33=\"\"), \"* No olvide escribir en la celda de Población Migrantes (Digite CERO si no tiene). \",\"\"))","v":""},{"$nulls":8},0,0]
["P2070504",null,"OBESO",{"$f":"IFERROR(VLOOKUP($A34,Filtro!$A$4:$AX$552,2,FALSE),0)","v":3979},{"$f":"IFERROR(VLOOKUP($A34,Filtro!$A$4:$AX$552,3,FALSE),0)","v":2100},{"$f":"IFERROR(VLOOKUP($A34,Filtro!$A$4:$AX$552,4,FALSE),0)","v":1879},{"$f":"IFERROR(VLOOKUP($A34,Filtro!$A$4:$AX$552,5,FALSE),0)","v":0},{"$f":"IFERROR(VLOOKUP($A34,Filtro!$A$4:$AX$552,6,FALSE),0)","v":0},{"$f":"IFERROR(VLOOKUP($A34,Filtro!$A$4:$AX$552,7,FALSE),0)","v":5},{"$f":"IFERROR(VLOOKUP($A34,Filtro!$A$4:$AX$552,8,FALSE),0)","v":2},{"$f":"IFERROR(VLOOKUP($A34,Filtro!$A$4:$AX$552,9,FALSE),0)","v":21},{"$f":"IFERROR(VLOOKUP($A34,Filtro!$A$4:$AX$552,10,FALSE),0)","v":19},{"$f":"IFERROR(VLOOKUP($A34,Filtro!$A$4:$AX$552,11,FALSE),0)","v":25},{"$f":"IFERROR(VLOOKUP($A34,Filtro!$A$4:$AX$552,12,FALSE),0)","v":12},{"$f":"IFERROR(VLOOKUP($A34,Filtro!$A$4:$AX$552,13,FALSE),0)","v":19},{"$f":"IFERROR(VLOOKUP($A34,Filtro!$A$4:$AX$552,14,FALSE),0)","v":21},{"$f":"IFERROR(VLOOKUP($A34,Filtro!$A$4:$AX$552,15,FALSE),0)","v":35},{"$f":"IFERROR(VLOOKUP($A34,Filtro!$A$4:$AX$552,16,FALSE),0)","v":15},{"$f":"IFERROR(VLOOKUP($A34,Filtro!$A$4:$AX$552,17,FALSE),0)","v":42},{"$f":"IFERROR(VLOOKUP($A34,Filtro!$A$4:$AX$552,18,FALSE),0)","v":48},{"$f":"IFERROR(VLOOKUP($A34,Filtro!$A$4:$AX$552,19,FALSE),0)","v":176},{"$f":"IFERROR(VLOOKUP($A34,Filtro!$A$4:$AX$552,20,FALSE),0)","v":154},{"$f":"IFERROR(VLOOKUP($A34,Filtro!$A$4:$AX$552,21,FALSE),0)","v":217},{"$f":"IFERROR(VLOOKUP($A34,Filtro!$A$4:$AX$552,22,FALSE),0)","v":194},{"$f":"IFERROR(VLOOKUP($A34,Filtro!$A$4:$AX$552,23,FALSE),0)","v":250},{"$f":"IFERROR(VLOOKUP($A34,Filtro!$A$4:$AX$552,24,FALSE),0)","v":203},{"$f":"IFERROR(VLOOKUP($A34,Filtro!$A$4:$AX$552,25,FALSE),0)","v":405},{"$f":"IFERROR(VLOOKUP($A34,Filtro!$A$4:$AX$552,26,FALSE),0)","v":354},{"$f":"IFERROR(VLOOKUP($A34,Filtro!$A$4:$AX$552,27,FALSE),0)","v":233},{"$f":"IFERROR(VLOOKUP($A34,Filtro!$A$4:$AX$552,28,FALSE),0)","v":209},{"$f":"IFERROR(VLOOKUP($A34,Filtro!$A$4:$AX$552,29,FALSE),0)","v":176},{"$f":"IFERROR(VLOOKUP($A34,Filtro!$A$4:$AX$552,30,FALSE),0)","v":177},{"$f":"IFERROR(VLOOKUP($A34,Filtro!$A$4:$AX$552,31,FALSE),0)","v":496},{"$f":"IFERROR(VLOOKUP($A34,Filtro!$A$4:$AX$552,32,FALSE),0)","v":471},{"$f":"IFERROR(VLOOKUP($A34,Filtro!$A$4:$AX$552,33,FALSE),0)","v":16},{"$f":"IFERROR(VLOOKUP($A34,Filtro!$A$4:$AX$552,34,FALSE),0)","v":12},{"$f":"IFERROR(VLOOKUP($A34,Filtro!$A$4:$AX$552,35,FALSE),0)","v":13},{"$f":"IFERROR(VLOOKUP($A34,Filtro!$A$4:$AX$552,36,FALSE),0)","v":13},"",{"$nulls":18},{"$f":"IF(AND(E34<>0,AI34=\"\"), \"* No olvide escribir en la celda de Pueblos Originarios (Digite CERO si no tiene). \",IF(AND(F34<>0,AJ34=\"\"), \"* No olvide escribir en la celda de Pueblos Originarios (Digite CERO si no tiene). \",\"\"))","v":""},{"$f":"IF(AND(E34<>0,AK34=\"\"), \"* No olvide escribir en la celda de Población Migrantes (Digite CERO si no tiene). \",IF(AND(F34<>0,AL34=\"\"), \"* No olvide escribir en la celda de Población Migrantes (Digite CERO si no tiene). \",\"\"))","v":""},{"$nulls":8},0,0]
[null,null,"OBESO SEVERO",{"$f":"IFERROR(VLOOKUP($A35,Filtro!$A$4:$AX$552,2,FALSE),0)","v":0},{"$f":"IFERROR(VLOOKUP($A35,Filtro!$A$4:$AX$552,3,FALSE),0)","v":0},{"$f":"IFERROR(VLOOKUP($A35,Filtro!$A$4:$AX$552,4,FALSE),0)","v":0},{"$f":"IFERROR(VLOOKUP($A35,Filtro!$A$4:$AX$552,5,FALSE),0)","v":0},{"$f":"IFERROR(VLOOKUP($A35,Filtro!$A$4:$AX$552,6,FALSE),0)","v":0},{"$f":"IFERROR(VLOOKUP($A35,Filtro!$A$4:$AX$552,7,FALSE),0)","v":0},{"$f":"IFERROR(VLOOKUP($A35,Filtro!$A$4:$AX$552,8,FALSE),0)","v":0},{"$f":"IFERROR(VLOOKUP($A35,Filtro!$A$4:$AX$552,9,FALSE),0)","v":0},{"$f":"IFERROR(VLOOKUP($A35,Filtro!$A$4:$AX$552,10,FALSE),0)","v":0},{"$f":"IFERROR(VLOOKUP($A35,Filtro!$A$4:$AX$552,11,FALSE),0)","v":0},{"$f":"IFERROR(VLOOKUP($A35,Filtro!$A$4:$AX$552,12,FALSE),0)","v":0},{"$f":"IFERROR(VLOOKUP($A35,Filtro!$A$4:$AX$552,13,FALSE),0)","v":0},{"$f":"IFERROR(VLOOKUP($A35,Filtro!$A$4:$AX$552,14,FALSE),0)","v":0},{"$f":"IFERROR(VLOOKUP($A35,Filtro!$A$4:$AX$552,15,FALSE),0)","v":0},{"$f":"IFERROR(VLOOKUP($A35,Filtro!$A$4:$AX$552,16,FALSE),0)","v":0},{"$f":"IFERROR(VLOOKUP($A35,Filtro!$A$4:$AX$552,17,FALSE),0)","v":0},{"$f":"IFERROR(VLOOKUP($A35,Filtro!$A$4:$AX$552,18,FALSE),0)","v":0},{"$f":"IFERROR(VLOOKUP($A35,Filtro!$A$4:$AX$552,19,FALSE),0)","v":0},{"$f":"IFERROR(VLOOKUP($A35,Filtro!$A$4:$AX$552,20,FALSE),0)","v":0},{"$f":"IFERROR(VLOOKUP($A35,Filtro!$A$4:$AX$552,21,FALSE),0)","v":0},{"$f":"IFERROR(VLOOKUP($A35,Filtro!$A$4:$AX$552,22,FALSE),0)","v":0},{"$f":"IFERROR(VLOOKUP($A35,Filtro!$A$4:$AX$552,23,FALSE),0)","v":0},{"$f":"IFERROR(VLOOKUP($A35,Filtro!$A$4:$AX$552,24,FALSE),0)","v":0},{"$f":"IFERROR(VLOOKUP($A35,Filtro!$A$4:$AX$552,25,FALSE),0)","v":0},{"$f":"IFERROR(VLOOKUP($A35,Filtro!$A$4:$AX$552,26,FALSE),0)","v":0},{"$f":"IFERROR(VLOOKUP($A35,Filtro!$A$4:$AX$552,27,FALSE),0)","v":0},{"$f":"IFERROR(VLOOKUP($A35,Filtro!$A$4:$AX$552,28,FALSE),0)","v":0},{"$f":"IFERROR(VLOOKUP($A35,Filtro!$A$4:$AX$552,29,FALSE),0)","v":0},{"$f":"IFERROR(VLOOKUP($A35,Filtro!$A$4:$AX$552,30,FALSE),0)","v":0},{"$f":"IFERROR(VLOOKUP($A35,Filtro!$A$4:$AX$552,31,FALSE),0)","v":0},{"$f":"IFERROR(VLOOKUP($A35,Filtro!$A$4:$AX$552,32,FALSE),0)","v":0},{"$f":"IFERROR(VLOOKUP($A35,Filtro!$A$4:$AX$552,33,FALSE),0)","v":0},{"$f":"IFERROR(VLOOKUP($A35,Filtro!$A$4:$AX$552,34,FALSE),0)","v":0},{"$f":"IFERROR(VLOOKUP($A35,Filtro!$A$4:$AX$552,35,FALSE),0)","v":0},{"$f":"IFERROR(VLOOKUP($A35,Filtro!$A$4:$AX$552,36,FALSE),0)","v":0},""]
["P2070505",null,"NORMAL",{"$f":"IFERROR(VLOOKUP($A36,Filtro!$A$4:$AX$552,2,FALSE),0)","v":21157},{"$f":"IFERROR(VLOOKUP($A36,Filtro!$A$4:$AX$552,3,FALSE),0)","v":10639},{"$f":"IFERROR(VLOOKUP($A36,Filtro!$A$4:$AX$552,4,FALSE),0)","v":10518},{"$f":"IFERROR(VLOOKUP($A36,Filtro!$A$4:$AX$552,5,FALSE),0)","v":0},{"$f":"IFERROR(VLOOKUP($A36,Filtro!$A$4:$AX$552,6,FALSE),0)","v":0},{"$f":"IFERROR(VLOOKUP($A36,Filtro!$A$4:$AX$552,7,FALSE),0)","v":173},{"$f":"IFERROR(VLOOKUP($A36,Filtro!$A$4:$AX$552,8,FALSE),0)","v":157},{"$f":"IFERROR(VLOOKUP($A36,Filtro!$A$4:$AX$552,9,FALSE),0)","v":167},{"$f":"IFERROR(VLOOKUP($A36,Filtro!$A$4:$AX$552,10,FALSE),0)","v":179},{"$f":"IFERROR(VLOOKUP($A36,Filtro!$A$4:$AX$552,11,FALSE),0)","v":167},{"$f":"IFERROR(VLOOKUP($A36,Filtro!$A$4:$AX$552,12,FALSE),0)","v":179},{"$f":"IFERROR(VLOOKUP($A36,Filtro!$A$4:$AX$552,13,FALSE),0)","v":169},{"$f":"IFERROR(VLOOKUP($A36,Filtro!$A$4:$AX$552,14,FALSE),0)","v":175},{"$f":"IFERROR(VLOOKUP($A36,Filtro!$A$4:$AX$552,15,FALSE),0)","v":151},{"$f":"IFERROR(VLOOKUP($A36,Filtro!$A$4:$AX$552,16,FALSE),0)","v":178},{"$f":"IFERROR(VLOOKUP($A36,Filtro!$A$4:$AX$552,17,FALSE),0)","v":282},{"$f":"IFERROR(VLOOKUP($A36,Filtro!$A$4:$AX$552,18,FALSE),0)","v":258},{"$f":"IFERROR(VLOOKUP($A36,Filtro!$A$4:$AX$552,19,FALSE),0)","v":720},{"$f":"IFERROR(VLOOKUP($A36,Filtro!$A$4:$AX$552,20,FALSE),0)","v":720},{"$f":"IFERROR(VLOOKUP($A36,Filtro!$A$4:$AX$552,21,FALSE),0)","v":1050},{"$f":"IFERROR(VLOOKUP($A36,Filtro!$A$4:$AX$552,22,FALSE),0)","v":1060},{"$f":"IFERROR(VLOOKUP($A36,Filtro!$A$4:$AX$552,23,FALSE),0)","v":1183},{"$f":"IFERROR(VLOOKUP($A36,Filtro!$A$4:$AX$552,24,FALSE),0)","v":1086},{"$f":"IFERROR(VLOOKUP($A36,Filtro!$A$4:$AX$552,25,FALSE),0)","v":2148},{"$f":"IFERROR(VLOOKUP($A36,Filtro!$A$4:$AX$552,26,FALSE),0)","v":2125},{"$f":"IFERROR(VLOOKUP($A36,Filtro!$A$4:$AX$552,27,FALSE),0)","v":1264},{"$f":"IFERROR(VLOOKUP($A36,Filtro!$A$4:$AX$552,28,FALSE),0)","v":1188},{"$f":"IFERROR(VLOOKUP($A36,Filtro!$A$4:$AX$552,29,FALSE),0)","v":1038},{"$f":"IFERROR(VLOOKUP($A36,Filtro!$A$4:$AX$552,30,FALSE),0)","v":1014},{"$f":"IFERROR(VLOOKUP($A36,Filtro!$A$4:$AX$552,31,FALSE),0)","v":2127},{"$f":"IFERROR(VLOOKUP($A36,Filtro!$A$4:$AX$552,32,FALSE),0)","v":2199},{"$f":"IFERROR(VLOOKUP($A36,Filtro!$A$4:$AX$552,33,FALSE),0)","v":37},{"$f":"IFERROR(VLOOKUP($A36,Filtro!$A$4:$AX$552,34,FALSE),0)","v":45},{"$f":"IFERROR(VLOOKUP($A36,Filtro!$A$4:$AX$552,35,FALSE),0)","v":160},{"$f":"IFERROR(VLOOKUP($A36,Filtro!$A$4:$AX$552,36,FALSE),0)","v":169},"",{"$nulls":18},{"$f":"IF(AND(E36<>0,AI36=\"\"), \"* No olvide escribir en la celda de Pueblos Originarios (Digite CERO si no tiene). \",IF(AND(F36<>0,AJ36=\"\"), \"* No olvide escribir en la celda de Pueblos Originarios (Digite CERO si no tiene). \",\"\"))","v":""},{"$f":"IF(AND(E36<>0,AK36=\"\"), \"* No olvide escribir en la celda de Población Migrantes (Digite CERO si no tiene). \",IF(AND(F36<>0,AL36=\"\"), \"* No olvide escribir en la celda de Población Migrantes (Digite CERO si no tiene). \",\"\"))","v":""},{"$nulls":8},{"$f":"IF(AND(E36<>0,AI36=\"\"), 1,IF(AND(F36<>0,AJ36=\"\"), 1,0))","v":0},{"$f":"IF(AND(E36<>0,AK36=\"\"), 1,IF(AND(F36<>0,AL36=\"\"), 1,0))","v":0}]
[null,null,"SUBTOTAL",{"$f":"SUM(E37:F37)","v":34352},{"$f":"+I37+K37+M37+O37+Q37+S37+U37+W37+Y37+AA37+AC37+AE37+AG37","v":17429},16923,null,null,{"$f":"SUM(I31:I36)","v":215},{"$f":"SUM(J31:J36)","v":190},259,244,276,266,272,274,267,293,470,455,1353,1302,1805,1791,1987,1821,3489,3358,1939,1852,1606,1559,3491,3518,{"$f":"SUM(AI31:AI36)","v":72},73,224,245,{"$f":"\"\" & AY37 & AZ37","v":""},{"$nulls":11},{"$f":"IF($D37>=$AI37+$AJ37,\"\",\"* El Total de Pueblos Originarios no debe ser mayor al Total Indicador peso/talla. \")","v":""},{"$f":"IF($D37>=$AK37+$AL37,\"\",\"* El Total de Población Migrantes no debe ser mayor al Total Indicador peso/talla. \")","v":""},{"$nulls":8},{"$f":"IF($D37>=$AI37+$AJ37,0,1)","v":0},{"$f":"IF($D37>=$AK37+$AL37,0,1)","v":0}]
["P2070506",null,"DESNUTRICIÓN \nSECUNDARIA",{"$f":"IFERROR(VLOOKUP($A38,Filtro!$A$4:$AX$552,2,FALSE),0)","v":37},{"$f":"IFERROR(VLOOKUP($A38,Filtro!$A$4:$AX$552,3,FALSE),0)","v":28},{"$f":"IFERROR(VLOOKUP($A38,Filtro!$A$4:$AX$552,4,FALSE),0)","v":9},{"$f":"IFERROR(VLOOKUP($A38,Filtro!$A$4:$AX$552,5,FALSE),0)","v":0},{"$f":"IFERROR(VLOOKUP($A38,Filtro!$A$4:$AX$552,6,FALSE),0)","v":0},{"$f":"IFERROR(VLOOKUP($A38,Filtro!$A$4:$AX$552,7,FALSE),0)","v":0},{"$f":"IFERROR(VLOOKUP($A38,Filtro!$A$4:$AX$552,8,FALSE),0)","v":0},{"$f":"IFERROR(VLOOKUP($A38,Filtro!$A$4:$AX$552,9,FALSE),0)","v":2},{"$f":"IFERROR(VLOOKUP($A38,Filtro!$A$4:$AX$552,10,FALSE),0)","v":2},{"$f":"IFERROR(VLOOKUP($A38,Filtro!$A$4:$AX$552,11,FALSE),0)","v":0},{"$f":"IFERROR(VLOOKUP($A38,Filtro!$A$4:$AX$552,12,FALSE),0)","v":2},{"$f":"IFERROR(VLOOKUP($A38,Filtro!$A$4:$AX$552,13,FALSE),0)","v":0},{"$f":"IFERROR(VLOOKUP($A38,Filtro!$A$4:$AX$552,14,FALSE),0)","v":0},{"$f":"IFERROR(VLOOKUP($A38,Filtro!$A$4:$AX$552,15,FALSE),0)","v":1},{"$f":"IFERROR(VLOOKUP($A38,Filtro!$A$4:$AX$552,16,FALSE),0)","v":0},{"$f":"IFERROR(VLOOKUP($A38,Filtro!$A$4:$AX$552,17,FALSE),0)","v":0},{"$f":"IFERROR(VLOOKUP($A38,Filtro!$A$4:$AX$552,18,FALSE),0)","v":0},{"$f":"IFERROR(VLOOKUP($A38,Filtro!$A$4:$AX$552,19,FALSE),0)","v":7},{"$f":"IFERROR(VLOOKUP($A38,Filtro!$A$4:$AX$552,20,FALSE),0)","v":0},{"$f":"IFERROR(VLOOKUP($A38,Filtro!$A$4:$AX$552,21,FALSE),0)","v":2},{"$f":"IFERROR(VLOOKUP($A38,Filtro!$A$4:$AX$552,22,FALSE),0)","v":1},{"$f":"IFERROR(VLOOKUP($A38,Filtro!$A$4:$AX$552,23,FALSE),0)","v":5},{"$f":"IFERROR(VLOOKUP($A38,Filtro!$A$4:$AX$552,24,FALSE),0)","v":2},{"$f":"IFERROR(VLOOKUP($A38,Filtro!$A$4:$AX$552,25,FALSE),0)","v":2},{"$f":"IFERROR(VLOOKUP($A38,Filtro!$A$4:$AX$552,26,FALSE),0)","v":1},{"$f":"IFERROR(VLOOKUP($A38,Filtro!$A$4:$AX$552,27,FALSE),0)","v":1},{"$f":"IFERROR(VLOOKUP($A38,Filtro!$A$4:$AX$552,28,FALSE),0)","v":1},{"$f":"IFERROR(VLOOKUP($A38,Filtro!$A$4:$AX$552,29,FALSE),0)","v":4},{"$f":"IFERROR(VLOOKUP($A38,Filtro!$A$4:$AX$552,30,FALSE),0)","v":0},{"$f":"IFERROR(VLOOKUP($A38,Filtro!$A$4:$AX$552,31,FALSE),0)","v":4},{"$f":"IFERROR(VLOOKUP($A38,Filtro!$A$4:$AX$552,32,FALSE),0)","v":0},{"$f":"IFERROR(VLOOKUP($A38,Filtro!$A$4:$AX$552,33,FALSE),0)","v":0},{"$f":"IFERROR(VLOOKUP($A38,Filtro!$A$4:$AX$552,34,FALSE),0)","v":0},{"$f":"IFERROR(VLOOKUP($A38,Filtro!$A$4:$AX$552,35,FALSE),0)","v":0},{"$f":"IFERROR(VLOOKUP($A38,Filtro!$A$4:$AX$552,36,FALSE),0)","v":0},{"$f":" AY38 & AZ38 & BA38 & BB38 & BC38 & BD38 & BE38 & BF38 & BD39 & AY39 & AZ39 & BA39 & BB39 & BC39 & BE39 & BF39 & BG39 & BF40 & BG40","v":""},{"$nulls":18},{"$f":"IF(AND(E38<>0,AI38=\"\"), \"* No olvide escribir en la celda de Pueblos Originarios (Digite CERO si no tiene). \",IF(AND(F38<>0,AJ38=\"\"), \"* No olvide escribir en la celda de Pueblos Originarios (Digite CERO si no tiene). \",\"\"))","v":""},{"$f":"IF(AND(E38<>0,AK38=\"\"), \"* No olvide escribir en la celda de Población Migrantes (Digite CERO si no tiene). \",IF(AND(F38<>0,AL38=\"\"), \"* No olvide escribir en la celda de Población Migrantes (Digite CERO si no tiene). \",\"\"))","v":""},{"$nulls":8},{"$f":"IF(AND(E38<>0,AI38=\"\"), 1,IF(AND(F38<>0,AJ38=\"\"), 1,0))","v":0},{"$f":"IF(AND(E38<>0,AK38=\"\"), 1,IF(AND(F38<>0,AL38=\"\"), 1,0))","v":0}]
[null,null,"T O T A L",{"$f":"SUM(E39:F39)","v":34389},17457,16932,null,null,{"$f":"SUM(I31:I36)+I38","v":215},{"$f":"SUM(J31:J36)+J38","v":190},261,246,276,268,272,274,268,293,470,455,1360,1302,1807,1792,1992,1823,3491,3359,1940,1853,1610,1559,3495,3518,72,73,224,245,{"$f":"\"\" & AY39 & AZ39","v":""},{"$nulls":11},{"$f":"IF($D39>=$AI39+$AJ39,\"\",\"* El Total de Pueblos Originarios no debe ser mayor al Total Indicador peso/talla. \")","v":""},{"$f":"IF($D39>=$AK39+$AL39,\"\",\"* El Total de Población Migrantes no debe ser mayor al Total Indicador peso/talla. \")","v":""},{"$nulls":8},{"$f":"IF($D39>=$AI39+$AJ39,0,1)","v":0},{"$f":"IF($D39>=$AK39+$AL39,0,1)","v":0}]
[null,"SECCION A.1: POBLACIÓN EN CONTROL, SEGÚN ESTADO NUTRICIONAL PARA NIÑOS DE 60 MESES-9 AÑOS 11 MESES"]
[null,"INDICADOR NUTRICIONAL\nY\nPARÁMETROS DE MEDICIÓN",null,"TOTAL",null,null,"GRUPOS DE EDAD (en meses - años) Y SEXO"]
[{"$nulls":6},"60 a 71 meses",null,"6 a 9 años 11 meses",null,"Pueblos Originarios",null,"Población Migrantes"]
[{"$nulls":3},"Ambos\nsexos","Hombres","Mujeres","Hombres","Mujeres","Hombres","Mujeres","Hombres","Mujeres","Hombres","Mujeres"]
["P2400150","TOTAL DE NIÑOS EN CONTROL",null,{"$f":"IFERROR(VLOOKUP($A44,Filtro!$A$4:$AX$552,2,FALSE),0)","v":23701},{"$f":"IFERROR(VLOOKUP($A44,Filtro!$A$4:$AX$552,3,FALSE),0)","v":12043},{"$f":"IFERROR(VLOOKUP($A44,Filtro!$A$4:$AX$552,4,FALSE),0)","v":11658},{"$f":"IFERROR(VLOOKUP($A44,Filtro!$A$4:$AX$552,5,FALSE),0)","v":3688},{"$f":"IFERROR(VLOOKUP($A44,Filtro!$A$4:$AX$552,6,FALSE),0)","v":3424},{"$f":"IFERROR(VLOOKUP($A44,Filtro!$A$4:$AX$552,7,FALSE),0)","v":8355},{"$f":"IFERROR(VLOOKUP($A44,Filtro!$A$4:$AX$552,8,FALSE),0)","v":8234},{"$f":"IFERROR(VLOOKUP($A44,Filtro!$A$4:$AX$552,9,FALSE),0)","v":36},{"$f":"IFERROR(VLOOKUP($A44,Filtro!$A$4:$AX$552,10,FALSE),0)","v":38},{"$f":"IFERROR(VLOOKUP($A44,Filtro!$A$4:$AX$552,11,FALSE),0)","v":173},{"$f":"IFERROR(VLOOKUP($A44,Filtro!$A$4:$AX$552,12,FALSE),0)","v":144},{"$f":"AY44 & AZ44 & BA44 & BB44 & BC44 & BD44 & BF44 & BG44","v":""},{"$nulls":35},{"$f":"IF(G44<>G72,\"* El Total de niños en control no debe ser distinto al total del Diagnóstico Nutricional Integrado. \",\"\")","v":""},{"$f":"IF(H44<>H72,\"* El Total de niñas en control no debe ser distinto al total del Diagnóstico Nutricional Integrado. \",\"\")","v":""},{"$f":"IF(I44<>I72,\"* El Total de niños en control no debe ser distinto al total del Diagnóstico Nutricional Integrado. \",\"\")","v":""},{"$f":"IF(J44<>J72,\"* El Total de niñas en control no debe ser distinto al total del Diagnóstico Nutricional Integrado. \",\"\")","v":""},{"$f":"IF($D44>=$K44+$L44,\"\",\"* El Total de Pueblos Originarios no debe ser mayor al total de niños en control. \")","v":""},{"$f":"IF($D44>=$M44+$N44,\"\",\"* El Total de Pueblación Migrantes no debe ser mayor al total de niños en control. \")","v":""},null,{"$f":"IF(AND(E44<>0,K44=\"\"), \"* No olvide escribir en la celda de Pueblos Originarios (Digite CERO si no tiene). \",IF(AND(F44<>0,L44=\"\"), \"* No olvide escribir en la celda de Pueblos Originarios (Digite CERO si no tiene). \",\"\"))","v":""},{"$f":"IF(AND(E44<>0,M44=\"\"), \"* No olvide escribir en la celda de Población Migrantes (Digite CERO si no tiene). \",IF(AND(F44<>0,N44=\"\"), \"* No olvide escribir en la celda de Población Migrantes (Digite CERO si no tiene). \",\"\"))","v":""},null,{"$f":"IF(G44<>G72,1,0)","v":0},{"$f":"IF(H44<>H72,1,0)","v":0},{"$f":"IF(I44<>I72,1,0)","v":0},{"$f":"IF(J44<>J72,1,0)","v":0},{"$f":"IF($D44>=$K44+$L44,0,1)","v":0},{"$f":"IF($D44>=$M44+$N44,0,1)","v":0},null,{"$f":"IF(AND(E44<>0,K44=\"\"), 1,IF(AND(F44<>0,L44=\"\"), 1,0))","v":0},{"$f":"IF(AND(E44<>0,M44=\"\"), 1,IF(AND(F44<>0,N44=\"\"), 1,0))","v":0}]
["P2400160","INDICADOR IMC / EDAD","+ 3 D.S. (>= 3 )",{"$f":"IFERROR(VLOOKUP($A45,Filtro!$A$4:$AX$552,2,FALSE),0)","v":871},{"$f":"IFERROR(VLOOKUP($A45,Filtro!$A$4:$AX$552,3,FALSE),0)","v":582},{"$f":"IFERROR(VLOOKUP($A45,Filtro!$A$4:$AX$552,4,FALSE),0)","v":289},{"$f":"IFERROR(VLOOKUP($A45,Filtro!$A$4:$AX$552,5,FALSE),0)","v":68},{"$f":"IFERROR(VLOOKUP($A45,Filtro!$A$4:$AX$552,6,FALSE),0)","v":56},{"$f":"IFERROR(VLOOKUP($A45,Filtro!$A$4:$AX$552,7,FALSE),0)","v":514},{"$f":"IFERROR(VLOOKUP($A45,Filtro!$A$4:$AX$552,8,FALSE),0)","v":233},{"$f":"IFERROR(VLOOKUP($A45,Filtro!$A$4:$AX$552,9,FALSE),0)","v":6},{"$f":"IFERROR(VLOOKUP($A45,Filtro!$A$4:$AX$552,10,FALSE),0)","v":1},{"$f":"IFERROR(VLOOKUP($A45,Filtro!$A$4:$AX$552,11,FALSE),0)","v":4},{"$f":"IFERROR(VLOOKUP($A45,Filtro!$A$4:$AX$552,12,FALSE),0)","v":1},{"$f":"BF45 & BG45","v":""},{"$nulls":42},{"$f":"IF(AND(E45<>0,K45=\"\"), \"* No olvide escribir en la celda de Pueblos Originarios (Digite CERO si no tiene). \",IF(AND(F45<>0,L45=\"\"), \"* No olvide escribir en la celda de Pueblos Originarios (Digite CERO si no tiene). \",\"\"))","v":""},{"$f":"IF(AND(E45<>0,M45=\"\"), \"* No olvide escribir en la celda de Población Migrantes (Digite CERO si no tiene). \",IF(AND(F45<>0,N45=\"\"), \"* No olvide escribir en la celda de Población Migrantes (Digite CERO si no tiene). \",\"\"))","v":""},{"$nulls":8},{"$f":"IF(AND(E45<>0,K45=\"\"), 1,IF(AND(F45<>0,L45=\"\"), 1,0))","v":0},{"$f":"IF(AND(E45<>0,M45=\"\"), 1,IF(AND(F45<>0,N45=\"\"), 1,0))","v":0}]
["P2400170",null,"+ 2 D.S. (>= +2.0 a +2.9)",{"$f":"IFERROR(VLOOKUP($A46,Filtro!$A$4:$AX$552,2,FALSE),0)","v":3371},{"$f":"IFERROR(VLOOKUP($A46,Filtro!$A$4:$AX$552,3,FALSE),0)","v":1676},{"$f":"IFERROR(VLOOKUP($A46,Filtro!$A$4:$AX$552,4,FALSE),0)","v":1695},{"$f":"IFERROR(VLOOKUP($A46,Filtro!$A$4:$AX$552,5,FALSE),0)","v":462},{"$f":"IFERROR(VLOOKUP($A46,Filtro!$A$4:$AX$552,6,FALSE),0)","v":462},{"$f":"IFERROR(VLOOKUP($A46,Filtro!$A$4:$AX$552,7,FALSE),0)","v":1214},{"$f":"IFERROR(VLOOKUP($A46,Filtro!$A$4:$AX$552,8,FALSE),0)","v":1233},{"$f":"IFERROR(VLOOKUP($A46,Filtro!$A$4:$AX$552,9,FALSE),0)","v":3},{"$f":"IFERROR(VLOOKUP($A46,Filtro!$A$4:$AX$552,10,FALSE),0)","v":7},{"$f":"IFERROR(VLOOKUP($A46,Filtro!$A$4:$AX$552,11,FALSE),0)","v":7},{"$f":"IFERROR(VLOOKUP($A46,Filtro!$A$4:$AX$552,12,FALSE),0)","v":11},{"$f":"BF46 & BG46","v":""},{"$nulls":42},{"$f":"IF(AND(E46<>0,K46=\"\"), \"* No olvide escribir en la celda de Pueblos Originarios (Digite CERO si no tiene). \",IF(AND(F46<>0,L46=\"\"), \"* No olvide escribir en la celda de Pueblos Originarios (Digite CERO si no tiene). \",\"\"))","v":""},{"$f":"IF(AND(E46<>0,M46=\"\"), \"* No olvide escribir en la celda de Población Migrantes (Digite CERO si no tiene). \",IF(AND(F46<>0,N46=\"\"), \"* No olvide escribir en la celda de Población Migrantes (Digite CERO si no tiene). \",\"\"))","v":""},{"$nulls":8},0,0]
["P2400180",null,"+ 1 D.S. (>= +1.0 a +1.9)",{"$f":"IFERROR(VLOOKUP($A47,Filtro!$A$4:$AX$552,2,FALSE),0)","v":5147},{"$f":"IFERROR(VLOOKUP($A47,Filtro!$A$4:$AX$552,3,FALSE),0)","v":2483},{"$f":"IFERROR(VLOOKUP($A47,Filtro!$A$4:$AX$552,4,FALSE),0)","v":2664},{"$f":"IFERROR(VLOOKUP($A47,Filtro!$A$4:$AX$552,5,FALSE),0)","v":835},{"$f":"IFERROR(VLOOKUP($A47,Filtro!$A$4:$AX$552,6,FALSE),0)","v":777},{"$f":"IFERROR(VLOOKUP($A47,Filtro!$A$4:$AX$552,7,FALSE),0)","v":1648},{"$f":"IFERROR(VLOOKUP($A47,Filtro!$A$4:$AX$552,8,FALSE),0)","v":1887},{"$f":"IFERROR(VLOOKUP($A47,Filtro!$A$4:$AX$552,9,FALSE),0)","v":9},{"$f":"IFERROR(VLOOKUP($A47,Filtro!$A$4:$AX$552,10,FALSE),0)","v":6},{"$f":"IFERROR(VLOOKUP($A47,Filtro!$A$4:$AX$552,11,FALSE),0)","v":25},{"$f":"IFERROR(VLOOKUP($A47,Filtro!$A$4:$AX$552,12,FALSE),0)","v":16},{"$f":"BF47 & BG47","v":""},{"$nulls":42},{"$f":"IF(AND(E47<>0,K47=\"\"), \"* No olvide escribir en la celda de Pueblos Originarios (Digite CERO si no tiene). \",IF(AND(F47<>0,L47=\"\"), \"* No olvide escribir en la celda de Pueblos Originarios (Digite CERO si no tiene). \",\"\"))","v":""},{"$f":"IF(AND(E47<>0,M47=\"\"), \"* No olvide escribir en la celda de Población Migrantes (Digite CERO si no tiene). \",IF(AND(F47<>0,N47=\"\"), \"* No olvide escribir en la celda de Población Migrantes (Digite CERO si no tiene). \",\"\"))","v":""},{"$nulls":8},0,0]
[null,null,"TOTAL",{"$f":"+E48+F48","v":9389},{"$f":"+G48+I48","v":4741},{"$f":"+H48+J48","v":4648},{"$f":"SUM(G45:G47)","v":1365},{"$f":"SUM(H45:H47)","v":1295},3376,3353,18,14,36,28,{"$f":" BC48 & BD48","v":""},{"$nulls":39},{"$f":"IF($D48>=$K48+$L48,\"\",\"* El Total de Pueblos Originarios no debe ser mayor al total de niños en control. \")","v":""},{"$f":"IF($D48>=$M48+$N48,\"\",\"* El Total de Pueblación Migrantes no debe ser mayor al total de niños en control. \")","v":""},{"$nulls":8},{"$f":"IF($D48>=$K48+$L48,0,1)","v":0},{"$f":"IF($D48>=$M48+$N48,0,1)","v":0}]
["P2400190",null,"- 1 D.S. (<= -1.0 a -1.9)",{"$f":"IFERROR(VLOOKUP($A49,Filtro!$A$4:$AX$552,2,FALSE),0)","v":569},{"$f":"IFERROR(VLOOKUP($A49,Filtro!$A$4:$AX$552,3,FALSE),0)","v":295},{"$f":"IFERROR(VLOOKUP($A49,Filtro!$A$4:$AX$552,4,FALSE),0)","v":274},{"$f":"IFERROR(VLOOKUP($A49,Filtro!$A$4:$AX$552,5,FALSE),0)","v":81},{"$f":"IFERROR(VLOOKUP($A49,Filtro!$A$4:$AX$552,6,FALSE),0)","v":74},{"$f":"IFERROR(VLOOKUP($A49,Filtro!$A$4:$AX$552,7,FALSE),0)","v":214},{"$f":"IFERROR(VLOOKUP($A49,Filtro!$A$4:$AX$552,8,FALSE),0)","v":200},{"$f":"IFERROR(VLOOKUP($A49,Filtro!$A$4:$AX$552,9,FALSE),0)","v":1},{"$f":"IFERROR(VLOOKUP($A49,Filtro!$A$4:$AX$552,10,FALSE),0)","v":0},{"$f":"IFERROR(VLOOKUP($A49,Filtro!$A$4:$AX$552,11,FALSE),0)","v":9},{"$f":"IFERROR(VLOOKUP($A49,Filtro!$A$4:$AX$552,12,FALSE),0)","v":10},{"$f":"BF49 & BG49","v":""},{"$nulls":42},{"$f":"IF(AND(E49<>0,K49=\"\"), \"* No olvide escribir en la celda de Pueblos Originarios (Digite CERO si no tiene). \",IF(AND(F49<>0,L49=\"\"), \"* No olvide escribir en la celda de Pueblos Originarios (Digite CERO si no tiene). \",\"\"))","v":""},{"$f":"IF(AND(E49<>0,M49=\"\"), \"* No olvide escribir en la celda de Población Migrantes (Digite CERO si no tiene). \",IF(AND(F49<>0,N49=\"\"), \"* No olvide escribir en la celda de Población Migrantes (Digite CERO si no tiene). \",\"\"))","v":""},{"$nulls":8},{"$f":"IF(AND(E49<>0,K49=\"\"), 1,IF(AND(F49<>0,L49=\"\"), 1,0))","v":0},{"$f":"IF(AND(E49<>0,M49=\"\"), 1,IF(AND(F49<>0,N49=\"\"), 1,0))","v":0}]
["P2400200",null,"- 2 D.S. (<= -2.0)",{"$f":"IFERROR(VLOOKUP($A50,Filtro!$A$4:$AX$552,2,FALSE),0)","v":70},{"$f":"IFERROR(VLOOKUP($A50,Filtro!$A$4:$AX$552,3,FALSE),0)","v":23},{"$f":"IFERROR(VLOOKUP($A50,Filtro!$A$4:$AX$552,4,FALSE),0)","v":47},{"$f":"IFERROR(VLOOKUP($A50,Filtro!$A$4:$AX$552,5,FALSE),0)","v":6},{"$f":"IFERROR(VLOOKUP($A50,Filtro!$A$4:$AX$552,6,FALSE),0)","v":2},{"$f":"IFERROR(VLOOKUP($A50,Filtro!$A$4:$AX$552,7,FALSE),0)","v":17},{"$f":"IFERROR(VLOOKUP($A50,Filtro!$A$4:$AX$552,8,FALSE),0)","v":45},{"$f":"IFERROR(VLOOKUP($A50,Filtro!$A$4:$AX$552,9,FALSE),0)","v":0},{"$f":"IFERROR(VLOOKUP($A50,Filtro!$A$4:$AX$552,10,FALSE),0)","v":0},{"$f":"IFERROR(VLOOKUP($A50,Filtro!$A$4:$AX$552,11,FALSE),0)","v":0},{"$f":"IFERROR(VLOOKUP($A50,Filtro!$A$4:$AX$552,12,FALSE),0)","v":0},{"$f":"BF50 & BG50","v":""},{"$nulls":42},{"$f":"IF(AND(E50<>0,K50=\"\"), \"* No olvide escribir en la celda de Pueblos Originarios (Digite CERO si no tiene). \",IF(AND(F50<>0,L50=\"\"), \"* No olvide escribir en la celda de Pueblos Originarios (Digite CERO si no tiene). \",\"\"))","v":""},{"$f":"IF(AND(E50<>0,M50=\"\"), \"* No olvide escribir en la celda de Población Migrantes (Digite CERO si no tiene). \",IF(AND(F50<>0,N50=\"\"), \"* No olvide escribir en la celda de Población Migrantes (Digite CERO si no tiene). \",\"\"))","v":""},{"$nulls":8},0,0]
[null,null,"TOTAL",639,318,321,{"$f":"SUM(G49:G50)","v":87},{"$f":"SUM(H49:H50)","v":76},231,245,1,0,9,10,{"$f":" BC51 & BD51","v":""},{"$nulls":39},{"$f":"IF($D51>=$K51+$L51,\"\",\"* El Total de Pueblos Originarios no debe ser mayor al total de niños en control. \")","v":""},{"$f":"IF($D51>=$M51+$N51,\"\",\"* El Total de Pueblación Migrantes no debe ser mayor al total de niños en control. \")","v":""},{"$nulls":8},{"$f":"IF($D51>=$K51+$L51,0,1)","v":0},{"$f":"IF($D51>=$M51+$N51,0,1)","v":0}]
["P2400210",null,"PROMEDIO (-0,9 A + 0,9)",{"$f":"IFERROR(VLOOKUP($A52,Filtro!$A$4:$AX$552,2,FALSE),0)","v":9807},{"$f":"IFERROR(VLOOKUP($A52,Filtro!$A$4:$AX$552,3,FALSE),0)","v":5022},{"$f":"IFERROR(VLOOKUP($A52,Filtro!$A$4:$AX$552,4,FALSE),0)","v":4785},{"$f":"IFERROR(VLOOKUP($A52,Filtro!$A$4:$AX$552,5,FALSE),0)","v":1555},{"$f":"IFERROR(VLOOKUP($A52,Filtro!$A$4:$AX$552,6,FALSE),0)","v":1397},{"$f":"IFERROR(VLOOKUP($A52,Filtro!$A$4:$AX$552,7,FALSE),0)","v":3467},{"$f":"IFERROR(VLOOKUP($A52,Filtro!$A$4:$AX$552,8,FALSE),0)","v":3388},{"$f":"IFERROR(VLOOKUP($A52,Filtro!$A$4:$AX$552,9,FALSE),0)","v":12},{"$f":"IFERROR(VLOOKUP($A52,Filtro!$A$4:$AX$552,10,FALSE),0)","v":16},{"$f":"IFERROR(VLOOKUP($A52,Filtro!$A$4:$AX$552,11,FALSE),0)","v":82},{"$f":"IFERROR(VLOOKUP($A52,Filtro!$A$4:$AX$552,12,FALSE),0)","v":61},{"$f":"BF52 & BG52","v":""},{"$nulls":42},{"$f":"IF(AND(E52<>0,K52=\"\"), \"* No olvide escribir en la celda de Pueblos Originarios (Digite CERO si no tiene). \",IF(AND(F52<>0,L52=\"\"), \"* No olvide escribir en la celda de Pueblos Originarios (Digite CERO si no tiene). \",\"\"))","v":""},{"$f":"IF(AND(E52<>0,M52=\"\"), \"* No olvide escribir en la celda de Población Migrantes (Digite CERO si no tiene). \",IF(AND(F52<>0,N52=\"\"), \"* No olvide escribir en la celda de Población Migrantes (Digite CERO si no tiene). \",\"\"))","v":""},{"$nulls":8},{"$f":"IF(AND(E52<>0,K52=\"\"), 1,IF(AND(F52<>0,L52=\"\"), 1,0))","v":0},{"$f":"IF(AND(E52<>0,M52=\"\"), 1,IF(AND(F52<>0,N52=\"\"), 1,0))","v":0}]
["P2400220","INDICADOR TALLA/EDAD","+ 2 D.S. (>= +2.0)",{"$f":"IFERROR(VLOOKUP($A53,Filtro!$A$4:$AX$552,2,FALSE),0)","v":630},{"$f":"IFERROR(VLOOKUP($A53,Filtro!$A$4:$AX$552,3,FALSE),0)","v":331},{"$f":"IFERROR(VLOOKUP($A53,Filtro!$A$4:$AX$552,4,FALSE),0)","v":299},{"$f":"IFERROR(VLOOKUP($A53,Filtro!$A$4:$AX$552,5,FALSE),0)","v":74},{"$f":"IFERROR(VLOOKUP($A53,Filtro!$A$4:$AX$552,6,FALSE),0)","v":75},{"$f":"IFERROR(VLOOKUP($A53,Filtro!$A$4:$AX$552,7,FALSE),0)","v":257},{"$f":"IFERROR(VLOOKUP($A53,Filtro!$A$4:$AX$552,8,FALSE),0)","v":224},{"$f":"IFERROR(VLOOKUP($A53,Filtro!$A$4:$AX$552,9,FALSE),0)","v":1},{"$f":"IFERROR(VLOOKUP($A53,Filtro!$A$4:$AX$552,10,FALSE),0)","v":0},{"$f":"IFERROR(VLOOKUP($A53,Filtro!$A$4:$AX$552,11,FALSE),0)","v":0},{"$f":"IFERROR(VLOOKUP($A53,Filtro!$A$4:$AX$552,12,FALSE),0)","v":2},{"$f":"BF53 & BG53","v":""},{"$nulls":42},{"$f":"IF(AND(E53<>0,K53=\"\"), \"* No olvide escribir en la celda de Pueblos Originarios (Digite CERO si no tiene). \",IF(AND(F53<>0,L53=\"\"), \"* No olvide escribir en la celda de Pueblos Originarios (Digite CERO si no tiene). \",\"\"))","v":""},{"$f":"IF(AND(E53<>0,M53=\"\"), \"* No olvide escribir en la celda de Población Migrantes (Digite CERO si no tiene). \",IF(AND(F53<>0,N53=\"\"), \"* No olvide escribir en la celda de Población Migrantes (Digite CERO si no tiene). \",\"\"))","v":""},{"$nulls":8},0,0]
["P2400230",null,"+ 1 D.S. (+1.0 a +1.9)",{"$f":"IFERROR(VLOOKUP($A54,Filtro!$A$4:$AX$552,2,FALSE),0)","v":2684},{"$f":"IFERROR(VLOOKUP($A54,Filtro!$A$4:$AX$552,3,FALSE),0)","v":1361},{"$f":"IFERROR(VLOOKUP($A54,Filtro!$A$4:$AX$552,4,FALSE),0)","v":1323},{"$f":"IFERROR(VLOOKUP($A54,Filtro!$A$4:$AX$552,5,FALSE),0)","v":397},{"$f":"IFERROR(VLOOKUP($A54,Filtro!$A$4:$AX$552,6,FALSE),0)","v":340},{"$f":"IFERROR(VLOOKUP($A54,Filtro!$A$4:$AX$552,7,FALSE),0)","v":964},{"$f":"IFERROR(VLOOKUP($A54,Filtro!$A$4:$AX$552,8,FALSE),0)","v":983},{"$f":"IFERROR(VLOOKUP($A54,Filtro!$A$4:$AX$552,9,FALSE),0)","v":6},{"$f":"IFERROR(VLOOKUP($A54,Filtro!$A$4:$AX$552,10,FALSE),0)","v":4},{"$f":"IFERROR(VLOOKUP($A54,Filtro!$A$4:$AX$552,11,FALSE),0)","v":17},{"$f":"IFERROR(VLOOKUP($A54,Filtro!$A$4:$AX$552,12,FALSE),0)","v":9},{"$f":"BF54 & BG54","v":""},{"$nulls":42},{"$f":"IF(AND(E54<>0,K54=\"\"), \"* No olvide escribir en la celda de Pueblos Originarios (Digite CERO si no tiene). \",IF(AND(F54<>0,L54=\"\"), \"* No olvide escribir en la celda de Pueblos Originarios (Digite CERO si no tiene). \",\"\"))","v":""},{"$f":"IF(AND(E54<>0,M54=\"\"), \"* No olvide escribir en la celda de Población Migrantes (Digite CERO si no tiene). \",IF(AND(F54<>0,N54=\"\"), \"* No olvide escribir en la celda de Población Migrantes (Digite CERO si no tiene). \",\"\"))","v":""},{"$nulls":8},0,0]
[null,null,"TOTAL",3314,1692,1622,{"$f":"SUM(G53:G54)","v":471},{"$f":"SUM(H53:H54)","v":415},1221,1207,7,4,17,11,{"$f":" BC55 & BD55","v":""},{"$nulls":39},{"$f":"IF($D55>=$K55+$L55,\"\",\"* El Total de Pueblos Originarios no debe ser mayor al total de niños en control. \")","v":""},{"$f":"IF($D55>=$M55+$N55,\"\",\"* El Total de Pueblación Migrantes no debe ser mayor al total de niños en control. \")","v":""},{"$nulls":8},{"$f":"IF($D55>=$K55+$L55,0,1)","v":0},{"$f":"IF($D55>=$M55+$N55,0,1)","v":0}]
["P2400240",null,"- 1 D.S. (-1.0 a -1.9)",{"$f":"IFERROR(VLOOKUP($A56,Filtro!$A$4:$AX$552,2,FALSE),0)","v":2302},{"$f":"IFERROR(VLOOKUP($A56,Filtro!$A$4:$AX$552,3,FALSE),0)","v":1159},{"$f":"IFERROR(VLOOKUP($A56,Filtro!$A$4:$AX$552,4,FALSE),0)","v":1143},{"$f":"IFERROR(VLOOKUP($A56,Filtro!$A$4:$AX$552,5,FALSE),0)","v":397},{"$f":"IFERROR(VLOOKUP($A56,Filtro!$A$4:$AX$552,6,FALSE),0)","v":415},{"$f":"IFERROR(VLOOKUP($A56,Filtro!$A$4:$AX$552,7,FALSE),0)","v":762},{"$f":"IFERROR(VLOOKUP($A56,Filtro!$A$4:$AX$552,8,FALSE),0)","v":728},{"$f":"IFERROR(VLOOKUP($A56,Filtro!$A$4:$AX$552,9,FALSE),0)","v":4},{"$f":"IFERROR(VLOOKUP($A56,Filtro!$A$4:$AX$552,10,FALSE),0)","v":1},{"$f":"IFERROR(VLOOKUP($A56,Filtro!$A$4:$AX$552,11,FALSE),0)","v":22},{"$f":"IFERROR(VLOOKUP($A56,Filtro!$A$4:$AX$552,12,FALSE),0)","v":22},{"$f":"BF56 & BG56","v":""},{"$nulls":42},{"$f":"IF(AND(E56<>0,K56=\"\"), \"* No olvide escribir en la celda de Pueblos Originarios (Digite CERO si no tiene). \",IF(AND(F56<>0,L56=\"\"), \"* No olvide escribir en la celda de Pueblos Originarios (Digite CERO si no tiene). \",\"\"))","v":""},{"$f":"IF(AND(E56<>0,M56=\"\"), \"* No olvide escribir en la celda de Población Migrantes (Digite CERO si no tiene). \",IF(AND(F56<>0,N56=\"\"), \"* No olvide escribir en la celda de Población Migrantes (Digite CERO si no tiene). \",\"\"))","v":""},{"$nulls":8},{"$f":"IF(AND(E56<>0,K56=\"\"), 1,IF(AND(F56<>0,L56=\"\"), 1,0))","v":0},{"$f":"IF(AND(E56<>0,M56=\"\"), 1,IF(AND(F56<>0,N56=\"\"), 1,0))","v":0}]
["P2400250",null,"- 2 D.S. (<= -2.0)",{"$f":"IFERROR(VLOOKUP($A57,Filtro!$A$4:$AX$552,2,FALSE),0)","v":412},{"$f":"IFERROR(VLOOKUP($A57,Filtro!$A$4:$AX$552,3,FALSE),0)","v":165},{"$f":"IFERROR(VLOOKUP($A57,Filtro!$A$4:$AX$552,4,FALSE),0)","v":247},{"$f":"IFERROR(VLOOKUP($A57,Filtro!$A$4:$AX$552,5,FALSE),0)","v":41},{"$f":"IFERROR(VLOOKUP($A57,Filtro!$A$4:$AX$552,6,FALSE),0)","v":39},{"$f":"IFERROR(VLOOKUP($A57,Filtro!$A$4:$AX$552,7,FALSE),0)","v":124},{"$f":"IFERROR(VLOOKUP($A57,Filtro!$A$4:$AX$552,8,FALSE),0)","v":208},{"$f":"IFERROR(VLOOKUP($A57,Filtro!$A$4:$AX$552,9,FALSE),0)","v":0},{"$f":"IFERROR(VLOOKUP($A57,Filtro!$A$4:$AX$552,10,FALSE),0)","v":0},{"$f":"IFERROR(VLOOKUP($A57,Filtro!$A$4:$AX$552,11,FALSE),0)","v":3},{"$f":"IFERROR(VLOOKUP($A57,Filtro!$A$4:$AX$552,12,FALSE),0)","v":0},{"$f":"BF57 & BG57","v":""},{"$nulls":42},{"$f":"IF(AND(E57<>0,K57=\"\"), \"* No olvide escribir en la celda de Pueblos Originarios (Digite CERO si no tiene). \",IF(AND(F57<>0,L57=\"\"), \"* No olvide escribir en la celda de Pueblos Originarios (Digite CERO si no tiene). \",\"\"))","v":""},{"$f":"IF(AND(E57<>0,M57=\"\"), \"* No olvide escribir en la celda de Población Migrantes (Digite CERO si no tiene). \",IF(AND(F57<>0,N57=\"\"), \"* No olvide escribir en la celda de Población Migrantes (Digite CERO si no tiene). \",\"\"))","v":""},{"$nulls":8},0,0]
[null,null,"TOTAL",2714,1324,1390,{"$f":"SUM(G56:G57)","v":438},{"$f":"SUM(H56:H57)","v":454},886,936,4,1,25,22,{"$f":" BC58 & BD58","v":""},{"$nulls":39},{"$f":"IF($D58>=$K58+$L58,\"\",\"* El Total de Pueblos Originarios no debe ser mayor al total de niños en control. \")","v":""},{"$f":"IF($D58>=$M58+$N58,\"\",\"* El Total de Pueblación Migrantes no debe ser mayor al total de niños en control. \")","v":""},{"$nulls":8},{"$f":"IF($D58>=$K58+$L58,0,1)","v":0},{"$f":"IF($D58>=$M58+$N58,0,1)","v":0}]
["P2400260",null,"PROMEDIO (-0,9 A + 0,9)",{"$f":"IFERROR(VLOOKUP($A59,Filtro!$A$4:$AX$552,2,FALSE),0)","v":11972},{"$f":"IFERROR(VLOOKUP($A59,Filtro!$A$4:$AX$552,3,FALSE),0)","v":6161},{"$f":"IFERROR(VLOOKUP($A59,Filtro!$A$4:$AX$552,4,FALSE),0)","v":5811},{"$f":"IFERROR(VLOOKUP($A59,Filtro!$A$4:$AX$552,5,FALSE),0)","v":1810},{"$f":"IFERROR(VLOOKUP($A59,Filtro!$A$4:$AX$552,6,FALSE),0)","v":1652},{"$f":"IFERROR(VLOOKUP($A59,Filtro!$A$4:$AX$552,7,FALSE),0)","v":4351},{"$f":"IFERROR(VLOOKUP($A59,Filtro!$A$4:$AX$552,8,FALSE),0)","v":4159},{"$f":"IFERROR(VLOOKUP($A59,Filtro!$A$4:$AX$552,9,FALSE),0)","v":20},{"$f":"IFERROR(VLOOKUP($A59,Filtro!$A$4:$AX$552,10,FALSE),0)","v":25},{"$f":"IFERROR(VLOOKUP($A59,Filtro!$A$4:$AX$552,11,FALSE),0)","v":89},{"$f":"IFERROR(VLOOKUP($A59,Filtro!$A$4:$AX$552,12,FALSE),0)","v":63},{"$f":"BF59 & BG59","v":""},{"$nulls":42},{"$f":"IF(AND(E59<>0,K59=\"\"), \"* No olvide escribir en la celda de Pueblos Originarios (Digite CERO si no tiene). \",IF(AND(F59<>0,L59=\"\"), \"* No olvide escribir en la celda de Pueblos Originarios (Digite CERO si no tiene). \",\"\"))","v":""},{"$f":"IF(AND(E59<>0,M59=\"\"), \"* No olvide escribir en la celda de Población Migrantes (Digite CERO si no tiene). \",IF(AND(F59<>0,N59=\"\"), \"* No olvide escribir en la celda de Población Migrantes (Digite CERO si no tiene). \",\"\"))","v":""},{"$nulls":8},{"$f":"IF(AND(E59<>0,K59=\"\"), 1,IF(AND(F59<>0,L59=\"\"), 1,0))","v":0},{"$f":"IF(AND(E59<>0,M59=\"\"), 1,IF(AND(F59<>0,N59=\"\"), 1,0))","v":0}]
["P2400270","INDICADOR PERIMETRO DE CINTURA / EDAD","NORMAL (<p75)",{"$f":"IFERROR(VLOOKUP($A60,Filtro!$A$4:$AX$552,2,FALSE),0)","v":9177},{"$f":"IFERROR(VLOOKUP($A60,Filtro!$A$4:$AX$552,3,FALSE),0)","v":4726},{"$f":"IFERROR(VLOOKUP($A60,Filtro!$A$4:$AX$552,4,FALSE),0)","v":4451},{"$f":"IFERROR(VLOOKUP($A60,Filtro!$A$4:$AX$552,5,FALSE),0)","v":1332},{"$f":"IFERROR(VLOOKUP($A60,Filtro!$A$4:$AX$552,6,FALSE),0)","v":1231},{"$f":"IFERROR(VLOOKUP($A60,Filtro!$A$4:$AX$552,7,FALSE),0)","v":3394},{"$f":"IFERROR(VLOOKUP($A60,Filtro!$A$4:$AX$552,8,FALSE),0)","v":3220},{"$f":"IFERROR(VLOOKUP($A60,Filtro!$A$4:$AX$552,9,FALSE),0)","v":16},{"$f":"IFERROR(VLOOKUP($A60,Filtro!$A$4:$AX$552,10,FALSE),0)","v":20},{"$f":"IFERROR(VLOOKUP($A60,Filtro!$A$4:$AX$552,11,FALSE),0)","v":52},{"$f":"IFERROR(VLOOKUP($A60,Filtro!$A$4:$AX$552,12,FALSE),0)","v":47},{"$f":"BF60 & BG60","v":""},{"$nulls":42},{"$f":"IF(AND(E60<>0,K60=\"\"), \"* No olvide escribir en la celda de Pueblos Originarios (Digite CERO si no tiene). \",IF(AND(F60<>0,L60=\"\"), \"* No olvide escribir en la celda de Pueblos Originarios (Digite CERO si no tiene). \",\"\"))","v":""},{"$f":"IF(AND(E60<>0,M60=\"\"), \"* No olvide escribir en la celda de Población Migrantes (Digite CERO si no tiene). \",IF(AND(F60<>0,N60=\"\"), \"* No olvide escribir en la celda de Población Migrantes (Digite CERO si no tiene). \",\"\"))","v":""},{"$nulls":8},0,0]
["P2400280",null,"RIESGO DE OBESIDAD ABDOMINAL (75<p<90)",{"$f":"IFERROR(VLOOKUP($A61,Filtro!$A$4:$AX$552,2,FALSE),0)","v":2594},{"$f":"IFERROR(VLOOKUP($A61,Filtro!$A$4:$AX$552,3,FALSE),0)","v":1231},{"$f":"IFERROR(VLOOKUP($A61,Filtro!$A$4:$AX$552,4,FALSE),0)","v":1363},{"$f":"IFERROR(VLOOKUP($A61,Filtro!$A$4:$AX$552,5,FALSE),0)","v":400},{"$f":"IFERROR(VLOOKUP($A61,Filtro!$A$4:$AX$552,6,FALSE),0)","v":388},{"$f":"IFERROR(VLOOKUP($A61,Filtro!$A$4:$AX$552,7,FALSE),0)","v":831},{"$f":"IFERROR(VLOOKUP($A61,Filtro!$A$4:$AX$552,8,FALSE),0)","v":975},{"$f":"IFERROR(VLOOKUP($A61,Filtro!$A$4:$AX$552,9,FALSE),0)","v":10},{"$f":"IFERROR(VLOOKUP($A61,Filtro!$A$4:$AX$552,10,FALSE),0)","v":5},{"$f":"IFERROR(VLOOKUP($A61,Filtro!$A$4:$AX$552,11,FALSE),0)","v":10},{"$f":"IFERROR(VLOOKUP($A61,Filtro!$A$4:$AX$552,12,FALSE),0)","v":7},{"$f":"BF61 & BG61","v":""},{"$nulls":42},{"$f":"IF(AND(E61<>0,K61=\"\"), \"* No olvide escribir en la celda de Pueblos Originarios (Digite CERO si no tiene). \",IF(AND(F61<>0,L61=\"\"), \"* No olvide escribir en la celda de Pueblos Originarios (Digite CERO si no tiene). \",\"\"))","v":""},{"$f":"IF(AND(E61<>0,M61=\"\"), \"* No olvide escribir en la celda de Población Migrantes (Digite CERO si no tiene). \",IF(AND(F61<>0,N61=\"\"), \"* No olvide escribir en la celda de Población Migrantes (Digite CERO si no tiene). \",\"\"))","v":""},{"$nulls":8},0,0]
["P2400290",null,"OBESIDAD ABDOMINAL (>p90)",{"$f":"IFERROR(VLOOKUP($A62,Filtro!$A$4:$AX$552,2,FALSE),0)","v":2222},{"$f":"IFERROR(VLOOKUP($A62,Filtro!$A$4:$AX$552,3,FALSE),0)","v":1162},{"$f":"IFERROR(VLOOKUP($A62,Filtro!$A$4:$AX$552,4,FALSE),0)","v":1060},{"$f":"IFERROR(VLOOKUP($A62,Filtro!$A$4:$AX$552,5,FALSE),0)","v":234},{"$f":"IFERROR(VLOOKUP($A62,Filtro!$A$4:$AX$552,6,FALSE),0)","v":226},{"$f":"IFERROR(VLOOKUP($A62,Filtro!$A$4:$AX$552,7,FALSE),0)","v":928},{"$f":"IFERROR(VLOOKUP($A62,Filtro!$A$4:$AX$552,8,FALSE),0)","v":834},{"$f":"IFERROR(VLOOKUP($A62,Filtro!$A$4:$AX$552,9,FALSE),0)","v":3},{"$f":"IFERROR(VLOOKUP($A62,Filtro!$A$4:$AX$552,10,FALSE),0)","v":7},{"$f":"IFERROR(VLOOKUP($A62,Filtro!$A$4:$AX$552,11,FALSE),0)","v":4},{"$f":"IFERROR(VLOOKUP($A62,Filtro!$A$4:$AX$552,12,FALSE),0)","v":6},{"$f":"BF62 & BG62","v":""},{"$nulls":42},{"$f":"IF(AND(E62<>0,K62=\"\"), \"* No olvide escribir en la celda de Pueblos Originarios (Digite CERO si no tiene). \",IF(AND(F62<>0,L62=\"\"), \"* No olvide escribir en la celda de Pueblos Originarios (Digite CERO si no tiene). \",\"\"))","v":""},{"$f":"IF(AND(E62<>0,M62=\"\"), \"* No olvide escribir en la celda de Población Migrantes (Digite CERO si no tiene). \",IF(AND(F62<>0,N62=\"\"), \"* No olvide escribir en la celda de Población Migrantes (Digite CERO si no tiene). \",\"\"))","v":""},{"$nulls":8},0,0]
[null,null,"TOTAL",{"$f":"+E63+F63","v":13993},{"$f":"+G63+I63","v":7119},6874,{"$f":"SUM(G60:G62)","v":1966},{"$f":"SUM(H60:H62)","v":1845},5153,5029,29,32,66,60,{"$f":" BC63 & BD63","v":""},{"$nulls":39},{"$f":"IF($D63>=$K63+$L63,\"\",\"* El Total de Pueblos Originarios no debe ser mayor al total de niños en control. \")","v":""},{"$f":"IF($D63>=$M63+$N63,\"\",\"* El Total de Pueblación Migrantes no debe ser mayor al total de niños en control. \")","v":""},{"$nulls":8},{"$f":"IF($D63>=$K63+$L63,0,1)","v":0},{"$f":"IF($D63>=$M63+$N63,0,1)","v":0}]
["P2400300","DIAGNOSTICO NUTRICIONAL INTEGRADO","RIESGO DE DESNUTRIR/ DEFICIT PONDERAL*",{"$f":"IFERROR(VLOOKUP($A64,Filtro!$A$4:$AX$552,2,FALSE),0)","v":476},{"$f":"IFERROR(VLOOKUP($A64,Filtro!$A$4:$AX$552,3,FALSE),0)","v":255},{"$f":"IFERROR(VLOOKUP($A64,Filtro!$A$4:$AX$552,4,FALSE),0)","v":221},{"$f":"IFERROR(VLOOKUP($A64,Filtro!$A$4:$AX$552,5,FALSE),0)","v":68},{"$f":"IFERROR(VLOOKUP($A64,Filtro!$A$4:$AX$552,6,FALSE),0)","v":58},{"$f":"IFERROR(VLOOKUP($A64,Filtro!$A$4:$AX$552,7,FALSE),0)","v":187},{"$f":"IFERROR(VLOOKUP($A64,Filtro!$A$4:$AX$552,8,FALSE),0)","v":163},{"$f":"IFERROR(VLOOKUP($A64,Filtro!$A$4:$AX$552,9,FALSE),0)","v":1},{"$f":"IFERROR(VLOOKUP($A64,Filtro!$A$4:$AX$552,10,FALSE),0)","v":0},{"$f":"IFERROR(VLOOKUP($A64,Filtro!$A$4:$AX$552,11,FALSE),0)","v":6},{"$f":"IFERROR(VLOOKUP($A64,Filtro!$A$4:$AX$552,12,FALSE),0)","v":9},{"$f":"BF64 & BG64","v":""},{"$nulls":42},{"$f":"IF(AND(E64<>0,K64=\"\"), \"* No olvide escribir en la celda de Pueblos Originarios (Digite CERO si no tiene). \",IF(AND(F64<>0,L64=\"\"), \"* No olvide escribir en la celda de Pueblos Originarios (Digite CERO si no tiene). \",\"\"))","v":""},{"$f":"IF(AND(E64<>0,M64=\"\"), \"* No olvide escribir en la celda de Población Migrantes (Digite CERO si no tiene). \",IF(AND(F64<>0,N64=\"\"), \"* No olvide escribir en la celda de Población Migrantes (Digite CERO si no tiene). \",\"\"))","v":""},{"$nulls":8},{"$f":"IF(AND(E64<>0,K64=\"\"), 1,IF(AND(F64<>0,L64=\"\"), 1,0))","v":0},{"$f":"IF(AND(E64<>0,M64=\"\"), 1,IF(AND(F64<>0,N64=\"\"), 1,0))","v":0}]
["P2400310",null,"DESNUTRIDO",{"$f":"IFERROR(VLOOKUP($A65,Filtro!$A$4:$AX$552,2,FALSE),0)","v":59},{"$f":"IFERROR(VLOOKUP($A65,Filtro!$A$4:$AX$552,3,FALSE),0)","v":20},{"$f":"IFERROR(VLOOKUP($A65,Filtro!$A$4:$AX$552,4,FALSE),0)","v":39},{"$f":"IFERROR(VLOOKUP($A65,Filtro!$A$4:$AX$552,5,FALSE),0)","v":3},{"$f":"IFERROR(VLOOKUP($A65,Filtro!$A$4:$AX$552,6,FALSE),0)","v":3},{"$f":"IFERROR(VLOOKUP($A65,Filtro!$A$4:$AX$552,7,FALSE),0)","v":17},{"$f":"IFERROR(VLOOKUP($A65,Filtro!$A$4:$AX$552,8,FALSE),0)","v":36},{"$f":"IFERROR(VLOOKUP($A65,Filtro!$A$4:$AX$552,9,FALSE),0)","v":0},{"$f":"IFERROR(VLOOKUP($A65,Filtro!$A$4:$AX$552,10,FALSE),0)","v":1},{"$f":"IFERROR(VLOOKUP($A65,Filtro!$A$4:$AX$552,11,FALSE),0)","v":0},{"$f":"IFERROR(VLOOKUP($A65,Filtro!$A$4:$AX$552,12,FALSE),0)","v":0},"",{"$nulls":42},"","",{"$nulls":8},0,0]
["P2400320",null,"SOBREPESO / RIESGO OBESIDAD",{"$f":"IFERROR(VLOOKUP($A66,Filtro!$A$4:$AX$552,2,FALSE),0)","v":5210},{"$f":"IFERROR(VLOOKUP($A66,Filtro!$A$4:$AX$552,3,FALSE),0)","v":2519},{"$f":"IFERROR(VLOOKUP($A66,Filtro!$A$4:$AX$552,4,FALSE),0)","v":2691},{"$f":"IFERROR(VLOOKUP($A66,Filtro!$A$4:$AX$552,5,FALSE),0)","v":848},{"$f":"IFERROR(VLOOKUP($A66,Filtro!$A$4:$AX$552,6,FALSE),0)","v":783},{"$f":"IFERROR(VLOOKUP($A66,Filtro!$A$4:$AX$552,7,FALSE),0)","v":1671},{"$f":"IFERROR(VLOOKUP($A66,Filtro!$A$4:$AX$552,8,FALSE),0)","v":1908},{"$f":"IFERROR(VLOOKUP($A66,Filtro!$A$4:$AX$552,9,FALSE),0)","v":10},{"$f":"IFERROR(VLOOKUP($A66,Filtro!$A$4:$AX$552,10,FALSE),0)","v":8},{"$f":"IFERROR(VLOOKUP($A66,Filtro!$A$4:$AX$552,11,FALSE),0)","v":25},{"$f":"IFERROR(VLOOKUP($A66,Filtro!$A$4:$AX$552,12,FALSE),0)","v":18},"",{"$nulls":42},"","",{"$nulls":8},0,0]
["P2400330",null,"OBESO",{"$f":"IFERROR(VLOOKUP($A67,Filtro!$A$4:$AX$552,2,FALSE),0)","v":3430},{"$f":"IFERROR(VLOOKUP($A67,Filtro!$A$4:$AX$552,3,FALSE),0)","v":1708},{"$f":"IFERROR(VLOOKUP($A67,Filtro!$A$4:$AX$552,4,FALSE),0)","v":1722},{"$f":"IFERROR(VLOOKUP($A67,Filtro!$A$4:$AX$552,5,FALSE),0)","v":471},{"$f":"IFERROR(VLOOKUP($A67,Filtro!$A$4:$AX$552,6,FALSE),0)","v":472},{"$f":"IFERROR(VLOOKUP($A67,Filtro!$A$4:$AX$552,7,FALSE),0)","v":1237},{"$f":"IFERROR(VLOOKUP($A67,Filtro!$A$4:$AX$552,8,FALSE),0)","v":1250},{"$f":"IFERROR(VLOOKUP($A67,Filtro!$A$4:$AX$552,9,FALSE),0)","v":3},{"$f":"IFERROR(VLOOKUP($A67,Filtro!$A$4:$AX$552,10,FALSE),0)","v":8},{"$f":"IFERROR(VLOOKUP($A67,Filtro!$A$4:$AX$552,11,FALSE),0)","v":8},{"$f":"IFERROR(VLOOKUP($A67,Filtro!$A$4:$AX$552,12,FALSE),0)","v":11},"",{"$nulls":42},"","",{"$nulls":8},0,0]
["P2400340",null,"OBESO SEVERO",{"$f":"IFERROR(VLOOKUP($A68,Filtro!$A$4:$AX$552,2,FALSE),0)","v":852},{"$f":"IFERROR(VLOOKUP($A68,Filtro!$A$4:$AX$552,3,FALSE),0)","v":573},{"$f":"IFERROR(VLOOKUP($A68,Filtro!$A$4:$AX$552,4,FALSE),0)","v":279},{"$f":"IFERROR(VLOOKUP($A68,Filtro!$A$4:$AX$552,5,FALSE),0)","v":70},{"$f":"IFERROR(VLOOKUP($A68,Filtro!$A$4:$AX$552,6,FALSE),0)","v":54},{"$f":"IFERROR(VLOOKUP($A68,Filtro!$A$4:$AX$552,7,FALSE),0)","v":503},{"$f":"IFERROR(VLOOKUP($A68,Filtro!$A$4:$AX$552,8,FALSE),0)","v":225},{"$f":"IFERROR(VLOOKUP($A68,Filtro!$A$4:$AX$552,9,FALSE),0)","v":5},{"$f":"IFERROR(VLOOKUP($A68,Filtro!$A$4:$AX$552,10,FALSE),0)","v":1},{"$f":"IFERROR(VLOOKUP($A68,Filtro!$A$4:$AX$552,11,FALSE),0)","v":3},{"$f":"IFERROR(VLOOKUP($A68,Filtro!$A$4:$AX$552,12,FALSE),0)","v":0},"",{"$nulls":42},"","",{"$nulls":8},0,0]
["P2400350",null,"NORMAL",{"$f":"IFERROR(VLOOKUP($A69,Filtro!$A$4:$AX$552,2,FALSE),0)","v":13664},{"$f":"IFERROR(VLOOKUP($A69,Filtro!$A$4:$AX$552,3,FALSE),0)","v":6963},{"$f":"IFERROR(VLOOKUP($A69,Filtro!$A$4:$AX$552,4,FALSE),0)","v":6701},{"$f":"IFERROR(VLOOKUP($A69,Filtro!$A$4:$AX$552,5,FALSE),0)","v":2226},{"$f":"IFERROR(VLOOKUP($A69,Filtro!$A$4:$AX$552,6,FALSE),0)","v":2054},{"$f":"IFERROR(VLOOKUP($A69,Filtro!$A$4:$AX$552,7,FALSE),0)","v":4737},{"$f":"IFERROR(VLOOKUP($A69,Filtro!$A$4:$AX$552,8,FALSE),0)","v":4647},{"$f":"IFERROR(VLOOKUP($A69,Filtro!$A$4:$AX$552,9,FALSE),0)","v":16},{"$f":"IFERROR(VLOOKUP($A69,Filtro!$A$4:$AX$552,10,FALSE),0)","v":22},{"$f":"IFERROR(VLOOKUP($A69,Filtro!$A$4:$AX$552,11,FALSE),0)","v":135},{"$f":"IFERROR(VLOOKUP($A69,Filtro!$A$4:$AX$552,12,FALSE),0)","v":105},"",{"$nulls":42},"","",{"$nulls":8},0,0]
[null,null,"SUBTOTAL",{"$f":"+E70+F70","v":23691},12038,11653,{"$f":"SUM(G64:G69)","v":3686},{"$f":"SUM(H64:H69)","v":3424},8352,8229,35,40,177,143,{"$f":" BC70 & BD70","v":""},{"$nulls":39},{"$f":"IF($D70>=$K70+$L70,\"\",\"* El Total de Pueblos Originarios no debe ser mayor al total de niños en control. \")","v":""},{"$f":"IF($D70>=$M70+$N70,\"\",\"* El Total de Pueblación Migrantes no debe ser mayor al total de niños en control. \")","v":""},{"$nulls":8},{"$f":"IF($D70>=$K70+$L70,0,1)","v":0},{"$f":"IF($D70>=$M70+$N70,0,1)","v":0}]
["P2400360",null,"DESNUTRICIÓN \nSECUNDARIA",{"$f":"IFERROR(VLOOKUP($A71,Filtro!$A$4:$AX$552,2,FALSE),0)","v":10},{"$f":"IFERROR(VLOOKUP($A71,Filtro!$A$4:$AX$552,3,FALSE),0)","v":5},{"$f":"IFERROR(VLOOKUP($A71,Filtro!$A$4:$AX$552,4,FALSE),0)","v":5},{"$f":"IFERROR(VLOOKUP($A71,Filtro!$A$4:$AX$552,5,FALSE),0)","v":2},{"$f":"IFERROR(VLOOKUP($A71,Filtro!$A$4:$AX$552,6,FALSE),0)","v":0},{"$f":"IFERROR(VLOOKUP($A71,Filtro!$A$4:$AX$552,7,FALSE),0)","v":3},{"$f":"IFERROR(VLOOKUP($A71,Filtro!$A$4:$AX$552,8,FALSE),0)","v":5},{"$f":"IFERROR(VLOOKUP($A71,Filtro!$A$4:$AX$552,9,FALSE),0)","v":0},{"$f":"IFERROR(VLOOKUP($A71,Filtro!$A$4:$AX$552,10,FALSE),0)","v":0},{"$f":"IFERROR(VLOOKUP($A71,Filtro!$A$4:$AX$552,11,FALSE),0)","v":0},{"$f":"IFERROR(VLOOKUP($A71,Filtro!$A$4:$AX$552,12,FALSE),0)","v":0},{"$f":"BF71 & BG71","v":""},{"$nulls":42},{"$f":"IF(AND(E71<>0,K71=\"\"), \"* No olvide escribir en la celda de Pueblos Originarios (Digite CERO si no tiene). \",IF(AND(F71<>0,L71=\"\"), \"* No olvide escribir en la celda de Pueblos Originarios (Digite CERO si no tiene). \",\"\"))","v":""},{"$f":"IF(AND(E71<>0,M71=\"\"), \"* No olvide escribir en la celda de Población Migrantes (Digite CERO si no tiene). \",IF(AND(F71<>0,N71=\"\"), \"* No olvide escribir en la celda de Población Migrantes (Digite CERO si no tiene). \",\"\"))","v":""},{"$nulls":8},{"$f":"IF(AND(E71<>0,K71=\"\"), 1,IF(AND(F71<>0,L71=\"\"), 1,0))","v":0},{"$f":"IF(AND(E71<>0,M71=\"\"), 1,IF(AND(F71<>0,N71=\"\"), 1,0))","v":0}]
[null,null,"T O T A L",{"$f":"SUM(D64:D69)+D71","v":23701},12043,11658,3688,3424,8355,8234,35,40,177,143,{"$f":" BC72 & BD72","v":""},{"$nulls":39},{"$f":"IF($D72>=$K72+$L72,\"\",\"* El Total de Pueblos Originarios no debe ser mayor al total de niños en control. \")","v":""},{"$f":"IF($D72>=$M72+$N72,\"\",\"* El Total de Pueblación Migrantes no debe ser mayor al total de niños en control. \")","v":""},{"$nulls":8},{"$f":"IF($D72>=$K72+$L72,0,1)","v":0},{"$f":"IF($D72>=$M72+$N72,0,1)","v":0}]
[null,"NOTA(*): El Diagnóstico Nutricional Integrado de Déficit para los niños (as) 5 años y más denomina Déficit Ponderal al Riesgo de Desnutrir."]
[null,"SECCION B: POBLACION EN CONTROL SEGÚN RESULTADO DE EVALUACIÓN DEL DESARROLLO PSICOMOTOR"]
[null,"RESULTADO Y\nGRUPOS DE EDAD",null,"TOTAL","Hombres","Mujeres"]
["P2100200","RIESGO","Menor de 12 meses",{"$f":"IFERROR(VLOOKUP($A76,Filtro!$A$4:$AX$552,2,FALSE),0)","v":45},{"$f":"IFERROR(VLOOKUP($A76,Filtro!$A$4:$AX$552,3,FALSE),0)","v":13},{"$f":"IFERROR(VLOOKUP($A76,Filtro!$A$4:$AX$552,4,FALSE),0)","v":32},{"$f":" BC76 & BD76","v":""},{"$nulls":47},{"$f":"IF($G11+$I11+$K11+$M11+$O11+$Q11+$S11+$U11<$E76+$E81,\"* La suma de Población Masculina Menor de 12 meses según resultado de 'Riesgo y Retraso' no puede ser mayor que la Población Masculina bajo control de la sección A. \",\"\")","v":""},{"$f":"IF($H11+$J11+$L11+$N11+$P11+$R11+$T11+$V11<$F76+$F81,\"* La suma de Población Femenina de Menor de 12 meses según resultado de 'Riesgo y Retraso' no puede ser mayor que la Población Femenina bajo control de la sección A. \",\"\")","v":""},{"$nulls":8},{"$f":"IF($G11+$I11+$K11+$M11+$O11+$Q11+$S11+$U11<$E76+$E81,1,0)","v":0},{"$f":"IF($H11+$J11+$L11+$N11+$P11+$R11+$T11+$V11<$F76+$F81,1,0)","v":0}]
["P2300100",null,"12 a 17 meses",{"$f":"IFERROR(VLOOKUP($A77,Filtro!$A$4:$AX$552,2,FALSE),0)","v":37},{"$f":"IFERROR(VLOOKUP($A77,Filtro!$A$4:$AX$552,3,FALSE),0)","v":19},{"$f":"IFERROR(VLOOKUP($A77,Filtro!$A$4:$AX$552,4,FALSE),0)","v":18},{"$f":" BC77 & BD77","v":""},{"$nulls":47},{"$f":"IF($W$11<$E$77+$E$82,\"* La suma de Población Masculina de 12 a 17 meses según resultado de 'Riesgo y Retraso' no puede ser mayor que la Población Masculina bajo control de la sección A. \",\"\")","v":""},{"$f":"IF($X$11<$F$77+$F$82,\"* La suma de Población Femenina de 12 a 17 meses según resultado de 'Riesgo y Retraso' no puede ser mayor que la Población Femenina bajo control de la sección A. \",\"\")","v":""},{"$nulls":8},{"$f":"IF($W$11<$E$77+$E$82,1,0)","v":0},{"$f":"IF($X$11<$F$77+$F$82,1,0)","v":0}]
["P2300200",null,"18 a 23 meses",{"$f":"IFERROR(VLOOKUP($A78,Filtro!$A$4:$AX$552,2,FALSE),0)","v":118},{"$f":"IFERROR(VLOOKUP($A78,Filtro!$A$4:$AX$552,3,FALSE),0)","v":68},{"$f":"IFERROR(VLOOKUP($A78,Filtro!$A$4:$AX$552,4,FALSE),0)","v":50},{"$f":" BC78 & BD78","v":""},{"$nulls":47},{"$f":"IF($Y$11<$E$78+$E$83,\"* La suma de Población Masculina de 18 a 23 meses según resultado de 'Riesgo y Retraso' no puede ser mayor que la Población Masculina bajo control de la sección A. \",\"\")","v":""},{"$f":"IF($Z$11<$F$78+$F$83,\"* La suma de Población Femenina de 18 a 23 meses según resultado de 'Riesgo y Retraso' no puede ser mayor que la Población Femenina bajo control de la sección A. \",\"\")","v":""},{"$nulls":8},{"$f":"IF($Y$11<$E$78+$E$83,1,0)","v":0},{"$f":"IF($Z$11<$F$78+$F$83,1,0)","v":0}]
["P2100400",null,"24 a 47 meses",{"$f":"IFERROR(VLOOKUP($A79,Filtro!$A$4:$AX$552,2,FALSE),0)","v":93},{"$f":"IFERROR(VLOOKUP($A79,Filtro!$A$4:$AX$552,3,FALSE),0)","v":60},{"$f":"IFERROR(VLOOKUP($A79,Filtro!$A$4:$AX$552,4,FALSE),0)","v":33},{"$f":" BC79 & BD79","v":""},{"$nulls":47},{"$f":"IF($AA11+$AE11+$AC11<$E79+$E84,\"* La suma de Población Masculina de 24 a 47 meses según resultado de 'Riesgo y Retraso' no puede ser mayor que la Población Masculina bajo control de la sección A. \",\"\")","v":""},{"$f":"IF($AB11+$AF11+$AD11<$F79+$F84,\"* La suma de Población Femenina de 24 a 47 meses según resultado de 'Riesgo y Retraso' no puede ser mayor que la Población Femenina bajo control de la sección A. \",\"\")","v":""},{"$nulls":8},{"$f":"IF($AA11+$AE11+$AC11<$E79+$E84,1,0)","v":0},{"$f":"IF($AB11+$AF11+$AD11<$F79+$F84,1,0)","v":0}]
["P2100500",null,"48 a 59 meses",{"$f":"IFERROR(VLOOKUP($A80,Filtro!$A$4:$AX$552,2,FALSE),0)","v":15},{"$f":"IFERROR(VLOOKUP($A80,Filtro!$A$4:$AX$552,3,FALSE),0)","v":14},{"$f":"IFERROR(VLOOKUP($A80,Filtro!$A$4:$AX$552,4,FALSE),0)","v":1},{"$f":" BC80 & BD80","v":""},{"$nulls":47},{"$f":"IF($AG$11<$E$80+$E$85,\"* La suma de Población Masculina de 48 a 59 meses según resultado de 'Riesgo y Retraso' no puede ser mayor que la Población Masculina bajo control de la sección A. \",\"\")","v":""},{"$f":"IF($AH$11<$F$80+$F$85,\"* La suma de Población Femenina de 48 a 59 meses según resultado de 'Riesgo y Retraso' no puede ser mayor que la Población Femenina bajo control de la sección A. \",\"\")","v":""},{"$nulls":8},{"$f":"IF($AG$11<$E$80+$E$85,1,0)","v":0},{"$f":"IF($AH$11<$F$80+$F$85,1,0)","v":0}]
["P2100600","RETRASO","Menor de 12 meses",{"$f":"IFERROR(VLOOKUP($A81,Filtro!$A$4:$AX$552,2,FALSE),0)","v":7},{"$f":"IFERROR(VLOOKUP($A81,Filtro!$A$4:$AX$552,3,FALSE),0)","v":5},{"$f":"IFERROR(VLOOKUP($A81,Filtro!$A$4:$AX$552,4,FALSE),0)","v":2}]
["P2300300",null,"12 a 17 meses",{"$f":"IFERROR(VLOOKUP($A82,Filtro!$A$4:$AX$552,2,FALSE),0)","v":0},{"$f":"IFERROR(VLOOKUP($A82,Filtro!$A$4:$AX$552,3,FALSE),0)","v":0},{"$f":"IFERROR(VLOOKUP($A82,Filtro!$A$4:$AX$552,4,FALSE),0)","v":0}]
["P2300400",null,"18 a 23 meses",{"$f":"IFERROR(VLOOKUP($A83,Filtro!$A$4:$AX$552,2,FALSE),0)","v":30},{"$f":"IFERROR(VLOOKUP($A83,Filtro!$A$4:$AX$552,3,FALSE),0)","v":17},{"$f":"IFERROR(VLOOKUP($A83,Filtro!$A$4:$AX$552,4,FALSE),0)","v":13}]
["P2200900",null,"24 a 47 meses",{"$f":"IFERROR(VLOOKUP($A84,Filtro!$A$4:$AX$552,2,FALSE),0)","v":37},{"$f":"IFERROR(VLOOKUP($A84,Filtro!$A$4:$AX$552,3,FALSE),0)","v":18},{"$f":"IFERROR(VLOOKUP($A84,Filtro!$A$4:$AX$552,4,FALSE),0)","v":19}]
["P2300000",null,"48 a 59 meses",{"$f":"IFERROR(VLOOKUP($A85,Filtro!$A$4:$AX$552,2,FALSE),0)","v":11},{"$f":"IFERROR(VLOOKUP($A85,Filtro!$A$4:$AX$552,3,FALSE),0)","v":11},{"$f":"IFERROR(VLOOKUP($A85,Filtro!$A$4:$AX$552,4,FALSE),0)","v":0}]
[null,"SECCION C: POBLACIÓN MENOR DE 1 AÑO EN CONTROL, SEGÚN SCORE RIESGO EN IRA Y VISITA DOMICILIARIA INTEGRAL EN EL SEMESTRE"]
[null,"RESULTADO",null,"TOTAL","Diada, menor de 10 días","1 mes","2 meses","3 meses","4 meses","5 meses","6 meses","Total de Niños y Niñas que han recibido VDI"]
[]
["P2090300","SCORE \nDE RIESGO","LEVE",{"$f":"IFERROR(VLOOKUP($A89,Filtro!$A$4:$AX$552,2,FALSE),0)","v":3267},{"$f":"IFERROR(VLOOKUP($A89,Filtro!$A$4:$AX$552,3,FALSE),0)","v":505},{"$f":"IFERROR(VLOOKUP($A89,Filtro!$A$4:$AX$552,4,FALSE),0)","v":412},{"$f":"IFERROR(VLOOKUP($A89,Filtro!$A$4:$AX$552,5,FALSE),0)","v":495},{"$f":"IFERROR(VLOOKUP($A89,Filtro!$A$4:$AX$552,6,FALSE),0)","v":372},{"$f":"IFERROR(VLOOKUP($A89,Filtro!$A$4:$AX$552,7,FALSE),0)","v":454},{"$f":"IFERROR(VLOOKUP($A89,Filtro!$A$4:$AX$552,8,FALSE),0)","v":345},{"$f":"IFERROR(VLOOKUP($A89,Filtro!$A$4:$AX$552,9,FALSE),0)","v":684},{"$f":"IFERROR(VLOOKUP($A89,Filtro!$A$4:$AX$552,10,FALSE),0)","v":0}]
["P2090400",null,"MODERADO",{"$f":"IFERROR(VLOOKUP($A90,Filtro!$A$4:$AX$552,2,FALSE),0)","v":367},{"$f":"IFERROR(VLOOKUP($A90,Filtro!$A$4:$AX$552,3,FALSE),0)","v":24},{"$f":"IFERROR(VLOOKUP($A90,Filtro!$A$4:$AX$552,4,FALSE),0)","v":45},{"$f":"IFERROR(VLOOKUP($A90,Filtro!$A$4:$AX$552,5,FALSE),0)","v":66},{"$f":"IFERROR(VLOOKUP($A90,Filtro!$A$4:$AX$552,6,FALSE),0)","v":31},{"$f":"IFERROR(VLOOKUP($A90,Filtro!$A$4:$AX$552,7,FALSE),0)","v":64},{"$f":"IFERROR(VLOOKUP($A90,Filtro!$A$4:$AX$552,8,FALSE),0)","v":38},{"$f":"IFERROR(VLOOKUP($A90,Filtro!$A$4:$AX$552,9,FALSE),0)","v":99},{"$f":"IFERROR(VLOOKUP($A90,Filtro!$A$4:$AX$552,10,FALSE),0)","v":59},{"$nulls":42},{"$f":"IF($D90<$L90, \"* Niños visitados no puede ser mayor que el total Score Moderado. \",\"\")","v":""},{"$nulls":8},{"$f":"IF($D90<$L90, 1,0)","v":0}]
["P2100100",null,"GRAVE",{"$f":"IFERROR(VLOOKUP($A91,Filtro!$A$4:$AX$552,2,FALSE),0)","v":147},{"$f":"IFERROR(VLOOKUP($A91,Filtro!$A$4:$AX$552,3,FALSE),0)","v":8},{"$f":"IFERROR(VLOOKUP($A91,Filtro!$A$4:$AX$552,4,FALSE),0)","v":12},{"$f":"IFERROR(VLOOKUP($A91,Filtro!$A$4:$AX$552,5,FALSE),0)","v":29},{"$f":"IFERROR(VLOOKUP($A91,Filtro!$A$4:$AX$552,6,FALSE),0)","v":16},{"$f":"IFERROR(VLOOKUP($A91,Filtro!$A$4:$AX$552,7,FALSE),0)","v":22},{"$f":"IFERROR(VLOOKUP($A91,Filtro!$A$4:$AX$552,8,FALSE),0)","v":21},{"$f":"IFERROR(VLOOKUP($A91,Filtro!$A$4:$AX$552,9,FALSE),0)","v":39},{"$f":"IFERROR(VLOOKUP($A91,Filtro!$A$4:$AX$552,10,FALSE),0)","v":53},{"$nulls":42},{"$f":"IF($D91<$L91, \"* Niños visitados no puede ser mayor que el total Score Grave. \",\"\")","v":""},{"$nulls":8},{"$f":"IF($D91<$L91,1,0)","v":0}]
[null,null,"TOTAL",{"$f":"SUM(E92:K92)","v":3781},{"$f":"SUM(E89:E91)","v":537},{"$f":"SUM(F89:F91)","v":469},{"$f":"SUM(G89:G91)","v":590},419,540,404,822,{"$f":"SUM(L90:L91)","v":112}]
[null,"SECCION D: POBLACIÓN EN CONTROL EN EL SEMESTRE CON CONSULTA NUTRICIONAL, SEGÚN ESTRATEGIA"]
[null,"NIÑO/A CON CONSULTA NUTRICIONAL EN",null,"TOTAL"]
[]
["P2200700","Del 5to mes",null,{"$f":"IFERROR(VLOOKUP($A96,Filtro!$A$4:$AX$552,2,FALSE),0)","v":2610}]
["P2200800","De los 3 años y 6 meses",null,{"$f":"IFERROR(VLOOKUP($A97,Filtro!$A$4:$AX$552,2,FALSE),0)","v":767}]
[null,"SECCION E: POBLACIÓN INASISTENTE A CONTROL DEL NIÑO SANO (AL CORTE)"]
[null,"EDAD",null,"TOTAL"]
[]
["P2300410","Menor de 6 meses",null,{"$f":"IFERROR(VLOOKUP($A101,Filtro!$A$4:$AX$552,2,FALSE),0)","v":172}]
["P2300420","De 6 a 11 meses",null,{"$f":"IFERROR(VLOOKUP($A102,Filtro!$A$4:$AX$552,2,FALSE),0)","v":322}]
["P2300460","12 - 17 meses",null,{"$f":"IFERROR(VLOOKUP($A103,Filtro!$A$4:$AX$552,2,FALSE),0)","v":853}]
["P2300470","18 - 23 meses",null,{"$f":"IFERROR(VLOOKUP($A104,Filtro!$A$4:$AX$552,2,FALSE),0)","v":929}]
["P2300480","24 - 35 meses",null,{"$f":"IFERROR(VLOOKUP($A105,Filtro!$A$4:$AX$552,2,FALSE),0)","v":1944}]
["P2300490","36 - 47 meses",null,{"$f":"IFERROR(VLOOKUP($A106,Filtro!$A$4:$AX$552,2,FALSE),0)","v":2236}]
["P2300500","48 - 59 meses",null,{"$f":"IFERROR(VLOOKUP($A107,Filtro!$A$4:$AX$552,2,FALSE),0)","v":2576}]
["P2300510","60 - 71 meses",null,{"$f":"IFERROR(VLOOKUP($A108,Filtro!$A$4:$AX$552,2,FALSE),0)","v":2878}]
["P2300520","De 6 a 9 años",null,{"$f":"IFERROR(VLOOKUP($A109,Filtro!$A$4:$AX$552,2,FALSE),0)","v":7552}]
[null,"TOTAL",null,{"$f":"SUM(D101:D109)","v":19462}]
[null,"SECCION F: POBLACIÓN INFANTIL SEGÚN DIAGNÓSTICO DE PRESIÓN ARTERIAL (Incluida en sección A y A1)"]
[null,"CLASIFICACIÓN",null,"TOTAL","GRUPOS DE EDAD (en meses)"]
[{"$nulls":4},"36 a 47 meses","48 a 71 meses","6-9 años"]
["P2300530","NORMAL (PA menor al percentil 90)",null,{"$f":"IFERROR(VLOOKUP($A114,Filtro!$A$4:$AX$552,2,FALSE),0)","v":12545},{"$f":"IFERROR(VLOOKUP($A114,Filtro!$A$4:$AX$552,3,FALSE),0)","v":1116},{"$f":"IFERROR(VLOOKUP($A114,Filtro!$A$4:$AX$552,4,FALSE),0)","v":4137},{"$f":"IFERROR(VLOOKUP($A114,Filtro!$A$4:$AX$552,5,FALSE),0)","v":7292},{"$f":"BF114 & BG114 & BH114","v":""},{"$nulls":49},{"$f":"IF($E114<=SUM($AC$11:$AF$11),\"\",\"* Niños(as) de 36 a 47 ms clasificados debe ser menor o igual al Total de la población de niños bajo control de en sección A misma edad. \")","v":""},{"$f":"IF($F114<=SUM($AG$11:$AH$11,$G$44:$H$44),\"\",\"* Niños(as) de 48 a 71 meses clasificados debe ser menor o igual al Total de la población de niños bajo control de en sección A y A1 de la misma edad. \")","v":""},{"$f":"IF($G114<=SUM($I$44:$J$44),\"\",\"* Niños(as) de 6 a 9 años clasificados debe ser menor o igual al Total de la población de niños bajo control de en sección A1 misma edad \")","v":""},{"$nulls":4},{"$f":"IF($E114<=SUM($AC$11:$AF$11),0,1)","v":0},{"$f":"IF($F114<=SUM($AG$11:$AH$11,$G$44:$H$44),0,1)","v":0},{"$f":"IF($G114<=SUM($I$44:$J$44),0,1)","v":0}]
["P2300540","PRE-HIPERTENSIÓN (PA entre percentil 90 al 95)",null,{"$f":"IFERROR(VLOOKUP($A115,Filtro!$A$4:$AX$552,2,FALSE),0)","v":523},{"$f":"IFERROR(VLOOKUP($A115,Filtro!$A$4:$AX$552,3,FALSE),0)","v":40},{"$f":"IFERROR(VLOOKUP($A115,Filtro!$A$4:$AX$552,4,FALSE),0)","v":174},{"$f":"IFERROR(VLOOKUP($A115,Filtro!$A$4:$AX$552,5,FALSE),0)","v":309},{"$f":"BF115 & BG115 & BH115","v":""},{"$nulls":49},{"$f":"IF($E115<=SUM($AC$11:$AF$11),\"\",\"* Niños(as) de 36 a 47 ms clasificados debe ser menor o igual al Total de la población de niños bajo control de en sección A misma edad. \")","v":""},{"$f":"IF($F115<=SUM($AG$11:$AH$11,$G$44:$H$44),\"\",\"* Niños(as) de 48 a 71 meses clasificados debe ser menor o igual al Total de la población de niños bajo control de en sección A y A1 de la misma edad. \")","v":""},{"$f":"IF($G115<=SUM($I$44:$J$44),\"\",\"* Niños(as) de 6 a 9 años clasificados debe ser menor o igual al Total de la población de niños bajo control de en sección A1 misma edad \")","v":""},{"$nulls":4},0,0,0]
["P2300550","ETAPA 1 (PA entre percentil 95 al 99)",null,{"$f":"IFERROR(VLOOKUP($A116,Filtro!$A$4:$AX$552,2,FALSE),0)","v":139},{"$f":"IFERROR(VLOOKUP($A116,Filtro!$A$4:$AX$552,3,FALSE),0)","v":7},{"$f":"IFERROR(VLOOKUP($A116,Filtro!$A$4:$AX$552,4,FALSE),0)","v":39},{"$f":"IFERROR(VLOOKUP($A116,Filtro!$A$4:$AX$552,5,FALSE),0)","v":93},{"$f":"BF116 & BG116 & BH116","v":""},{"$nulls":49},{"$f":"IF($E116<=SUM($AC$11:$AF$11),\"\",\"* Niños(as) de 36 a 47 ms clasificados debe ser menor o igual al Total de la población de niños bajo control de en sección A misma edad. \")","v":""},{"$f":"IF($F116<=SUM($AG$11:$AH$11,$G$44:$H$44),\"\",\"* Niños(as) de 48 a 71 meses clasificados debe ser menor o igual al Total de la población de niños bajo control de en sección A y A1 de la misma edad. \")","v":""},{"$f":"IF($G116<=SUM($I$44:$J$44),\"\",\"* Niños(as) de 6 a 9 años clasificados debe ser menor o igual al Total de la población de niños bajo control de en sección A1 misma edad \")","v":""},{"$nulls":4},0,0,0]
["P2300560","ETAPA 2 (PA mayor al percentil 99)",null,{"$f":"IFERROR(VLOOKUP($A117,Filtro!$A$4:$AX$552,2,FALSE),0)","v":40},{"$f":"IFERROR(VLOOKUP($A117,Filtro!$A$4:$AX$552,3,FALSE),0)","v":5},{"$f":"IFERROR(VLOOKUP($A117,Filtro!$A$4:$AX$552,4,FALSE),0)","v":6},{"$f":"IFERROR(VLOOKUP($A117,Filtro!$A$4:$AX$552,5,FALSE),0)","v":29},{"$f":"BF117 & BG117 & BH117","v":""},{"$nulls":49},{"$f":"IF($E117<=SUM($AC$11:$AF$11),\"\",\"* Niños(as) de 36 a 47 ms clasificados debe ser menor o igual al Total de la población de niños bajo control de en sección A misma edad. \")","v":""},{"$f":"IF($F117<=SUM($AG$11:$AH$11,$G$44:$H$44),\"\",\"* Niños(as) de 48 a 71 meses clasificados debe ser menor o igual al Total de la población de niños bajo control de en sección A y A1 de la misma edad. \")","v":""},{"$f":"IF($G117<=SUM($I$44:$J$44),\"\",\"* Niños(as) de 6 a 9 años clasificados debe ser menor o igual al Total de la población de niños bajo control de en sección A1 misma edad \")","v":""},{"$nulls":4},0,0,0]
[null,"TOTAL",null,{"$f":"SUM(E118:G118)","v":13247},{"$f":"SUM(E114:E117)","v":1168},{"$f":"SUM(F114:F117)","v":4356},{"$f":"SUM(G114:G117)","v":7723},{"$f":"BF118 & BG118 & BH118","v":""},{"$nulls":49},{"$f":"IF($E118<=SUM(AC11:AF11),\"\",\"* Niños(as) de 36 a 47 ms clasificados debe ser menor o igual al Total de la población de niños bajo control de en sección A misma edad. \")","v":""},{"$f":"IF($F118<=SUM($AG$11:$AH$11,$G$44:$H$44),\"\",\"* Niños(as) de 48 a 71 meses clasificados debe ser menor o igual al Total de la población de niños bajo control de en sección A y A1 de la misma edad. \")","v":""},{"$f":"IF($G118<=SUM($I$44:$J$44),\"\",\"* Niños(as) de 6 a 9 años clasificados debe ser menor o igual al Total de la población de niños bajo control de en sección A1 misma edad \")","v":""},{"$nulls":4},{"$f":"IF($E118<=SUM($AC$11:$AF$11),0,1)","v":0},{"$f":"IF($F118<=SUM($AG$11:$AH$11,$G$44:$H$44),0,1)","v":0},{"$f":"IF($G118<=SUM($I$44:$J$44),0,1)","v":0}]
[null,"SECCION G: POBLACIÓN INFANTIL EUTRÓFICA, SEGÚN RIESGO DE MALNUTRICIÓN POR EXCESO (Incluida en sección A y A1)"]
[null,"RESULTADO",null,"TOTAL","GRUPOS DE EDAD (en meses)"]
[{"$nulls":4},"4 a 11 meses","12 a 23 meses","24 a 35 meses","36 a 47 meses","48 a 59 meses","60 a 71 meses"]
["P2300570","SIN RIESGO",null,{"$f":"IFERROR(VLOOKUP($A122,Filtro!$A$4:$AX$552,2,FALSE),0)","v":7801},{"$f":"IFERROR(VLOOKUP($A122,Filtro!$A$4:$AX$552,3,FALSE),0)","v":914},{"$f":"IFERROR(VLOOKUP($A122,Filtro!$A$4:$AX$552,4,FALSE),0)","v":1427},{"$f":"IFERROR(VLOOKUP($A122,Filtro!$A$4:$AX$552,5,FALSE),0)","v":1572},{"$f":"IFERROR(VLOOKUP($A122,Filtro!$A$4:$AX$552,6,FALSE),0)","v":1458},{"$f":"IFERROR(VLOOKUP($A122,Filtro!$A$4:$AX$552,7,FALSE),0)","v":1400},{"$f":"IFERROR(VLOOKUP($A122,Filtro!$A$4:$AX$552,8,FALSE),0)","v":1030},{"$f":" BC122 & BD122 & BE122 & BF122 & BG122 & BH122","v":""},{"$nulls":43},{"$f":"IF($E122<=SUM($O$36:$V$36),\"\",\"* Niños(as) de 4 a 11 ms clasificados debe ser menor o igual al Total niños diagnostidos en NORMAL sección A misma edad. \")","v":""},{"$f":"IF($F122<=SUM($W$36:$Z$36),\"\",\"* Niños(as) de 12 a 23 ms clasificados debe ser menor o igual al Total niños diagnosticados en NORMAL en sección A misma edad. \")","v":""},{"$f":"IF($G122<=SUM($AA$36:$AB$36),\"\",\"* Niños(as) de 24 a 35 ms clasificados debe ser menor o igual al Total niños diagnosticados en NORMAL en sección A misma edad. \")","v":""},{"$f":"IF($H122<=SUM($AC$36:$AF$36),\"\",\"* Niños(as) de 36 a 47 ms clasificados debe ser menor o igual al Total niños diagnosticos en NORMAL en sección A misma edad. \")","v":""},{"$f":"IF($I122<=SUM($AG$36:$AH$36),\"\",\"* Niños(as) de 48 a 59 ms clasificados debe ser menor o igual al Total niños diagnosticados en NORMAL en sección A misma edad. \")","v":""},{"$f":"IF($J122<=SUM($G$69:$H$69),\"\",\"* Niños(as) de 60 a 71 ms clasificados debe ser menor o igual al Total niños diagnosticados en NORMAL en sección A1 misma edad. \")","v":""},{"$nulls":4},{"$f":"IF($E122<=SUM($O$36:$V$36),0,1)","v":0},{"$f":"IF($F122<=SUM($W$36:$Z$36),0,1)","v":0},{"$f":"IF($G122<=SUM($AA$36:$AB$36),0,1)","v":0},{"$f":"IF($H122<=SUM($AC$36:$AF$36),0,1)","v":0},{"$f":"IF($I122<=SUM($AG$36:$AH$36),0,1)","v":0},{"$f":"IF($J122<=SUM($G$69:$H$69),0,1)","v":0}]
["P2300580","CON RIESGO",null,{"$f":"IFERROR(VLOOKUP($A123,Filtro!$A$4:$AX$552,2,FALSE),0)","v":3384},{"$f":"IFERROR(VLOOKUP($A123,Filtro!$A$4:$AX$552,3,FALSE),0)","v":394},{"$f":"IFERROR(VLOOKUP($A123,Filtro!$A$4:$AX$552,4,FALSE),0)","v":666},{"$f":"IFERROR(VLOOKUP($A123,Filtro!$A$4:$AX$552,5,FALSE),0)","v":670},{"$f":"IFERROR(VLOOKUP($A123,Filtro!$A$4:$AX$552,6,FALSE),0)","v":630},{"$f":"IFERROR(VLOOKUP($A123,Filtro!$A$4:$AX$552,7,FALSE),0)","v":601},{"$f":"IFERROR(VLOOKUP($A123,Filtro!$A$4:$AX$552,8,FALSE),0)","v":423},{"$f":" BC123 & BD123 & BE123 & BF123 & BG123 & BH123","v":""},{"$nulls":43},{"$f":"IF($E123<=SUM($O$36:$V$36),\"\",\"* Niños(as) de 4 a 11 ms clasificados debe ser menor o igual al Total niños diagnostidos en NORMAL sección A misma edad. \")","v":""},{"$f":"IF($F123<=SUM($W$36:$Z$36),\"\",\"* Niños(as) de 12 a 23 ms clasificados debe ser menor o igual al Total niños diagnosticados en NORMAL en sección A misma edad. \")","v":""},{"$f":"IF($G123<=SUM($AA$36:$AB$36),\"\",\"* Niños(as) de 24 a 35 ms clasificados debe ser menor o igual al Total niños diagnosticados en NORMAL en sección A misma edad. \")","v":""},{"$f":"IF($H123<=SUM($AC$36:$AF$36),\"\",\"* Niños(as) de 36 a 47 ms clasificados debe ser menor o igual al Total niños diagnosticos en NORMAL en sección A misma edad. \")","v":""},{"$f":"IF($I123<=SUM($AG$36:$AH$36),\"\",\"* Niños(as) de 48 a 59 ms clasificados debe ser menor o igual al Total niños diagnosticados en NORMAL en sección A misma edad. \")","v":""},{"$f":"IF($J123<=SUM($G$69:$H$69),\"\",\"* Niños(as) de 60 a 71 ms clasificados debe ser menor o igual al Total niños diagnosticados en NORMAL en sección A1 misma edad. \")","v":""},{"$nulls":4},0,0,0,0,0,0]
[null,"TOTAL",null,{"$f":"SUM(E124:J124)","v":11185},{"$f":"SUM(E122:E123)","v":1308},2093,2242,2088,2001,1453,{"$f":" BC124 & BD124 & BE124 & BF124 & BG124 & BH124","v":""},{"$nulls":43},{"$f":"IF($E124<=SUM($O$36:$V$36),\"\",\"* Niños(as) de 4 a 11 ms clasificados debe ser menor o igual al Total niños diagnostidos en NORMAL sección A misma edad. \")","v":""},{"$f":"IF($F124<=SUM($W$36:$Z$36),\"\",\"* Niños(as) de 12 a 23 ms clasificados debe ser menor o igual al Total niños diagnosticados en NORMAL en sección A misma edad. \")","v":""},{"$f":"IF($G124<=SUM($AA$36:$AB$36),\"\",\"* Niños(as) de 24 a 35 ms clasificados debe ser menor o igual al Total niños diagnosticados en NORMAL en sección A misma edad. \")","v":""},{"$f":"IF($H124<=SUM($AC$36:$AF$36),\"\",\"* Niños(as) de 36 a 47 ms clasificados debe ser menor o igual al Total niños diagnosticos en NORMAL en sección A misma edad. \")","v":""},{"$f":"IF($I124<=SUM($AG$36:$AH$36),\"\",\"* Niños(as) de 48 a 59 ms clasificados debe ser menor o igual al Total niños diagnosticados en NORMAL en sección A misma edad. \")","v":""},{"$f":"IF($J124<=SUM($G$69:$H$69),\"\",\"* Niños(as) de 60 a 71 ms clasificados debe ser menor o igual al Total niños diagnosticados en NORMAL en sección A1 misma edad. \")","v":""},{"$nulls":4},{"$f":"IF($E124<=SUM($O$36:$V$36),0,1)","v":0},{"$f":"IF($F124<=SUM($W$36:$Z$36),0,1)","v":0},{"$f":"IF($G124<=SUM($AA$36:$AB$36),0,1)","v":0},{"$f":"IF($H124<=SUM($AC$36:$AF$36),0,1)","v":0},{"$f":"IF($I124<=SUM($AG$36:$AH$36),0,1)","v":0},{"$f":"IF($J124<=SUM($G$69:$H$69),0,1)","v":0}]
[null,"SECCION H: POBLACIÓN INFANTIL SEGÚN DIAGNÓSTICO DE NANEAS (incluidas en sección A y A.1)"]
[null,"DISGNOSTICOS",null,"TOTAL",null,null,"GRUPOS DE EDAD (en meses - años) Y SEXO",{"$nulls":33},"Pueblos Originarios",null,"Población Migrantes"]
[{"$nulls":6},"Menor de 1 mes",null,"1 mes",null,"2 meses",null,"3 meses",null,"4 meses",null,"5 meses",null,"6 meses",null,"7 a 11 meses",null,"12 a 17 meses",null,"18 a 23 meses",null,"24 a 35 meses",null,"36 a 41 meses",null,"42 a 47 meses",null,"48 a 59 meses",null,"60 a 71 meses",null,"6 a 7 años",null,"8 a 9 años"]
[{"$nulls":3},"Ambos\nsexos","Hombres","Mujeres","Hombres","Mujeres","Hombres","Mujeres","Hombres","Mujeres","Hombres","Mujeres","Hombres","Mujeres","Hombres","Mujeres","Hombres","Mujeres","Hombres","Mujeres","Hombres","Mujeres","Hombres","Mujeres","Hombres","Mujeres","Hombres","Mujeres","Hombres","Mujeres","Hombres","Mujeres","Hombres","Mujeres","Hombres","Mujeres","Hombres","Mujeres","Hombres","Mujeres","Hombres","Mujeres"]
["P2500100","PRESIÓN ARTERIAL ELEVADA",null,{"$f":"IFERROR(VLOOKUP($A129,Filtro!$A$4:$AX$552,2,FALSE),0)","v":157},{"$f":"IFERROR(VLOOKUP($A129,Filtro!$A$4:$AX$552,3,FALSE),0)","v":77},{"$f":"IFERROR(VLOOKUP($A129,Filtro!$A$4:$AX$552,4,FALSE),0)","v":80},{"$f":"IFERROR(VLOOKUP($A129,Filtro!$A$4:$AX$552,5,FALSE),0)","v":0},{"$f":"IFERROR(VLOOKUP($A129,Filtro!$A$4:$AX$552,6,FALSE),0)","v":0},{"$f":"IFERROR(VLOOKUP($A129,Filtro!$A$4:$AX$552,7,FALSE),0)","v":0},{"$f":"IFERROR(VLOOKUP($A129,Filtro!$A$4:$AX$552,8,FALSE),0)","v":0},{"$f":"IFERROR(VLOOKUP($A129,Filtro!$A$4:$AX$552,9,FALSE),0)","v":0},{"$f":"IFERROR(VLOOKUP($A129,Filtro!$A$4:$AX$552,10,FALSE),0)","v":0},{"$f":"IFERROR(VLOOKUP($A129,Filtro!$A$4:$AX$552,11,FALSE),0)","v":0},{"$f":"IFERROR(VLOOKUP($A129,Filtro!$A$4:$AX$552,12,FALSE),0)","v":0},{"$f":"IFERROR(VLOOKUP($A129,Filtro!$A$4:$AX$552,13,FALSE),0)","v":0},{"$f":"IFERROR(VLOOKUP($A129,Filtro!$A$4:$AX$552,14,FALSE),0)","v":0},{"$f":"IFERROR(VLOOKUP($A129,Filtro!$A$4:$AX$552,15,FALSE),0)","v":0},{"$f":"IFERROR(VLOOKUP($A129,Filtro!$A$4:$AX$552,16,FALSE),0)","v":0},{"$f":"IFERROR(VLOOKUP($A129,Filtro!$A$4:$AX$552,17,FALSE),0)","v":0},{"$f":"IFERROR(VLOOKUP($A129,Filtro!$A$4:$AX$552,18,FALSE),0)","v":0},{"$f":"IFERROR(VLOOKUP($A129,Filtro!$A$4:$AX$552,19,FALSE),0)","v":2},{"$f":"IFERROR(VLOOKUP($A129,Filtro!$A$4:$AX$552,20,FALSE),0)","v":0},{"$f":"IFERROR(VLOOKUP($A129,Filtro!$A$4:$AX$552,21,FALSE),0)","v":2},{"$f":"IFERROR(VLOOKUP($A129,Filtro!$A$4:$AX$552,22,FALSE),0)","v":0},{"$f":"IFERROR(VLOOKUP($A129,Filtro!$A$4:$AX$552,23,FALSE),0)","v":0},{"$f":"IFERROR(VLOOKUP($A129,Filtro!$A$4:$AX$552,24,FALSE),0)","v":1},{"$f":"IFERROR(VLOOKUP($A129,Filtro!$A$4:$AX$552,25,FALSE),0)","v":0},{"$f":"IFERROR(VLOOKUP($A129,Filtro!$A$4:$AX$552,26,FALSE),0)","v":0},{"$f":"IFERROR(VLOOKUP($A129,Filtro!$A$4:$AX$552,27,FALSE),0)","v":5},{"$f":"IFERROR(VLOOKUP($A129,Filtro!$A$4:$AX$552,28,FALSE),0)","v":4},{"$f":"IFERROR(VLOOKUP($A129,Filtro!$A$4:$AX$552,29,FALSE),0)","v":0},{"$f":"IFERROR(VLOOKUP($A129,Filtro!$A$4:$AX$552,30,FALSE),0)","v":3},{"$f":"IFERROR(VLOOKUP($A129,Filtro!$A$4:$AX$552,31,FALSE),0)","v":14},{"$f":"IFERROR(VLOOKUP($A129,Filtro!$A$4:$AX$552,32,FALSE),0)","v":8},{"$f":"IFERROR(VLOOKUP($A129,Filtro!$A$4:$AX$552,33,FALSE),0)","v":11},{"$f":"IFERROR(VLOOKUP($A129,Filtro!$A$4:$AX$552,34,FALSE),0)","v":7},{"$f":"IFERROR(VLOOKUP($A129,Filtro!$A$4:$AX$552,35,FALSE),0)","v":26},{"$f":"IFERROR(VLOOKUP($A129,Filtro!$A$4:$AX$552,36,FALSE),0)","v":41},{"$f":"IFERROR(VLOOKUP($A129,Filtro!$A$4:$AX$552,37,FALSE),0)","v":17},{"$f":"IFERROR(VLOOKUP($A129,Filtro!$A$4:$AX$552,38,FALSE),0)","v":16},{"$f":"IFERROR(VLOOKUP($A129,Filtro!$A$4:$AX$552,39,FALSE),0)","v":0},{"$f":"IFERROR(VLOOKUP($A129,Filtro!$A$4:$AX$552,40,FALSE),0)","v":0},{"$f":"IFERROR(VLOOKUP($A129,Filtro!$A$4:$AX$552,41,FALSE),0)","v":0},{"$f":"IFERROR(VLOOKUP($A129,Filtro!$A$4:$AX$552,42,FALSE),0)","v":0}]
["P2500200","DIABETES TIPO I",null,{"$f":"IFERROR(VLOOKUP($A130,Filtro!$A$4:$AX$552,2,FALSE),0)","v":4},{"$f":"IFERROR(VLOOKUP($A130,Filtro!$A$4:$AX$552,3,FALSE),0)","v":1},{"$f":"IFERROR(VLOOKUP($A130,Filtro!$A$4:$AX$552,4,FALSE),0)","v":3},{"$f":"IFERROR(VLOOKUP($A130,Filtro!$A$4:$AX$552,5,FALSE),0)","v":0},{"$f":"IFERROR(VLOOKUP($A130,Filtro!$A$4:$AX$552,6,FALSE),0)","v":0},{"$f":"IFERROR(VLOOKUP($A130,Filtro!$A$4:$AX$552,7,FALSE),0)","v":0},{"$f":"IFERROR(VLOOKUP($A130,Filtro!$A$4:$AX$552,8,FALSE),0)","v":0},{"$f":"IFERROR(VLOOKUP($A130,Filtro!$A$4:$AX$552,9,FALSE),0)","v":0},{"$f":"IFERROR(VLOOKUP($A130,Filtro!$A$4:$AX$552,10,FALSE),0)","v":0},{"$f":"IFERROR(VLOOKUP($A130,Filtro!$A$4:$AX$552,11,FALSE),0)","v":0},{"$f":"IFERROR(VLOOKUP($A130,Filtro!$A$4:$AX$552,12,FALSE),0)","v":0},{"$f":"IFERROR(VLOOKUP($A130,Filtro!$A$4:$AX$552,13,FALSE),0)","v":0},{"$f":"IFERROR(VLOOKUP($A130,Filtro!$A$4:$AX$552,14,FALSE),0)","v":0},{"$f":"IFERROR(VLOOKUP($A130,Filtro!$A$4:$AX$552,15,FALSE),0)","v":0},{"$f":"IFERROR(VLOOKUP($A130,Filtro!$A$4:$AX$552,16,FALSE),0)","v":0},{"$f":"IFERROR(VLOOKUP($A130,Filtro!$A$4:$AX$552,17,FALSE),0)","v":0},{"$f":"IFERROR(VLOOKUP($A130,Filtro!$A$4:$AX$552,18,FALSE),0)","v":0},{"$f":"IFERROR(VLOOKUP($A130,Filtro!$A$4:$AX$552,19,FALSE),0)","v":0},{"$f":"IFERROR(VLOOKUP($A130,Filtro!$A$4:$AX$552,20,FALSE),0)","v":0},{"$f":"IFERROR(VLOOKUP($A130,Filtro!$A$4:$AX$552,21,FALSE),0)","v":0},{"$f":"IFERROR(VLOOKUP($A130,Filtro!$A$4:$AX$552,22,FALSE),0)","v":0},{"$f":"IFERROR(VLOOKUP($A130,Filtro!$A$4:$AX$552,23,FALSE),0)","v":0},{"$f":"IFERROR(VLOOKUP($A130,Filtro!$A$4:$AX$552,24,FALSE),0)","v":0},{"$f":"IFERROR(VLOOKUP($A130,Filtro!$A$4:$AX$552,25,FALSE),0)","v":0},{"$f":"IFERROR(VLOOKUP($A130,Filtro!$A$4:$AX$552,26,FALSE),0)","v":0},{"$f":"IFERROR(VLOOKUP($A130,Filtro!$A$4:$AX$552,27,FALSE),0)","v":0},{"$f":"IFERROR(VLOOKUP($A130,Filtro!$A$4:$AX$552,28,FALSE),0)","v":3},{"$f":"IFERROR(VLOOKUP($A130,Filtro!$A$4:$AX$552,29,FALSE),0)","v":0},{"$f":"IFERROR(VLOOKUP($A130,Filtro!$A$4:$AX$552,30,FALSE),0)","v":0},{"$f":"IFERROR(VLOOKUP($A130,Filtro!$A$4:$AX$552,31,FALSE),0)","v":0},{"$f":"IFERROR(VLOOKUP($A130,Filtro!$A$4:$AX$552,32,FALSE),0)","v":0},{"$f":"IFERROR(VLOOKUP($A130,Filtro!$A$4:$AX$552,33,FALSE),0)","v":0},{"$f":"IFERROR(VLOOKUP($A130,Filtro!$A$4:$AX$552,34,FALSE),0)","v":0},{"$f":"IFERROR(VLOOKUP($A130,Filtro!$A$4:$AX$552,35,FALSE),0)","v":1},{"$f":"IFERROR(VLOOKUP($A130,Filtro!$A$4:$AX$552,36,FALSE),0)","v":0},{"$f":"IFERROR(VLOOKUP($A130,Filtro!$A$4:$AX$552,37,FALSE),0)","v":0},{"$f":"IFERROR(VLOOKUP($A130,Filtro!$A$4:$AX$552,38,FALSE),0)","v":0},{"$f":"IFERROR(VLOOKUP($A130,Filtro!$A$4:$AX$552,39,FALSE),0)","v":0},{"$f":"IFERROR(VLOOKUP($A130,Filtro!$A$4:$AX$552,40,FALSE),0)","v":0},{"$f":"IFERROR(VLOOKUP($A130,Filtro!$A$4:$AX$552,41,FALSE),0)","v":0},{"$f":"IFERROR(VLOOKUP($A130,Filtro!$A$4:$AX$552,42,FALSE),0)","v":1}]
["P2500300","DIABETES TIPO II",null,{"$f":"IFERROR(VLOOKUP($A131,Filtro!$A$4:$AX$552,2,FALSE),0)","v":0},{"$f":"IFERROR(VLOOKUP($A131,Filtro!$A$4:$AX$552,3,FALSE),0)","v":0},{"$f":"IFERROR(VLOOKUP($A131,Filtro!$A$4:$AX$552,4,FALSE),0)","v":0},{"$f":"IFERROR(VLOOKUP($A131,Filtro!$A$4:$AX$552,5,FALSE),0)","v":0},{"$f":"IFERROR(VLOOKUP($A131,Filtro!$A$4:$AX$552,6,FALSE),0)","v":0},{"$f":"IFERROR(VLOOKUP($A131,Filtro!$A$4:$AX$552,7,FALSE),0)","v":0},{"$f":"IFERROR(VLOOKUP($A131,Filtro!$A$4:$AX$552,8,FALSE),0)","v":0},{"$f":"IFERROR(VLOOKUP($A131,Filtro!$A$4:$AX$552,9,FALSE),0)","v":0},{"$f":"IFERROR(VLOOKUP($A131,Filtro!$A$4:$AX$552,10,FALSE),0)","v":0},{"$f":"IFERROR(VLOOKUP($A131,Filtro!$A$4:$AX$552,11,FALSE),0)","v":0},{"$f":"IFERROR(VLOOKUP($A131,Filtro!$A$4:$AX$552,12,FALSE),0)","v":0},{"$f":"IFERROR(VLOOKUP($A131,Filtro!$A$4:$AX$552,13,FALSE),0)","v":0},{"$f":"IFERROR(VLOOKUP($A131,Filtro!$A$4:$AX$552,14,FALSE),0)","v":0},{"$f":"IFERROR(VLOOKUP($A131,Filtro!$A$4:$AX$552,15,FALSE),0)","v":0},{"$f":"IFERROR(VLOOKUP($A131,Filtro!$A$4:$AX$552,16,FALSE),0)","v":0},{"$f":"IFERROR(VLOOKUP($A131,Filtro!$A$4:$AX$552,17,FALSE),0)","v":0},{"$f":"IFERROR(VLOOKUP($A131,Filtro!$A$4:$AX$552,18,FALSE),0)","v":0},{"$f":"IFERROR(VLOOKUP($A131,Filtro!$A$4:$AX$552,19,FALSE),0)","v":0},{"$f":"IFERROR(VLOOKUP($A131,Filtro!$A$4:$AX$552,20,FALSE),0)","v":0},{"$f":"IFERROR(VLOOKUP($A131,Filtro!$A$4:$AX$552,21,FALSE),0)","v":0},{"$f":"IFERROR(VLOOKUP($A131,Filtro!$A$4:$AX$552,22,FALSE),0)","v":0},{"$f":"IFERROR(VLOOKUP($A131,Filtro!$A$4:$AX$552,23,FALSE),0)","v":0},{"$f":"IFERROR(VLOOKUP($A131,Filtro!$A$4:$AX$552,24,FALSE),0)","v":0},{"$f":"IFERROR(VLOOKUP($A131,Filtro!$A$4:$AX$552,25,FALSE),0)","v":0},{"$f":"IFERROR(VLOOKUP($A131,Filtro!$A$4:$AX$552,26,FALSE),0)","v":0},{"$f":"IFERROR(VLOOKUP($A131,Filtro!$A$4:$AX$552,27,FALSE),0)","v":0},{"$f":"IFERROR(VLOOKUP($A131,Filtro!$A$4:$AX$552,28,FALSE),0)","v":0},{"$f":"IFERROR(VLOOKUP($A131,Filtro!$A$4:$AX$552,29,FALSE),0)","v":0},{"$f":"IFERROR(VLOOKUP($A131,Filtro!$A$4:$AX$552,30,FALSE),0)","v":0},{"$f":"IFERROR(VLOOKUP($A131,Filtro!$A$4:$AX$552,31,FALSE),0)","v":0},{"$f":"IFERROR(VLOOKUP($A131,Filtro!$A$4:$AX$552,32,FALSE),0)","v":0},{"$f":"IFERROR(VLOOKUP($A131,Filtro!$A$4:$AX$552,33,FALSE),0)","v":0},{"$f":"IFERROR(VLOOKUP($A131,Filtro!$A$4:$AX$552,34,FALSE),0)","v":0},{"$f":"IFERROR(VLOOKUP($A131,Filtro!$A$4:$AX$552,35,FALSE),0)","v":0},{"$f":"IFERROR(VLOOKUP($A131,Filtro!$A$4:$AX$552,36,FALSE),0)","v":0},{"$f":"IFERROR(VLOOKUP($A131,Filtro!$A$4:$AX$552,37,FALSE),0)","v":0},{"$f":"IFERROR(VLOOKUP($A131,Filtro!$A$4:$AX$552,38,FALSE),0)","v":0},{"$f":"IFERROR(VLOOKUP($A131,Filtro!$A$4:$AX$552,39,FALSE),0)","v":0},{"$f":"IFERROR(VLOOKUP($A131,Filtro!$A$4:$AX$552,40,FALSE),0)","v":0},{"$f":"IFERROR(VLOOKUP($A131,Filtro!$A$4:$AX$552,41,FALSE),0)","v":0},{"$f":"IFERROR(VLOOKUP($A131,Filtro!$A$4:$AX$552,42,FALSE),0)","v":0}]
["P2500400","SÍNDROME DE DOWN",null,{"$f":"IFERROR(VLOOKUP($A132,Filtro!$A$4:$AX$552,2,FALSE),0)","v":109},{"$f":"IFERROR(VLOOKUP($A132,Filtro!$A$4:$AX$552,3,FALSE),0)","v":53},{"$f":"IFERROR(VLOOKUP($A132,Filtro!$A$4:$AX$552,4,FALSE),0)","v":56},{"$f":"IFERROR(VLOOKUP($A132,Filtro!$A$4:$AX$552,5,FALSE),0)","v":0},{"$f":"IFERROR(VLOOKUP($A132,Filtro!$A$4:$AX$552,6,FALSE),0)","v":1},{"$f":"IFERROR(VLOOKUP($A132,Filtro!$A$4:$AX$552,7,FALSE),0)","v":1},{"$f":"IFERROR(VLOOKUP($A132,Filtro!$A$4:$AX$552,8,FALSE),0)","v":0},{"$f":"IFERROR(VLOOKUP($A132,Filtro!$A$4:$AX$552,9,FALSE),0)","v":1},{"$f":"IFERROR(VLOOKUP($A132,Filtro!$A$4:$AX$552,10,FALSE),0)","v":1},{"$f":"IFERROR(VLOOKUP($A132,Filtro!$A$4:$AX$552,11,FALSE),0)","v":0},{"$f":"IFERROR(VLOOKUP($A132,Filtro!$A$4:$AX$552,12,FALSE),0)","v":0},{"$f":"IFERROR(VLOOKUP($A132,Filtro!$A$4:$AX$552,13,FALSE),0)","v":0},{"$f":"IFERROR(VLOOKUP($A132,Filtro!$A$4:$AX$552,14,FALSE),0)","v":0},{"$f":"IFERROR(VLOOKUP($A132,Filtro!$A$4:$AX$552,15,FALSE),0)","v":1},{"$f":"IFERROR(VLOOKUP($A132,Filtro!$A$4:$AX$552,16,FALSE),0)","v":1},{"$f":"IFERROR(VLOOKUP($A132,Filtro!$A$4:$AX$552,17,FALSE),0)","v":1},{"$f":"IFERROR(VLOOKUP($A132,Filtro!$A$4:$AX$552,18,FALSE),0)","v":4},{"$f":"IFERROR(VLOOKUP($A132,Filtro!$A$4:$AX$552,19,FALSE),0)","v":2},{"$f":"IFERROR(VLOOKUP($A132,Filtro!$A$4:$AX$552,20,FALSE),0)","v":2},{"$f":"IFERROR(VLOOKUP($A132,Filtro!$A$4:$AX$552,21,FALSE),0)","v":1},{"$f":"IFERROR(VLOOKUP($A132,Filtro!$A$4:$AX$552,22,FALSE),0)","v":4},{"$f":"IFERROR(VLOOKUP($A132,Filtro!$A$4:$AX$552,23,FALSE),0)","v":2},{"$f":"IFERROR(VLOOKUP($A132,Filtro!$A$4:$AX$552,24,FALSE),0)","v":4},{"$f":"IFERROR(VLOOKUP($A132,Filtro!$A$4:$AX$552,25,FALSE),0)","v":7},{"$f":"IFERROR(VLOOKUP($A132,Filtro!$A$4:$AX$552,26,FALSE),0)","v":5},{"$f":"IFERROR(VLOOKUP($A132,Filtro!$A$4:$AX$552,27,FALSE),0)","v":6},{"$f":"IFERROR(VLOOKUP($A132,Filtro!$A$4:$AX$552,28,FALSE),0)","v":10},{"$f":"IFERROR(VLOOKUP($A132,Filtro!$A$4:$AX$552,29,FALSE),0)","v":2},{"$f":"IFERROR(VLOOKUP($A132,Filtro!$A$4:$AX$552,30,FALSE),0)","v":0},{"$f":"IFERROR(VLOOKUP($A132,Filtro!$A$4:$AX$552,31,FALSE),0)","v":2},{"$f":"IFERROR(VLOOKUP($A132,Filtro!$A$4:$AX$552,32,FALSE),0)","v":10},{"$f":"IFERROR(VLOOKUP($A132,Filtro!$A$4:$AX$552,33,FALSE),0)","v":5},{"$f":"IFERROR(VLOOKUP($A132,Filtro!$A$4:$AX$552,34,FALSE),0)","v":5},{"$f":"IFERROR(VLOOKUP($A132,Filtro!$A$4:$AX$552,35,FALSE),0)","v":12},{"$f":"IFERROR(VLOOKUP($A132,Filtro!$A$4:$AX$552,36,FALSE),0)","v":5},{"$f":"IFERROR(VLOOKUP($A132,Filtro!$A$4:$AX$552,37,FALSE),0)","v":10},{"$f":"IFERROR(VLOOKUP($A132,Filtro!$A$4:$AX$552,38,FALSE),0)","v":4},{"$f":"IFERROR(VLOOKUP($A132,Filtro!$A$4:$AX$552,39,FALSE),0)","v":1},{"$f":"IFERROR(VLOOKUP($A132,Filtro!$A$4:$AX$552,40,FALSE),0)","v":0},{"$f":"IFERROR(VLOOKUP($A132,Filtro!$A$4:$AX$552,41,FALSE),0)","v":1},{"$f":"IFERROR(VLOOKUP($A132,Filtro!$A$4:$AX$552,42,FALSE),0)","v":0}]
["P2500500","TRASTORNO DE ESPECTRO AUTISTA",null,{"$f":"IFERROR(VLOOKUP($A133,Filtro!$A$4:$AX$552,2,FALSE),0)","v":205},{"$f":"IFERROR(VLOOKUP($A133,Filtro!$A$4:$AX$552,3,FALSE),0)","v":163},{"$f":"IFERROR(VLOOKUP($A133,Filtro!$A$4:$AX$552,4,FALSE),0)","v":42},{"$f":"IFERROR(VLOOKUP($A133,Filtro!$A$4:$AX$552,5,FALSE),0)","v":0},{"$f":"IFERROR(VLOOKUP($A133,Filtro!$A$4:$AX$552,6,FALSE),0)","v":0},{"$f":"IFERROR(VLOOKUP($A133,Filtro!$A$4:$AX$552,7,FALSE),0)","v":0},{"$f":"IFERROR(VLOOKUP($A133,Filtro!$A$4:$AX$552,8,FALSE),0)","v":0},{"$f":"IFERROR(VLOOKUP($A133,Filtro!$A$4:$AX$552,9,FALSE),0)","v":0},{"$f":"IFERROR(VLOOKUP($A133,Filtro!$A$4:$AX$552,10,FALSE),0)","v":0},{"$f":"IFERROR(VLOOKUP($A133,Filtro!$A$4:$AX$552,11,FALSE),0)","v":0},{"$f":"IFERROR(VLOOKUP($A133,Filtro!$A$4:$AX$552,12,FALSE),0)","v":0},{"$f":"IFERROR(VLOOKUP($A133,Filtro!$A$4:$AX$552,13,FALSE),0)","v":0},{"$f":"IFERROR(VLOOKUP($A133,Filtro!$A$4:$AX$552,14,FALSE),0)","v":0},{"$f":"IFERROR(VLOOKUP($A133,Filtro!$A$4:$AX$552,15,FALSE),0)","v":0},{"$f":"IFERROR(VLOOKUP($A133,Filtro!$A$4:$AX$552,16,FALSE),0)","v":0},{"$f":"IFERROR(VLOOKUP($A133,Filtro!$A$4:$AX$552,17,FALSE),0)","v":0},{"$f":"IFERROR(VLOOKUP($A133,Filtro!$A$4:$AX$552,18,FALSE),0)","v":0},{"$f":"IFERROR(VLOOKUP($A133,Filtro!$A$4:$AX$552,19,FALSE),0)","v":0},{"$f":"IFERROR(VLOOKUP($A133,Filtro!$A$4:$AX$552,20,FALSE),0)","v":0},{"$f":"IFERROR(VLOOKUP($A133,Filtro!$A$4:$AX$552,21,FALSE),0)","v":0},{"$f":"IFERROR(VLOOKUP($A133,Filtro!$A$4:$AX$552,22,FALSE),0)","v":0},{"$f":"IFERROR(VLOOKUP($A133,Filtro!$A$4:$AX$552,23,FALSE),0)","v":2},{"$f":"IFERROR(VLOOKUP($A133,Filtro!$A$4:$AX$552,24,FALSE),0)","v":2},{"$f":"IFERROR(VLOOKUP($A133,Filtro!$A$4:$AX$552,25,FALSE),0)","v":11},{"$f":"IFERROR(VLOOKUP($A133,Filtro!$A$4:$AX$552,26,FALSE),0)","v":7},{"$f":"IFERROR(VLOOKUP($A133,Filtro!$A$4:$AX$552,27,FALSE),0)","v":14},{"$f":"IFERROR(VLOOKUP($A133,Filtro!$A$4:$AX$552,28,FALSE),0)","v":8},{"$f":"IFERROR(VLOOKUP($A133,Filtro!$A$4:$AX$552,29,FALSE),0)","v":9},{"$f":"IFERROR(VLOOKUP($A133,Filtro!$A$4:$AX$552,30,FALSE),0)","v":2},{"$f":"IFERROR(VLOOKUP($A133,Filtro!$A$4:$AX$552,31,FALSE),0)","v":27},{"$f":"IFERROR(VLOOKUP($A133,Filtro!$A$4:$AX$552,32,FALSE),0)","v":7},{"$f":"IFERROR(VLOOKUP($A133,Filtro!$A$4:$AX$552,33,FALSE),0)","v":30},{"$f":"IFERROR(VLOOKUP($A133,Filtro!$A$4:$AX$552,34,FALSE),0)","v":4},{"$f":"IFERROR(VLOOKUP($A133,Filtro!$A$4:$AX$552,35,FALSE),0)","v":46},{"$f":"IFERROR(VLOOKUP($A133,Filtro!$A$4:$AX$552,36,FALSE),0)","v":6},{"$f":"IFERROR(VLOOKUP($A133,Filtro!$A$4:$AX$552,37,FALSE),0)","v":24},{"$f":"IFERROR(VLOOKUP($A133,Filtro!$A$4:$AX$552,38,FALSE),0)","v":6},{"$f":"IFERROR(VLOOKUP($A133,Filtro!$A$4:$AX$552,39,FALSE),0)","v":1},{"$f":"IFERROR(VLOOKUP($A133,Filtro!$A$4:$AX$552,40,FALSE),0)","v":0},{"$f":"IFERROR(VLOOKUP($A133,Filtro!$A$4:$AX$552,41,FALSE),0)","v":0},{"$f":"IFERROR(VLOOKUP($A133,Filtro!$A$4:$AX$552,42,FALSE),0)","v":0}]
["P2500600","FIBROSIS QUÍSTICA",null,{"$f":"IFERROR(VLOOKUP($A134,Filtro!$A$4:$AX$552,2,FALSE),0)","v":10},{"$f":"IFERROR(VLOOKUP($A134,Filtro!$A$4:$AX$552,3,FALSE),0)","v":4},{"$f":"IFERROR(VLOOKUP($A134,Filtro!$A$4:$AX$552,4,FALSE),0)","v":6},{"$f":"IFERROR(VLOOKUP($A134,Filtro!$A$4:$AX$552,5,FALSE),0)","v":0},{"$f":"IFERROR(VLOOKUP($A134,Filtro!$A$4:$AX$552,6,FALSE),0)","v":0},{"$f":"IFERROR(VLOOKUP($A134,Filtro!$A$4:$AX$552,7,FALSE),0)","v":0},{"$f":"IFERROR(VLOOKUP($A134,Filtro!$A$4:$AX$552,8,FALSE),0)","v":0},{"$f":"IFERROR(VLOOKUP($A134,Filtro!$A$4:$AX$552,9,FALSE),0)","v":0},{"$f":"IFERROR(VLOOKUP($A134,Filtro!$A$4:$AX$552,10,FALSE),0)","v":0},{"$f":"IFERROR(VLOOKUP($A134,Filtro!$A$4:$AX$552,11,FALSE),0)","v":0},{"$f":"IFERROR(VLOOKUP($A134,Filtro!$A$4:$AX$552,12,FALSE),0)","v":0},{"$f":"IFERROR(VLOOKUP($A134,Filtro!$A$4:$AX$552,13,FALSE),0)","v":0},{"$f":"IFERROR(VLOOKUP($A134,Filtro!$A$4:$AX$552,14,FALSE),0)","v":0},{"$f":"IFERROR(VLOOKUP($A134,Filtro!$A$4:$AX$552,15,FALSE),0)","v":0},{"$f":"IFERROR(VLOOKUP($A134,Filtro!$A$4:$AX$552,16,FALSE),0)","v":0},{"$f":"IFERROR(VLOOKUP($A134,Filtro!$A$4:$AX$552,17,FALSE),0)","v":0},{"$f":"IFERROR(VLOOKUP($A134,Filtro!$A$4:$AX$552,18,FALSE),0)","v":0},{"$f":"IFERROR(VLOOKUP($A134,Filtro!$A$4:$AX$552,19,FALSE),0)","v":0},{"$f":"IFERROR(VLOOKUP($A134,Filtro!$A$4:$AX$552,20,FALSE),0)","v":0},{"$f":"IFERROR(VLOOKUP($A134,Filtro!$A$4:$AX$552,21,FALSE),0)","v":2},{"$f":"IFERROR(VLOOKUP($A134,Filtro!$A$4:$AX$552,22,FALSE),0)","v":0},{"$f":"IFERROR(VLOOKUP($A134,Filtro!$A$4:$AX$552,23,FALSE),0)","v":0},{"$f":"IFERROR(VLOOKUP($A134,Filtro!$A$4:$AX$552,24,FALSE),0)","v":1},{"$f":"IFERROR(VLOOKUP($A134,Filtro!$A$4:$AX$552,25,FALSE),0)","v":0},{"$f":"IFERROR(VLOOKUP($A134,Filtro!$A$4:$AX$552,26,FALSE),0)","v":1},{"$f":"IFERROR(VLOOKUP($A134,Filtro!$A$4:$AX$552,27,FALSE),0)","v":0},{"$f":"IFERROR(VLOOKUP($A134,Filtro!$A$4:$AX$552,28,FALSE),0)","v":1},{"$f":"IFERROR(VLOOKUP($A134,Filtro!$A$4:$AX$552,29,FALSE),0)","v":2},{"$f":"IFERROR(VLOOKUP($A134,Filtro!$A$4:$AX$552,30,FALSE),0)","v":0},{"$f":"IFERROR(VLOOKUP($A134,Filtro!$A$4:$AX$552,31,FALSE),0)","v":0},{"$f":"IFERROR(VLOOKUP($A134,Filtro!$A$4:$AX$552,32,FALSE),0)","v":0},{"$f":"IFERROR(VLOOKUP($A134,Filtro!$A$4:$AX$552,33,FALSE),0)","v":0},{"$f":"IFERROR(VLOOKUP($A134,Filtro!$A$4:$AX$552,34,FALSE),0)","v":1},{"$f":"IFERROR(VLOOKUP($A134,Filtro!$A$4:$AX$552,35,FALSE),0)","v":0},{"$f":"IFERROR(VLOOKUP($A134,Filtro!$A$4:$AX$552,36,FALSE),0)","v":1},{"$f":"IFERROR(VLOOKUP($A134,Filtro!$A$4:$AX$552,37,FALSE),0)","v":0},{"$f":"IFERROR(VLOOKUP($A134,Filtro!$A$4:$AX$552,38,FALSE),0)","v":1},{"$f":"IFERROR(VLOOKUP($A134,Filtro!$A$4:$AX$552,39,FALSE),0)","v":0},{"$f":"IFERROR(VLOOKUP($A134,Filtro!$A$4:$AX$552,40,FALSE),0)","v":0},{"$f":"IFERROR(VLOOKUP($A134,Filtro!$A$4:$AX$552,41,FALSE),0)","v":0},{"$f":"IFERROR(VLOOKUP($A134,Filtro!$A$4:$AX$552,42,FALSE),0)","v":0}]
["P2500700","PARÁLISIS CEREBRAL",null,{"$f":"IFERROR(VLOOKUP($A135,Filtro!$A$4:$AX$552,2,FALSE),0)","v":48},{"$f":"IFERROR(VLOOKUP($A135,Filtro!$A$4:$AX$552,3,FALSE),0)","v":30},{"$f":"IFERROR(VLOOKUP($A135,Filtro!$A$4:$AX$552,4,FALSE),0)","v":18},{"$f":"IFERROR(VLOOKUP($A135,Filtro!$A$4:$AX$552,5,FALSE),0)","v":0},{"$f":"IFERROR(VLOOKUP($A135,Filtro!$A$4:$AX$552,6,FALSE),0)","v":0},{"$f":"IFERROR(VLOOKUP($A135,Filtro!$A$4:$AX$552,7,FALSE),0)","v":0},{"$f":"IFERROR(VLOOKUP($A135,Filtro!$A$4:$AX$552,8,FALSE),0)","v":0},{"$f":"IFERROR(VLOOKUP($A135,Filtro!$A$4:$AX$552,9,FALSE),0)","v":0},{"$f":"IFERROR(VLOOKUP($A135,Filtro!$A$4:$AX$552,10,FALSE),0)","v":0},{"$f":"IFERROR(VLOOKUP($A135,Filtro!$A$4:$AX$552,11,FALSE),0)","v":0},{"$f":"IFERROR(VLOOKUP($A135,Filtro!$A$4:$AX$552,12,FALSE),0)","v":0},{"$f":"IFERROR(VLOOKUP($A135,Filtro!$A$4:$AX$552,13,FALSE),0)","v":0},{"$f":"IFERROR(VLOOKUP($A135,Filtro!$A$4:$AX$552,14,FALSE),0)","v":0},{"$f":"IFERROR(VLOOKUP($A135,Filtro!$A$4:$AX$552,15,FALSE),0)","v":0},{"$f":"IFERROR(VLOOKUP($A135,Filtro!$A$4:$AX$552,16,FALSE),0)","v":0},{"$f":"IFERROR(VLOOKUP($A135,Filtro!$A$4:$AX$552,17,FALSE),0)","v":0},{"$f":"IFERROR(VLOOKUP($A135,Filtro!$A$4:$AX$552,18,FALSE),0)","v":0},{"$f":"IFERROR(VLOOKUP($A135,Filtro!$A$4:$AX$552,19,FALSE),0)","v":0},{"$f":"IFERROR(VLOOKUP($A135,Filtro!$A$4:$AX$552,20,FALSE),0)","v":0},{"$f":"IFERROR(VLOOKUP($A135,Filtro!$A$4:$AX$552,21,FALSE),0)","v":2},{"$f":"IFERROR(VLOOKUP($A135,Filtro!$A$4:$AX$552,22,FALSE),0)","v":1},{"$f":"IFERROR(VLOOKUP($A135,Filtro!$A$4:$AX$552,23,FALSE),0)","v":2},{"$f":"IFERROR(VLOOKUP($A135,Filtro!$A$4:$AX$552,24,FALSE),0)","v":0},{"$f":"IFERROR(VLOOKUP($A135,Filtro!$A$4:$AX$552,25,FALSE),0)","v":4},{"$f":"IFERROR(VLOOKUP($A135,Filtro!$A$4:$AX$552,26,FALSE),0)","v":1},{"$f":"IFERROR(VLOOKUP($A135,Filtro!$A$4:$AX$552,27,FALSE),0)","v":6},{"$f":"IFERROR(VLOOKUP($A135,Filtro!$A$4:$AX$552,28,FALSE),0)","v":3},{"$f":"IFERROR(VLOOKUP($A135,Filtro!$A$4:$AX$552,29,FALSE),0)","v":0},{"$f":"IFERROR(VLOOKUP($A135,Filtro!$A$4:$AX$552,30,FALSE),0)","v":1},{"$f":"IFERROR(VLOOKUP($A135,Filtro!$A$4:$AX$552,31,FALSE),0)","v":2},{"$f":"IFERROR(VLOOKUP($A135,Filtro!$A$4:$AX$552,32,FALSE),0)","v":3},{"$f":"IFERROR(VLOOKUP($A135,Filtro!$A$4:$AX$552,33,FALSE),0)","v":3},{"$f":"IFERROR(VLOOKUP($A135,Filtro!$A$4:$AX$552,34,FALSE),0)","v":2},{"$f":"IFERROR(VLOOKUP($A135,Filtro!$A$4:$AX$552,35,FALSE),0)","v":6},{"$f":"IFERROR(VLOOKUP($A135,Filtro!$A$4:$AX$552,36,FALSE),0)","v":3},{"$f":"IFERROR(VLOOKUP($A135,Filtro!$A$4:$AX$552,37,FALSE),0)","v":5},{"$f":"IFERROR(VLOOKUP($A135,Filtro!$A$4:$AX$552,38,FALSE),0)","v":4},{"$f":"IFERROR(VLOOKUP($A135,Filtro!$A$4:$AX$552,39,FALSE),0)","v":0},{"$f":"IFERROR(VLOOKUP($A135,Filtro!$A$4:$AX$552,40,FALSE),0)","v":0},{"$f":"IFERROR(VLOOKUP($A135,Filtro!$A$4:$AX$552,41,FALSE),0)","v":2},{"$f":"IFERROR(VLOOKUP($A135,Filtro!$A$4:$AX$552,42,FALSE),0)","v":0}]
["P2500800","ENFERMEDADES RENALES CRÓNICAS",null,{"$f":"IFERROR(VLOOKUP($A136,Filtro!$A$4:$AX$552,2,FALSE),0)","v":15},{"$f":"IFERROR(VLOOKUP($A136,Filtro!$A$4:$AX$552,3,FALSE),0)","v":9},{"$f":"IFERROR(VLOOKUP($A136,Filtro!$A$4:$AX$552,4,FALSE),0)","v":6},{"$f":"IFERROR(VLOOKUP($A136,Filtro!$A$4:$AX$552,5,FALSE),0)","v":0},{"$f":"IFERROR(VLOOKUP($A136,Filtro!$A$4:$AX$552,6,FALSE),0)","v":0},{"$f":"IFERROR(VLOOKUP($A136,Filtro!$A$4:$AX$552,7,FALSE),0)","v":0},{"$f":"IFERROR(VLOOKUP($A136,Filtro!$A$4:$AX$552,8,FALSE),0)","v":0},{"$f":"IFERROR(VLOOKUP($A136,Filtro!$A$4:$AX$552,9,FALSE),0)","v":0},{"$f":"IFERROR(VLOOKUP($A136,Filtro!$A$4:$AX$552,10,FALSE),0)","v":0},{"$f":"IFERROR(VLOOKUP($A136,Filtro!$A$4:$AX$552,11,FALSE),0)","v":0},{"$f":"IFERROR(VLOOKUP($A136,Filtro!$A$4:$AX$552,12,FALSE),0)","v":1},{"$f":"IFERROR(VLOOKUP($A136,Filtro!$A$4:$AX$552,13,FALSE),0)","v":0},{"$f":"IFERROR(VLOOKUP($A136,Filtro!$A$4:$AX$552,14,FALSE),0)","v":0},{"$f":"IFERROR(VLOOKUP($A136,Filtro!$A$4:$AX$552,15,FALSE),0)","v":1},{"$f":"IFERROR(VLOOKUP($A136,Filtro!$A$4:$AX$552,16,FALSE),0)","v":0},{"$f":"IFERROR(VLOOKUP($A136,Filtro!$A$4:$AX$552,17,FALSE),0)","v":1},{"$f":"IFERROR(VLOOKUP($A136,Filtro!$A$4:$AX$552,18,FALSE),0)","v":0},{"$f":"IFERROR(VLOOKUP($A136,Filtro!$A$4:$AX$552,19,FALSE),0)","v":0},{"$f":"IFERROR(VLOOKUP($A136,Filtro!$A$4:$AX$552,20,FALSE),0)","v":0},{"$f":"IFERROR(VLOOKUP($A136,Filtro!$A$4:$AX$552,21,FALSE),0)","v":0},{"$f":"IFERROR(VLOOKUP($A136,Filtro!$A$4:$AX$552,22,FALSE),0)","v":0},{"$f":"IFERROR(VLOOKUP($A136,Filtro!$A$4:$AX$552,23,FALSE),0)","v":2},{"$f":"IFERROR(VLOOKUP($A136,Filtro!$A$4:$AX$552,24,FALSE),0)","v":0},{"$f":"IFERROR(VLOOKUP($A136,Filtro!$A$4:$AX$552,25,FALSE),0)","v":3},{"$f":"IFERROR(VLOOKUP($A136,Filtro!$A$4:$AX$552,26,FALSE),0)","v":4},{"$f":"IFERROR(VLOOKUP($A136,Filtro!$A$4:$AX$552,27,FALSE),0)","v":1},{"$f":"IFERROR(VLOOKUP($A136,Filtro!$A$4:$AX$552,28,FALSE),0)","v":0},{"$f":"IFERROR(VLOOKUP($A136,Filtro!$A$4:$AX$552,29,FALSE),0)","v":0},{"$f":"IFERROR(VLOOKUP($A136,Filtro!$A$4:$AX$552,30,FALSE),0)","v":0},{"$f":"IFERROR(VLOOKUP($A136,Filtro!$A$4:$AX$552,31,FALSE),0)","v":0},{"$f":"IFERROR(VLOOKUP($A136,Filtro!$A$4:$AX$552,32,FALSE),0)","v":0},{"$f":"IFERROR(VLOOKUP($A136,Filtro!$A$4:$AX$552,33,FALSE),0)","v":1},{"$f":"IFERROR(VLOOKUP($A136,Filtro!$A$4:$AX$552,34,FALSE),0)","v":0},{"$f":"IFERROR(VLOOKUP($A136,Filtro!$A$4:$AX$552,35,FALSE),0)","v":0},{"$f":"IFERROR(VLOOKUP($A136,Filtro!$A$4:$AX$552,36,FALSE),0)","v":1},{"$f":"IFERROR(VLOOKUP($A136,Filtro!$A$4:$AX$552,37,FALSE),0)","v":0},{"$f":"IFERROR(VLOOKUP($A136,Filtro!$A$4:$AX$552,38,FALSE),0)","v":0},{"$f":"IFERROR(VLOOKUP($A136,Filtro!$A$4:$AX$552,39,FALSE),0)","v":0},{"$f":"IFERROR(VLOOKUP($A136,Filtro!$A$4:$AX$552,40,FALSE),0)","v":0},{"$f":"IFERROR(VLOOKUP($A136,Filtro!$A$4:$AX$552,41,FALSE),0)","v":0},{"$f":"IFERROR(VLOOKUP($A136,Filtro!$A$4:$AX$552,42,FALSE),0)","v":0}]
["P2500900","ENFERMEDADES CARDIACAS CRÓNICAS",null,{"$f":"IFERROR(VLOOKUP($A137,Filtro!$A$4:$AX$552,2,FALSE),0)","v":41},{"$f":"IFERROR(VLOOKUP($A137,Filtro!$A$4:$AX$552,3,FALSE),0)","v":18},{"$f":"IFERROR(VLOOKUP($A137,Filtro!$A$4:$AX$552,4,FALSE),0)","v":23},{"$f":"IFERROR(VLOOKUP($A137,Filtro!$A$4:$AX$552,5,FALSE),0)","v":0},{"$f":"IFERROR(VLOOKUP($A137,Filtro!$A$4:$AX$552,6,FALSE),0)","v":1},{"$f":"IFERROR(VLOOKUP($A137,Filtro!$A$4:$AX$552,7,FALSE),0)","v":1},{"$f":"IFERROR(VLOOKUP($A137,Filtro!$A$4:$AX$552,8,FALSE),0)","v":0},{"$f":"IFERROR(VLOOKUP($A137,Filtro!$A$4:$AX$552,9,FALSE),0)","v":0},{"$f":"IFERROR(VLOOKUP($A137,Filtro!$A$4:$AX$552,10,FALSE),0)","v":0},{"$f":"IFERROR(VLOOKUP($A137,Filtro!$A$4:$AX$552,11,FALSE),0)","v":0},{"$f":"IFERROR(VLOOKUP($A137,Filtro!$A$4:$AX$552,12,FALSE),0)","v":0},{"$f":"IFERROR(VLOOKUP($A137,Filtro!$A$4:$AX$552,13,FALSE),0)","v":0},{"$f":"IFERROR(VLOOKUP($A137,Filtro!$A$4:$AX$552,14,FALSE),0)","v":1},{"$f":"IFERROR(VLOOKUP($A137,Filtro!$A$4:$AX$552,15,FALSE),0)","v":0},{"$f":"IFERROR(VLOOKUP($A137,Filtro!$A$4:$AX$552,16,FALSE),0)","v":0},{"$f":"IFERROR(VLOOKUP($A137,Filtro!$A$4:$AX$552,17,FALSE),0)","v":1},{"$f":"IFERROR(VLOOKUP($A137,Filtro!$A$4:$AX$552,18,FALSE),0)","v":0},{"$f":"IFERROR(VLOOKUP($A137,Filtro!$A$4:$AX$552,19,FALSE),0)","v":2},{"$f":"IFERROR(VLOOKUP($A137,Filtro!$A$4:$AX$552,20,FALSE),0)","v":0},{"$f":"IFERROR(VLOOKUP($A137,Filtro!$A$4:$AX$552,21,FALSE),0)","v":1},{"$f":"IFERROR(VLOOKUP($A137,Filtro!$A$4:$AX$552,22,FALSE),0)","v":4},{"$f":"IFERROR(VLOOKUP($A137,Filtro!$A$4:$AX$552,23,FALSE),0)","v":1},{"$f":"IFERROR(VLOOKUP($A137,Filtro!$A$4:$AX$552,24,FALSE),0)","v":2},{"$f":"IFERROR(VLOOKUP($A137,Filtro!$A$4:$AX$552,25,FALSE),0)","v":4},{"$f":"IFERROR(VLOOKUP($A137,Filtro!$A$4:$AX$552,26,FALSE),0)","v":2},{"$f":"IFERROR(VLOOKUP($A137,Filtro!$A$4:$AX$552,27,FALSE),0)","v":3},{"$f":"IFERROR(VLOOKUP($A137,Filtro!$A$4:$AX$552,28,FALSE),0)","v":1},{"$f":"IFERROR(VLOOKUP($A137,Filtro!$A$4:$AX$552,29,FALSE),0)","v":0},{"$f":"IFERROR(VLOOKUP($A137,Filtro!$A$4:$AX$552,30,FALSE),0)","v":0},{"$f":"IFERROR(VLOOKUP($A137,Filtro!$A$4:$AX$552,31,FALSE),0)","v":0},{"$f":"IFERROR(VLOOKUP($A137,Filtro!$A$4:$AX$552,32,FALSE),0)","v":4},{"$f":"IFERROR(VLOOKUP($A137,Filtro!$A$4:$AX$552,33,FALSE),0)","v":0},{"$f":"IFERROR(VLOOKUP($A137,Filtro!$A$4:$AX$552,34,FALSE),0)","v":4},{"$f":"IFERROR(VLOOKUP($A137,Filtro!$A$4:$AX$552,35,FALSE),0)","v":1},{"$f":"IFERROR(VLOOKUP($A137,Filtro!$A$4:$AX$552,36,FALSE),0)","v":4},{"$f":"IFERROR(VLOOKUP($A137,Filtro!$A$4:$AX$552,37,FALSE),0)","v":4},{"$f":"IFERROR(VLOOKUP($A137,Filtro!$A$4:$AX$552,38,FALSE),0)","v":0},{"$f":"IFERROR(VLOOKUP($A137,Filtro!$A$4:$AX$552,39,FALSE),0)","v":0},{"$f":"IFERROR(VLOOKUP($A137,Filtro!$A$4:$AX$552,40,FALSE),0)","v":0},{"$f":"IFERROR(VLOOKUP($A137,Filtro!$A$4:$AX$552,41,FALSE),0)","v":0},{"$f":"IFERROR(VLOOKUP($A137,Filtro!$A$4:$AX$552,42,FALSE),0)","v":0}]
["P2501000","ENFERMEDADES GÁSTRICAS CRÓNICAS",null,{"$f":"IFERROR(VLOOKUP($A138,Filtro!$A$4:$AX$552,2,FALSE),0)","v":34},{"$f":"IFERROR(VLOOKUP($A138,Filtro!$A$4:$AX$552,3,FALSE),0)","v":20},{"$f":"IFERROR(VLOOKUP($A138,Filtro!$A$4:$AX$552,4,FALSE),0)","v":14},{"$f":"IFERROR(VLOOKUP($A138,Filtro!$A$4:$AX$552,5,FALSE),0)","v":0},{"$f":"IFERROR(VLOOKUP($A138,Filtro!$A$4:$AX$552,6,FALSE),0)","v":0},{"$f":"IFERROR(VLOOKUP($A138,Filtro!$A$4:$AX$552,7,FALSE),0)","v":0},{"$f":"IFERROR(VLOOKUP($A138,Filtro!$A$4:$AX$552,8,FALSE),0)","v":0},{"$f":"IFERROR(VLOOKUP($A138,Filtro!$A$4:$AX$552,9,FALSE),0)","v":0},{"$f":"IFERROR(VLOOKUP($A138,Filtro!$A$4:$AX$552,10,FALSE),0)","v":0},{"$f":"IFERROR(VLOOKUP($A138,Filtro!$A$4:$AX$552,11,FALSE),0)","v":0},{"$f":"IFERROR(VLOOKUP($A138,Filtro!$A$4:$AX$552,12,FALSE),0)","v":0},{"$f":"IFERROR(VLOOKUP($A138,Filtro!$A$4:$AX$552,13,FALSE),0)","v":0},{"$f":"IFERROR(VLOOKUP($A138,Filtro!$A$4:$AX$552,14,FALSE),0)","v":0},{"$f":"IFERROR(VLOOKUP($A138,Filtro!$A$4:$AX$552,15,FALSE),0)","v":0},{"$f":"IFERROR(VLOOKUP($A138,Filtro!$A$4:$AX$552,16,FALSE),0)","v":0},{"$f":"IFERROR(VLOOKUP($A138,Filtro!$A$4:$AX$552,17,FALSE),0)","v":1},{"$f":"IFERROR(VLOOKUP($A138,Filtro!$A$4:$AX$552,18,FALSE),0)","v":1},{"$f":"IFERROR(VLOOKUP($A138,Filtro!$A$4:$AX$552,19,FALSE),0)","v":2},{"$f":"IFERROR(VLOOKUP($A138,Filtro!$A$4:$AX$552,20,FALSE),0)","v":3},{"$f":"IFERROR(VLOOKUP($A138,Filtro!$A$4:$AX$552,21,FALSE),0)","v":1},{"$f":"IFERROR(VLOOKUP($A138,Filtro!$A$4:$AX$552,22,FALSE),0)","v":0},{"$f":"IFERROR(VLOOKUP($A138,Filtro!$A$4:$AX$552,23,FALSE),0)","v":6},{"$f":"IFERROR(VLOOKUP($A138,Filtro!$A$4:$AX$552,24,FALSE),0)","v":3},{"$f":"IFERROR(VLOOKUP($A138,Filtro!$A$4:$AX$552,25,FALSE),0)","v":2},{"$f":"IFERROR(VLOOKUP($A138,Filtro!$A$4:$AX$552,26,FALSE),0)","v":0},{"$f":"IFERROR(VLOOKUP($A138,Filtro!$A$4:$AX$552,27,FALSE),0)","v":1},{"$f":"IFERROR(VLOOKUP($A138,Filtro!$A$4:$AX$552,28,FALSE),0)","v":2},{"$f":"IFERROR(VLOOKUP($A138,Filtro!$A$4:$AX$552,29,FALSE),0)","v":0},{"$f":"IFERROR(VLOOKUP($A138,Filtro!$A$4:$AX$552,30,FALSE),0)","v":1},{"$f":"IFERROR(VLOOKUP($A138,Filtro!$A$4:$AX$552,31,FALSE),0)","v":3},{"$f":"IFERROR(VLOOKUP($A138,Filtro!$A$4:$AX$552,32,FALSE),0)","v":3},{"$f":"IFERROR(VLOOKUP($A138,Filtro!$A$4:$AX$552,33,FALSE),0)","v":0},{"$f":"IFERROR(VLOOKUP($A138,Filtro!$A$4:$AX$552,34,FALSE),0)","v":1},{"$f":"IFERROR(VLOOKUP($A138,Filtro!$A$4:$AX$552,35,FALSE),0)","v":2},{"$f":"IFERROR(VLOOKUP($A138,Filtro!$A$4:$AX$552,36,FALSE),0)","v":0},{"$f":"IFERROR(VLOOKUP($A138,Filtro!$A$4:$AX$552,37,FALSE),0)","v":2},{"$f":"IFERROR(VLOOKUP($A138,Filtro!$A$4:$AX$552,38,FALSE),0)","v":0},{"$f":"IFERROR(VLOOKUP($A138,Filtro!$A$4:$AX$552,39,FALSE),0)","v":0},{"$f":"IFERROR(VLOOKUP($A138,Filtro!$A$4:$AX$552,40,FALSE),0)","v":0},{"$f":"IFERROR(VLOOKUP($A138,Filtro!$A$4:$AX$552,41,FALSE),0)","v":0},{"$f":"IFERROR(VLOOKUP($A138,Filtro!$A$4:$AX$552,42,FALSE),0)","v":0}]
["P2501100","ENFERMEDADES DEL OJO",null,{"$f":"IFERROR(VLOOKUP($A139,Filtro!$A$4:$AX$552,2,FALSE),0)","v":16},{"$f":"IFERROR(VLOOKUP($A139,Filtro!$A$4:$AX$552,3,FALSE),0)","v":12},{"$f":"IFERROR(VLOOKUP($A139,Filtro!$A$4:$AX$552,4,FALSE),0)","v":4},{"$f":"IFERROR(VLOOKUP($A139,Filtro!$A$4:$AX$552,5,FALSE),0)","v":0},{"$f":"IFERROR(VLOOKUP($A139,Filtro!$A$4:$AX$552,6,FALSE),0)","v":0},{"$f":"IFERROR(VLOOKUP($A139,Filtro!$A$4:$AX$552,7,FALSE),0)","v":0},{"$f":"IFERROR(VLOOKUP($A139,Filtro!$A$4:$AX$552,8,FALSE),0)","v":0},{"$f":"IFERROR(VLOOKUP($A139,Filtro!$A$4:$AX$552,9,FALSE),0)","v":0},{"$f":"IFERROR(VLOOKUP($A139,Filtro!$A$4:$AX$552,10,FALSE),0)","v":0},{"$f":"IFERROR(VLOOKUP($A139,Filtro!$A$4:$AX$552,11,FALSE),0)","v":0},{"$f":"IFERROR(VLOOKUP($A139,Filtro!$A$4:$AX$552,12,FALSE),0)","v":0},{"$f":"IFERROR(VLOOKUP($A139,Filtro!$A$4:$AX$552,13,FALSE),0)","v":0},{"$f":"IFERROR(VLOOKUP($A139,Filtro!$A$4:$AX$552,14,FALSE),0)","v":0},{"$f":"IFERROR(VLOOKUP($A139,Filtro!$A$4:$AX$552,15,FALSE),0)","v":0},{"$f":"IFERROR(VLOOKUP($A139,Filtro!$A$4:$AX$552,16,FALSE),0)","v":0},{"$f":"IFERROR(VLOOKUP($A139,Filtro!$A$4:$AX$552,17,FALSE),0)","v":0},{"$f":"IFERROR(VLOOKUP($A139,Filtro!$A$4:$AX$552,18,FALSE),0)","v":0},{"$f":"IFERROR(VLOOKUP($A139,Filtro!$A$4:$AX$552,19,FALSE),0)","v":0},{"$f":"IFERROR(VLOOKUP($A139,Filtro!$A$4:$AX$552,20,FALSE),0)","v":0},{"$f":"IFERROR(VLOOKUP($A139,Filtro!$A$4:$AX$552,21,FALSE),0)","v":0},{"$f":"IFERROR(VLOOKUP($A139,Filtro!$A$4:$AX$552,22,FALSE),0)","v":1},{"$f":"IFERROR(VLOOKUP($A139,Filtro!$A$4:$AX$552,23,FALSE),0)","v":0},{"$f":"IFERROR(VLOOKUP($A139,Filtro!$A$4:$AX$552,24,FALSE),0)","v":0},{"$f":"IFERROR(VLOOKUP($A139,Filtro!$A$4:$AX$552,25,FALSE),0)","v":2},{"$f":"IFERROR(VLOOKUP($A139,Filtro!$A$4:$AX$552,26,FALSE),0)","v":1},{"$f":"IFERROR(VLOOKUP($A139,Filtro!$A$4:$AX$552,27,FALSE),0)","v":3},{"$f":"IFERROR(VLOOKUP($A139,Filtro!$A$4:$AX$552,28,FALSE),0)","v":1},{"$f":"IFERROR(VLOOKUP($A139,Filtro!$A$4:$AX$552,29,FALSE),0)","v":0},{"$f":"IFERROR(VLOOKUP($A139,Filtro!$A$4:$AX$552,30,FALSE),0)","v":0},{"$f":"IFERROR(VLOOKUP($A139,Filtro!$A$4:$AX$552,31,FALSE),0)","v":3},{"$f":"IFERROR(VLOOKUP($A139,Filtro!$A$4:$AX$552,32,FALSE),0)","v":1},{"$f":"IFERROR(VLOOKUP($A139,Filtro!$A$4:$AX$552,33,FALSE),0)","v":2},{"$f":"IFERROR(VLOOKUP($A139,Filtro!$A$4:$AX$552,34,FALSE),0)","v":0},{"$f":"IFERROR(VLOOKUP($A139,Filtro!$A$4:$AX$552,35,FALSE),0)","v":1},{"$f":"IFERROR(VLOOKUP($A139,Filtro!$A$4:$AX$552,36,FALSE),0)","v":0},{"$f":"IFERROR(VLOOKUP($A139,Filtro!$A$4:$AX$552,37,FALSE),0)","v":1},{"$f":"IFERROR(VLOOKUP($A139,Filtro!$A$4:$AX$552,38,FALSE),0)","v":0},{"$f":"IFERROR(VLOOKUP($A139,Filtro!$A$4:$AX$552,39,FALSE),0)","v":0},{"$f":"IFERROR(VLOOKUP($A139,Filtro!$A$4:$AX$552,40,FALSE),0)","v":0},{"$f":"IFERROR(VLOOKUP($A139,Filtro!$A$4:$AX$552,41,FALSE),0)","v":1},{"$f":"IFERROR(VLOOKUP($A139,Filtro!$A$4:$AX$552,42,FALSE),0)","v":0}]
["P2501200","ENFERMEDADES DEL OÍDO",null,{"$f":"IFERROR(VLOOKUP($A140,Filtro!$A$4:$AX$552,2,FALSE),0)","v":20},{"$f":"IFERROR(VLOOKUP($A140,Filtro!$A$4:$AX$552,3,FALSE),0)","v":12},{"$f":"IFERROR(VLOOKUP($A140,Filtro!$A$4:$AX$552,4,FALSE),0)","v":8},{"$f":"IFERROR(VLOOKUP($A140,Filtro!$A$4:$AX$552,5,FALSE),0)","v":0},{"$f":"IFERROR(VLOOKUP($A140,Filtro!$A$4:$AX$552,6,FALSE),0)","v":0},{"$f":"IFERROR(VLOOKUP($A140,Filtro!$A$4:$AX$552,7,FALSE),0)","v":1},{"$f":"IFERROR(VLOOKUP($A140,Filtro!$A$4:$AX$552,8,FALSE),0)","v":0},{"$f":"IFERROR(VLOOKUP($A140,Filtro!$A$4:$AX$552,9,FALSE),0)","v":0},{"$f":"IFERROR(VLOOKUP($A140,Filtro!$A$4:$AX$552,10,FALSE),0)","v":0},{"$f":"IFERROR(VLOOKUP($A140,Filtro!$A$4:$AX$552,11,FALSE),0)","v":0},{"$f":"IFERROR(VLOOKUP($A140,Filtro!$A$4:$AX$552,12,FALSE),0)","v":1},{"$f":"IFERROR(VLOOKUP($A140,Filtro!$A$4:$AX$552,13,FALSE),0)","v":0},{"$f":"IFERROR(VLOOKUP($A140,Filtro!$A$4:$AX$552,14,FALSE),0)","v":0},{"$f":"IFERROR(VLOOKUP($A140,Filtro!$A$4:$AX$552,15,FALSE),0)","v":0},{"$f":"IFERROR(VLOOKUP($A140,Filtro!$A$4:$AX$552,16,FALSE),0)","v":0},{"$f":"IFERROR(VLOOKUP($A140,Filtro!$A$4:$AX$552,17,FALSE),0)","v":0},{"$f":"IFERROR(VLOOKUP($A140,Filtro!$A$4:$AX$552,18,FALSE),0)","v":0},{"$f":"IFERROR(VLOOKUP($A140,Filtro!$A$4:$AX$552,19,FALSE),0)","v":0},{"$f":"IFERROR(VLOOKUP($A140,Filtro!$A$4:$AX$552,20,FALSE),0)","v":0},{"$f":"IFERROR(VLOOKUP($A140,Filtro!$A$4:$AX$552,21,FALSE),0)","v":1},{"$f":"IFERROR(VLOOKUP($A140,Filtro!$A$4:$AX$552,22,FALSE),0)","v":2},{"$f":"IFERROR(VLOOKUP($A140,Filtro!$A$4:$AX$552,23,FALSE),0)","v":0},{"$f":"IFERROR(VLOOKUP($A140,Filtro!$A$4:$AX$552,24,FALSE),0)","v":0},{"$f":"IFERROR(VLOOKUP($A140,Filtro!$A$4:$AX$552,25,FALSE),0)","v":2},{"$f":"IFERROR(VLOOKUP($A140,Filtro!$A$4:$AX$552,26,FALSE),0)","v":1},{"$f":"IFERROR(VLOOKUP($A140,Filtro!$A$4:$AX$552,27,FALSE),0)","v":3},{"$f":"IFERROR(VLOOKUP($A140,Filtro!$A$4:$AX$552,28,FALSE),0)","v":0},{"$f":"IFERROR(VLOOKUP($A140,Filtro!$A$4:$AX$552,29,FALSE),0)","v":0},{"$f":"IFERROR(VLOOKUP($A140,Filtro!$A$4:$AX$552,30,FALSE),0)","v":1},{"$f":"IFERROR(VLOOKUP($A140,Filtro!$A$4:$AX$552,31,FALSE),0)","v":1},{"$f":"IFERROR(VLOOKUP($A140,Filtro!$A$4:$AX$552,32,FALSE),0)","v":1},{"$f":"IFERROR(VLOOKUP($A140,Filtro!$A$4:$AX$552,33,FALSE),0)","v":0},{"$f":"IFERROR(VLOOKUP($A140,Filtro!$A$4:$AX$552,34,FALSE),0)","v":1},{"$f":"IFERROR(VLOOKUP($A140,Filtro!$A$4:$AX$552,35,FALSE),0)","v":2},{"$f":"IFERROR(VLOOKUP($A140,Filtro!$A$4:$AX$552,36,FALSE),0)","v":1},{"$f":"IFERROR(VLOOKUP($A140,Filtro!$A$4:$AX$552,37,FALSE),0)","v":2},{"$f":"IFERROR(VLOOKUP($A140,Filtro!$A$4:$AX$552,38,FALSE),0)","v":0},{"$f":"IFERROR(VLOOKUP($A140,Filtro!$A$4:$AX$552,39,FALSE),0)","v":0},{"$f":"IFERROR(VLOOKUP($A140,Filtro!$A$4:$AX$552,40,FALSE),0)","v":0},{"$f":"IFERROR(VLOOKUP($A140,Filtro!$A$4:$AX$552,41,FALSE),0)","v":0},{"$f":"IFERROR(VLOOKUP($A140,Filtro!$A$4:$AX$552,42,FALSE),0)","v":0}]
["P2501300","ENFERMEDADES DE LA PIEL",null,{"$f":"IFERROR(VLOOKUP($A141,Filtro!$A$4:$AX$552,2,FALSE),0)","v":9},{"$f":"IFERROR(VLOOKUP($A141,Filtro!$A$4:$AX$552,3,FALSE),0)","v":8},{"$f":"IFERROR(VLOOKUP($A141,Filtro!$A$4:$AX$552,4,FALSE),0)","v":1},{"$f":"IFERROR(VLOOKUP($A141,Filtro!$A$4:$AX$552,5,FALSE),0)","v":0},{"$f":"IFERROR(VLOOKUP($A141,Filtro!$A$4:$AX$552,6,FALSE),0)","v":0},{"$f":"IFERROR(VLOOKUP($A141,Filtro!$A$4:$AX$552,7,FALSE),0)","v":0},{"$f":"IFERROR(VLOOKUP($A141,Filtro!$A$4:$AX$552,8,FALSE),0)","v":0},{"$f":"IFERROR(VLOOKUP($A141,Filtro!$A$4:$AX$552,9,FALSE),0)","v":0},{"$f":"IFERROR(VLOOKUP($A141,Filtro!$A$4:$AX$552,10,FALSE),0)","v":1},{"$f":"IFERROR(VLOOKUP($A141,Filtro!$A$4:$AX$552,11,FALSE),0)","v":0},{"$f":"IFERROR(VLOOKUP($A141,Filtro!$A$4:$AX$552,12,FALSE),0)","v":0},{"$f":"IFERROR(VLOOKUP($A141,Filtro!$A$4:$AX$552,13,FALSE),0)","v":0},{"$f":"IFERROR(VLOOKUP($A141,Filtro!$A$4:$AX$552,14,FALSE),0)","v":0},{"$f":"IFERROR(VLOOKUP($A141,Filtro!$A$4:$AX$552,15,FALSE),0)","v":0},{"$f":"IFERROR(VLOOKUP($A141,Filtro!$A$4:$AX$552,16,FALSE),0)","v":0},{"$f":"IFERROR(VLOOKUP($A141,Filtro!$A$4:$AX$552,17,FALSE),0)","v":0},{"$f":"IFERROR(VLOOKUP($A141,Filtro!$A$4:$AX$552,18,FALSE),0)","v":0},{"$f":"IFERROR(VLOOKUP($A141,Filtro!$A$4:$AX$552,19,FALSE),0)","v":0},{"$f":"IFERROR(VLOOKUP($A141,Filtro!$A$4:$AX$552,20,FALSE),0)","v":0},{"$f":"IFERROR(VLOOKUP($A141,Filtro!$A$4:$AX$552,21,FALSE),0)","v":1},{"$f":"IFERROR(VLOOKUP($A141,Filtro!$A$4:$AX$552,22,FALSE),0)","v":0},{"$f":"IFERROR(VLOOKUP($A141,Filtro!$A$4:$AX$552,23,FALSE),0)","v":1},{"$f":"IFERROR(VLOOKUP($A141,Filtro!$A$4:$AX$552,24,FALSE),0)","v":0},{"$f":"IFERROR(VLOOKUP($A141,Filtro!$A$4:$AX$552,25,FALSE),0)","v":4},{"$f":"IFERROR(VLOOKUP($A141,Filtro!$A$4:$AX$552,26,FALSE),0)","v":0},{"$f":"IFERROR(VLOOKUP($A141,Filtro!$A$4:$AX$552,27,FALSE),0)","v":0},{"$f":"IFERROR(VLOOKUP($A141,Filtro!$A$4:$AX$552,28,FALSE),0)","v":0},{"$f":"IFERROR(VLOOKUP($A141,Filtro!$A$4:$AX$552,29,FALSE),0)","v":0},{"$f":"IFERROR(VLOOKUP($A141,Filtro!$A$4:$AX$552,30,FALSE),0)","v":0},{"$f":"IFERROR(VLOOKUP($A141,Filtro!$A$4:$AX$552,31,FALSE),0)","v":1},{"$f":"IFERROR(VLOOKUP($A141,Filtro!$A$4:$AX$552,32,FALSE),0)","v":0},{"$f":"IFERROR(VLOOKUP($A141,Filtro!$A$4:$AX$552,33,FALSE),0)","v":1},{"$f":"IFERROR(VLOOKUP($A141,Filtro!$A$4:$AX$552,34,FALSE),0)","v":0},{"$f":"IFERROR(VLOOKUP($A141,Filtro!$A$4:$AX$552,35,FALSE),0)","v":0},{"$f":"IFERROR(VLOOKUP($A141,Filtro!$A$4:$AX$552,36,FALSE),0)","v":0},{"$f":"IFERROR(VLOOKUP($A141,Filtro!$A$4:$AX$552,37,FALSE),0)","v":0},{"$f":"IFERROR(VLOOKUP($A141,Filtro!$A$4:$AX$552,38,FALSE),0)","v":0},{"$f":"IFERROR(VLOOKUP($A141,Filtro!$A$4:$AX$552,39,FALSE),0)","v":0},{"$f":"IFERROR(VLOOKUP($A141,Filtro!$A$4:$AX$552,40,FALSE),0)","v":0},{"$f":"IFERROR(VLOOKUP($A141,Filtro!$A$4:$AX$552,41,FALSE),0)","v":0},{"$f":"IFERROR(VLOOKUP($A141,Filtro!$A$4:$AX$552,42,FALSE),0)","v":0}]
["P2501400","NEOPLASIAS",null,{"$f":"IFERROR(VLOOKUP($A142,Filtro!$A$4:$AX$552,2,FALSE),0)","v":3},{"$f":"IFERROR(VLOOKUP($A142,Filtro!$A$4:$AX$552,3,FALSE),0)","v":0},{"$f":"IFERROR(VLOOKUP($A142,Filtro!$A$4:$AX$552,4,FALSE),0)","v":3},{"$f":"IFERROR(VLOOKUP($A142,Filtro!$A$4:$AX$552,5,FALSE),0)","v":0},{"$f":"IFERROR(VLOOKUP($A142,Filtro!$A$4:$AX$552,6,FALSE),0)","v":0},{"$f":"IFERROR(VLOOKUP($A142,Filtro!$A$4:$AX$552,7,FALSE),0)","v":0},{"$f":"IFERROR(VLOOKUP($A142,Filtro!$A$4:$AX$552,8,FALSE),0)","v":0},{"$f":"IFERROR(VLOOKUP($A142,Filtro!$A$4:$AX$552,9,FALSE),0)","v":0},{"$f":"IFERROR(VLOOKUP($A142,Filtro!$A$4:$AX$552,10,FALSE),0)","v":0},{"$f":"IFERROR(VLOOKUP($A142,Filtro!$A$4:$AX$552,11,FALSE),0)","v":0},{"$f":"IFERROR(VLOOKUP($A142,Filtro!$A$4:$AX$552,12,FALSE),0)","v":0},{"$f":"IFERROR(VLOOKUP($A142,Filtro!$A$4:$AX$552,13,FALSE),0)","v":0},{"$f":"IFERROR(VLOOKUP($A142,Filtro!$A$4:$AX$552,14,FALSE),0)","v":0},{"$f":"IFERROR(VLOOKUP($A142,Filtro!$A$4:$AX$552,15,FALSE),0)","v":0},{"$f":"IFERROR(VLOOKUP($A142,Filtro!$A$4:$AX$552,16,FALSE),0)","v":0},{"$f":"IFERROR(VLOOKUP($A142,Filtro!$A$4:$AX$552,17,FALSE),0)","v":0},{"$f":"IFERROR(VLOOKUP($A142,Filtro!$A$4:$AX$552,18,FALSE),0)","v":0},{"$f":"IFERROR(VLOOKUP($A142,Filtro!$A$4:$AX$552,19,FALSE),0)","v":0},{"$f":"IFERROR(VLOOKUP($A142,Filtro!$A$4:$AX$552,20,FALSE),0)","v":0},{"$f":"IFERROR(VLOOKUP($A142,Filtro!$A$4:$AX$552,21,FALSE),0)","v":0},{"$f":"IFERROR(VLOOKUP($A142,Filtro!$A$4:$AX$552,22,FALSE),0)","v":0},{"$f":"IFERROR(VLOOKUP($A142,Filtro!$A$4:$AX$552,23,FALSE),0)","v":0},{"$f":"IFERROR(VLOOKUP($A142,Filtro!$A$4:$AX$552,24,FALSE),0)","v":0},{"$f":"IFERROR(VLOOKUP($A142,Filtro!$A$4:$AX$552,25,FALSE),0)","v":0},{"$f":"IFERROR(VLOOKUP($A142,Filtro!$A$4:$AX$552,26,FALSE),0)","v":0},{"$f":"IFERROR(VLOOKUP($A142,Filtro!$A$4:$AX$552,27,FALSE),0)","v":0},{"$f":"IFERROR(VLOOKUP($A142,Filtro!$A$4:$AX$552,28,FALSE),0)","v":0},{"$f":"IFERROR(VLOOKUP($A142,Filtro!$A$4:$AX$552,29,FALSE),0)","v":0},{"$f":"IFERROR(VLOOKUP($A142,Filtro!$A$4:$AX$552,30,FALSE),0)","v":0},{"$f":"IFERROR(VLOOKUP($A142,Filtro!$A$4:$AX$552,31,FALSE),0)","v":0},{"$f":"IFERROR(VLOOKUP($A142,Filtro!$A$4:$AX$552,32,FALSE),0)","v":1},{"$f":"IFERROR(VLOOKUP($A142,Filtro!$A$4:$AX$552,33,FALSE),0)","v":0},{"$f":"IFERROR(VLOOKUP($A142,Filtro!$A$4:$AX$552,34,FALSE),0)","v":2},{"$f":"IFERROR(VLOOKUP($A142,Filtro!$A$4:$AX$552,35,FALSE),0)","v":0},{"$f":"IFERROR(VLOOKUP($A142,Filtro!$A$4:$AX$552,36,FALSE),0)","v":0},{"$f":"IFERROR(VLOOKUP($A142,Filtro!$A$4:$AX$552,37,FALSE),0)","v":0},{"$f":"IFERROR(VLOOKUP($A142,Filtro!$A$4:$AX$552,38,FALSE),0)","v":0},{"$f":"IFERROR(VLOOKUP($A142,Filtro!$A$4:$AX$552,39,FALSE),0)","v":0},{"$f":"IFERROR(VLOOKUP($A142,Filtro!$A$4:$AX$552,40,FALSE),0)","v":0},{"$f":"IFERROR(VLOOKUP($A142,Filtro!$A$4:$AX$552,41,FALSE),0)","v":0},{"$f":"IFERROR(VLOOKUP($A142,Filtro!$A$4:$AX$552,42,FALSE),0)","v":0}]
["P2501500","MALFORMACIONES CONGÉNITAS, DEFORMIDADES Y ANOMALÍAS CROMOSÓMICAS",null,{"$f":"IFERROR(VLOOKUP($A143,Filtro!$A$4:$AX$552,2,FALSE),0)","v":215},{"$f":"IFERROR(VLOOKUP($A143,Filtro!$A$4:$AX$552,3,FALSE),0)","v":112},{"$f":"IFERROR(VLOOKUP($A143,Filtro!$A$4:$AX$552,4,FALSE),0)","v":103},{"$f":"IFERROR(VLOOKUP($A143,Filtro!$A$4:$AX$552,5,FALSE),0)","v":2},{"$f":"IFERROR(VLOOKUP($A143,Filtro!$A$4:$AX$552,6,FALSE),0)","v":0},{"$f":"IFERROR(VLOOKUP($A143,Filtro!$A$4:$AX$552,7,FALSE),0)","v":1},{"$f":"IFERROR(VLOOKUP($A143,Filtro!$A$4:$AX$552,8,FALSE),0)","v":1},{"$f":"IFERROR(VLOOKUP($A143,Filtro!$A$4:$AX$552,9,FALSE),0)","v":0},{"$f":"IFERROR(VLOOKUP($A143,Filtro!$A$4:$AX$552,10,FALSE),0)","v":0},{"$f":"IFERROR(VLOOKUP($A143,Filtro!$A$4:$AX$552,11,FALSE),0)","v":0},{"$f":"IFERROR(VLOOKUP($A143,Filtro!$A$4:$AX$552,12,FALSE),0)","v":1},{"$f":"IFERROR(VLOOKUP($A143,Filtro!$A$4:$AX$552,13,FALSE),0)","v":0},{"$f":"IFERROR(VLOOKUP($A143,Filtro!$A$4:$AX$552,14,FALSE),0)","v":0},{"$f":"IFERROR(VLOOKUP($A143,Filtro!$A$4:$AX$552,15,FALSE),0)","v":0},{"$f":"IFERROR(VLOOKUP($A143,Filtro!$A$4:$AX$552,16,FALSE),0)","v":1},{"$f":"IFERROR(VLOOKUP($A143,Filtro!$A$4:$AX$552,17,FALSE),0)","v":1},{"$f":"IFERROR(VLOOKUP($A143,Filtro!$A$4:$AX$552,18,FALSE),0)","v":2},{"$f":"IFERROR(VLOOKUP($A143,Filtro!$A$4:$AX$552,19,FALSE),0)","v":2},{"$f":"IFERROR(VLOOKUP($A143,Filtro!$A$4:$AX$552,20,FALSE),0)","v":4},{"$f":"IFERROR(VLOOKUP($A143,Filtro!$A$4:$AX$552,21,FALSE),0)","v":12},{"$f":"IFERROR(VLOOKUP($A143,Filtro!$A$4:$AX$552,22,FALSE),0)","v":13},{"$f":"IFERROR(VLOOKUP($A143,Filtro!$A$4:$AX$552,23,FALSE),0)","v":6},{"$f":"IFERROR(VLOOKUP($A143,Filtro!$A$4:$AX$552,24,FALSE),0)","v":7},{"$f":"IFERROR(VLOOKUP($A143,Filtro!$A$4:$AX$552,25,FALSE),0)","v":9},{"$f":"IFERROR(VLOOKUP($A143,Filtro!$A$4:$AX$552,26,FALSE),0)","v":15},{"$f":"IFERROR(VLOOKUP($A143,Filtro!$A$4:$AX$552,27,FALSE),0)","v":9},{"$f":"IFERROR(VLOOKUP($A143,Filtro!$A$4:$AX$552,28,FALSE),0)","v":7},{"$f":"IFERROR(VLOOKUP($A143,Filtro!$A$4:$AX$552,29,FALSE),0)","v":0},{"$f":"IFERROR(VLOOKUP($A143,Filtro!$A$4:$AX$552,30,FALSE),0)","v":1},{"$f":"IFERROR(VLOOKUP($A143,Filtro!$A$4:$AX$552,31,FALSE),0)","v":19},{"$f":"IFERROR(VLOOKUP($A143,Filtro!$A$4:$AX$552,32,FALSE),0)","v":16},{"$f":"IFERROR(VLOOKUP($A143,Filtro!$A$4:$AX$552,33,FALSE),0)","v":10},{"$f":"IFERROR(VLOOKUP($A143,Filtro!$A$4:$AX$552,34,FALSE),0)","v":11},{"$f":"IFERROR(VLOOKUP($A143,Filtro!$A$4:$AX$552,35,FALSE),0)","v":17},{"$f":"IFERROR(VLOOKUP($A143,Filtro!$A$4:$AX$552,36,FALSE),0)","v":13},{"$f":"IFERROR(VLOOKUP($A143,Filtro!$A$4:$AX$552,37,FALSE),0)","v":24},{"$f":"IFERROR(VLOOKUP($A143,Filtro!$A$4:$AX$552,38,FALSE),0)","v":11},{"$f":"IFERROR(VLOOKUP($A143,Filtro!$A$4:$AX$552,39,FALSE),0)","v":1},{"$f":"IFERROR(VLOOKUP($A143,Filtro!$A$4:$AX$552,40,FALSE),0)","v":0},{"$f":"IFERROR(VLOOKUP($A143,Filtro!$A$4:$AX$552,41,FALSE),0)","v":1},{"$f":"IFERROR(VLOOKUP($A143,Filtro!$A$4:$AX$552,42,FALSE),0)","v":2}]
["P2501600","PREMATUROS",null,{"$f":"IFERROR(VLOOKUP($A144,Filtro!$A$4:$AX$552,2,FALSE),0)","v":1563},{"$f":"IFERROR(VLOOKUP($A144,Filtro!$A$4:$AX$552,3,FALSE),0)","v":866},{"$f":"IFERROR(VLOOKUP($A144,Filtro!$A$4:$AX$552,4,FALSE),0)","v":697},{"$f":"IFERROR(VLOOKUP($A144,Filtro!$A$4:$AX$552,5,FALSE),0)","v":4},{"$f":"IFERROR(VLOOKUP($A144,Filtro!$A$4:$AX$552,6,FALSE),0)","v":2},{"$f":"IFERROR(VLOOKUP($A144,Filtro!$A$4:$AX$552,7,FALSE),0)","v":7},{"$f":"IFERROR(VLOOKUP($A144,Filtro!$A$4:$AX$552,8,FALSE),0)","v":7},{"$f":"IFERROR(VLOOKUP($A144,Filtro!$A$4:$AX$552,9,FALSE),0)","v":16},{"$f":"IFERROR(VLOOKUP($A144,Filtro!$A$4:$AX$552,10,FALSE),0)","v":7},{"$f":"IFERROR(VLOOKUP($A144,Filtro!$A$4:$AX$552,11,FALSE),0)","v":8},{"$f":"IFERROR(VLOOKUP($A144,Filtro!$A$4:$AX$552,12,FALSE),0)","v":14},{"$f":"IFERROR(VLOOKUP($A144,Filtro!$A$4:$AX$552,13,FALSE),0)","v":15},{"$f":"IFERROR(VLOOKUP($A144,Filtro!$A$4:$AX$552,14,FALSE),0)","v":13},{"$f":"IFERROR(VLOOKUP($A144,Filtro!$A$4:$AX$552,15,FALSE),0)","v":15},{"$f":"IFERROR(VLOOKUP($A144,Filtro!$A$4:$AX$552,16,FALSE),0)","v":13},{"$f":"IFERROR(VLOOKUP($A144,Filtro!$A$4:$AX$552,17,FALSE),0)","v":15},{"$f":"IFERROR(VLOOKUP($A144,Filtro!$A$4:$AX$552,18,FALSE),0)","v":10},{"$f":"IFERROR(VLOOKUP($A144,Filtro!$A$4:$AX$552,19,FALSE),0)","v":69},{"$f":"IFERROR(VLOOKUP($A144,Filtro!$A$4:$AX$552,20,FALSE),0)","v":44},{"$f":"IFERROR(VLOOKUP($A144,Filtro!$A$4:$AX$552,21,FALSE),0)","v":69},{"$f":"IFERROR(VLOOKUP($A144,Filtro!$A$4:$AX$552,22,FALSE),0)","v":54},{"$f":"IFERROR(VLOOKUP($A144,Filtro!$A$4:$AX$552,23,FALSE),0)","v":71},{"$f":"IFERROR(VLOOKUP($A144,Filtro!$A$4:$AX$552,24,FALSE),0)","v":69},{"$f":"IFERROR(VLOOKUP($A144,Filtro!$A$4:$AX$552,25,FALSE),0)","v":114},{"$f":"IFERROR(VLOOKUP($A144,Filtro!$A$4:$AX$552,26,FALSE),0)","v":99},{"$f":"IFERROR(VLOOKUP($A144,Filtro!$A$4:$AX$552,27,FALSE),0)","v":64},{"$f":"IFERROR(VLOOKUP($A144,Filtro!$A$4:$AX$552,28,FALSE),0)","v":50},{"$f":"IFERROR(VLOOKUP($A144,Filtro!$A$4:$AX$552,29,FALSE),0)","v":47},{"$f":"IFERROR(VLOOKUP($A144,Filtro!$A$4:$AX$552,30,FALSE),0)","v":38},{"$f":"IFERROR(VLOOKUP($A144,Filtro!$A$4:$AX$552,31,FALSE),0)","v":98},{"$f":"IFERROR(VLOOKUP($A144,Filtro!$A$4:$AX$552,32,FALSE),0)","v":93},{"$f":"IFERROR(VLOOKUP($A144,Filtro!$A$4:$AX$552,33,FALSE),0)","v":86},{"$f":"IFERROR(VLOOKUP($A144,Filtro!$A$4:$AX$552,34,FALSE),0)","v":67},{"$f":"IFERROR(VLOOKUP($A144,Filtro!$A$4:$AX$552,35,FALSE),0)","v":115},{"$f":"IFERROR(VLOOKUP($A144,Filtro!$A$4:$AX$552,36,FALSE),0)","v":78},{"$f":"IFERROR(VLOOKUP($A144,Filtro!$A$4:$AX$552,37,FALSE),0)","v":53},{"$f":"IFERROR(VLOOKUP($A144,Filtro!$A$4:$AX$552,38,FALSE),0)","v":39},{"$f":"IFERROR(VLOOKUP($A144,Filtro!$A$4:$AX$552,39,FALSE),0)","v":5},{"$f":"IFERROR(VLOOKUP($A144,Filtro!$A$4:$AX$552,40,FALSE),0)","v":4},{"$f":"IFERROR(VLOOKUP($A144,Filtro!$A$4:$AX$552,41,FALSE),0)","v":2},{"$f":"IFERROR(VLOOKUP($A144,Filtro!$A$4:$AX$552,42,FALSE),0)","v":2}]
["P2501700","HOSPITALIZACIÓN DOMICILIARIA",null,{"$f":"IFERROR(VLOOKUP($A145,Filtro!$A$4:$AX$552,2,FALSE),0)","v":6},{"$f":"IFERROR(VLOOKUP($A145,Filtro!$A$4:$AX$552,3,FALSE),0)","v":3},{"$f":"IFERROR(VLOOKUP($A145,Filtro!$A$4:$AX$552,4,FALSE),0)","v":3},{"$f":"IFERROR(VLOOKUP($A145,Filtro!$A$4:$AX$552,5,FALSE),0)","v":0},{"$f":"IFERROR(VLOOKUP($A145,Filtro!$A$4:$AX$552,6,FALSE),0)","v":0},{"$f":"IFERROR(VLOOKUP($A145,Filtro!$A$4:$AX$552,7,FALSE),0)","v":0},{"$f":"IFERROR(VLOOKUP($A145,Filtro!$A$4:$AX$552,8,FALSE),0)","v":0},{"$f":"IFERROR(VLOOKUP($A145,Filtro!$A$4:$AX$552,9,FALSE),0)","v":0},{"$f":"IFERROR(VLOOKUP($A145,Filtro!$A$4:$AX$552,10,FALSE),0)","v":0},{"$f":"IFERROR(VLOOKUP($A145,Filtro!$A$4:$AX$552,11,FALSE),0)","v":0},{"$f":"IFERROR(VLOOKUP($A145,Filtro!$A$4:$AX$552,12,FALSE),0)","v":0},{"$f":"IFERROR(VLOOKUP($A145,Filtro!$A$4:$AX$552,13,FALSE),0)","v":0},{"$f":"IFERROR(VLOOKUP($A145,Filtro!$A$4:$AX$552,14,FALSE),0)","v":0},{"$f":"IFERROR(VLOOKUP($A145,Filtro!$A$4:$AX$552,15,FALSE),0)","v":0},{"$f":"IFERROR(VLOOKUP($A145,Filtro!$A$4:$AX$552,16,FALSE),0)","v":0},{"$f":"IFERROR(VLOOKUP($A145,Filtro!$A$4:$AX$552,17,FALSE),0)","v":0},{"$f":"IFERROR(VLOOKUP($A145,Filtro!$A$4:$AX$552,18,FALSE),0)","v":0},{"$f":"IFERROR(VLOOKUP($A145,Filtro!$A$4:$AX$552,19,FALSE),0)","v":0},{"$f":"IFERROR(VLOOKUP($A145,Filtro!$A$4:$AX$552,20,FALSE),0)","v":0},{"$f":"IFERROR(VLOOKUP($A145,Filtro!$A$4:$AX$552,21,FALSE),0)","v":1},{"$f":"IFERROR(VLOOKUP($A145,Filtro!$A$4:$AX$552,22,FALSE),0)","v":0},{"$f":"IFERROR(VLOOKUP($A145,Filtro!$A$4:$AX$552,23,FALSE),0)","v":0},{"$f":"IFERROR(VLOOKUP($A145,Filtro!$A$4:$AX$552,24,FALSE),0)","v":0},{"$f":"IFERROR(VLOOKUP($A145,Filtro!$A$4:$AX$552,25,FALSE),0)","v":0},{"$f":"IFERROR(VLOOKUP($A145,Filtro!$A$4:$AX$552,26,FALSE),0)","v":0},{"$f":"IFERROR(VLOOKUP($A145,Filtro!$A$4:$AX$552,27,FALSE),0)","v":0},{"$f":"IFERROR(VLOOKUP($A145,Filtro!$A$4:$AX$552,28,FALSE),0)","v":0},{"$f":"IFERROR(VLOOKUP($A145,Filtro!$A$4:$AX$552,29,FALSE),0)","v":0},{"$f":"IFERROR(VLOOKUP($A145,Filtro!$A$4:$AX$552,30,FALSE),0)","v":0},{"$f":"IFERROR(VLOOKUP($A145,Filtro!$A$4:$AX$552,31,FALSE),0)","v":0},{"$f":"IFERROR(VLOOKUP($A145,Filtro!$A$4:$AX$552,32,FALSE),0)","v":0},{"$f":"IFERROR(VLOOKUP($A145,Filtro!$A$4:$AX$552,33,FALSE),0)","v":1},{"$f":"IFERROR(VLOOKUP($A145,Filtro!$A$4:$AX$552,34,FALSE),0)","v":1},{"$f":"IFERROR(VLOOKUP($A145,Filtro!$A$4:$AX$552,35,FALSE),0)","v":0},{"$f":"IFERROR(VLOOKUP($A145,Filtro!$A$4:$AX$552,36,FALSE),0)","v":1},{"$f":"IFERROR(VLOOKUP($A145,Filtro!$A$4:$AX$552,37,FALSE),0)","v":1},{"$f":"IFERROR(VLOOKUP($A145,Filtro!$A$4:$AX$552,38,FALSE),0)","v":1},{"$f":"IFERROR(VLOOKUP($A145,Filtro!$A$4:$AX$552,39,FALSE),0)","v":0},{"$f":"IFERROR(VLOOKUP($A145,Filtro!$A$4:$AX$552,40,FALSE),0)","v":0},{"$f":"IFERROR(VLOOKUP($A145,Filtro!$A$4:$AX$552,41,FALSE),0)","v":0},{"$f":"IFERROR(VLOOKUP($A145,Filtro!$A$4:$AX$552,42,FALSE),0)","v":0}]
[null,"TOTAL",null,{"$f":"SUM(E146:F146)","v":2455},{"$f":"SUM(E129:E145)","v":1388},{"$f":"SUM(F129:F145)","v":1067},{"$f":"SUM(G129:G145)","v":6},{"$f":"SUM(H129:H145)","v":4},11,8,17,9,8,17,15,14,17,15,20,17,79,53,93,79,93,89,162,136,115,90,60,47,170,147,150,106,229,154,143,82,8,4,7,5]
[]
[]
[]
["CODIGOS NUEVOS"]
[]
["P2500100"]
["P2500200"]
["P2500300"]
["P2500400"]
["P2500500"]
["P2500600"]
["P2500700"]
["P2500800"]
["P2500900"]
["P2501000"]
["P2501100"]
["P2501200"]
["P2501300"]
["P2501400"]
["P2501500"]
["P2501600"]
["P2501700"]

{"sheet":"P3","index":3,"n_rows":82,"n_cols":94,"rows_kept":82,"merged":[[6,1,6,25],[8,1,10,2],[8,3,9,5],[8,6,8,39],[8,40,10,40],[8,41,9,42],[9,6,9,7],[9,8,9,9],[9,10,9,11],[9,12,9,13],[9,14,9,15],[9,16,9,17],[9,18,9,19],[9,20,9,21],[9,22,9,23],[9,24,9,25],[9,26,9,27],[9,28,9,29],[9,30,9,31],[9,32,9,33],[9,34,9,35],[9,36,9,37],[9,38,9,39],[11,1,13,1],[14,1,16,1],[17,1,18,1],[19,1,19,2],[20,1,20,2],[21,1,21,2],[22,1,22,2],[23,1,23,2],[25,1,25,2],[26,1,26,2],[27,1,27,2],[28,1,28,2],[29,1,29,2],[30,1,30,2],[31,1,33,1],[34,1,37,1],[39,1,39,42],[40,1,41,2],[40,3,41,3],[40,4,40,7],[42,1,42,2],[43,1,43,39],[44,1,46,2],[44,3,45,5],[44,6,44,39],[45,6,45,7],[45,8,45,9],[45,10,45,11],[45,12,45,13],[45,14,45,15],[45,16,45,17],[45,18,45,19],[45,20,45,21],[45,22,45,23],[45,24,45,25],[45,26,45,27],[45,28,45,29],[45,30,45,31],[45,32,45,33],[45,34,45,35],[45,36,45,37],[45,38,45,39],[47,1,47,2],[48,1,48,39],[49,1,51,2],[49,3,50,5],[49,6,49,39],[50,6,50,7],[50,8,50,9],[50,10,50,11],[50,12,50,13],[50,14,50,15],[50,16,50,17],[50,18,50,19],[50,20,50,21],[50,22,50,23],[50,24,50,25],[50,26,50,27],[50,28,50,29],[50,30,50,31],[50,32,50,33],[50,34,50,35],[50,36,50,37],[50,38,50,39],[52,1,55,1],[56,1,58,1]]}
[]
[]
[]
[]
[]
[]
[null,"REM-P3. POBLACIÓN EN CONTROL OTROS PROGRAMAS"]
[null,"SECCIÓN A: EXISTENCIA DE POBLACIÓN EN CONTROL"]
[null,"PROGRAMAS",null,"TOTAL",null,null,"GRUPOS DE EDAD (en años) Y SEXO",{"$nulls":33},"Con espirometría vigente","Población Migrantes"]
[{"$nulls":6},"0 a 4 años",null,"5 a 9 años",null,"10 a 14 años",null,"15 a 19 años",null,"20 a 24 años",null,"25 a 29 años",null,"30 a 34 años",null,"35 a 39 años",null,"40 a 44 años",null,"45 a 49 años",null,"50 a 54 años",null,"55 a 59 años",null,"60 a 64 años",null,"65 a 69 años",null,"70 a 74 años",null,"75 a 79 años",null,"80 y más años"]
[{"$nulls":3},"Ambos\nsexos","Hombres","Mujeres","Hombres","Mujeres","Hombres","Mujeres","Hombres","Mujeres","Hombres","Mujeres","Hombres","Mujeres","Hombres","Mujeres","Hombres","Mujeres","Hombres","Mujeres","Hombres","Mujeres","Hombres","Mujeres","Hombres","Mujeres","Hombres","Mujeres","Hombres","Mujeres","Hombres ","Mujeres","Hombres ","Mujeres","Hombres ","Mujeres","Hombres ","Mujeres",null,"Hombres ","Mujeres"]
["P3160950","SÍNDROME BRONQUIAL OBSTRUCTIVA RECURRENTE (SBOR)","LEVE",{"$f":"IFERROR(VLOOKUP($A12,Filtro!$A$4:$AX$552,2,FALSE),0)","v":732},{"$f":"IFERROR(VLOOKUP($A12,Filtro!$A$4:$AX$552,3,FALSE),0)","v":410},{"$f":"IFERROR(VLOOKUP($A12,Filtro!$A$4:$AX$552,4,FALSE),0)","v":322},{"$f":"IFERROR(VLOOKUP($A12,Filtro!$A$4:$AX$552,5,FALSE),0)","v":410},{"$f":"IFERROR(VLOOKUP($A12,Filtro!$A$4:$AX$552,6,FALSE),0)","v":322},{"$f":"IFERROR(VLOOKUP($A12,Filtro!$A$4:$AX$552,7,FALSE),0)","v":0},{"$f":"IFERROR(VLOOKUP($A12,Filtro!$A$4:$AX$552,8,FALSE),0)","v":0},{"$f":"IFERROR(VLOOKUP($A12,Filtro!$A$4:$AX$552,9,FALSE),0)","v":0},{"$f":"IFERROR(VLOOKUP($A12,Filtro!$A$4:$AX$552,10,FALSE),0)","v":0},{"$f":"IFERROR(VLOOKUP($A12,Filtro!$A$4:$AX$552,11,FALSE),0)","v":0},{"$f":"IFERROR(VLOOKUP($A12,Filtro!$A$4:$AX$552,12,FALSE),0)","v":0},{"$f":"IFERROR(VLOOKUP($A12,Filtro!$A$4:$AX$552,13,FALSE),0)","v":0},{"$f":"IFERROR(VLOOKUP($A12,Filtro!$A$4:$AX$552,14,FALSE),0)","v":0},{"$f":"IFERROR(VLOOKUP($A12,Filtro!$A$4:$AX$552,15,FALSE),0)","v":0},{"$f":"IFERROR(VLOOKUP($A12,Filtro!$A$4:$AX$552,16,FALSE),0)","v":0},{"$f":"IFERROR(VLOOKUP($A12,Filtro!$A$4:$AX$552,17,FALSE),0)","v":0},{"$f":"IFERROR(VLOOKUP($A12,Filtro!$A$4:$AX$552,18,FALSE),0)","v":0},{"$f":"IFERROR(VLOOKUP($A12,Filtro!$A$4:$AX$552,19,FALSE),0)","v":0},{"$f":"IFERROR(VLOOKUP($A12,Filtro!$A$4:$AX$552,20,FALSE),0)","v":0},{"$f":"IFERROR(VLOOKUP($A12,Filtro!$A$4:$AX$552,21,FALSE),0)","v":0},{"$f":"IFERROR(VLOOKUP($A12,Filtro!$A$4:$AX$552,22,FALSE),0)","v":0},{"$f":"IFERROR(VLOOKUP($A12,Filtro!$A$4:$AX$552,23,FALSE),0)","v":0},{"$f":"IFERROR(VLOOKUP($A12,Filtro!$A$4:$AX$552,24,FALSE),0)","v":0},{"$f":"IFERROR(VLOOKUP($A12,Filtro!$A$4:$AX$552,25,FALSE),0)","v":0},{"$f":"IFERROR(VLOOKUP($A12,Filtro!$A$4:$AX$552,26,FALSE),0)","v":0},{"$f":"IFERROR(VLOOKUP($A12,Filtro!$A$4:$AX$552,27,FALSE),0)","v":0},{"$f":"IFERROR(VLOOKUP($A12,Filtro!$A$4:$AX$552,28,FALSE),0)","v":0},{"$f":"IFERROR(VLOOKUP($A12,Filtro!$A$4:$AX$552,29,FALSE),0)","v":0},{"$f":"IFERROR(VLOOKUP($A12,Filtro!$A$4:$AX$552,30,FALSE),0)","v":0},{"$f":"IFERROR(VLOOKUP($A12,Filtro!$A$4:$AX$552,31,FALSE),0)","v":0},{"$f":"IFERROR(VLOOKUP($A12,Filtro!$A$4:$AX$552,32,FALSE),0)","v":0},{"$f":"IFERROR(VLOOKUP($A12,Filtro!$A$4:$AX$552,33,FALSE),0)","v":0},{"$f":"IFERROR(VLOOKUP($A12,Filtro!$A$4:$AX$552,34,FALSE),0)","v":0},{"$f":"IFERROR(VLOOKUP($A12,Filtro!$A$4:$AX$552,35,FALSE),0)","v":0},{"$f":"IFERROR(VLOOKUP($A12,Filtro!$A$4:$AX$552,36,FALSE),0)","v":0},{"$f":"IFERROR(VLOOKUP($A12,Filtro!$A$4:$AX$552,37,FALSE),0)","v":0},{"$f":"IFERROR(VLOOKUP($A12,Filtro!$A$4:$AX$552,38,FALSE),0)","v":0},{"$f":"IFERROR(VLOOKUP($A12,Filtro!$A$4:$AX$552,39,FALSE),0)","v":0},{"$f":"IFERROR(VLOOKUP($A12,Filtro!$A$4:$AX$552,40,FALSE),0)","v":27},{"$f":"IFERROR(VLOOKUP($A12,Filtro!$A$4:$AX$552,41,FALSE),0)","v":13},{"$f":"IFERROR(VLOOKUP($A12,Filtro!$A$4:$AX$552,42,FALSE),0)","v":0},{"$nulls":36},{"$f":"IF($AO12<=$G12+$H12,\"\",\"* La Población bajo control con Espirometría Vigente no debe ser mayor al Total de Población en Control. \")","v":""},{"$f":"IF($D12>=$AP12+$AQ12,\"\",\"* La Población Migrantes no debe ser mayor al Total de Población en Control. \")","v":""},null,{"$f":"IF(AND(E12<>0,AP12=\"\"),\"* No olvide escribir en la celda de Población Migrantes (Digite CERO si no tiene). \",IF(AND(F12<>0,AQ12=\"\"),\"* No olvide escribir en la celda de Población Migrantes (Digite CERO si no tiene). \",\"\"))","v":""},{"$nulls":4},{"$f":"IF($AO12<=$G12+$H12,0,1)","v":0},{"$f":"IF($D12>=$AP12+$AQ12,0,1)","v":0},null,{"$f":"IF(AND(E12<>0,AP12=\"\"),1,IF(AND(F12<>0,AQ12=\"\"),1,0))","v":0}]
["P3160960",null,"MODERADO",{"$f":"IFERROR(VLOOKUP($A13,Filtro!$A$4:$AX$552,2,FALSE),0)","v":439},{"$f":"IFERROR(VLOOKUP($A13,Filtro!$A$4:$AX$552,3,FALSE),0)","v":261},{"$f":"IFERROR(VLOOKUP($A13,Filtro!$A$4:$AX$552,4,FALSE),0)","v":178},{"$f":"IFERROR(VLOOKUP($A13,Filtro!$A$4:$AX$552,5,FALSE),0)","v":261},{"$f":"IFERROR(VLOOKUP($A13,Filtro!$A$4:$AX$552,6,FALSE),0)","v":178},{"$f":"IFERROR(VLOOKUP($A13,Filtro!$A$4:$AX$552,7,FALSE),0)","v":0},{"$f":"IFERROR(VLOOKUP($A13,Filtro!$A$4:$AX$552,8,FALSE),0)","v":0},{"$f":"IFERROR(VLOOKUP($A13,Filtro!$A$4:$AX$552,9,FALSE),0)","v":0},{"$f":"IFERROR(VLOOKUP($A13,Filtro!$A$4:$AX$552,10,FALSE),0)","v":0},{"$f":"IFERROR(VLOOKUP($A13,Filtro!$A$4:$AX$552,11,FALSE),0)","v":0},{"$f":"IFERROR(VLOOKUP($A13,Filtro!$A$4:$AX$552,12,FALSE),0)","v":0},{"$f":"IFERROR(VLOOKUP($A13,Filtro!$A$4:$AX$552,13,FALSE),0)","v":0},{"$f":"IFERROR(VLOOKUP($A13,Filtro!$A$4:$AX$552,14,FALSE),0)","v":0},{"$f":"IFERROR(VLOOKUP($A13,Filtro!$A$4:$AX$552,15,FALSE),0)","v":0},{"$f":"IFERROR(VLOOKUP($A13,Filtro!$A$4:$AX$552,16,FALSE),0)","v":0},{"$f":"IFERROR(VLOOKUP($A13,Filtro!$A$4:$AX$552,17,FALSE),0)","v":0},{"$f":"IFERROR(VLOOKUP($A13,Filtro!$A$4:$AX$552,18,FALSE),0)","v":0},{"$f":"IFERROR(VLOOKUP($A13,Filtro!$A$4:$AX$552,19,FALSE),0)","v":0},{"$f":"IFERROR(VLOOKUP($A13,Filtro!$A$4:$AX$552,20,FALSE),0)","v":0},{"$f":"IFERROR(VLOOKUP($A13,Filtro!$A$4:$AX$552,21,FALSE),0)","v":0},{"$f":"IFERROR(VLOOKUP($A13,Filtro!$A$4:$AX$552,22,FALSE),0)","v":0},{"$f":"IFERROR(VLOOKUP($A13,Filtro!$A$4:$AX$552,23,FALSE),0)","v":0},{"$f":"IFERROR(VLOOKUP($A13,Filtro!$A$4:$AX$552,24,FALSE),0)","v":0},{"$f":"IFERROR(VLOOKUP($A13,Filtro!$A$4:$AX$552,25,FALSE),0)","v":0},{"$f":"IFERROR(VLOOKUP($A13,Filtro!$A$4:$AX$552,26,FALSE),0)","v":0},{"$f":"IFERROR(VLOOKUP($A13,Filtro!$A$4:$AX$552,27,FALSE),0)","v":0},{"$f":"IFERROR(VLOOKUP($A13,Filtro!$A$4:$AX$552,28,FALSE),0)","v":0},{"$f":"IFERROR(VLOOKUP($A13,Filtro!$A$4:$AX$552,29,FALSE),0)","v":0},{"$f":"IFERROR(VLOOKUP($A13,Filtro!$A$4:$AX$552,30,FALSE),0)","v":0},{"$f":"IFERROR(VLOOKUP($A13,Filtro!$A$4:$AX$552,31,FALSE),0)","v":0},{"$f":"IFERROR(VLOOKUP($A13,Filtro!$A$4:$AX$552,32,FALSE),0)","v":0},{"$f":"IFERROR(VLOOKUP($A13,Filtro!$A$4:$AX$552,33,FALSE),0)","v":0},{"$f":"IFERROR(VLOOKUP($A13,Filtro!$A$4:$AX$552,34,FALSE),0)","v":0},{"$f":"IFERROR(VLOOKUP($A13,Filtro!$A$4:$AX$552,35,FALSE),0)","v":0},{"$f":"IFERROR(VLOOKUP($A13,Filtro!$A$4:$AX$552,36,FALSE),0)","v":0},{"$f":"IFERROR(VLOOKUP($A13,Filtro!$A$4:$AX$552,37,FALSE),0)","v":0},{"$f":"IFERROR(VLOOKUP($A13,Filtro!$A$4:$AX$552,38,FALSE),0)","v":0},{"$f":"IFERROR(VLOOKUP($A13,Filtro!$A$4:$AX$552,39,FALSE),0)","v":0},{"$f":"IFERROR(VLOOKUP($A13,Filtro!$A$4:$AX$552,40,FALSE),0)","v":34},{"$f":"IFERROR(VLOOKUP($A13,Filtro!$A$4:$AX$552,41,FALSE),0)","v":29},{"$f":"IFERROR(VLOOKUP($A13,Filtro!$A$4:$AX$552,42,FALSE),0)","v":0},{"$nulls":36},{"$f":"IF($AO13<=$G13+$H13,\"\",\"* La Población bajo control con Espirometría Vigente no debe ser mayor al Total de Población en Control. \")","v":""},"",null,"",{"$nulls":4},{"$f":"IF($AO13<=$G13+$H13,0,1)","v":0},{"$f":"IF($D13>=$AP13+$AQ13,0,1)","v":0},null,0]
["P3160970",null,"SEVERO",{"$f":"IFERROR(VLOOKUP($A14,Filtro!$A$4:$AX$552,2,FALSE),0)","v":10},{"$f":"IFERROR(VLOOKUP($A14,Filtro!$A$4:$AX$552,3,FALSE),0)","v":9},{"$f":"IFERROR(VLOOKUP($A14,Filtro!$A$4:$AX$552,4,FALSE),0)","v":1},{"$f":"IFERROR(VLOOKUP($A14,Filtro!$A$4:$AX$552,5,FALSE),0)","v":9},{"$f":"IFERROR(VLOOKUP($A14,Filtro!$A$4:$AX$552,6,FALSE),0)","v":1},{"$f":"IFERROR(VLOOKUP($A14,Filtro!$A$4:$AX$552,7,FALSE),0)","v":0},{"$f":"IFERROR(VLOOKUP($A14,Filtro!$A$4:$AX$552,8,FALSE),0)","v":0},{"$f":"IFERROR(VLOOKUP($A14,Filtro!$A$4:$AX$552,9,FALSE),0)","v":0},{"$f":"IFERROR(VLOOKUP($A14,Filtro!$A$4:$AX$552,10,FALSE),0)","v":0},{"$f":"IFERROR(VLOOKUP($A14,Filtro!$A$4:$AX$552,11,FALSE),0)","v":0},{"$f":"IFERROR(VLOOKUP($A14,Filtro!$A$4:$AX$552,12,FALSE),0)","v":0},{"$f":"IFERROR(VLOOKUP($A14,Filtro!$A$4:$AX$552,13,FALSE),0)","v":0},{"$f":"IFERROR(VLOOKUP($A14,Filtro!$A$4:$AX$552,14,FALSE),0)","v":0},{"$f":"IFERROR(VLOOKUP($A14,Filtro!$A$4:$AX$552,15,FALSE),0)","v":0},{"$f":"IFERROR(VLOOKUP($A14,Filtro!$A$4:$AX$552,16,FALSE),0)","v":0},{"$f":"IFERROR(VLOOKUP($A14,Filtro!$A$4:$AX$552,17,FALSE),0)","v":0},{"$f":"IFERROR(VLOOKUP($A14,Filtro!$A$4:$AX$552,18,FALSE),0)","v":0},{"$f":"IFERROR(VLOOKUP($A14,Filtro!$A$4:$AX$552,19,FALSE),0)","v":0},{"$f":"IFERROR(VLOOKUP($A14,Filtro!$A$4:$AX$552,20,FALSE),0)","v":0},{"$f":"IFERROR(VLOOKUP($A14,Filtro!$A$4:$AX$552,21,FALSE),0)","v":0},{"$f":"IFERROR(VLOOKUP($A14,Filtro!$A$4:$AX$552,22,FALSE),0)","v":0},{"$f":"IFERROR(VLOOKUP($A14,Filtro!$A$4:$AX$552,23,FALSE),0)","v":0},{"$f":"IFERROR(VLOOKUP($A14,Filtro!$A$4:$AX$552,24,FALSE),0)","v":0},{"$f":"IFERROR(VLOOKUP($A14,Filtro!$A$4:$AX$552,25,FALSE),0)","v":0},{"$f":"IFERROR(VLOOKUP($A14,Filtro!$A$4:$AX$552,26,FALSE),0)","v":0},{"$f":"IFERROR(VLOOKUP($A14,Filtro!$A$4:$AX$552,27,FALSE),0)","v":0},{"$f":"IFERROR(VLOOKUP($A14,Filtro!$A$4:$AX$552,28,FALSE),0)","v":0},{"$f":"IFERROR(VLOOKUP($A14,Filtro!$A$4:$AX$552,29,FALSE),0)","v":0},{"$f":"IFERROR(VLOOKUP($A14,Filtro!$A$4:$AX$552,30,FALSE),0)","v":0},{"$f":"IFERROR(VLOOKUP($A14,Filtro!$A$4:$AX$552,31,FALSE),0)","v":0},{"$f":"IFERROR(VLOOKUP($A14,Filtro!$A$4:$AX$552,32,FALSE),0)","v":0},{"$f":"IFERROR(VLOOKUP($A14,Filtro!$A$4:$AX$552,33,FALSE),0)","v":0},{"$f":"IFERROR(VLOOKUP($A14,Filtro!$A$4:$AX$552,34,FALSE),0)","v":0},{"$f":"IFERROR(VLOOKUP($A14,Filtro!$A$4:$AX$552,35,FALSE),0)","v":0},{"$f":"IFERROR(VLOOKUP($A14,Filtro!$A$4:$AX$552,36,FALSE),0)","v":0},{"$f":"IFERROR(VLOOKUP($A14,Filtro!$A$4:$AX$552,37,FALSE),0)","v":0},{"$f":"IFERROR(VLOOKUP($A14,Filtro!$A$4:$AX$552,38,FALSE),0)","v":0},{"$f":"IFERROR(VLOOKUP($A14,Filtro!$A$4:$AX$552,39,FALSE),0)","v":0},{"$f":"IFERROR(VLOOKUP($A14,Filtro!$A$4:$AX$552,40,FALSE),0)","v":1},{"$f":"IFERROR(VLOOKUP($A14,Filtro!$A$4:$AX$552,41,FALSE),0)","v":0},{"$f":"IFERROR(VLOOKUP($A14,Filtro!$A$4:$AX$552,42,FALSE),0)","v":0},{"$nulls":36},{"$f":"IF($AO14<=$G14+$H14,\"\",\"* La Población bajo control con Espirometría Vigente no debe ser mayor al Total de Población en Control. \")","v":""},"",null,"",{"$nulls":4},{"$f":"IF($AO14<=$G14+$H14,0,1)","v":0},0,null,0]
["P3160980","ASMA BRONQUIAL","LEVE",{"$f":"IFERROR(VLOOKUP($A15,Filtro!$A$4:$AX$552,2,FALSE),0)","v":7346},{"$f":"IFERROR(VLOOKUP($A15,Filtro!$A$4:$AX$552,3,FALSE),0)","v":2670},{"$f":"IFERROR(VLOOKUP($A15,Filtro!$A$4:$AX$552,4,FALSE),0)","v":4676},{"$f":"IFERROR(VLOOKUP($A15,Filtro!$A$4:$AX$552,5,FALSE),0)","v":109},{"$f":"IFERROR(VLOOKUP($A15,Filtro!$A$4:$AX$552,6,FALSE),0)","v":66},{"$f":"IFERROR(VLOOKUP($A15,Filtro!$A$4:$AX$552,7,FALSE),0)","v":679},{"$f":"IFERROR(VLOOKUP($A15,Filtro!$A$4:$AX$552,8,FALSE),0)","v":486},{"$f":"IFERROR(VLOOKUP($A15,Filtro!$A$4:$AX$552,9,FALSE),0)","v":581},{"$f":"IFERROR(VLOOKUP($A15,Filtro!$A$4:$AX$552,10,FALSE),0)","v":417},{"$f":"IFERROR(VLOOKUP($A15,Filtro!$A$4:$AX$552,11,FALSE),0)","v":319},{"$f":"IFERROR(VLOOKUP($A15,Filtro!$A$4:$AX$552,12,FALSE),0)","v":314},{"$f":"IFERROR(VLOOKUP($A15,Filtro!$A$4:$AX$552,13,FALSE),0)","v":141},{"$f":"IFERROR(VLOOKUP($A15,Filtro!$A$4:$AX$552,14,FALSE),0)","v":223},{"$f":"IFERROR(VLOOKUP($A15,Filtro!$A$4:$AX$552,15,FALSE),0)","v":82},{"$f":"IFERROR(VLOOKUP($A15,Filtro!$A$4:$AX$552,16,FALSE),0)","v":213},{"$f":"IFERROR(VLOOKUP($A15,Filtro!$A$4:$AX$552,17,FALSE),0)","v":57},{"$f":"IFERROR(VLOOKUP($A15,Filtro!$A$4:$AX$552,18,FALSE),0)","v":234},{"$f":"IFERROR(VLOOKUP($A15,Filtro!$A$4:$AX$552,19,FALSE),0)","v":42},{"$f":"IFERROR(VLOOKUP($A15,Filtro!$A$4:$AX$552,20,FALSE),0)","v":189},{"$f":"IFERROR(VLOOKUP($A15,Filtro!$A$4:$AX$552,21,FALSE),0)","v":56},{"$f":"IFERROR(VLOOKUP($A15,Filtro!$A$4:$AX$552,22,FALSE),0)","v":220},{"$f":"IFERROR(VLOOKUP($A15,Filtro!$A$4:$AX$552,23,FALSE),0)","v":52},{"$f":"IFERROR(VLOOKUP($A15,Filtro!$A$4:$AX$552,24,FALSE),0)","v":267},{"$f":"IFERROR(VLOOKUP($A15,Filtro!$A$4:$AX$552,25,FALSE),0)","v":60},{"$f":"IFERROR(VLOOKUP($A15,Filtro!$A$4:$AX$552,26,FALSE),0)","v":301},{"$f":"IFERROR(VLOOKUP($A15,Filtro!$A$4:$AX$552,27,FALSE),0)","v":82},{"$f":"IFERROR(VLOOKUP($A15,Filtro!$A$4:$AX$552,28,FALSE),0)","v":312},{"$f":"IFERROR(VLOOKUP($A15,Filtro!$A$4:$AX$552,29,FALSE),0)","v":76},{"$f":"IFERROR(VLOOKUP($A15,Filtro!$A$4:$AX$552,30,FALSE),0)","v":321},{"$f":"IFERROR(VLOOKUP($A15,Filtro!$A$4:$AX$552,31,FALSE),0)","v":89},{"$f":"IFERROR(VLOOKUP($A15,Filtro!$A$4:$AX$552,32,FALSE),0)","v":333},{"$f":"IFERROR(VLOOKUP($A15,Filtro!$A$4:$AX$552,33,FALSE),0)","v":83},{"$f":"IFERROR(VLOOKUP($A15,Filtro!$A$4:$AX$552,34,FALSE),0)","v":294},{"$f":"IFERROR(VLOOKUP($A15,Filtro!$A$4:$AX$552,35,FALSE),0)","v":81},{"$f":"IFERROR(VLOOKUP($A15,Filtro!$A$4:$AX$552,36,FALSE),0)","v":239},{"$f":"IFERROR(VLOOKUP($A15,Filtro!$A$4:$AX$552,37,FALSE),0)","v":80},{"$f":"IFERROR(VLOOKUP($A15,Filtro!$A$4:$AX$552,38,FALSE),0)","v":244},{"$f":"IFERROR(VLOOKUP($A15,Filtro!$A$4:$AX$552,39,FALSE),0)","v":1696},{"$f":"IFERROR(VLOOKUP($A15,Filtro!$A$4:$AX$552,40,FALSE),0)","v":82},{"$f":"IFERROR(VLOOKUP($A15,Filtro!$A$4:$AX$552,41,FALSE),0)","v":107},{"$f":"IFERROR(VLOOKUP($A15,Filtro!$A$4:$AX$552,42,FALSE),0)","v":0},{"$nulls":36},{"$f":"IF($AO15<=SUM($G15:$AN15),\"\",\"* La Población bajo control con Espirometría Vigente no debe ser mayor al Total de Población en Control. \")","v":""},"",null,"",{"$nulls":4},{"$f":"IF($AO15<=SUM($G15:$AN15),0,1)","v":0},0,null,0]
["P3160990",null,"MODERADO",{"$f":"IFERROR(VLOOKUP($A16,Filtro!$A$4:$AX$552,2,FALSE),0)","v":4322},{"$f":"IFERROR(VLOOKUP($A16,Filtro!$A$4:$AX$552,3,FALSE),0)","v":1601},{"$f":"IFERROR(VLOOKUP($A16,Filtro!$A$4:$AX$552,4,FALSE),0)","v":2721},{"$f":"IFERROR(VLOOKUP($A16,Filtro!$A$4:$AX$552,5,FALSE),0)","v":68},{"$f":"IFERROR(VLOOKUP($A16,Filtro!$A$4:$AX$552,6,FALSE),0)","v":54},{"$f":"IFERROR(VLOOKUP($A16,Filtro!$A$4:$AX$552,7,FALSE),0)","v":499},{"$f":"IFERROR(VLOOKUP($A16,Filtro!$A$4:$AX$552,8,FALSE),0)","v":364},{"$f":"IFERROR(VLOOKUP($A16,Filtro!$A$4:$AX$552,9,FALSE),0)","v":354},{"$f":"IFERROR(VLOOKUP($A16,Filtro!$A$4:$AX$552,10,FALSE),0)","v":284},{"$f":"IFERROR(VLOOKUP($A16,Filtro!$A$4:$AX$552,11,FALSE),0)","v":191},{"$f":"IFERROR(VLOOKUP($A16,Filtro!$A$4:$AX$552,12,FALSE),0)","v":196},{"$f":"IFERROR(VLOOKUP($A16,Filtro!$A$4:$AX$552,13,FALSE),0)","v":49},{"$f":"IFERROR(VLOOKUP($A16,Filtro!$A$4:$AX$552,14,FALSE),0)","v":95},{"$f":"IFERROR(VLOOKUP($A16,Filtro!$A$4:$AX$552,15,FALSE),0)","v":33},{"$f":"IFERROR(VLOOKUP($A16,Filtro!$A$4:$AX$552,16,FALSE),0)","v":99},{"$f":"IFERROR(VLOOKUP($A16,Filtro!$A$4:$AX$552,17,FALSE),0)","v":23},{"$f":"IFERROR(VLOOKUP($A16,Filtro!$A$4:$AX$552,18,FALSE),0)","v":95},{"$f":"IFERROR(VLOOKUP($A16,Filtro!$A$4:$AX$552,19,FALSE),0)","v":26},{"$f":"IFERROR(VLOOKUP($A16,Filtro!$A$4:$AX$552,20,FALSE),0)","v":79},{"$f":"IFERROR(VLOOKUP($A16,Filtro!$A$4:$AX$552,21,FALSE),0)","v":14},{"$f":"IFERROR(VLOOKUP($A16,Filtro!$A$4:$AX$552,22,FALSE),0)","v":107},{"$f":"IFERROR(VLOOKUP($A16,Filtro!$A$4:$AX$552,23,FALSE),0)","v":30},{"$f":"IFERROR(VLOOKUP($A16,Filtro!$A$4:$AX$552,24,FALSE),0)","v":136},{"$f":"IFERROR(VLOOKUP($A16,Filtro!$A$4:$AX$552,25,FALSE),0)","v":33},{"$f":"IFERROR(VLOOKUP($A16,Filtro!$A$4:$AX$552,26,FALSE),0)","v":158},{"$f":"IFERROR(VLOOKUP($A16,Filtro!$A$4:$AX$552,27,FALSE),0)","v":28},{"$f":"IFERROR(VLOOKUP($A16,Filtro!$A$4:$AX$552,28,FALSE),0)","v":151},{"$f":"IFERROR(VLOOKUP($A16,Filtro!$A$4:$AX$552,29,FALSE),0)","v":44},{"$f":"IFERROR(VLOOKUP($A16,Filtro!$A$4:$AX$552,30,FALSE),0)","v":184},{"$f":"IFERROR(VLOOKUP($A16,Filtro!$A$4:$AX$552,31,FALSE),0)","v":52},{"$f":"IFERROR(VLOOKUP($A16,Filtro!$A$4:$AX$552,32,FALSE),0)","v":167},{"$f":"IFERROR(VLOOKUP($A16,Filtro!$A$4:$AX$552,33,FALSE),0)","v":47},{"$f":"IFERROR(VLOOKUP($A16,Filtro!$A$4:$AX$552,34,FALSE),0)","v":209},{"$f":"IFERROR(VLOOKUP($A16,Filtro!$A$4:$AX$552,35,FALSE),0)","v":46},{"$f":"IFERROR(VLOOKUP($A16,Filtro!$A$4:$AX$552,36,FALSE),0)","v":146},{"$f":"IFERROR(VLOOKUP($A16,Filtro!$A$4:$AX$552,37,FALSE),0)","v":64},{"$f":"IFERROR(VLOOKUP($A16,Filtro!$A$4:$AX$552,38,FALSE),0)","v":196},{"$f":"IFERROR(VLOOKUP($A16,Filtro!$A$4:$AX$552,39,FALSE),0)","v":989},{"$f":"IFERROR(VLOOKUP($A16,Filtro!$A$4:$AX$552,40,FALSE),0)","v":93},{"$f":"IFERROR(VLOOKUP($A16,Filtro!$A$4:$AX$552,41,FALSE),0)","v":97},{"$f":"IFERROR(VLOOKUP($A16,Filtro!$A$4:$AX$552,42,FALSE),0)","v":0},{"$nulls":36},{"$f":"IF($AO16<=SUM($G16:$AN16),\"\",\"* La Población bajo control con Espirometría Vigente no debe ser mayor al Total de Población en Control. \")","v":""},"",null,"",{"$nulls":4},{"$f":"IF($AO16<=SUM($G16:$AN16),0,1)","v":0},0,null,0]
["P3161000",null,"SEVERO",{"$f":"IFERROR(VLOOKUP($A17,Filtro!$A$4:$AX$552,2,FALSE),0)","v":719},{"$f":"IFERROR(VLOOKUP($A17,Filtro!$A$4:$AX$552,3,FALSE),0)","v":179},{"$f":"IFERROR(VLOOKUP($A17,Filtro!$A$4:$AX$552,4,FALSE),0)","v":540},{"$f":"IFERROR(VLOOKUP($A17,Filtro!$A$4:$AX$552,5,FALSE),0)","v":0},{"$f":"IFERROR(VLOOKUP($A17,Filtro!$A$4:$AX$552,6,FALSE),0)","v":0},{"$f":"IFERROR(VLOOKUP($A17,Filtro!$A$4:$AX$552,7,FALSE),0)","v":8},{"$f":"IFERROR(VLOOKUP($A17,Filtro!$A$4:$AX$552,8,FALSE),0)","v":7},{"$f":"IFERROR(VLOOKUP($A17,Filtro!$A$4:$AX$552,9,FALSE),0)","v":12},{"$f":"IFERROR(VLOOKUP($A17,Filtro!$A$4:$AX$552,10,FALSE),0)","v":6},{"$f":"IFERROR(VLOOKUP($A17,Filtro!$A$4:$AX$552,11,FALSE),0)","v":6},{"$f":"IFERROR(VLOOKUP($A17,Filtro!$A$4:$AX$552,12,FALSE),0)","v":5},{"$f":"IFERROR(VLOOKUP($A17,Filtro!$A$4:$AX$552,13,FALSE),0)","v":8},{"$f":"IFERROR(VLOOKUP($A17,Filtro!$A$4:$AX$552,14,FALSE),0)","v":7},{"$f":"IFERROR(VLOOKUP($A17,Filtro!$A$4:$AX$552,15,FALSE),0)","v":4},{"$f":"IFERROR(VLOOKUP($A17,Filtro!$A$4:$AX$552,16,FALSE),0)","v":19},{"$f":"IFERROR(VLOOKUP($A17,Filtro!$A$4:$AX$552,17,FALSE),0)","v":7},{"$f":"IFERROR(VLOOKUP($A17,Filtro!$A$4:$AX$552,18,FALSE),0)","v":16},{"$f":"IFERROR(VLOOKUP($A17,Filtro!$A$4:$AX$552,19,FALSE),0)","v":3},{"$f":"IFERROR(VLOOKUP($A17,Filtro!$A$4:$AX$552,20,FALSE),0)","v":21},{"$f":"IFERROR(VLOOKUP($A17,Filtro!$A$4:$AX$552,21,FALSE),0)","v":0},{"$f":"IFERROR(VLOOKUP($A17,Filtro!$A$4:$AX$552,22,FALSE),0)","v":30},{"$f":"IFERROR(VLOOKUP($A17,Filtro!$A$4:$AX$552,23,FALSE),0)","v":11},{"$f":"IFERROR(VLOOKUP($A17,Filtro!$A$4:$AX$552,24,FALSE),0)","v":36},{"$f":"IFERROR(VLOOKUP($A17,Filtro!$A$4:$AX$552,25,FALSE),0)","v":8},{"$f":"IFERROR(VLOOKUP($A17,Filtro!$A$4:$AX$552,26,FALSE),0)","v":26},{"$f":"IFERROR(VLOOKUP($A17,Filtro!$A$4:$AX$552,27,FALSE),0)","v":12},{"$f":"IFERROR(VLOOKUP($A17,Filtro!$A$4:$AX$552,28,FALSE),0)","v":52},{"$f":"IFERROR(VLOOKUP($A17,Filtro!$A$4:$AX$552,29,FALSE),0)","v":18},{"$f":"IFERROR(VLOOKUP($A17,Filtro!$A$4:$AX$552,30,FALSE),0)","v":61},{"$f":"IFERROR(VLOOKUP($A17,Filtro!$A$4:$AX$552,31,FALSE),0)","v":16},{"$f":"IFERROR(VLOOKUP($A17,Filtro!$A$4:$AX$552,32,FALSE),0)","v":60},{"$f":"IFERROR(VLOOKUP($A17,Filtro!$A$4:$AX$552,33,FALSE),0)","v":23},{"$f":"IFERROR(VLOOKUP($A17,Filtro!$A$4:$AX$552,34,FALSE),0)","v":71},{"$f":"IFERROR(VLOOKUP($A17,Filtro!$A$4:$AX$552,35,FALSE),0)","v":18},{"$f":"IFERROR(VLOOKUP($A17,Filtro!$A$4:$AX$552,36,FALSE),0)","v":56},{"$f":"IFERROR(VLOOKUP($A17,Filtro!$A$4:$AX$552,37,FALSE),0)","v":25},{"$f":"IFERROR(VLOOKUP($A17,Filtro!$A$4:$AX$552,38,FALSE),0)","v":67},{"$f":"IFERROR(VLOOKUP($A17,Filtro!$A$4:$AX$552,39,FALSE),0)","v":241},{"$f":"IFERROR(VLOOKUP($A17,Filtro!$A$4:$AX$552,40,FALSE),0)","v":2},{"$f":"IFERROR(VLOOKUP($A17,Filtro!$A$4:$AX$552,41,FALSE),0)","v":2},{"$f":"IFERROR(VLOOKUP($A17,Filtro!$A$4:$AX$552,42,FALSE),0)","v":0},{"$nulls":36},{"$f":"IF($AO17<=SUM($G17:$AN17),\"\",\"* La Población bajo control con Espirometría Vigente no debe ser mayor al Total de Población en Control. \")","v":""},"",null,"",{"$nulls":4},{"$f":"IF($AO17<=SUM($G17:$AN17),0,1)","v":0},0,null,0]
["P3161010","ENFERMEDAD PULMONAR OBSTRUCTIVA CRÓNICA (EPOC)","TIPO A",{"$f":"IFERROR(VLOOKUP($A18,Filtro!$A$4:$AX$552,2,FALSE),0)","v":3077},{"$f":"IFERROR(VLOOKUP($A18,Filtro!$A$4:$AX$552,3,FALSE),0)","v":1506},{"$f":"IFERROR(VLOOKUP($A18,Filtro!$A$4:$AX$552,4,FALSE),0)","v":1571},{"$f":"IFERROR(VLOOKUP($A18,Filtro!$A$4:$AX$552,5,FALSE),0)","v":0},{"$f":"IFERROR(VLOOKUP($A18,Filtro!$A$4:$AX$552,6,FALSE),0)","v":0},{"$f":"IFERROR(VLOOKUP($A18,Filtro!$A$4:$AX$552,7,FALSE),0)","v":0},{"$f":"IFERROR(VLOOKUP($A18,Filtro!$A$4:$AX$552,8,FALSE),0)","v":0},{"$f":"IFERROR(VLOOKUP($A18,Filtro!$A$4:$AX$552,9,FALSE),0)","v":0},{"$f":"IFERROR(VLOOKUP($A18,Filtro!$A$4:$AX$552,10,FALSE),0)","v":0},{"$f":"IFERROR(VLOOKUP($A18,Filtro!$A$4:$AX$552,11,FALSE),0)","v":0},{"$f":"IFERROR(VLOOKUP($A18,Filtro!$A$4:$AX$552,12,FALSE),0)","v":0},{"$f":"IFERROR(VLOOKUP($A18,Filtro!$A$4:$AX$552,13,FALSE),0)","v":0},{"$f":"IFERROR(VLOOKUP($A18,Filtro!$A$4:$AX$552,14,FALSE),0)","v":0},{"$f":"IFERROR(VLOOKUP($A18,Filtro!$A$4:$AX$552,15,FALSE),0)","v":0},{"$f":"IFERROR(VLOOKUP($A18,Filtro!$A$4:$AX$552,16,FALSE),0)","v":0},{"$f":"IFERROR(VLOOKUP($A18,Filtro!$A$4:$AX$552,17,FALSE),0)","v":0},{"$f":"IFERROR(VLOOKUP($A18,Filtro!$A$4:$AX$552,18,FALSE),0)","v":0},{"$f":"IFERROR(VLOOKUP($A18,Filtro!$A$4:$AX$552,19,FALSE),0)","v":0},{"$f":"IFERROR(VLOOKUP($A18,Filtro!$A$4:$AX$552,20,FALSE),0)","v":0},{"$f":"IFERROR(VLOOKUP($A18,Filtro!$A$4:$AX$552,21,FALSE),0)","v":7},{"$f":"IFERROR(VLOOKUP($A18,Filtro!$A$4:$AX$552,22,FALSE),0)","v":7},{"$f":"IFERROR(VLOOKUP($A18,Filtro!$A$4:$AX$552,23,FALSE),0)","v":8},{"$f":"IFERROR(VLOOKUP($A18,Filtro!$A$4:$AX$552,24,FALSE),0)","v":22},{"$f":"IFERROR(VLOOKUP($A18,Filtro!$A$4:$AX$552,25,FALSE),0)","v":24},{"$f":"IFERROR(VLOOKUP($A18,Filtro!$A$4:$AX$552,26,FALSE),0)","v":42},{"$f":"IFERROR(VLOOKUP($A18,Filtro!$A$4:$AX$552,27,FALSE),0)","v":55},{"$f":"IFERROR(VLOOKUP($A18,Filtro!$A$4:$AX$552,28,FALSE),0)","v":87},{"$f":"IFERROR(VLOOKUP($A18,Filtro!$A$4:$AX$552,29,FALSE),0)","v":130},{"$f":"IFERROR(VLOOKUP($A18,Filtro!$A$4:$AX$552,30,FALSE),0)","v":164},{"$f":"IFERROR(VLOOKUP($A18,Filtro!$A$4:$AX$552,31,FALSE),0)","v":199},{"$f":"IFERROR(VLOOKUP($A18,Filtro!$A$4:$AX$552,32,FALSE),0)","v":237},{"$f":"IFERROR(VLOOKUP($A18,Filtro!$A$4:$AX$552,33,FALSE),0)","v":269},{"$f":"IFERROR(VLOOKUP($A18,Filtro!$A$4:$AX$552,34,FALSE),0)","v":250},{"$f":"IFERROR(VLOOKUP($A18,Filtro!$A$4:$AX$552,35,FALSE),0)","v":325},{"$f":"IFERROR(VLOOKUP($A18,Filtro!$A$4:$AX$552,36,FALSE),0)","v":282},{"$f":"IFERROR(VLOOKUP($A18,Filtro!$A$4:$AX$552,37,FALSE),0)","v":487},{"$f":"IFERROR(VLOOKUP($A18,Filtro!$A$4:$AX$552,38,FALSE),0)","v":480},{"$f":"IFERROR(VLOOKUP($A18,Filtro!$A$4:$AX$552,39,FALSE),0)","v":988},{"$f":"IFERROR(VLOOKUP($A18,Filtro!$A$4:$AX$552,40,FALSE),0)","v":72},{"$f":"IFERROR(VLOOKUP($A18,Filtro!$A$4:$AX$552,41,FALSE),0)","v":66},{"$f":"IFERROR(VLOOKUP($A18,Filtro!$A$4:$AX$552,42,FALSE),0)","v":0},{"$nulls":36},{"$f":"IF($AO18<=SUM($W18:$AN18),\"\",\"* La Población bajo control con Espirometría Vigente no debe ser mayor al Total de Población en Control. \")","v":""},"",null,"",{"$nulls":4},{"$f":"IF($AO18<=SUM($W18:$AN18),0,1)","v":0},0,null,0]
["P3161020",null,"TIPO B",{"$f":"IFERROR(VLOOKUP($A19,Filtro!$A$4:$AX$552,2,FALSE),0)","v":498},{"$f":"IFERROR(VLOOKUP($A19,Filtro!$A$4:$AX$552,3,FALSE),0)","v":266},{"$f":"IFERROR(VLOOKUP($A19,Filtro!$A$4:$AX$552,4,FALSE),0)","v":232},{"$f":"IFERROR(VLOOKUP($A19,Filtro!$A$4:$AX$552,5,FALSE),0)","v":0},{"$f":"IFERROR(VLOOKUP($A19,Filtro!$A$4:$AX$552,6,FALSE),0)","v":0},{"$f":"IFERROR(VLOOKUP($A19,Filtro!$A$4:$AX$552,7,FALSE),0)","v":0},{"$f":"IFERROR(VLOOKUP($A19,Filtro!$A$4:$AX$552,8,FALSE),0)","v":0},{"$f":"IFERROR(VLOOKUP($A19,Filtro!$A$4:$AX$552,9,FALSE),0)","v":0},{"$f":"IFERROR(VLOOKUP($A19,Filtro!$A$4:$AX$552,10,FALSE),0)","v":0},{"$f":"IFERROR(VLOOKUP($A19,Filtro!$A$4:$AX$552,11,FALSE),0)","v":0},{"$f":"IFERROR(VLOOKUP($A19,Filtro!$A$4:$AX$552,12,FALSE),0)","v":0},{"$f":"IFERROR(VLOOKUP($A19,Filtro!$A$4:$AX$552,13,FALSE),0)","v":0},{"$f":"IFERROR(VLOOKUP($A19,Filtro!$A$4:$AX$552,14,FALSE),0)","v":0},{"$f":"IFERROR(VLOOKUP($A19,Filtro!$A$4:$AX$552,15,FALSE),0)","v":0},{"$f":"IFERROR(VLOOKUP($A19,Filtro!$A$4:$AX$552,16,FALSE),0)","v":0},{"$f":"IFERROR(VLOOKUP($A19,Filtro!$A$4:$AX$552,17,FALSE),0)","v":0},{"$f":"IFERROR(VLOOKUP($A19,Filtro!$A$4:$AX$552,18,FALSE),0)","v":0},{"$f":"IFERROR(VLOOKUP($A19,Filtro!$A$4:$AX$552,19,FALSE),0)","v":0},{"$f":"IFERROR(VLOOKUP($A19,Filtro!$A$4:$AX$552,20,FALSE),0)","v":0},{"$f":"IFERROR(VLOOKUP($A19,Filtro!$A$4:$AX$552,21,FALSE),0)","v":0},{"$f":"IFERROR(VLOOKUP($A19,Filtro!$A$4:$AX$552,22,FALSE),0)","v":0},{"$f":"IFERROR(VLOOKUP($A19,Filtro!$A$4:$AX$552,23,FALSE),0)","v":0},{"$f":"IFERROR(VLOOKUP($A19,Filtro!$A$4:$AX$552,24,FALSE),0)","v":1},{"$f":"IFERROR(VLOOKUP($A19,Filtro!$A$4:$AX$552,25,FALSE),0)","v":2},{"$f":"IFERROR(VLOOKUP($A19,Filtro!$A$4:$AX$552,26,FALSE),0)","v":3},{"$f":"IFERROR(VLOOKUP($A19,Filtro!$A$4:$AX$552,27,FALSE),0)","v":7},{"$f":"IFERROR(VLOOKUP($A19,Filtro!$A$4:$AX$552,28,FALSE),0)","v":7},{"$f":"IFERROR(VLOOKUP($A19,Filtro!$A$4:$AX$552,29,FALSE),0)","v":18},{"$f":"IFERROR(VLOOKUP($A19,Filtro!$A$4:$AX$552,30,FALSE),0)","v":13},{"$f":"IFERROR(VLOOKUP($A19,Filtro!$A$4:$AX$552,31,FALSE),0)","v":26},{"$f":"IFERROR(VLOOKUP($A19,Filtro!$A$4:$AX$552,32,FALSE),0)","v":30},{"$f":"IFERROR(VLOOKUP($A19,Filtro!$A$4:$AX$552,33,FALSE),0)","v":44},{"$f":"IFERROR(VLOOKUP($A19,Filtro!$A$4:$AX$552,34,FALSE),0)","v":35},{"$f":"IFERROR(VLOOKUP($A19,Filtro!$A$4:$AX$552,35,FALSE),0)","v":65},{"$f":"IFERROR(VLOOKUP($A19,Filtro!$A$4:$AX$552,36,FALSE),0)","v":45},{"$f":"IFERROR(VLOOKUP($A19,Filtro!$A$4:$AX$552,37,FALSE),0)","v":104},{"$f":"IFERROR(VLOOKUP($A19,Filtro!$A$4:$AX$552,38,FALSE),0)","v":98},{"$f":"IFERROR(VLOOKUP($A19,Filtro!$A$4:$AX$552,39,FALSE),0)","v":73},{"$f":"IFERROR(VLOOKUP($A19,Filtro!$A$4:$AX$552,40,FALSE),0)","v":5},{"$f":"IFERROR(VLOOKUP($A19,Filtro!$A$4:$AX$552,41,FALSE),0)","v":19},{"$f":"IFERROR(VLOOKUP($A19,Filtro!$A$4:$AX$552,42,FALSE),0)","v":0},{"$nulls":36},{"$f":"IF($AO19<=SUM($W19:$AN19),\"\",\"* La Población bajo control con Espirometría Vigente no debe ser mayor al Total de Población en Control. \")","v":""},"",null,"",{"$nulls":4},{"$f":"IF($AO19<=SUM($W19:$AN19),0,1)","v":0},0,null,0]
["P3161030","OTRAS RESPIRATORIAS CRONICAS",null,{"$f":"IFERROR(VLOOKUP($A20,Filtro!$A$4:$AX$552,2,FALSE),0)","v":1183},{"$f":"IFERROR(VLOOKUP($A20,Filtro!$A$4:$AX$552,3,FALSE),0)","v":649},{"$f":"IFERROR(VLOOKUP($A20,Filtro!$A$4:$AX$552,4,FALSE),0)","v":534},{"$f":"IFERROR(VLOOKUP($A20,Filtro!$A$4:$AX$552,5,FALSE),0)","v":15},{"$f":"IFERROR(VLOOKUP($A20,Filtro!$A$4:$AX$552,6,FALSE),0)","v":15},{"$f":"IFERROR(VLOOKUP($A20,Filtro!$A$4:$AX$552,7,FALSE),0)","v":62},{"$f":"IFERROR(VLOOKUP($A20,Filtro!$A$4:$AX$552,8,FALSE),0)","v":48},{"$f":"IFERROR(VLOOKUP($A20,Filtro!$A$4:$AX$552,9,FALSE),0)","v":9},{"$f":"IFERROR(VLOOKUP($A20,Filtro!$A$4:$AX$552,10,FALSE),0)","v":12},{"$f":"IFERROR(VLOOKUP($A20,Filtro!$A$4:$AX$552,11,FALSE),0)","v":4},{"$f":"IFERROR(VLOOKUP($A20,Filtro!$A$4:$AX$552,12,FALSE),0)","v":3},{"$f":"IFERROR(VLOOKUP($A20,Filtro!$A$4:$AX$552,13,FALSE),0)","v":3},{"$f":"IFERROR(VLOOKUP($A20,Filtro!$A$4:$AX$552,14,FALSE),0)","v":4},{"$f":"IFERROR(VLOOKUP($A20,Filtro!$A$4:$AX$552,15,FALSE),0)","v":1},{"$f":"IFERROR(VLOOKUP($A20,Filtro!$A$4:$AX$552,16,FALSE),0)","v":4},{"$f":"IFERROR(VLOOKUP($A20,Filtro!$A$4:$AX$552,17,FALSE),0)","v":1},{"$f":"IFERROR(VLOOKUP($A20,Filtro!$A$4:$AX$552,18,FALSE),0)","v":6},{"$f":"IFERROR(VLOOKUP($A20,Filtro!$A$4:$AX$552,19,FALSE),0)","v":1},{"$f":"IFERROR(VLOOKUP($A20,Filtro!$A$4:$AX$552,20,FALSE),0)","v":4},{"$f":"IFERROR(VLOOKUP($A20,Filtro!$A$4:$AX$552,21,FALSE),0)","v":4},{"$f":"IFERROR(VLOOKUP($A20,Filtro!$A$4:$AX$552,22,FALSE),0)","v":9},{"$f":"IFERROR(VLOOKUP($A20,Filtro!$A$4:$AX$552,23,FALSE),0)","v":10},{"$f":"IFERROR(VLOOKUP($A20,Filtro!$A$4:$AX$552,24,FALSE),0)","v":9},{"$f":"IFERROR(VLOOKUP($A20,Filtro!$A$4:$AX$552,25,FALSE),0)","v":15},{"$f":"IFERROR(VLOOKUP($A20,Filtro!$A$4:$AX$552,26,FALSE),0)","v":8},{"$f":"IFERROR(VLOOKUP($A20,Filtro!$A$4:$AX$552,27,FALSE),0)","v":36},{"$f":"IFERROR(VLOOKUP($A20,Filtro!$A$4:$AX$552,28,FALSE),0)","v":27},{"$f":"IFERROR(VLOOKUP($A20,Filtro!$A$4:$AX$552,29,FALSE),0)","v":42},{"$f":"IFERROR(VLOOKUP($A20,Filtro!$A$4:$AX$552,30,FALSE),0)","v":44},{"$f":"IFERROR(VLOOKUP($A20,Filtro!$A$4:$AX$552,31,FALSE),0)","v":82},{"$f":"IFERROR(VLOOKUP($A20,Filtro!$A$4:$AX$552,32,FALSE),0)","v":65},{"$f":"IFERROR(VLOOKUP($A20,Filtro!$A$4:$AX$552,33,FALSE),0)","v":93},{"$f":"IFERROR(VLOOKUP($A20,Filtro!$A$4:$AX$552,34,FALSE),0)","v":56},{"$f":"IFERROR(VLOOKUP($A20,Filtro!$A$4:$AX$552,35,FALSE),0)","v":102},{"$f":"IFERROR(VLOOKUP($A20,Filtro!$A$4:$AX$552,36,FALSE),0)","v":90},{"$f":"IFERROR(VLOOKUP($A20,Filtro!$A$4:$AX$552,37,FALSE),0)","v":169},{"$f":"IFERROR(VLOOKUP($A20,Filtro!$A$4:$AX$552,38,FALSE),0)","v":130},{"$f":"IFERROR(VLOOKUP($A20,Filtro!$A$4:$AX$552,39,FALSE),0)","v":0},{"$f":"IFERROR(VLOOKUP($A20,Filtro!$A$4:$AX$552,40,FALSE),0)","v":22},{"$f":"IFERROR(VLOOKUP($A20,Filtro!$A$4:$AX$552,41,FALSE),0)","v":31},{"$f":"IFERROR(VLOOKUP($A20,Filtro!$A$4:$AX$552,42,FALSE),0)","v":0},{"$nulls":37},"",null,"",{"$nulls":5},0,null,0]
["P3120500","OXIGENO DEPENDIENTE",null,{"$f":"IFERROR(VLOOKUP($A21,Filtro!$A$4:$AX$552,2,FALSE),0)","v":258},{"$f":"IFERROR(VLOOKUP($A21,Filtro!$A$4:$AX$552,3,FALSE),0)","v":114},{"$f":"IFERROR(VLOOKUP($A21,Filtro!$A$4:$AX$552,4,FALSE),0)","v":144},{"$f":"IFERROR(VLOOKUP($A21,Filtro!$A$4:$AX$552,5,FALSE),0)","v":2},{"$f":"IFERROR(VLOOKUP($A21,Filtro!$A$4:$AX$552,6,FALSE),0)","v":6},{"$f":"IFERROR(VLOOKUP($A21,Filtro!$A$4:$AX$552,7,FALSE),0)","v":7},{"$f":"IFERROR(VLOOKUP($A21,Filtro!$A$4:$AX$552,8,FALSE),0)","v":2},{"$f":"IFERROR(VLOOKUP($A21,Filtro!$A$4:$AX$552,9,FALSE),0)","v":1},{"$f":"IFERROR(VLOOKUP($A21,Filtro!$A$4:$AX$552,10,FALSE),0)","v":1},{"$f":"IFERROR(VLOOKUP($A21,Filtro!$A$4:$AX$552,11,FALSE),0)","v":2},{"$f":"IFERROR(VLOOKUP($A21,Filtro!$A$4:$AX$552,12,FALSE),0)","v":0},{"$f":"IFERROR(VLOOKUP($A21,Filtro!$A$4:$AX$552,13,FALSE),0)","v":0},{"$f":"IFERROR(VLOOKUP($A21,Filtro!$A$4:$AX$552,14,FALSE),0)","v":2},{"$f":"IFERROR(VLOOKUP($A21,Filtro!$A$4:$AX$552,15,FALSE),0)","v":1},{"$f":"IFERROR(VLOOKUP($A21,Filtro!$A$4:$AX$552,16,FALSE),0)","v":1},{"$f":"IFERROR(VLOOKUP($A21,Filtro!$A$4:$AX$552,17,FALSE),0)","v":0},{"$f":"IFERROR(VLOOKUP($A21,Filtro!$A$4:$AX$552,18,FALSE),0)","v":0},{"$f":"IFERROR(VLOOKUP($A21,Filtro!$A$4:$AX$552,19,FALSE),0)","v":0},{"$f":"IFERROR(VLOOKUP($A21,Filtro!$A$4:$AX$552,20,FALSE),0)","v":0},{"$f":"IFERROR(VLOOKUP($A21,Filtro!$A$4:$AX$552,21,FALSE),0)","v":1},{"$f":"IFERROR(VLOOKUP($A21,Filtro!$A$4:$AX$552,22,FALSE),0)","v":0},{"$f":"IFERROR(VLOOKUP($A21,Filtro!$A$4:$AX$552,23,FALSE),0)","v":2},{"$f":"IFERROR(VLOOKUP($A21,Filtro!$A$4:$AX$552,24,FALSE),0)","v":0},{"$f":"IFERROR(VLOOKUP($A21,Filtro!$A$4:$AX$552,25,FALSE),0)","v":1},{"$f":"IFERROR(VLOOKUP($A21,Filtro!$A$4:$AX$552,26,FALSE),0)","v":0},{"$f":"IFERROR(VLOOKUP($A21,Filtro!$A$4:$AX$552,27,FALSE),0)","v":0},{"$f":"IFERROR(VLOOKUP($A21,Filtro!$A$4:$AX$552,28,FALSE),0)","v":3},{"$f":"IFERROR(VLOOKUP($A21,Filtro!$A$4:$AX$552,29,FALSE),0)","v":8},{"$f":"IFERROR(VLOOKUP($A21,Filtro!$A$4:$AX$552,30,FALSE),0)","v":9},{"$f":"IFERROR(VLOOKUP($A21,Filtro!$A$4:$AX$552,31,FALSE),0)","v":11},{"$f":"IFERROR(VLOOKUP($A21,Filtro!$A$4:$AX$552,32,FALSE),0)","v":16},{"$f":"IFERROR(VLOOKUP($A21,Filtro!$A$4:$AX$552,33,FALSE),0)","v":14},{"$f":"IFERROR(VLOOKUP($A21,Filtro!$A$4:$AX$552,34,FALSE),0)","v":19},{"$f":"IFERROR(VLOOKUP($A21,Filtro!$A$4:$AX$552,35,FALSE),0)","v":25},{"$f":"IFERROR(VLOOKUP($A21,Filtro!$A$4:$AX$552,36,FALSE),0)","v":27},{"$f":"IFERROR(VLOOKUP($A21,Filtro!$A$4:$AX$552,37,FALSE),0)","v":39},{"$f":"IFERROR(VLOOKUP($A21,Filtro!$A$4:$AX$552,38,FALSE),0)","v":58},{"$f":"IFERROR(VLOOKUP($A21,Filtro!$A$4:$AX$552,39,FALSE),0)","v":0},{"$f":"IFERROR(VLOOKUP($A21,Filtro!$A$4:$AX$552,40,FALSE),0)","v":5},{"$f":"IFERROR(VLOOKUP($A21,Filtro!$A$4:$AX$552,41,FALSE),0)","v":5},{"$f":"IFERROR(VLOOKUP($A21,Filtro!$A$4:$AX$552,42,FALSE),0)","v":0},{"$nulls":37},"",null,"",{"$nulls":5},0,null,0]
["P3161050","ASISTENCIA VENTILATORIA NO INVASIVA O INVASIVA ",null,{"$f":"IFERROR(VLOOKUP($A22,Filtro!$A$4:$AX$552,2,FALSE),0)","v":43},{"$f":"IFERROR(VLOOKUP($A22,Filtro!$A$4:$AX$552,3,FALSE),0)","v":24},{"$f":"IFERROR(VLOOKUP($A22,Filtro!$A$4:$AX$552,4,FALSE),0)","v":19},{"$f":"IFERROR(VLOOKUP($A22,Filtro!$A$4:$AX$552,5,FALSE),0)","v":0},{"$f":"IFERROR(VLOOKUP($A22,Filtro!$A$4:$AX$552,6,FALSE),0)","v":1},{"$f":"IFERROR(VLOOKUP($A22,Filtro!$A$4:$AX$552,7,FALSE),0)","v":1},{"$f":"IFERROR(VLOOKUP($A22,Filtro!$A$4:$AX$552,8,FALSE),0)","v":2},{"$f":"IFERROR(VLOOKUP($A22,Filtro!$A$4:$AX$552,9,FALSE),0)","v":2},{"$f":"IFERROR(VLOOKUP($A22,Filtro!$A$4:$AX$552,10,FALSE),0)","v":0},{"$f":"IFERROR(VLOOKUP($A22,Filtro!$A$4:$AX$552,11,FALSE),0)","v":3},{"$f":"IFERROR(VLOOKUP($A22,Filtro!$A$4:$AX$552,12,FALSE),0)","v":0},{"$f":"IFERROR(VLOOKUP($A22,Filtro!$A$4:$AX$552,13,FALSE),0)","v":2},{"$f":"IFERROR(VLOOKUP($A22,Filtro!$A$4:$AX$552,14,FALSE),0)","v":0},{"$f":"IFERROR(VLOOKUP($A22,Filtro!$A$4:$AX$552,15,FALSE),0)","v":2},{"$f":"IFERROR(VLOOKUP($A22,Filtro!$A$4:$AX$552,16,FALSE),0)","v":0},{"$f":"IFERROR(VLOOKUP($A22,Filtro!$A$4:$AX$552,17,FALSE),0)","v":1},{"$f":"IFERROR(VLOOKUP($A22,Filtro!$A$4:$AX$552,18,FALSE),0)","v":2},{"$f":"IFERROR(VLOOKUP($A22,Filtro!$A$4:$AX$552,19,FALSE),0)","v":1},{"$f":"IFERROR(VLOOKUP($A22,Filtro!$A$4:$AX$552,20,FALSE),0)","v":0},{"$f":"IFERROR(VLOOKUP($A22,Filtro!$A$4:$AX$552,21,FALSE),0)","v":2},{"$f":"IFERROR(VLOOKUP($A22,Filtro!$A$4:$AX$552,22,FALSE),0)","v":0},{"$f":"IFERROR(VLOOKUP($A22,Filtro!$A$4:$AX$552,23,FALSE),0)","v":0},{"$f":"IFERROR(VLOOKUP($A22,Filtro!$A$4:$AX$552,24,FALSE),0)","v":2},{"$f":"IFERROR(VLOOKUP($A22,Filtro!$A$4:$AX$552,25,FALSE),0)","v":0},{"$f":"IFERROR(VLOOKUP($A22,Filtro!$A$4:$AX$552,26,FALSE),0)","v":1},{"$f":"IFERROR(VLOOKUP($A22,Filtro!$A$4:$AX$552,27,FALSE),0)","v":0},{"$f":"IFERROR(VLOOKUP($A22,Filtro!$A$4:$AX$552,28,FALSE),0)","v":2},{"$f":"IFERROR(VLOOKUP($A22,Filtro!$A$4:$AX$552,29,FALSE),0)","v":3},{"$f":"IFERROR(VLOOKUP($A22,Filtro!$A$4:$AX$552,30,FALSE),0)","v":0},{"$f":"IFERROR(VLOOKUP($A22,Filtro!$A$4:$AX$552,31,FALSE),0)","v":2},{"$f":"IFERROR(VLOOKUP($A22,Filtro!$A$4:$AX$552,32,FALSE),0)","v":0},{"$f":"IFERROR(VLOOKUP($A22,Filtro!$A$4:$AX$552,33,FALSE),0)","v":1},{"$f":"IFERROR(VLOOKUP($A22,Filtro!$A$4:$AX$552,34,FALSE),0)","v":6},{"$f":"IFERROR(VLOOKUP($A22,Filtro!$A$4:$AX$552,35,FALSE),0)","v":3},{"$f":"IFERROR(VLOOKUP($A22,Filtro!$A$4:$AX$552,36,FALSE),0)","v":0},{"$f":"IFERROR(VLOOKUP($A22,Filtro!$A$4:$AX$552,37,FALSE),0)","v":1},{"$f":"IFERROR(VLOOKUP($A22,Filtro!$A$4:$AX$552,38,FALSE),0)","v":3},{"$f":"IFERROR(VLOOKUP($A22,Filtro!$A$4:$AX$552,39,FALSE),0)","v":0},{"$f":"IFERROR(VLOOKUP($A22,Filtro!$A$4:$AX$552,40,FALSE),0)","v":3},{"$f":"IFERROR(VLOOKUP($A22,Filtro!$A$4:$AX$552,41,FALSE),0)","v":0},{"$f":"IFERROR(VLOOKUP($A22,Filtro!$A$4:$AX$552,42,FALSE),0)","v":0},{"$nulls":37},"",null,"",{"$nulls":5},0,null,0]
["P3120600","FIBROSIS QUÍSTICA ",null,{"$f":"IFERROR(VLOOKUP($A23,Filtro!$A$4:$AX$552,2,FALSE),0)","v":19},{"$f":"IFERROR(VLOOKUP($A23,Filtro!$A$4:$AX$552,3,FALSE),0)","v":11},{"$f":"IFERROR(VLOOKUP($A23,Filtro!$A$4:$AX$552,4,FALSE),0)","v":8},{"$f":"IFERROR(VLOOKUP($A23,Filtro!$A$4:$AX$552,5,FALSE),0)","v":2},{"$f":"IFERROR(VLOOKUP($A23,Filtro!$A$4:$AX$552,6,FALSE),0)","v":0},{"$f":"IFERROR(VLOOKUP($A23,Filtro!$A$4:$AX$552,7,FALSE),0)","v":0},{"$f":"IFERROR(VLOOKUP($A23,Filtro!$A$4:$AX$552,8,FALSE),0)","v":0},{"$f":"IFERROR(VLOOKUP($A23,Filtro!$A$4:$AX$552,9,FALSE),0)","v":6},{"$f":"IFERROR(VLOOKUP($A23,Filtro!$A$4:$AX$552,10,FALSE),0)","v":3},{"$f":"IFERROR(VLOOKUP($A23,Filtro!$A$4:$AX$552,11,FALSE),0)","v":0},{"$f":"IFERROR(VLOOKUP($A23,Filtro!$A$4:$AX$552,12,FALSE),0)","v":0},{"$f":"IFERROR(VLOOKUP($A23,Filtro!$A$4:$AX$552,13,FALSE),0)","v":2},{"$f":"IFERROR(VLOOKUP($A23,Filtro!$A$4:$AX$552,14,FALSE),0)","v":1},{"$f":"IFERROR(VLOOKUP($A23,Filtro!$A$4:$AX$552,15,FALSE),0)","v":0},{"$f":"IFERROR(VLOOKUP($A23,Filtro!$A$4:$AX$552,16,FALSE),0)","v":0},{"$f":"IFERROR(VLOOKUP($A23,Filtro!$A$4:$AX$552,17,FALSE),0)","v":0},{"$f":"IFERROR(VLOOKUP($A23,Filtro!$A$4:$AX$552,18,FALSE),0)","v":0},{"$f":"IFERROR(VLOOKUP($A23,Filtro!$A$4:$AX$552,19,FALSE),0)","v":0},{"$f":"IFERROR(VLOOKUP($A23,Filtro!$A$4:$AX$552,20,FALSE),0)","v":0},{"$f":"IFERROR(VLOOKUP($A23,Filtro!$A$4:$AX$552,21,FALSE),0)","v":0},{"$f":"IFERROR(VLOOKUP($A23,Filtro!$A$4:$AX$552,22,FALSE),0)","v":0},{"$f":"IFERROR(VLOOKUP($A23,Filtro!$A$4:$AX$552,23,FALSE),0)","v":0},{"$f":"IFERROR(VLOOKUP($A23,Filtro!$A$4:$AX$552,24,FALSE),0)","v":0},{"$f":"IFERROR(VLOOKUP($A23,Filtro!$A$4:$AX$552,25,FALSE),0)","v":0},{"$f":"IFERROR(VLOOKUP($A23,Filtro!$A$4:$AX$552,26,FALSE),0)","v":1},{"$f":"IFERROR(VLOOKUP($A23,Filtro!$A$4:$AX$552,27,FALSE),0)","v":1},{"$f":"IFERROR(VLOOKUP($A23,Filtro!$A$4:$AX$552,28,FALSE),0)","v":1},{"$f":"IFERROR(VLOOKUP($A23,Filtro!$A$4:$AX$552,29,FALSE),0)","v":0},{"$f":"IFERROR(VLOOKUP($A23,Filtro!$A$4:$AX$552,30,FALSE),0)","v":2},{"$f":"IFERROR(VLOOKUP($A23,Filtro!$A$4:$AX$552,31,FALSE),0)","v":0},{"$f":"IFERROR(VLOOKUP($A23,Filtro!$A$4:$AX$552,32,FALSE),0)","v":0},{"$f":"IFERROR(VLOOKUP($A23,Filtro!$A$4:$AX$552,33,FALSE),0)","v":0},{"$f":"IFERROR(VLOOKUP($A23,Filtro!$A$4:$AX$552,34,FALSE),0)","v":0},{"$f":"IFERROR(VLOOKUP($A23,Filtro!$A$4:$AX$552,35,FALSE),0)","v":0},{"$f":"IFERROR(VLOOKUP($A23,Filtro!$A$4:$AX$552,36,FALSE),0)","v":0},{"$f":"IFERROR(VLOOKUP($A23,Filtro!$A$4:$AX$552,37,FALSE),0)","v":0},{"$f":"IFERROR(VLOOKUP($A23,Filtro!$A$4:$AX$552,38,FALSE),0)","v":0},{"$f":"IFERROR(VLOOKUP($A23,Filtro!$A$4:$AX$552,39,FALSE),0)","v":0},{"$f":"IFERROR(VLOOKUP($A23,Filtro!$A$4:$AX$552,40,FALSE),0)","v":0},{"$f":"IFERROR(VLOOKUP($A23,Filtro!$A$4:$AX$552,41,FALSE),0)","v":0},{"$f":"IFERROR(VLOOKUP($A23,Filtro!$A$4:$AX$552,42,FALSE),0)","v":0},{"$nulls":37},"",null,"",{"$nulls":5},0,null,0]
["P3120700","EPILEPSIA ",null,{"$f":"IFERROR(VLOOKUP($A24,Filtro!$A$4:$AX$552,2,FALSE),0)","v":2417},{"$f":"IFERROR(VLOOKUP($A24,Filtro!$A$4:$AX$552,3,FALSE),0)","v":1172},{"$f":"IFERROR(VLOOKUP($A24,Filtro!$A$4:$AX$552,4,FALSE),0)","v":1245},{"$f":"IFERROR(VLOOKUP($A24,Filtro!$A$4:$AX$552,5,FALSE),0)","v":29},{"$f":"IFERROR(VLOOKUP($A24,Filtro!$A$4:$AX$552,6,FALSE),0)","v":22},{"$f":"IFERROR(VLOOKUP($A24,Filtro!$A$4:$AX$552,7,FALSE),0)","v":56},{"$f":"IFERROR(VLOOKUP($A24,Filtro!$A$4:$AX$552,8,FALSE),0)","v":44},{"$f":"IFERROR(VLOOKUP($A24,Filtro!$A$4:$AX$552,9,FALSE),0)","v":43},{"$f":"IFERROR(VLOOKUP($A24,Filtro!$A$4:$AX$552,10,FALSE),0)","v":47},{"$f":"IFERROR(VLOOKUP($A24,Filtro!$A$4:$AX$552,11,FALSE),0)","v":60},{"$f":"IFERROR(VLOOKUP($A24,Filtro!$A$4:$AX$552,12,FALSE),0)","v":60},{"$f":"IFERROR(VLOOKUP($A24,Filtro!$A$4:$AX$552,13,FALSE),0)","v":66},{"$f":"IFERROR(VLOOKUP($A24,Filtro!$A$4:$AX$552,14,FALSE),0)","v":77},{"$f":"IFERROR(VLOOKUP($A24,Filtro!$A$4:$AX$552,15,FALSE),0)","v":77},{"$f":"IFERROR(VLOOKUP($A24,Filtro!$A$4:$AX$552,16,FALSE),0)","v":85},{"$f":"IFERROR(VLOOKUP($A24,Filtro!$A$4:$AX$552,17,FALSE),0)","v":95},{"$f":"IFERROR(VLOOKUP($A24,Filtro!$A$4:$AX$552,18,FALSE),0)","v":97},{"$f":"IFERROR(VLOOKUP($A24,Filtro!$A$4:$AX$552,19,FALSE),0)","v":91},{"$f":"IFERROR(VLOOKUP($A24,Filtro!$A$4:$AX$552,20,FALSE),0)","v":68},{"$f":"IFERROR(VLOOKUP($A24,Filtro!$A$4:$AX$552,21,FALSE),0)","v":107},{"$f":"IFERROR(VLOOKUP($A24,Filtro!$A$4:$AX$552,22,FALSE),0)","v":104},{"$f":"IFERROR(VLOOKUP($A24,Filtro!$A$4:$AX$552,23,FALSE),0)","v":90},{"$f":"IFERROR(VLOOKUP($A24,Filtro!$A$4:$AX$552,24,FALSE),0)","v":86},{"$f":"IFERROR(VLOOKUP($A24,Filtro!$A$4:$AX$552,25,FALSE),0)","v":98},{"$f":"IFERROR(VLOOKUP($A24,Filtro!$A$4:$AX$552,26,FALSE),0)","v":118},{"$f":"IFERROR(VLOOKUP($A24,Filtro!$A$4:$AX$552,27,FALSE),0)","v":83},{"$f":"IFERROR(VLOOKUP($A24,Filtro!$A$4:$AX$552,28,FALSE),0)","v":92},{"$f":"IFERROR(VLOOKUP($A24,Filtro!$A$4:$AX$552,29,FALSE),0)","v":68},{"$f":"IFERROR(VLOOKUP($A24,Filtro!$A$4:$AX$552,30,FALSE),0)","v":87},{"$f":"IFERROR(VLOOKUP($A24,Filtro!$A$4:$AX$552,31,FALSE),0)","v":70},{"$f":"IFERROR(VLOOKUP($A24,Filtro!$A$4:$AX$552,32,FALSE),0)","v":63},{"$f":"IFERROR(VLOOKUP($A24,Filtro!$A$4:$AX$552,33,FALSE),0)","v":49},{"$f":"IFERROR(VLOOKUP($A24,Filtro!$A$4:$AX$552,34,FALSE),0)","v":59},{"$f":"IFERROR(VLOOKUP($A24,Filtro!$A$4:$AX$552,35,FALSE),0)","v":45},{"$f":"IFERROR(VLOOKUP($A24,Filtro!$A$4:$AX$552,36,FALSE),0)","v":36},{"$f":"IFERROR(VLOOKUP($A24,Filtro!$A$4:$AX$552,37,FALSE),0)","v":45},{"$f":"IFERROR(VLOOKUP($A24,Filtro!$A$4:$AX$552,38,FALSE),0)","v":100},{"$f":"IFERROR(VLOOKUP($A24,Filtro!$A$4:$AX$552,39,FALSE),0)","v":0},{"$f":"IFERROR(VLOOKUP($A24,Filtro!$A$4:$AX$552,40,FALSE),0)","v":64},{"$f":"IFERROR(VLOOKUP($A24,Filtro!$A$4:$AX$552,41,FALSE),0)","v":50},{"$f":"IFERROR(VLOOKUP($A24,Filtro!$A$4:$AX$552,42,FALSE),0)","v":0},{"$nulls":37},"",null,"",{"$nulls":5},0,null,0]
["P3170100","GLAUCOMA",null,{"$f":"IFERROR(VLOOKUP($A25,Filtro!$A$4:$AX$552,2,FALSE),0)","v":60},{"$f":"IFERROR(VLOOKUP($A25,Filtro!$A$4:$AX$552,3,FALSE),0)","v":27},{"$f":"IFERROR(VLOOKUP($A25,Filtro!$A$4:$AX$552,4,FALSE),0)","v":33},{"$f":"IFERROR(VLOOKUP($A25,Filtro!$A$4:$AX$552,5,FALSE),0)","v":0},{"$f":"IFERROR(VLOOKUP($A25,Filtro!$A$4:$AX$552,6,FALSE),0)","v":0},{"$f":"IFERROR(VLOOKUP($A25,Filtro!$A$4:$AX$552,7,FALSE),0)","v":0},{"$f":"IFERROR(VLOOKUP($A25,Filtro!$A$4:$AX$552,8,FALSE),0)","v":0},{"$f":"IFERROR(VLOOKUP($A25,Filtro!$A$4:$AX$552,9,FALSE),0)","v":0},{"$f":"IFERROR(VLOOKUP($A25,Filtro!$A$4:$AX$552,10,FALSE),0)","v":0},{"$f":"IFERROR(VLOOKUP($A25,Filtro!$A$4:$AX$552,11,FALSE),0)","v":0},{"$f":"IFERROR(VLOOKUP($A25,Filtro!$A$4:$AX$552,12,FALSE),0)","v":1},{"$f":"IFERROR(VLOOKUP($A25,Filtro!$A$4:$AX$552,13,FALSE),0)","v":0},{"$f":"IFERROR(VLOOKUP($A25,Filtro!$A$4:$AX$552,14,FALSE),0)","v":0},{"$f":"IFERROR(VLOOKUP($A25,Filtro!$A$4:$AX$552,15,FALSE),0)","v":0},{"$f":"IFERROR(VLOOKUP($A25,Filtro!$A$4:$AX$552,16,FALSE),0)","v":0},{"$f":"IFERROR(VLOOKUP($A25,Filtro!$A$4:$AX$552,17,FALSE),0)","v":0},{"$f":"IFERROR(VLOOKUP($A25,Filtro!$A$4:$AX$552,18,FALSE),0)","v":0},{"$f":"IFERROR(VLOOKUP($A25,Filtro!$A$4:$AX$552,19,FALSE),0)","v":0},{"$f":"IFERROR(VLOOKUP($A25,Filtro!$A$4:$AX$552,20,FALSE),0)","v":0},{"$f":"IFERROR(VLOOKUP($A25,Filtro!$A$4:$AX$552,21,FALSE),0)","v":0},{"$f":"IFERROR(VLOOKUP($A25,Filtro!$A$4:$AX$552,22,FALSE),0)","v":0},{"$f":"IFERROR(VLOOKUP($A25,Filtro!$A$4:$AX$552,23,FALSE),0)","v":0},{"$f":"IFERROR(VLOOKUP($A25,Filtro!$A$4:$AX$552,24,FALSE),0)","v":0},{"$f":"IFERROR(VLOOKUP($A25,Filtro!$A$4:$AX$552,25,FALSE),0)","v":0},{"$f":"IFERROR(VLOOKUP($A25,Filtro!$A$4:$AX$552,26,FALSE),0)","v":0},{"$f":"IFERROR(VLOOKUP($A25,Filtro!$A$4:$AX$552,27,FALSE),0)","v":3},{"$f":"IFERROR(VLOOKUP($A25,Filtro!$A$4:$AX$552,28,FALSE),0)","v":3},{"$f":"IFERROR(VLOOKUP($A25,Filtro!$A$4:$AX$552,29,FALSE),0)","v":2},{"$f":"IFERROR(VLOOKUP($A25,Filtro!$A$4:$AX$552,30,FALSE),0)","v":3},{"$f":"IFERROR(VLOOKUP($A25,Filtro!$A$4:$AX$552,31,FALSE),0)","v":2},{"$f":"IFERROR(VLOOKUP($A25,Filtro!$A$4:$AX$552,32,FALSE),0)","v":2},{"$f":"IFERROR(VLOOKUP($A25,Filtro!$A$4:$AX$552,33,FALSE),0)","v":3},{"$f":"IFERROR(VLOOKUP($A25,Filtro!$A$4:$AX$552,34,FALSE),0)","v":6},{"$f":"IFERROR(VLOOKUP($A25,Filtro!$A$4:$AX$552,35,FALSE),0)","v":4},{"$f":"IFERROR(VLOOKUP($A25,Filtro!$A$4:$AX$552,36,FALSE),0)","v":1},{"$f":"IFERROR(VLOOKUP($A25,Filtro!$A$4:$AX$552,37,FALSE),0)","v":13},{"$f":"IFERROR(VLOOKUP($A25,Filtro!$A$4:$AX$552,38,FALSE),0)","v":17},{"$f":"IFERROR(VLOOKUP($A25,Filtro!$A$4:$AX$552,39,FALSE),0)","v":0},{"$f":"IFERROR(VLOOKUP($A25,Filtro!$A$4:$AX$552,40,FALSE),0)","v":0},{"$f":"IFERROR(VLOOKUP($A25,Filtro!$A$4:$AX$552,41,FALSE),0)","v":1},{"$f":"IFERROR(VLOOKUP($A25,Filtro!$A$4:$AX$552,42,FALSE),0)","v":0},{"$nulls":37},"",null,"",{"$nulls":5},0,null,0]
["P3140200","ENFERMEDAD DE PARKINSON ",null,{"$f":"IFERROR(VLOOKUP($A26,Filtro!$A$4:$AX$552,2,FALSE),0)","v":900},{"$f":"IFERROR(VLOOKUP($A26,Filtro!$A$4:$AX$552,3,FALSE),0)","v":491},{"$f":"IFERROR(VLOOKUP($A26,Filtro!$A$4:$AX$552,4,FALSE),0)","v":409},{"$f":"IFERROR(VLOOKUP($A26,Filtro!$A$4:$AX$552,5,FALSE),0)","v":0},{"$f":"IFERROR(VLOOKUP($A26,Filtro!$A$4:$AX$552,6,FALSE),0)","v":0},{"$f":"IFERROR(VLOOKUP($A26,Filtro!$A$4:$AX$552,7,FALSE),0)","v":0},{"$f":"IFERROR(VLOOKUP($A26,Filtro!$A$4:$AX$552,8,FALSE),0)","v":0},{"$f":"IFERROR(VLOOKUP($A26,Filtro!$A$4:$AX$552,9,FALSE),0)","v":0},{"$f":"IFERROR(VLOOKUP($A26,Filtro!$A$4:$AX$552,10,FALSE),0)","v":0},{"$f":"IFERROR(VLOOKUP($A26,Filtro!$A$4:$AX$552,11,FALSE),0)","v":0},{"$f":"IFERROR(VLOOKUP($A26,Filtro!$A$4:$AX$552,12,FALSE),0)","v":0},{"$f":"IFERROR(VLOOKUP($A26,Filtro!$A$4:$AX$552,13,FALSE),0)","v":0},{"$f":"IFERROR(VLOOKUP($A26,Filtro!$A$4:$AX$552,14,FALSE),0)","v":0},{"$f":"IFERROR(VLOOKUP($A26,Filtro!$A$4:$AX$552,15,FALSE),0)","v":0},{"$f":"IFERROR(VLOOKUP($A26,Filtro!$A$4:$AX$552,16,FALSE),0)","v":0},{"$f":"IFERROR(VLOOKUP($A26,Filtro!$A$4:$AX$552,17,FALSE),0)","v":0},{"$f":"IFERROR(VLOOKUP($A26,Filtro!$A$4:$AX$552,18,FALSE),0)","v":1},{"$f":"IFERROR(VLOOKUP($A26,Filtro!$A$4:$AX$552,19,FALSE),0)","v":0},{"$f":"IFERROR(VLOOKUP($A26,Filtro!$A$4:$AX$552,20,FALSE),0)","v":1},{"$f":"IFERROR(VLOOKUP($A26,Filtro!$A$4:$AX$552,21,FALSE),0)","v":5},{"$f":"IFERROR(VLOOKUP($A26,Filtro!$A$4:$AX$552,22,FALSE),0)","v":0},{"$f":"IFERROR(VLOOKUP($A26,Filtro!$A$4:$AX$552,23,FALSE),0)","v":2},{"$f":"IFERROR(VLOOKUP($A26,Filtro!$A$4:$AX$552,24,FALSE),0)","v":5},{"$f":"IFERROR(VLOOKUP($A26,Filtro!$A$4:$AX$552,25,FALSE),0)","v":43},{"$f":"IFERROR(VLOOKUP($A26,Filtro!$A$4:$AX$552,26,FALSE),0)","v":28},{"$f":"IFERROR(VLOOKUP($A26,Filtro!$A$4:$AX$552,27,FALSE),0)","v":29},{"$f":"IFERROR(VLOOKUP($A26,Filtro!$A$4:$AX$552,28,FALSE),0)","v":26},{"$f":"IFERROR(VLOOKUP($A26,Filtro!$A$4:$AX$552,29,FALSE),0)","v":46},{"$f":"IFERROR(VLOOKUP($A26,Filtro!$A$4:$AX$552,30,FALSE),0)","v":33},{"$f":"IFERROR(VLOOKUP($A26,Filtro!$A$4:$AX$552,31,FALSE),0)","v":68},{"$f":"IFERROR(VLOOKUP($A26,Filtro!$A$4:$AX$552,32,FALSE),0)","v":58},{"$f":"IFERROR(VLOOKUP($A26,Filtro!$A$4:$AX$552,33,FALSE),0)","v":74},{"$f":"IFERROR(VLOOKUP($A26,Filtro!$A$4:$AX$552,34,FALSE),0)","v":63},{"$f":"IFERROR(VLOOKUP($A26,Filtro!$A$4:$AX$552,35,FALSE),0)","v":78},{"$f":"IFERROR(VLOOKUP($A26,Filtro!$A$4:$AX$552,36,FALSE),0)","v":51},{"$f":"IFERROR(VLOOKUP($A26,Filtro!$A$4:$AX$552,37,FALSE),0)","v":146},{"$f":"IFERROR(VLOOKUP($A26,Filtro!$A$4:$AX$552,38,FALSE),0)","v":143},{"$f":"IFERROR(VLOOKUP($A26,Filtro!$A$4:$AX$552,39,FALSE),0)","v":0},{"$f":"IFERROR(VLOOKUP($A26,Filtro!$A$4:$AX$552,40,FALSE),0)","v":16},{"$f":"IFERROR(VLOOKUP($A26,Filtro!$A$4:$AX$552,41,FALSE),0)","v":23},{"$f":"IFERROR(VLOOKUP($A26,Filtro!$A$4:$AX$552,42,FALSE),0)","v":0},{"$nulls":37},"",null,"",{"$nulls":5},0,null,0]
["P3140300","ARTROSIS DE CADERA Y RODILLA ",null,{"$f":"IFERROR(VLOOKUP($A27,Filtro!$A$4:$AX$552,2,FALSE),0)","v":11588},{"$f":"IFERROR(VLOOKUP($A27,Filtro!$A$4:$AX$552,3,FALSE),0)","v":2684},{"$f":"IFERROR(VLOOKUP($A27,Filtro!$A$4:$AX$552,4,FALSE),0)","v":8904},{"$f":"IFERROR(VLOOKUP($A27,Filtro!$A$4:$AX$552,5,FALSE),0)","v":0},{"$f":"IFERROR(VLOOKUP($A27,Filtro!$A$4:$AX$552,6,FALSE),0)","v":0},{"$f":"IFERROR(VLOOKUP($A27,Filtro!$A$4:$AX$552,7,FALSE),0)","v":0},{"$f":"IFERROR(VLOOKUP($A27,Filtro!$A$4:$AX$552,8,FALSE),0)","v":0},{"$f":"IFERROR(VLOOKUP($A27,Filtro!$A$4:$AX$552,9,FALSE),0)","v":0},{"$f":"IFERROR(VLOOKUP($A27,Filtro!$A$4:$AX$552,10,FALSE),0)","v":1},{"$f":"IFERROR(VLOOKUP($A27,Filtro!$A$4:$AX$552,11,FALSE),0)","v":1},{"$f":"IFERROR(VLOOKUP($A27,Filtro!$A$4:$AX$552,12,FALSE),0)","v":1},{"$f":"IFERROR(VLOOKUP($A27,Filtro!$A$4:$AX$552,13,FALSE),0)","v":0},{"$f":"IFERROR(VLOOKUP($A27,Filtro!$A$4:$AX$552,14,FALSE),0)","v":1},{"$f":"IFERROR(VLOOKUP($A27,Filtro!$A$4:$AX$552,15,FALSE),0)","v":0},{"$f":"IFERROR(VLOOKUP($A27,Filtro!$A$4:$AX$552,16,FALSE),0)","v":2},{"$f":"IFERROR(VLOOKUP($A27,Filtro!$A$4:$AX$552,17,FALSE),0)","v":2},{"$f":"IFERROR(VLOOKUP($A27,Filtro!$A$4:$AX$552,18,FALSE),0)","v":10},{"$f":"IFERROR(VLOOKUP($A27,Filtro!$A$4:$AX$552,19,FALSE),0)","v":3},{"$f":"IFERROR(VLOOKUP($A27,Filtro!$A$4:$AX$552,20,FALSE),0)","v":13},{"$f":"IFERROR(VLOOKUP($A27,Filtro!$A$4:$AX$552,21,FALSE),0)","v":7},{"$f":"IFERROR(VLOOKUP($A27,Filtro!$A$4:$AX$552,22,FALSE),0)","v":46},{"$f":"IFERROR(VLOOKUP($A27,Filtro!$A$4:$AX$552,23,FALSE),0)","v":18},{"$f":"IFERROR(VLOOKUP($A27,Filtro!$A$4:$AX$552,24,FALSE),0)","v":112},{"$f":"IFERROR(VLOOKUP($A27,Filtro!$A$4:$AX$552,25,FALSE),0)","v":51},{"$f":"IFERROR(VLOOKUP($A27,Filtro!$A$4:$AX$552,26,FALSE),0)","v":261},{"$f":"IFERROR(VLOOKUP($A27,Filtro!$A$4:$AX$552,27,FALSE),0)","v":181},{"$f":"IFERROR(VLOOKUP($A27,Filtro!$A$4:$AX$552,28,FALSE),0)","v":934},{"$f":"IFERROR(VLOOKUP($A27,Filtro!$A$4:$AX$552,29,FALSE),0)","v":378},{"$f":"IFERROR(VLOOKUP($A27,Filtro!$A$4:$AX$552,30,FALSE),0)","v":1456},{"$f":"IFERROR(VLOOKUP($A27,Filtro!$A$4:$AX$552,31,FALSE),0)","v":440},{"$f":"IFERROR(VLOOKUP($A27,Filtro!$A$4:$AX$552,32,FALSE),0)","v":1440},{"$f":"IFERROR(VLOOKUP($A27,Filtro!$A$4:$AX$552,33,FALSE),0)","v":445},{"$f":"IFERROR(VLOOKUP($A27,Filtro!$A$4:$AX$552,34,FALSE),0)","v":1451},{"$f":"IFERROR(VLOOKUP($A27,Filtro!$A$4:$AX$552,35,FALSE),0)","v":455},{"$f":"IFERROR(VLOOKUP($A27,Filtro!$A$4:$AX$552,36,FALSE),0)","v":1277},{"$f":"IFERROR(VLOOKUP($A27,Filtro!$A$4:$AX$552,37,FALSE),0)","v":703},{"$f":"IFERROR(VLOOKUP($A27,Filtro!$A$4:$AX$552,38,FALSE),0)","v":1899},{"$f":"IFERROR(VLOOKUP($A27,Filtro!$A$4:$AX$552,39,FALSE),0)","v":0},{"$f":"IFERROR(VLOOKUP($A27,Filtro!$A$4:$AX$552,40,FALSE),0)","v":137},{"$f":"IFERROR(VLOOKUP($A27,Filtro!$A$4:$AX$552,41,FALSE),0)","v":590},{"$f":"IFERROR(VLOOKUP($A27,Filtro!$A$4:$AX$552,42,FALSE),0)","v":0},{"$nulls":37},"",null,"",{"$nulls":5},0,null,0]
["P3120800","ALIVIO DEL DOLOR",null,{"$f":"IFERROR(VLOOKUP($A28,Filtro!$A$4:$AX$552,2,FALSE),0)","v":132},{"$f":"IFERROR(VLOOKUP($A28,Filtro!$A$4:$AX$552,3,FALSE),0)","v":77},{"$f":"IFERROR(VLOOKUP($A28,Filtro!$A$4:$AX$552,4,FALSE),0)","v":55},{"$f":"IFERROR(VLOOKUP($A28,Filtro!$A$4:$AX$552,5,FALSE),0)","v":0},{"$f":"IFERROR(VLOOKUP($A28,Filtro!$A$4:$AX$552,6,FALSE),0)","v":0},{"$f":"IFERROR(VLOOKUP($A28,Filtro!$A$4:$AX$552,7,FALSE),0)","v":0},{"$f":"IFERROR(VLOOKUP($A28,Filtro!$A$4:$AX$552,8,FALSE),0)","v":0},{"$f":"IFERROR(VLOOKUP($A28,Filtro!$A$4:$AX$552,9,FALSE),0)","v":0},{"$f":"IFERROR(VLOOKUP($A28,Filtro!$A$4:$AX$552,10,FALSE),0)","v":0},{"$f":"IFERROR(VLOOKUP($A28,Filtro!$A$4:$AX$552,11,FALSE),0)","v":0},{"$f":"IFERROR(VLOOKUP($A28,Filtro!$A$4:$AX$552,12,FALSE),0)","v":0},{"$f":"IFERROR(VLOOKUP($A28,Filtro!$A$4:$AX$552,13,FALSE),0)","v":0},{"$f":"IFERROR(VLOOKUP($A28,Filtro!$A$4:$AX$552,14,FALSE),0)","v":0},{"$f":"IFERROR(VLOOKUP($A28,Filtro!$A$4:$AX$552,15,FALSE),0)","v":0},{"$f":"IFERROR(VLOOKUP($A28,Filtro!$A$4:$AX$552,16,FALSE),0)","v":0},{"$f":"IFERROR(VLOOKUP($A28,Filtro!$A$4:$AX$552,17,FALSE),0)","v":0},{"$f":"IFERROR(VLOOKUP($A28,Filtro!$A$4:$AX$552,18,FALSE),0)","v":3},{"$f":"IFERROR(VLOOKUP($A28,Filtro!$A$4:$AX$552,19,FALSE),0)","v":2},{"$f":"IFERROR(VLOOKUP($A28,Filtro!$A$4:$AX$552,20,FALSE),0)","v":0},{"$f":"IFERROR(VLOOKUP($A28,Filtro!$A$4:$AX$552,21,FALSE),0)","v":3},{"$f":"IFERROR(VLOOKUP($A28,Filtro!$A$4:$AX$552,22,FALSE),0)","v":1},{"$f":"IFERROR(VLOOKUP($A28,Filtro!$A$4:$AX$552,23,FALSE),0)","v":2},{"$f":"IFERROR(VLOOKUP($A28,Filtro!$A$4:$AX$552,24,FALSE),0)","v":2},{"$f":"IFERROR(VLOOKUP($A28,Filtro!$A$4:$AX$552,25,FALSE),0)","v":4},{"$f":"IFERROR(VLOOKUP($A28,Filtro!$A$4:$AX$552,26,FALSE),0)","v":0},{"$f":"IFERROR(VLOOKUP($A28,Filtro!$A$4:$AX$552,27,FALSE),0)","v":4},{"$f":"IFERROR(VLOOKUP($A28,Filtro!$A$4:$AX$552,28,FALSE),0)","v":6},{"$f":"IFERROR(VLOOKUP($A28,Filtro!$A$4:$AX$552,29,FALSE),0)","v":3},{"$f":"IFERROR(VLOOKUP($A28,Filtro!$A$4:$AX$552,30,FALSE),0)","v":8},{"$f":"IFERROR(VLOOKUP($A28,Filtro!$A$4:$AX$552,31,FALSE),0)","v":15},{"$f":"IFERROR(VLOOKUP($A28,Filtro!$A$4:$AX$552,32,FALSE),0)","v":6},{"$f":"IFERROR(VLOOKUP($A28,Filtro!$A$4:$AX$552,33,FALSE),0)","v":9},{"$f":"IFERROR(VLOOKUP($A28,Filtro!$A$4:$AX$552,34,FALSE),0)","v":6},{"$f":"IFERROR(VLOOKUP($A28,Filtro!$A$4:$AX$552,35,FALSE),0)","v":9},{"$f":"IFERROR(VLOOKUP($A28,Filtro!$A$4:$AX$552,36,FALSE),0)","v":5},{"$f":"IFERROR(VLOOKUP($A28,Filtro!$A$4:$AX$552,37,FALSE),0)","v":26},{"$f":"IFERROR(VLOOKUP($A28,Filtro!$A$4:$AX$552,38,FALSE),0)","v":18},{"$f":"IFERROR(VLOOKUP($A28,Filtro!$A$4:$AX$552,39,FALSE),0)","v":0},{"$f":"IFERROR(VLOOKUP($A28,Filtro!$A$4:$AX$552,40,FALSE),0)","v":22},{"$f":"IFERROR(VLOOKUP($A28,Filtro!$A$4:$AX$552,41,FALSE),0)","v":9},{"$f":"IFERROR(VLOOKUP($A28,Filtro!$A$4:$AX$552,42,FALSE),0)","v":0},{"$nulls":37},"",null,"",{"$nulls":5},0,null,0]
["P3161040","HIPOTIROIDISMO",null,{"$f":"IFERROR(VLOOKUP($A29,Filtro!$A$4:$AX$552,2,FALSE),0)","v":23246},{"$f":"IFERROR(VLOOKUP($A29,Filtro!$A$4:$AX$552,3,FALSE),0)","v":3951},{"$f":"IFERROR(VLOOKUP($A29,Filtro!$A$4:$AX$552,4,FALSE),0)","v":19295},{"$f":"IFERROR(VLOOKUP($A29,Filtro!$A$4:$AX$552,5,FALSE),0)","v":7},{"$f":"IFERROR(VLOOKUP($A29,Filtro!$A$4:$AX$552,6,FALSE),0)","v":2},{"$f":"IFERROR(VLOOKUP($A29,Filtro!$A$4:$AX$552,7,FALSE),0)","v":13},{"$f":"IFERROR(VLOOKUP($A29,Filtro!$A$4:$AX$552,8,FALSE),0)","v":11},{"$f":"IFERROR(VLOOKUP($A29,Filtro!$A$4:$AX$552,9,FALSE),0)","v":19},{"$f":"IFERROR(VLOOKUP($A29,Filtro!$A$4:$AX$552,10,FALSE),0)","v":25},{"$f":"IFERROR(VLOOKUP($A29,Filtro!$A$4:$AX$552,11,FALSE),0)","v":59},{"$f":"IFERROR(VLOOKUP($A29,Filtro!$A$4:$AX$552,12,FALSE),0)","v":199},{"$f":"IFERROR(VLOOKUP($A29,Filtro!$A$4:$AX$552,13,FALSE),0)","v":65},{"$f":"IFERROR(VLOOKUP($A29,Filtro!$A$4:$AX$552,14,FALSE),0)","v":335},{"$f":"IFERROR(VLOOKUP($A29,Filtro!$A$4:$AX$552,15,FALSE),0)","v":57},{"$f":"IFERROR(VLOOKUP($A29,Filtro!$A$4:$AX$552,16,FALSE),0)","v":505},{"$f":"IFERROR(VLOOKUP($A29,Filtro!$A$4:$AX$552,17,FALSE),0)","v":71},{"$f":"IFERROR(VLOOKUP($A29,Filtro!$A$4:$AX$552,18,FALSE),0)","v":739},{"$f":"IFERROR(VLOOKUP($A29,Filtro!$A$4:$AX$552,19,FALSE),0)","v":92},{"$f":"IFERROR(VLOOKUP($A29,Filtro!$A$4:$AX$552,20,FALSE),0)","v":822},{"$f":"IFERROR(VLOOKUP($A29,Filtro!$A$4:$AX$552,21,FALSE),0)","v":113},{"$f":"IFERROR(VLOOKUP($A29,Filtro!$A$4:$AX$552,22,FALSE),0)","v":1071},{"$f":"IFERROR(VLOOKUP($A29,Filtro!$A$4:$AX$552,23,FALSE),0)","v":159},{"$f":"IFERROR(VLOOKUP($A29,Filtro!$A$4:$AX$552,24,FALSE),0)","v":1397},{"$f":"IFERROR(VLOOKUP($A29,Filtro!$A$4:$AX$552,25,FALSE),0)","v":255},{"$f":"IFERROR(VLOOKUP($A29,Filtro!$A$4:$AX$552,26,FALSE),0)","v":1938},{"$f":"IFERROR(VLOOKUP($A29,Filtro!$A$4:$AX$552,27,FALSE),0)","v":343},{"$f":"IFERROR(VLOOKUP($A29,Filtro!$A$4:$AX$552,28,FALSE),0)","v":2421},{"$f":"IFERROR(VLOOKUP($A29,Filtro!$A$4:$AX$552,29,FALSE),0)","v":443},{"$f":"IFERROR(VLOOKUP($A29,Filtro!$A$4:$AX$552,30,FALSE),0)","v":2361},{"$f":"IFERROR(VLOOKUP($A29,Filtro!$A$4:$AX$552,31,FALSE),0)","v":401},{"$f":"IFERROR(VLOOKUP($A29,Filtro!$A$4:$AX$552,32,FALSE),0)","v":2034},{"$f":"IFERROR(VLOOKUP($A29,Filtro!$A$4:$AX$552,33,FALSE),0)","v":584},{"$f":"IFERROR(VLOOKUP($A29,Filtro!$A$4:$AX$552,34,FALSE),0)","v":1869},{"$f":"IFERROR(VLOOKUP($A29,Filtro!$A$4:$AX$552,35,FALSE),0)","v":564},{"$f":"IFERROR(VLOOKUP($A29,Filtro!$A$4:$AX$552,36,FALSE),0)","v":1563},{"$f":"IFERROR(VLOOKUP($A29,Filtro!$A$4:$AX$552,37,FALSE),0)","v":706},{"$f":"IFERROR(VLOOKUP($A29,Filtro!$A$4:$AX$552,38,FALSE),0)","v":2003},{"$f":"IFERROR(VLOOKUP($A29,Filtro!$A$4:$AX$552,39,FALSE),0)","v":0},{"$f":"IFERROR(VLOOKUP($A29,Filtro!$A$4:$AX$552,40,FALSE),0)","v":242},{"$f":"IFERROR(VLOOKUP($A29,Filtro!$A$4:$AX$552,41,FALSE),0)","v":959},{"$f":"IFERROR(VLOOKUP($A29,Filtro!$A$4:$AX$552,42,FALSE),0)","v":0},{"$nulls":37},"",null,"",{"$nulls":5},0,null,0]
["P3160910","DEPENDENCIA LEVE",null,{"$f":"IFERROR(VLOOKUP($A30,Filtro!$A$4:$AX$552,2,FALSE),0)","v":817},{"$f":"IFERROR(VLOOKUP($A30,Filtro!$A$4:$AX$552,3,FALSE),0)","v":290},{"$f":"IFERROR(VLOOKUP($A30,Filtro!$A$4:$AX$552,4,FALSE),0)","v":527},{"$f":"IFERROR(VLOOKUP($A30,Filtro!$A$4:$AX$552,5,FALSE),0)","v":0},{"$f":"IFERROR(VLOOKUP($A30,Filtro!$A$4:$AX$552,6,FALSE),0)","v":2},{"$f":"IFERROR(VLOOKUP($A30,Filtro!$A$4:$AX$552,7,FALSE),0)","v":0},{"$f":"IFERROR(VLOOKUP($A30,Filtro!$A$4:$AX$552,8,FALSE),0)","v":0},{"$f":"IFERROR(VLOOKUP($A30,Filtro!$A$4:$AX$552,9,FALSE),0)","v":1},{"$f":"IFERROR(VLOOKUP($A30,Filtro!$A$4:$AX$552,10,FALSE),0)","v":1},{"$f":"IFERROR(VLOOKUP($A30,Filtro!$A$4:$AX$552,11,FALSE),0)","v":1},{"$f":"IFERROR(VLOOKUP($A30,Filtro!$A$4:$AX$552,12,FALSE),0)","v":0},{"$f":"IFERROR(VLOOKUP($A30,Filtro!$A$4:$AX$552,13,FALSE),0)","v":1},{"$f":"IFERROR(VLOOKUP($A30,Filtro!$A$4:$AX$552,14,FALSE),0)","v":1},{"$f":"IFERROR(VLOOKUP($A30,Filtro!$A$4:$AX$552,15,FALSE),0)","v":0},{"$f":"IFERROR(VLOOKUP($A30,Filtro!$A$4:$AX$552,16,FALSE),0)","v":0},{"$f":"IFERROR(VLOOKUP($A30,Filtro!$A$4:$AX$552,17,FALSE),0)","v":3},{"$f":"IFERROR(VLOOKUP($A30,Filtro!$A$4:$AX$552,18,FALSE),0)","v":5},{"$f":"IFERROR(VLOOKUP($A30,Filtro!$A$4:$AX$552,19,FALSE),0)","v":0},{"$f":"IFERROR(VLOOKUP($A30,Filtro!$A$4:$AX$552,20,FALSE),0)","v":4},{"$f":"IFERROR(VLOOKUP($A30,Filtro!$A$4:$AX$552,21,FALSE),0)","v":2},{"$f":"IFERROR(VLOOKUP($A30,Filtro!$A$4:$AX$552,22,FALSE),0)","v":2},{"$f":"IFERROR(VLOOKUP($A30,Filtro!$A$4:$AX$552,23,FALSE),0)","v":5},{"$f":"IFERROR(VLOOKUP($A30,Filtro!$A$4:$AX$552,24,FALSE),0)","v":8},{"$f":"IFERROR(VLOOKUP($A30,Filtro!$A$4:$AX$552,25,FALSE),0)","v":3},{"$f":"IFERROR(VLOOKUP($A30,Filtro!$A$4:$AX$552,26,FALSE),0)","v":5},{"$f":"IFERROR(VLOOKUP($A30,Filtro!$A$4:$AX$552,27,FALSE),0)","v":5},{"$f":"IFERROR(VLOOKUP($A30,Filtro!$A$4:$AX$552,28,FALSE),0)","v":8},{"$f":"IFERROR(VLOOKUP($A30,Filtro!$A$4:$AX$552,29,FALSE),0)","v":7},{"$f":"IFERROR(VLOOKUP($A30,Filtro!$A$4:$AX$552,30,FALSE),0)","v":20},{"$f":"IFERROR(VLOOKUP($A30,Filtro!$A$4:$AX$552,31,FALSE),0)","v":22},{"$f":"IFERROR(VLOOKUP($A30,Filtro!$A$4:$AX$552,32,FALSE),0)","v":31},{"$f":"IFERROR(VLOOKUP($A30,Filtro!$A$4:$AX$552,33,FALSE),0)","v":26},{"$f":"IFERROR(VLOOKUP($A30,Filtro!$A$4:$AX$552,34,FALSE),0)","v":33},{"$f":"IFERROR(VLOOKUP($A30,Filtro!$A$4:$AX$552,35,FALSE),0)","v":52},{"$f":"IFERROR(VLOOKUP($A30,Filtro!$A$4:$AX$552,36,FALSE),0)","v":82},{"$f":"IFERROR(VLOOKUP($A30,Filtro!$A$4:$AX$552,37,FALSE),0)","v":162},{"$f":"IFERROR(VLOOKUP($A30,Filtro!$A$4:$AX$552,38,FALSE),0)","v":325},{"$f":"IFERROR(VLOOKUP($A30,Filtro!$A$4:$AX$552,39,FALSE),0)","v":0},{"$f":"IFERROR(VLOOKUP($A30,Filtro!$A$4:$AX$552,40,FALSE),0)","v":0},{"$f":"IFERROR(VLOOKUP($A30,Filtro!$A$4:$AX$552,41,FALSE),0)","v":1},{"$f":"IFERROR(VLOOKUP($A30,Filtro!$A$4:$AX$552,42,FALSE),0)","v":0},{"$nulls":37},"",null,"",{"$nulls":5},0,null,0]
["P3160920","DEPENDENCIA MODERADA",null,{"$f":"IFERROR(VLOOKUP($A31,Filtro!$A$4:$AX$552,2,FALSE),0)","v":860},{"$f":"IFERROR(VLOOKUP($A31,Filtro!$A$4:$AX$552,3,FALSE),0)","v":325},{"$f":"IFERROR(VLOOKUP($A31,Filtro!$A$4:$AX$552,4,FALSE),0)","v":535},{"$f":"IFERROR(VLOOKUP($A31,Filtro!$A$4:$AX$552,5,FALSE),0)","v":0},{"$f":"IFERROR(VLOOKUP($A31,Filtro!$A$4:$AX$552,6,FALSE),0)","v":0},{"$f":"IFERROR(VLOOKUP($A31,Filtro!$A$4:$AX$552,7,FALSE),0)","v":1},{"$f":"IFERROR(VLOOKUP($A31,Filtro!$A$4:$AX$552,8,FALSE),0)","v":0},{"$f":"IFERROR(VLOOKUP($A31,Filtro!$A$4:$AX$552,9,FALSE),0)","v":2},{"$f":"IFERROR(VLOOKUP($A31,Filtro!$A$4:$AX$552,10,FALSE),0)","v":1},{"$f":"IFERROR(VLOOKUP($A31,Filtro!$A$4:$AX$552,11,FALSE),0)","v":1},{"$f":"IFERROR(VLOOKUP($A31,Filtro!$A$4:$AX$552,12,FALSE),0)","v":1},{"$f":"IFERROR(VLOOKUP($A31,Filtro!$A$4:$AX$552,13,FALSE),0)","v":3},{"$f":"IFERROR(VLOOKUP($A31,Filtro!$A$4:$AX$552,14,FALSE),0)","v":0},{"$f":"IFERROR(VLOOKUP($A31,Filtro!$A$4:$AX$552,15,FALSE),0)","v":1},{"$f":"IFERROR(VLOOKUP($A31,Filtro!$A$4:$AX$552,16,FALSE),0)","v":2},{"$f":"IFERROR(VLOOKUP($A31,Filtro!$A$4:$AX$552,17,FALSE),0)","v":1},{"$f":"IFERROR(VLOOKUP($A31,Filtro!$A$4:$AX$552,18,FALSE),0)","v":3},{"$f":"IFERROR(VLOOKUP($A31,Filtro!$A$4:$AX$552,19,FALSE),0)","v":2},{"$f":"IFERROR(VLOOKUP($A31,Filtro!$A$4:$AX$552,20,FALSE),0)","v":2},{"$f":"IFERROR(VLOOKUP($A31,Filtro!$A$4:$AX$552,21,FALSE),0)","v":4},{"$f":"IFERROR(VLOOKUP($A31,Filtro!$A$4:$AX$552,22,FALSE),0)","v":6},{"$f":"IFERROR(VLOOKUP($A31,Filtro!$A$4:$AX$552,23,FALSE),0)","v":2},{"$f":"IFERROR(VLOOKUP($A31,Filtro!$A$4:$AX$552,24,FALSE),0)","v":2},{"$f":"IFERROR(VLOOKUP($A31,Filtro!$A$4:$AX$552,25,FALSE),0)","v":8},{"$f":"IFERROR(VLOOKUP($A31,Filtro!$A$4:$AX$552,26,FALSE),0)","v":7},{"$f":"IFERROR(VLOOKUP($A31,Filtro!$A$4:$AX$552,27,FALSE),0)","v":10},{"$f":"IFERROR(VLOOKUP($A31,Filtro!$A$4:$AX$552,28,FALSE),0)","v":12},{"$f":"IFERROR(VLOOKUP($A31,Filtro!$A$4:$AX$552,29,FALSE),0)","v":10},{"$f":"IFERROR(VLOOKUP($A31,Filtro!$A$4:$AX$552,30,FALSE),0)","v":14},{"$f":"IFERROR(VLOOKUP($A31,Filtro!$A$4:$AX$552,31,FALSE),0)","v":30},{"$f":"IFERROR(VLOOKUP($A31,Filtro!$A$4:$AX$552,32,FALSE),0)","v":22},{"$f":"IFERROR(VLOOKUP($A31,Filtro!$A$4:$AX$552,33,FALSE),0)","v":32},{"$f":"IFERROR(VLOOKUP($A31,Filtro!$A$4:$AX$552,34,FALSE),0)","v":45},{"$f":"IFERROR(VLOOKUP($A31,Filtro!$A$4:$AX$552,35,FALSE),0)","v":48},{"$f":"IFERROR(VLOOKUP($A31,Filtro!$A$4:$AX$552,36,FALSE),0)","v":71},{"$f":"IFERROR(VLOOKUP($A31,Filtro!$A$4:$AX$552,37,FALSE),0)","v":170},{"$f":"IFERROR(VLOOKUP($A31,Filtro!$A$4:$AX$552,38,FALSE),0)","v":347},{"$f":"IFERROR(VLOOKUP($A31,Filtro!$A$4:$AX$552,39,FALSE),0)","v":0},{"$f":"IFERROR(VLOOKUP($A31,Filtro!$A$4:$AX$552,40,FALSE),0)","v":4},{"$f":"IFERROR(VLOOKUP($A31,Filtro!$A$4:$AX$552,41,FALSE),0)","v":9},{"$f":"IFERROR(VLOOKUP($A31,Filtro!$A$4:$AX$552,42,FALSE),0)","v":0},{"$nulls":37},"",null,"",{"$nulls":5},0,null,0]
["P3130200","DEPENDENCIA SEVERA","ONCOLÓGICA",{"$f":"IFERROR(VLOOKUP($A32,Filtro!$A$4:$AX$552,2,FALSE),0)","v":253},{"$f":"IFERROR(VLOOKUP($A32,Filtro!$A$4:$AX$552,3,FALSE),0)","v":129},{"$f":"IFERROR(VLOOKUP($A32,Filtro!$A$4:$AX$552,4,FALSE),0)","v":124},{"$f":"IFERROR(VLOOKUP($A32,Filtro!$A$4:$AX$552,5,FALSE),0)","v":0},{"$f":"IFERROR(VLOOKUP($A32,Filtro!$A$4:$AX$552,6,FALSE),0)","v":0},{"$f":"IFERROR(VLOOKUP($A32,Filtro!$A$4:$AX$552,7,FALSE),0)","v":0},{"$f":"IFERROR(VLOOKUP($A32,Filtro!$A$4:$AX$552,8,FALSE),0)","v":0},{"$f":"IFERROR(VLOOKUP($A32,Filtro!$A$4:$AX$552,9,FALSE),0)","v":0},{"$f":"IFERROR(VLOOKUP($A32,Filtro!$A$4:$AX$552,10,FALSE),0)","v":2},{"$f":"IFERROR(VLOOKUP($A32,Filtro!$A$4:$AX$552,11,FALSE),0)","v":2},{"$f":"IFERROR(VLOOKUP($A32,Filtro!$A$4:$AX$552,12,FALSE),0)","v":1},{"$f":"IFERROR(VLOOKUP($A32,Filtro!$A$4:$AX$552,13,FALSE),0)","v":2},{"$f":"IFERROR(VLOOKUP($A32,Filtro!$A$4:$AX$552,14,FALSE),0)","v":1},{"$f":"IFERROR(VLOOKUP($A32,Filtro!$A$4:$AX$552,15,FALSE),0)","v":0},{"$f":"IFERROR(VLOOKUP($A32,Filtro!$A$4:$AX$552,16,FALSE),0)","v":1},{"$f":"IFERROR(VLOOKUP($A32,Filtro!$A$4:$AX$552,17,FALSE),0)","v":0},{"$f":"IFERROR(VLOOKUP($A32,Filtro!$A$4:$AX$552,18,FALSE),0)","v":5},{"$f":"IFERROR(VLOOKUP($A32,Filtro!$A$4:$AX$552,19,FALSE),0)","v":4},{"$f":"IFERROR(VLOOKUP($A32,Filtro!$A$4:$AX$552,20,FALSE),0)","v":1},{"$f":"IFERROR(VLOOKUP($A32,Filtro!$A$4:$AX$552,21,FALSE),0)","v":3},{"$f":"IFERROR(VLOOKUP($A32,Filtro!$A$4:$AX$552,22,FALSE),0)","v":2},{"$f":"IFERROR(VLOOKUP($A32,Filtro!$A$4:$AX$552,23,FALSE),0)","v":2},{"$f":"IFERROR(VLOOKUP($A32,Filtro!$A$4:$AX$552,24,FALSE),0)","v":2},{"$f":"IFERROR(VLOOKUP($A32,Filtro!$A$4:$AX$552,25,FALSE),0)","v":7},{"$f":"IFERROR(VLOOKUP($A32,Filtro!$A$4:$AX$552,26,FALSE),0)","v":5},{"$f":"IFERROR(VLOOKUP($A32,Filtro!$A$4:$AX$552,27,FALSE),0)","v":5},{"$f":"IFERROR(VLOOKUP($A32,Filtro!$A$4:$AX$552,28,FALSE),0)","v":9},{"$f":"IFERROR(VLOOKUP($A32,Filtro!$A$4:$AX$552,29,FALSE),0)","v":6},{"$f":"IFERROR(VLOOKUP($A32,Filtro!$A$4:$AX$552,30,FALSE),0)","v":7},{"$f":"IFERROR(VLOOKUP($A32,Filtro!$A$4:$AX$552,31,FALSE),0)","v":15},{"$f":"IFERROR(VLOOKUP($A32,Filtro!$A$4:$AX$552,32,FALSE),0)","v":13},{"$f":"IFERROR(VLOOKUP($A32,Filtro!$A$4:$AX$552,33,FALSE),0)","v":16},{"$f":"IFERROR(VLOOKUP($A32,Filtro!$A$4:$AX$552,34,FALSE),0)","v":17},{"$f":"IFERROR(VLOOKUP($A32,Filtro!$A$4:$AX$552,35,FALSE),0)","v":20},{"$f":"IFERROR(VLOOKUP($A32,Filtro!$A$4:$AX$552,36,FALSE),0)","v":7},{"$f":"IFERROR(VLOOKUP($A32,Filtro!$A$4:$AX$552,37,FALSE),0)","v":47},{"$f":"IFERROR(VLOOKUP($A32,Filtro!$A$4:$AX$552,38,FALSE),0)","v":51},{"$f":"IFERROR(VLOOKUP($A32,Filtro!$A$4:$AX$552,39,FALSE),0)","v":0},{"$f":"IFERROR(VLOOKUP($A32,Filtro!$A$4:$AX$552,40,FALSE),0)","v":22},{"$f":"IFERROR(VLOOKUP($A32,Filtro!$A$4:$AX$552,41,FALSE),0)","v":10},{"$f":"IFERROR(VLOOKUP($A32,Filtro!$A$4:$AX$552,42,FALSE),0)","v":0},{"$nulls":37},"",null,"",{"$nulls":5},0,null,0]
["P3140400",null,"NO ONCOLÓGICA",{"$f":"IFERROR(VLOOKUP($A33,Filtro!$A$4:$AX$552,2,FALSE),0)","v":2745},{"$f":"IFERROR(VLOOKUP($A33,Filtro!$A$4:$AX$552,3,FALSE),0)","v":939},{"$f":"IFERROR(VLOOKUP($A33,Filtro!$A$4:$AX$552,4,FALSE),0)","v":1806},{"$f":"IFERROR(VLOOKUP($A33,Filtro!$A$4:$AX$552,5,FALSE),0)","v":14},{"$f":"IFERROR(VLOOKUP($A33,Filtro!$A$4:$AX$552,6,FALSE),0)","v":12},{"$f":"IFERROR(VLOOKUP($A33,Filtro!$A$4:$AX$552,7,FALSE),0)","v":16},{"$f":"IFERROR(VLOOKUP($A33,Filtro!$A$4:$AX$552,8,FALSE),0)","v":16},{"$f":"IFERROR(VLOOKUP($A33,Filtro!$A$4:$AX$552,9,FALSE),0)","v":16},{"$f":"IFERROR(VLOOKUP($A33,Filtro!$A$4:$AX$552,10,FALSE),0)","v":18},{"$f":"IFERROR(VLOOKUP($A33,Filtro!$A$4:$AX$552,11,FALSE),0)","v":15},{"$f":"IFERROR(VLOOKUP($A33,Filtro!$A$4:$AX$552,12,FALSE),0)","v":10},{"$f":"IFERROR(VLOOKUP($A33,Filtro!$A$4:$AX$552,13,FALSE),0)","v":25},{"$f":"IFERROR(VLOOKUP($A33,Filtro!$A$4:$AX$552,14,FALSE),0)","v":19},{"$f":"IFERROR(VLOOKUP($A33,Filtro!$A$4:$AX$552,15,FALSE),0)","v":23},{"$f":"IFERROR(VLOOKUP($A33,Filtro!$A$4:$AX$552,16,FALSE),0)","v":21},{"$f":"IFERROR(VLOOKUP($A33,Filtro!$A$4:$AX$552,17,FALSE),0)","v":29},{"$f":"IFERROR(VLOOKUP($A33,Filtro!$A$4:$AX$552,18,FALSE),0)","v":21},{"$f":"IFERROR(VLOOKUP($A33,Filtro!$A$4:$AX$552,19,FALSE),0)","v":29},{"$f":"IFERROR(VLOOKUP($A33,Filtro!$A$4:$AX$552,20,FALSE),0)","v":26},{"$f":"IFERROR(VLOOKUP($A33,Filtro!$A$4:$AX$552,21,FALSE),0)","v":24},{"$f":"IFERROR(VLOOKUP($A33,Filtro!$A$4:$AX$552,22,FALSE),0)","v":18},{"$f":"IFERROR(VLOOKUP($A33,Filtro!$A$4:$AX$552,23,FALSE),0)","v":24},{"$f":"IFERROR(VLOOKUP($A33,Filtro!$A$4:$AX$552,24,FALSE),0)","v":26},{"$f":"IFERROR(VLOOKUP($A33,Filtro!$A$4:$AX$552,25,FALSE),0)","v":43},{"$f":"IFERROR(VLOOKUP($A33,Filtro!$A$4:$AX$552,26,FALSE),0)","v":27},{"$f":"IFERROR(VLOOKUP($A33,Filtro!$A$4:$AX$552,27,FALSE),0)","v":25},{"$f":"IFERROR(VLOOKUP($A33,Filtro!$A$4:$AX$552,28,FALSE),0)","v":46},{"$f":"IFERROR(VLOOKUP($A33,Filtro!$A$4:$AX$552,29,FALSE),0)","v":37},{"$f":"IFERROR(VLOOKUP($A33,Filtro!$A$4:$AX$552,30,FALSE),0)","v":46},{"$f":"IFERROR(VLOOKUP($A33,Filtro!$A$4:$AX$552,31,FALSE),0)","v":48},{"$f":"IFERROR(VLOOKUP($A33,Filtro!$A$4:$AX$552,32,FALSE),0)","v":89},{"$f":"IFERROR(VLOOKUP($A33,Filtro!$A$4:$AX$552,33,FALSE),0)","v":90},{"$f":"IFERROR(VLOOKUP($A33,Filtro!$A$4:$AX$552,34,FALSE),0)","v":95},{"$f":"IFERROR(VLOOKUP($A33,Filtro!$A$4:$AX$552,35,FALSE),0)","v":111},{"$f":"IFERROR(VLOOKUP($A33,Filtro!$A$4:$AX$552,36,FALSE),0)","v":189},{"$f":"IFERROR(VLOOKUP($A33,Filtro!$A$4:$AX$552,37,FALSE),0)","v":369},{"$f":"IFERROR(VLOOKUP($A33,Filtro!$A$4:$AX$552,38,FALSE),0)","v":1127},{"$f":"IFERROR(VLOOKUP($A33,Filtro!$A$4:$AX$552,39,FALSE),0)","v":0},{"$f":"IFERROR(VLOOKUP($A33,Filtro!$A$4:$AX$552,40,FALSE),0)","v":48},{"$f":"IFERROR(VLOOKUP($A33,Filtro!$A$4:$AX$552,41,FALSE),0)","v":65},{"$f":"IFERROR(VLOOKUP($A33,Filtro!$A$4:$AX$552,42,FALSE),0)","v":0},{"$nulls":37},"",null,"",{"$nulls":5},0,null,0]
["P3130201",null,"CON ESCARAS (*)",{"$f":"IFERROR(VLOOKUP($A34,Filtro!$A$4:$AX$552,2,FALSE),0)","v":374},{"$f":"IFERROR(VLOOKUP($A34,Filtro!$A$4:$AX$552,3,FALSE),0)","v":130},{"$f":"IFERROR(VLOOKUP($A34,Filtro!$A$4:$AX$552,4,FALSE),0)","v":244},{"$f":"IFERROR(VLOOKUP($A34,Filtro!$A$4:$AX$552,5,FALSE),0)","v":0},{"$f":"IFERROR(VLOOKUP($A34,Filtro!$A$4:$AX$552,6,FALSE),0)","v":0},{"$f":"IFERROR(VLOOKUP($A34,Filtro!$A$4:$AX$552,7,FALSE),0)","v":0},{"$f":"IFERROR(VLOOKUP($A34,Filtro!$A$4:$AX$552,8,FALSE),0)","v":0},{"$f":"IFERROR(VLOOKUP($A34,Filtro!$A$4:$AX$552,9,FALSE),0)","v":0},{"$f":"IFERROR(VLOOKUP($A34,Filtro!$A$4:$AX$552,10,FALSE),0)","v":2},{"$f":"IFERROR(VLOOKUP($A34,Filtro!$A$4:$AX$552,11,FALSE),0)","v":2},{"$f":"IFERROR(VLOOKUP($A34,Filtro!$A$4:$AX$552,12,FALSE),0)","v":0},{"$f":"IFERROR(VLOOKUP($A34,Filtro!$A$4:$AX$552,13,FALSE),0)","v":1},{"$f":"IFERROR(VLOOKUP($A34,Filtro!$A$4:$AX$552,14,FALSE),0)","v":1},{"$f":"IFERROR(VLOOKUP($A34,Filtro!$A$4:$AX$552,15,FALSE),0)","v":2},{"$f":"IFERROR(VLOOKUP($A34,Filtro!$A$4:$AX$552,16,FALSE),0)","v":3},{"$f":"IFERROR(VLOOKUP($A34,Filtro!$A$4:$AX$552,17,FALSE),0)","v":1},{"$f":"IFERROR(VLOOKUP($A34,Filtro!$A$4:$AX$552,18,FALSE),0)","v":0},{"$f":"IFERROR(VLOOKUP($A34,Filtro!$A$4:$AX$552,19,FALSE),0)","v":9},{"$f":"IFERROR(VLOOKUP($A34,Filtro!$A$4:$AX$552,20,FALSE),0)","v":3},{"$f":"IFERROR(VLOOKUP($A34,Filtro!$A$4:$AX$552,21,FALSE),0)","v":3},{"$f":"IFERROR(VLOOKUP($A34,Filtro!$A$4:$AX$552,22,FALSE),0)","v":5},{"$f":"IFERROR(VLOOKUP($A34,Filtro!$A$4:$AX$552,23,FALSE),0)","v":1},{"$f":"IFERROR(VLOOKUP($A34,Filtro!$A$4:$AX$552,24,FALSE),0)","v":3},{"$f":"IFERROR(VLOOKUP($A34,Filtro!$A$4:$AX$552,25,FALSE),0)","v":6},{"$f":"IFERROR(VLOOKUP($A34,Filtro!$A$4:$AX$552,26,FALSE),0)","v":6},{"$f":"IFERROR(VLOOKUP($A34,Filtro!$A$4:$AX$552,27,FALSE),0)","v":5},{"$f":"IFERROR(VLOOKUP($A34,Filtro!$A$4:$AX$552,28,FALSE),0)","v":6},{"$f":"IFERROR(VLOOKUP($A34,Filtro!$A$4:$AX$552,29,FALSE),0)","v":4},{"$f":"IFERROR(VLOOKUP($A34,Filtro!$A$4:$AX$552,30,FALSE),0)","v":7},{"$f":"IFERROR(VLOOKUP($A34,Filtro!$A$4:$AX$552,31,FALSE),0)","v":10},{"$f":"IFERROR(VLOOKUP($A34,Filtro!$A$4:$AX$552,32,FALSE),0)","v":19},{"$f":"IFERROR(VLOOKUP($A34,Filtro!$A$4:$AX$552,33,FALSE),0)","v":17},{"$f":"IFERROR(VLOOKUP($A34,Filtro!$A$4:$AX$552,34,FALSE),0)","v":22},{"$f":"IFERROR(VLOOKUP($A34,Filtro!$A$4:$AX$552,35,FALSE),0)","v":17},{"$f":"IFERROR(VLOOKUP($A34,Filtro!$A$4:$AX$552,36,FALSE),0)","v":22},{"$f":"IFERROR(VLOOKUP($A34,Filtro!$A$4:$AX$552,37,FALSE),0)","v":52},{"$f":"IFERROR(VLOOKUP($A34,Filtro!$A$4:$AX$552,38,FALSE),0)","v":145},{"$f":"IFERROR(VLOOKUP($A34,Filtro!$A$4:$AX$552,39,FALSE),0)","v":0},{"$f":"IFERROR(VLOOKUP($A34,Filtro!$A$4:$AX$552,40,FALSE),0)","v":3},{"$f":"IFERROR(VLOOKUP($A34,Filtro!$A$4:$AX$552,41,FALSE),0)","v":4},{"$f":"IFERROR(VLOOKUP($A34,Filtro!$A$4:$AX$552,42,FALSE),0)","v":0},{"$nulls":37},"",{"$f":"IF($D34<=$D32+$D33,\"\",\"Dependencia severa con escaras no debe ser mayor que los Dependientes oncológicos más no Oncológicos. \")","v":""},"",{"$nulls":5},0,{"$f":"IF($D34<=$D32+$D33,0,1)","v":0},0]
["P3160800","ATENCIÓN DOMICILIARIA POR DEPENDENCIA SEVERA","TOTAL PERSONAS",{"$f":"IFERROR(VLOOKUP($A35,Filtro!$A$4:$AX$552,2,FALSE),0)","v":2877},{"$f":"IFERROR(VLOOKUP($A35,Filtro!$A$4:$AX$552,3,FALSE),0)","v":1020},{"$f":"IFERROR(VLOOKUP($A35,Filtro!$A$4:$AX$552,4,FALSE),0)","v":1857},{"$f":"IFERROR(VLOOKUP($A35,Filtro!$A$4:$AX$552,5,FALSE),0)","v":13},{"$f":"IFERROR(VLOOKUP($A35,Filtro!$A$4:$AX$552,6,FALSE),0)","v":12},{"$f":"IFERROR(VLOOKUP($A35,Filtro!$A$4:$AX$552,7,FALSE),0)","v":16},{"$f":"IFERROR(VLOOKUP($A35,Filtro!$A$4:$AX$552,8,FALSE),0)","v":16},{"$f":"IFERROR(VLOOKUP($A35,Filtro!$A$4:$AX$552,9,FALSE),0)","v":16},{"$f":"IFERROR(VLOOKUP($A35,Filtro!$A$4:$AX$552,10,FALSE),0)","v":19},{"$f":"IFERROR(VLOOKUP($A35,Filtro!$A$4:$AX$552,11,FALSE),0)","v":17},{"$f":"IFERROR(VLOOKUP($A35,Filtro!$A$4:$AX$552,12,FALSE),0)","v":10},{"$f":"IFERROR(VLOOKUP($A35,Filtro!$A$4:$AX$552,13,FALSE),0)","v":24},{"$f":"IFERROR(VLOOKUP($A35,Filtro!$A$4:$AX$552,14,FALSE),0)","v":20},{"$f":"IFERROR(VLOOKUP($A35,Filtro!$A$4:$AX$552,15,FALSE),0)","v":22},{"$f":"IFERROR(VLOOKUP($A35,Filtro!$A$4:$AX$552,16,FALSE),0)","v":21},{"$f":"IFERROR(VLOOKUP($A35,Filtro!$A$4:$AX$552,17,FALSE),0)","v":28},{"$f":"IFERROR(VLOOKUP($A35,Filtro!$A$4:$AX$552,18,FALSE),0)","v":22},{"$f":"IFERROR(VLOOKUP($A35,Filtro!$A$4:$AX$552,19,FALSE),0)","v":31},{"$f":"IFERROR(VLOOKUP($A35,Filtro!$A$4:$AX$552,20,FALSE),0)","v":27},{"$f":"IFERROR(VLOOKUP($A35,Filtro!$A$4:$AX$552,21,FALSE),0)","v":26},{"$f":"IFERROR(VLOOKUP($A35,Filtro!$A$4:$AX$552,22,FALSE),0)","v":22},{"$f":"IFERROR(VLOOKUP($A35,Filtro!$A$4:$AX$552,23,FALSE),0)","v":25},{"$f":"IFERROR(VLOOKUP($A35,Filtro!$A$4:$AX$552,24,FALSE),0)","v":28},{"$f":"IFERROR(VLOOKUP($A35,Filtro!$A$4:$AX$552,25,FALSE),0)","v":46},{"$f":"IFERROR(VLOOKUP($A35,Filtro!$A$4:$AX$552,26,FALSE),0)","v":28},{"$f":"IFERROR(VLOOKUP($A35,Filtro!$A$4:$AX$552,27,FALSE),0)","v":27},{"$f":"IFERROR(VLOOKUP($A35,Filtro!$A$4:$AX$552,28,FALSE),0)","v":53},{"$f":"IFERROR(VLOOKUP($A35,Filtro!$A$4:$AX$552,29,FALSE),0)","v":44},{"$f":"IFERROR(VLOOKUP($A35,Filtro!$A$4:$AX$552,30,FALSE),0)","v":51},{"$f":"IFERROR(VLOOKUP($A35,Filtro!$A$4:$AX$552,31,FALSE),0)","v":57},{"$f":"IFERROR(VLOOKUP($A35,Filtro!$A$4:$AX$552,32,FALSE),0)","v":96},{"$f":"IFERROR(VLOOKUP($A35,Filtro!$A$4:$AX$552,33,FALSE),0)","v":98},{"$f":"IFERROR(VLOOKUP($A35,Filtro!$A$4:$AX$552,34,FALSE),0)","v":110},{"$f":"IFERROR(VLOOKUP($A35,Filtro!$A$4:$AX$552,35,FALSE),0)","v":128},{"$f":"IFERROR(VLOOKUP($A35,Filtro!$A$4:$AX$552,36,FALSE),0)","v":193},{"$f":"IFERROR(VLOOKUP($A35,Filtro!$A$4:$AX$552,37,FALSE),0)","v":402},{"$f":"IFERROR(VLOOKUP($A35,Filtro!$A$4:$AX$552,38,FALSE),0)","v":1129},{"$f":"IFERROR(VLOOKUP($A35,Filtro!$A$4:$AX$552,39,FALSE),0)","v":0},{"$f":"IFERROR(VLOOKUP($A35,Filtro!$A$4:$AX$552,40,FALSE),0)","v":2},{"$f":"IFERROR(VLOOKUP($A35,Filtro!$A$4:$AX$552,41,FALSE),0)","v":5},{"$f":"IFERROR(VLOOKUP($A35,Filtro!$A$4:$AX$552,42,FALSE),0)","v":0},{"$nulls":37},"",{"$f":"IF($D35<=$D32+$D33,\"\",\"* Atención Domiciliaria por Dependencia Severa: Total Personas no debe ser mayor que los Dependientes oncológicos más no Oncológicos. \")","v":""},"",{"$nulls":5},0,{"$f":"IF($D35<=$D32+$D33,0,1)","v":0},0]
["P3160900",null,"TOTAL PERSONAS CON ESCARAS",{"$f":"IFERROR(VLOOKUP($A36,Filtro!$A$4:$AX$552,2,FALSE),0)","v":347},{"$f":"IFERROR(VLOOKUP($A36,Filtro!$A$4:$AX$552,3,FALSE),0)","v":114},{"$f":"IFERROR(VLOOKUP($A36,Filtro!$A$4:$AX$552,4,FALSE),0)","v":233},{"$f":"IFERROR(VLOOKUP($A36,Filtro!$A$4:$AX$552,5,FALSE),0)","v":0},{"$f":"IFERROR(VLOOKUP($A36,Filtro!$A$4:$AX$552,6,FALSE),0)","v":0},{"$f":"IFERROR(VLOOKUP($A36,Filtro!$A$4:$AX$552,7,FALSE),0)","v":0},{"$f":"IFERROR(VLOOKUP($A36,Filtro!$A$4:$AX$552,8,FALSE),0)","v":0},{"$f":"IFERROR(VLOOKUP($A36,Filtro!$A$4:$AX$552,9,FALSE),0)","v":0},{"$f":"IFERROR(VLOOKUP($A36,Filtro!$A$4:$AX$552,10,FALSE),0)","v":0},{"$f":"IFERROR(VLOOKUP($A36,Filtro!$A$4:$AX$552,11,FALSE),0)","v":0},{"$f":"IFERROR(VLOOKUP($A36,Filtro!$A$4:$AX$552,12,FALSE),0)","v":0},{"$f":"IFERROR(VLOOKUP($A36,Filtro!$A$4:$AX$552,13,FALSE),0)","v":1},{"$f":"IFERROR(VLOOKUP($A36,Filtro!$A$4:$AX$552,14,FALSE),0)","v":1},{"$f":"IFERROR(VLOOKUP($A36,Filtro!$A$4:$AX$552,15,FALSE),0)","v":1},{"$f":"IFERROR(VLOOKUP($A36,Filtro!$A$4:$AX$552,16,FALSE),0)","v":3},{"$f":"IFERROR(VLOOKUP($A36,Filtro!$A$4:$AX$552,17,FALSE),0)","v":2},{"$f":"IFERROR(VLOOKUP($A36,Filtro!$A$4:$AX$552,18,FALSE),0)","v":1},{"$f":"IFERROR(VLOOKUP($A36,Filtro!$A$4:$AX$552,19,FALSE),0)","v":4},{"$f":"IFERROR(VLOOKUP($A36,Filtro!$A$4:$AX$552,20,FALSE),0)","v":3},{"$f":"IFERROR(VLOOKUP($A36,Filtro!$A$4:$AX$552,21,FALSE),0)","v":3},{"$f":"IFERROR(VLOOKUP($A36,Filtro!$A$4:$AX$552,22,FALSE),0)","v":5},{"$f":"IFERROR(VLOOKUP($A36,Filtro!$A$4:$AX$552,23,FALSE),0)","v":2},{"$f":"IFERROR(VLOOKUP($A36,Filtro!$A$4:$AX$552,24,FALSE),0)","v":4},{"$f":"IFERROR(VLOOKUP($A36,Filtro!$A$4:$AX$552,25,FALSE),0)","v":5},{"$f":"IFERROR(VLOOKUP($A36,Filtro!$A$4:$AX$552,26,FALSE),0)","v":4},{"$f":"IFERROR(VLOOKUP($A36,Filtro!$A$4:$AX$552,27,FALSE),0)","v":5},{"$f":"IFERROR(VLOOKUP($A36,Filtro!$A$4:$AX$552,28,FALSE),0)","v":6},{"$f":"IFERROR(VLOOKUP($A36,Filtro!$A$4:$AX$552,29,FALSE),0)","v":5},{"$f":"IFERROR(VLOOKUP($A36,Filtro!$A$4:$AX$552,30,FALSE),0)","v":7},{"$f":"IFERROR(VLOOKUP($A36,Filtro!$A$4:$AX$552,31,FALSE),0)","v":7},{"$f":"IFERROR(VLOOKUP($A36,Filtro!$A$4:$AX$552,32,FALSE),0)","v":18},{"$f":"IFERROR(VLOOKUP($A36,Filtro!$A$4:$AX$552,33,FALSE),0)","v":13},{"$f":"IFERROR(VLOOKUP($A36,Filtro!$A$4:$AX$552,34,FALSE),0)","v":21},{"$f":"IFERROR(VLOOKUP($A36,Filtro!$A$4:$AX$552,35,FALSE),0)","v":19},{"$f":"IFERROR(VLOOKUP($A36,Filtro!$A$4:$AX$552,36,FALSE),0)","v":20},{"$f":"IFERROR(VLOOKUP($A36,Filtro!$A$4:$AX$552,37,FALSE),0)","v":47},{"$f":"IFERROR(VLOOKUP($A36,Filtro!$A$4:$AX$552,38,FALSE),0)","v":140},{"$f":"IFERROR(VLOOKUP($A36,Filtro!$A$4:$AX$552,39,FALSE),0)","v":0},{"$f":"IFERROR(VLOOKUP($A36,Filtro!$A$4:$AX$552,40,FALSE),0)","v":3},{"$f":"IFERROR(VLOOKUP($A36,Filtro!$A$4:$AX$552,41,FALSE),0)","v":4},{"$f":"IFERROR(VLOOKUP($A36,Filtro!$A$4:$AX$552,42,FALSE),0)","v":0},{"$nulls":37},"",{"$f":"IF($D36<=$D35,\"\",\"* Atención Domiciliaria por Dependencia Severa: Total Personas con Escaras no debe ser mayor al Total Personas. \")","v":""},"",{"$f":"IF($D36<=$D34,\"\",\"* Atención Domiciliaria por Dependencia Severa: Total Personas con Escaras no debe ser mayor a las personas con Dependencia Severa con Escaras. \")","v":""},{"$nulls":4},0,{"$f":"IF($D36<=$D35,0,1)","v":0},0,{"$f":"IF($D36<=$D34,0,1)","v":0}]
["P3160940",null,"TOTAL PERSONAS CON CUIDADOR QUE RECIBE APOYO MONETARIO",{"$f":"IFERROR(VLOOKUP($A37,Filtro!$A$4:$AX$552,2,FALSE),0)","v":650},{"$f":"IFERROR(VLOOKUP($A37,Filtro!$A$4:$AX$552,3,FALSE),0)","v":258},{"$f":"IFERROR(VLOOKUP($A37,Filtro!$A$4:$AX$552,4,FALSE),0)","v":392},{"$f":"IFERROR(VLOOKUP($A37,Filtro!$A$4:$AX$552,5,FALSE),0)","v":4},{"$f":"IFERROR(VLOOKUP($A37,Filtro!$A$4:$AX$552,6,FALSE),0)","v":0},{"$f":"IFERROR(VLOOKUP($A37,Filtro!$A$4:$AX$552,7,FALSE),0)","v":6},{"$f":"IFERROR(VLOOKUP($A37,Filtro!$A$4:$AX$552,8,FALSE),0)","v":8},{"$f":"IFERROR(VLOOKUP($A37,Filtro!$A$4:$AX$552,9,FALSE),0)","v":10},{"$f":"IFERROR(VLOOKUP($A37,Filtro!$A$4:$AX$552,10,FALSE),0)","v":11},{"$f":"IFERROR(VLOOKUP($A37,Filtro!$A$4:$AX$552,11,FALSE),0)","v":5},{"$f":"IFERROR(VLOOKUP($A37,Filtro!$A$4:$AX$552,12,FALSE),0)","v":4},{"$f":"IFERROR(VLOOKUP($A37,Filtro!$A$4:$AX$552,13,FALSE),0)","v":10},{"$f":"IFERROR(VLOOKUP($A37,Filtro!$A$4:$AX$552,14,FALSE),0)","v":9},{"$f":"IFERROR(VLOOKUP($A37,Filtro!$A$4:$AX$552,15,FALSE),0)","v":13},{"$f":"IFERROR(VLOOKUP($A37,Filtro!$A$4:$AX$552,16,FALSE),0)","v":11},{"$f":"IFERROR(VLOOKUP($A37,Filtro!$A$4:$AX$552,17,FALSE),0)","v":16},{"$f":"IFERROR(VLOOKUP($A37,Filtro!$A$4:$AX$552,18,FALSE),0)","v":13},{"$f":"IFERROR(VLOOKUP($A37,Filtro!$A$4:$AX$552,19,FALSE),0)","v":17},{"$f":"IFERROR(VLOOKUP($A37,Filtro!$A$4:$AX$552,20,FALSE),0)","v":13},{"$f":"IFERROR(VLOOKUP($A37,Filtro!$A$4:$AX$552,21,FALSE),0)","v":9},{"$f":"IFERROR(VLOOKUP($A37,Filtro!$A$4:$AX$552,22,FALSE),0)","v":10},{"$f":"IFERROR(VLOOKUP($A37,Filtro!$A$4:$AX$552,23,FALSE),0)","v":11},{"$f":"IFERROR(VLOOKUP($A37,Filtro!$A$4:$AX$552,24,FALSE),0)","v":13},{"$f":"IFERROR(VLOOKUP($A37,Filtro!$A$4:$AX$552,25,FALSE),0)","v":17},{"$f":"IFERROR(VLOOKUP($A37,Filtro!$A$4:$AX$552,26,FALSE),0)","v":13},{"$f":"IFERROR(VLOOKUP($A37,Filtro!$A$4:$AX$552,27,FALSE),0)","v":8},{"$f":"IFERROR(VLOOKUP($A37,Filtro!$A$4:$AX$552,28,FALSE),0)","v":12},{"$f":"IFERROR(VLOOKUP($A37,Filtro!$A$4:$AX$552,29,FALSE),0)","v":10},{"$f":"IFERROR(VLOOKUP($A37,Filtro!$A$4:$AX$552,30,FALSE),0)","v":15},{"$f":"IFERROR(VLOOKUP($A37,Filtro!$A$4:$AX$552,31,FALSE),0)","v":16},{"$f":"IFERROR(VLOOKUP($A37,Filtro!$A$4:$AX$552,32,FALSE),0)","v":17},{"$f":"IFERROR(VLOOKUP($A37,Filtro!$A$4:$AX$552,33,FALSE),0)","v":21},{"$f":"IFERROR(VLOOKUP($A37,Filtro!$A$4:$AX$552,34,FALSE),0)","v":28},{"$f":"IFERROR(VLOOKUP($A37,Filtro!$A$4:$AX$552,35,FALSE),0)","v":19},{"$f":"IFERROR(VLOOKUP($A37,Filtro!$A$4:$AX$552,36,FALSE),0)","v":33},{"$f":"IFERROR(VLOOKUP($A37,Filtro!$A$4:$AX$552,37,FALSE),0)","v":66},{"$f":"IFERROR(VLOOKUP($A37,Filtro!$A$4:$AX$552,38,FALSE),0)","v":182},{"$f":"IFERROR(VLOOKUP($A37,Filtro!$A$4:$AX$552,39,FALSE),0)","v":0},{"$f":"IFERROR(VLOOKUP($A37,Filtro!$A$4:$AX$552,40,FALSE),0)","v":5},{"$f":"IFERROR(VLOOKUP($A37,Filtro!$A$4:$AX$552,41,FALSE),0)","v":11},{"$f":"IFERROR(VLOOKUP($A37,Filtro!$A$4:$AX$552,42,FALSE),0)","v":0},{"$nulls":37},"",{"$f":"IF($D37<=$D35,\"\",\"Total Personas con cuidador que recibe apoyo monetario no debe ser mayor al Total Personas. \")","v":""},"",{"$nulls":5},0,{"$f":"IF($D37<=$D35,0,1)","v":0},0]
["P3170200",null,"CON INDICACIÓN DE NUTRICIÓN ENTERAL DOMICILIARIA (NED) ",{"$f":"IFERROR(VLOOKUP($A38,Filtro!$A$4:$AX$552,2,FALSE),0)","v":49},{"$f":"IFERROR(VLOOKUP($A38,Filtro!$A$4:$AX$552,3,FALSE),0)","v":23},{"$f":"IFERROR(VLOOKUP($A38,Filtro!$A$4:$AX$552,4,FALSE),0)","v":26},{"$f":"IFERROR(VLOOKUP($A38,Filtro!$A$4:$AX$552,5,FALSE),0)","v":1},{"$f":"IFERROR(VLOOKUP($A38,Filtro!$A$4:$AX$552,6,FALSE),0)","v":1},{"$f":"IFERROR(VLOOKUP($A38,Filtro!$A$4:$AX$552,7,FALSE),0)","v":3},{"$f":"IFERROR(VLOOKUP($A38,Filtro!$A$4:$AX$552,8,FALSE),0)","v":1},{"$f":"IFERROR(VLOOKUP($A38,Filtro!$A$4:$AX$552,9,FALSE),0)","v":2},{"$f":"IFERROR(VLOOKUP($A38,Filtro!$A$4:$AX$552,10,FALSE),0)","v":1},{"$f":"IFERROR(VLOOKUP($A38,Filtro!$A$4:$AX$552,11,FALSE),0)","v":1},{"$f":"IFERROR(VLOOKUP($A38,Filtro!$A$4:$AX$552,12,FALSE),0)","v":1},{"$f":"IFERROR(VLOOKUP($A38,Filtro!$A$4:$AX$552,13,FALSE),0)","v":1},{"$f":"IFERROR(VLOOKUP($A38,Filtro!$A$4:$AX$552,14,FALSE),0)","v":0},{"$f":"IFERROR(VLOOKUP($A38,Filtro!$A$4:$AX$552,15,FALSE),0)","v":1},{"$f":"IFERROR(VLOOKUP($A38,Filtro!$A$4:$AX$552,16,FALSE),0)","v":1},{"$f":"IFERROR(VLOOKUP($A38,Filtro!$A$4:$AX$552,17,FALSE),0)","v":0},{"$f":"IFERROR(VLOOKUP($A38,Filtro!$A$4:$AX$552,18,FALSE),0)","v":0},{"$f":"IFERROR(VLOOKUP($A38,Filtro!$A$4:$AX$552,19,FALSE),0)","v":1},{"$f":"IFERROR(VLOOKUP($A38,Filtro!$A$4:$AX$552,20,FALSE),0)","v":0},{"$f":"IFERROR(VLOOKUP($A38,Filtro!$A$4:$AX$552,21,FALSE),0)","v":1},{"$f":"IFERROR(VLOOKUP($A38,Filtro!$A$4:$AX$552,22,FALSE),0)","v":1},{"$f":"IFERROR(VLOOKUP($A38,Filtro!$A$4:$AX$552,23,FALSE),0)","v":0},{"$f":"IFERROR(VLOOKUP($A38,Filtro!$A$4:$AX$552,24,FALSE),0)","v":0},{"$f":"IFERROR(VLOOKUP($A38,Filtro!$A$4:$AX$552,25,FALSE),0)","v":0},{"$f":"IFERROR(VLOOKUP($A38,Filtro!$A$4:$AX$552,26,FALSE),0)","v":1},{"$f":"IFERROR(VLOOKUP($A38,Filtro!$A$4:$AX$552,27,FALSE),0)","v":1},{"$f":"IFERROR(VLOOKUP($A38,Filtro!$A$4:$AX$552,28,FALSE),0)","v":1},{"$f":"IFERROR(VLOOKUP($A38,Filtro!$A$4:$AX$552,29,FALSE),0)","v":0},{"$f":"IFERROR(VLOOKUP($A38,Filtro!$A$4:$AX$552,30,FALSE),0)","v":2},{"$f":"IFERROR(VLOOKUP($A38,Filtro!$A$4:$AX$552,31,FALSE),0)","v":2},{"$f":"IFERROR(VLOOKUP($A38,Filtro!$A$4:$AX$552,32,FALSE),0)","v":1},{"$f":"IFERROR(VLOOKUP($A38,Filtro!$A$4:$AX$552,33,FALSE),0)","v":0},{"$f":"IFERROR(VLOOKUP($A38,Filtro!$A$4:$AX$552,34,FALSE),0)","v":5},{"$f":"IFERROR(VLOOKUP($A38,Filtro!$A$4:$AX$552,35,FALSE),0)","v":2},{"$f":"IFERROR(VLOOKUP($A38,Filtro!$A$4:$AX$552,36,FALSE),0)","v":2},{"$f":"IFERROR(VLOOKUP($A38,Filtro!$A$4:$AX$552,37,FALSE),0)","v":7},{"$f":"IFERROR(VLOOKUP($A38,Filtro!$A$4:$AX$552,38,FALSE),0)","v":8},{"$f":"IFERROR(VLOOKUP($A38,Filtro!$A$4:$AX$552,39,FALSE),0)","v":0},{"$f":"IFERROR(VLOOKUP($A38,Filtro!$A$4:$AX$552,40,FALSE),0)","v":0},{"$f":"IFERROR(VLOOKUP($A38,Filtro!$A$4:$AX$552,41,FALSE),0)","v":1},{"$f":"IFERROR(VLOOKUP($A38,Filtro!$A$4:$AX$552,42,FALSE),0)","v":0},{"$nulls":37},"",{"$f":"IF($D38<=$D35,\"\",\"Total Personas con indicación de Nutrición Enteral Domiciliaria no debe ser mayor al Total Personas. \")","v":""},"",{"$nulls":5},{"$f":"IF($D38>=$AP38+$AQ38,0,1)","v":0},{"$f":"IF($D38<=$D35,0,1)","v":0},0]
[null,"(*) Incluidos en Dependencia Severa Oncológica y NO Oncológica"]
[null,"SECCION B: CUIDADORES DE PACIENTES CON DEPENDENCIA SEVERA"]
[null,"CONCEPTO",null,"Total Cuidadoras/es","ATENCIÓN DOMICILIARIA POR DEPENDENCIA SEVERA"]
[{"$nulls":4},"Total Cuidadoras/es capacitadas/dos","Total cuidadoras/es con examen preventivo vigente","Cuidadoras/es con apoyo monetario","Cuidadoras/es Capacitadas/os con apoyo monetario"]
["P5300600","NÚMERO DE CUIDADORES",null,{"$f":"IFERROR(VLOOKUP($A43,Filtro!$A$4:$AX$552,2,FALSE),0)","v":3056},{"$f":"IFERROR(VLOOKUP($A43,Filtro!$A$4:$AX$552,3,FALSE),0)","v":1427},{"$f":"IFERROR(VLOOKUP($A43,Filtro!$A$4:$AX$552,4,FALSE),0)","v":317},{"$f":"IFERROR(VLOOKUP($A43,Filtro!$A$4:$AX$552,5,FALSE),0)","v":644},{"$f":"IFERROR(VLOOKUP($A43,Filtro!$A$4:$AX$552,6,FALSE),0)","v":394},{"$f":"CD43 & CE43 & CF43 & CG43 & CH43","v":"* Los Cuidadores con apoyo monetario debe ser igual al Total de personas 'con cuidador que recibe apoyo monetario' de la sección A. * El total de Cuidadores capacitados con apoyo monetario no puede ser mayor al Total de Cuidadores Capacitados"},{"$nulls":72},{"$f":"IF($D43>=$E43,\"\",\"* Los Cuidadores con apoyo monetario no debe ser mayor al Total de Cuidadores. \")","v":""},{"$f":"IF($D43>=$H43,\"\",\"* Los Cuidadores Capacitados no debe ser mayor al Total Cuidadores. \")","v":""},{"$f":"IF($E$43=$D$37,\"\",\"* Los Cuidadores con apoyo monetario debe ser igual al Total de personas 'con cuidador que recibe apoyo monetario' de la sección A. \")","v":"* Los Cuidadores con apoyo monetario debe ser igual al Total de personas 'con cuidador que recibe apoyo monetario' de la sección A. "},{"$f":"IF(G43>H43,\"* El total de Cuidadores capacitados con apoyo monetario no puede ser mayor al Total de Cuidadores Capacitados\",\"\")","v":"* El total de Cuidadores capacitados con apoyo monetario no puede ser mayor al Total de Cuidadores Capacitados"},{"$f":"IF(E43<G43,\"* El N° de cuidadores con apoyo monetario deben ser mayor o igual a los cuidadores capacitados con apoyo monetarios. \",\"\")","v":""},{"$nulls":3},{"$f":"IF($D43>=$E43,0,1)","v":0},{"$f":"IF($D43>=$H43,0,1)","v":0},{"$f":"IF($E$43=$D$37,0,1)","v":1},{"$f":"IF(G43>H43,1,0)","v":1},{"$f":"IF(E43<G43,1,0)","v":0}]
[null,"SECCION C: POBLACIÓN EN CONTROL EN PROGRAMA DE REHABILITACIÓN PULMONAR EN SALA IRA-ERA"]
[null,"PROGRAMA",null,"TOTAL",null,null,"GRUPOS DE EDAD (en años) Y SEXO"]
[{"$nulls":6},"0 a 4 años",null,"5 a 9 años",null,"10 a 14 años",null,"15 a 19 años",null,"20 a 24 años",null,"25 a 29 años",null,"30 a 34 años",null,"35 a 39 años",null,"40 a 44 años",null,"45 a 49 años",null,"50 a 54 años",null,"55 a 59 años",null,"60 a 64 años",null,"65 a 69 años",null,"70 a 74 años",null,"75 a 79 años",null,"80 y más años"]
[{"$nulls":3},"Ambos\nsexos","Hombres","Mujeres","Hombres","Mujeres","Hombres","Mujeres","Hombres","Mujeres","Hombres","Mujeres","Hombres","Mujeres","Hombres","Mujeres","Hombres","Mujeres","Hombres","Mujeres","Hombres","Mujeres","Hombres","Mujeres","Hombres","Mujeres","Hombres","Mujeres","Hombres","Mujeres","Hombres ","Mujeres","Hombres ","Mujeres","Hombres ","Mujeres","Hombres ","Mujeres"]
["P3160930","REHABILITACIÓN PULMONAR",null,{"$f":"IFERROR(VLOOKUP($A48,Filtro!$A$4:$AX$552,2,FALSE),0)","v":112},{"$f":"IFERROR(VLOOKUP($A48,Filtro!$A$4:$AX$552,3,FALSE),0)","v":52},{"$f":"IFERROR(VLOOKUP($A48,Filtro!$A$4:$AX$552,4,FALSE),0)","v":60},{"$f":"IFERROR(VLOOKUP($A48,Filtro!$A$4:$AX$552,5,FALSE),0)","v":5},{"$f":"IFERROR(VLOOKUP($A48,Filtro!$A$4:$AX$552,6,FALSE),0)","v":1},{"$f":"IFERROR(VLOOKUP($A48,Filtro!$A$4:$AX$552,7,FALSE),0)","v":4},{"$f":"IFERROR(VLOOKUP($A48,Filtro!$A$4:$AX$552,8,FALSE),0)","v":5},{"$f":"IFERROR(VLOOKUP($A48,Filtro!$A$4:$AX$552,9,FALSE),0)","v":9},{"$f":"IFERROR(VLOOKUP($A48,Filtro!$A$4:$AX$552,10,FALSE),0)","v":6},{"$f":"IFERROR(VLOOKUP($A48,Filtro!$A$4:$AX$552,11,FALSE),0)","v":5},{"$f":"IFERROR(VLOOKUP($A48,Filtro!$A$4:$AX$552,12,FALSE),0)","v":3},{"$f":"IFERROR(VLOOKUP($A48,Filtro!$A$4:$AX$552,13,FALSE),0)","v":2},{"$f":"IFERROR(VLOOKUP($A48,Filtro!$A$4:$AX$552,14,FALSE),0)","v":3},{"$f":"IFERROR(VLOOKUP($A48,Filtro!$A$4:$AX$552,15,FALSE),0)","v":2},{"$f":"IFERROR(VLOOKUP($A48,Filtro!$A$4:$AX$552,16,FALSE),0)","v":1},{"$f":"IFERROR(VLOOKUP($A48,Filtro!$A$4:$AX$552,17,FALSE),0)","v":0},{"$f":"IFERROR(VLOOKUP($A48,Filtro!$A$4:$AX$552,18,FALSE),0)","v":1},{"$f":"IFERROR(VLOOKUP($A48,Filtro!$A$4:$AX$552,19,FALSE),0)","v":0},{"$f":"IFERROR(VLOOKUP($A48,Filtro!$A$4:$AX$552,20,FALSE),0)","v":2},{"$f":"IFERROR(VLOOKUP($A48,Filtro!$A$4:$AX$552,21,FALSE),0)","v":0},{"$f":"IFERROR(VLOOKUP($A48,Filtro!$A$4:$AX$552,22,FALSE),0)","v":1},{"$f":"IFERROR(VLOOKUP($A48,Filtro!$A$4:$AX$552,23,FALSE),0)","v":1},{"$f":"IFERROR(VLOOKUP($A48,Filtro!$A$4:$AX$552,24,FALSE),0)","v":6},{"$f":"IFERROR(VLOOKUP($A48,Filtro!$A$4:$AX$552,25,FALSE),0)","v":1},{"$f":"IFERROR(VLOOKUP($A48,Filtro!$A$4:$AX$552,26,FALSE),0)","v":2},{"$f":"IFERROR(VLOOKUP($A48,Filtro!$A$4:$AX$552,27,FALSE),0)","v":0},{"$f":"IFERROR(VLOOKUP($A48,Filtro!$A$4:$AX$552,28,FALSE),0)","v":3},{"$f":"IFERROR(VLOOKUP($A48,Filtro!$A$4:$AX$552,29,FALSE),0)","v":1},{"$f":"IFERROR(VLOOKUP($A48,Filtro!$A$4:$AX$552,30,FALSE),0)","v":2},{"$f":"IFERROR(VLOOKUP($A48,Filtro!$A$4:$AX$552,31,FALSE),0)","v":2},{"$f":"IFERROR(VLOOKUP($A48,Filtro!$A$4:$AX$552,32,FALSE),0)","v":7},{"$f":"IFERROR(VLOOKUP($A48,Filtro!$A$4:$AX$552,33,FALSE),0)","v":10},{"$f":"IFERROR(VLOOKUP($A48,Filtro!$A$4:$AX$552,34,FALSE),0)","v":10},{"$f":"IFERROR(VLOOKUP($A48,Filtro!$A$4:$AX$552,35,FALSE),0)","v":6},{"$f":"IFERROR(VLOOKUP($A48,Filtro!$A$4:$AX$552,36,FALSE),0)","v":4},{"$f":"IFERROR(VLOOKUP($A48,Filtro!$A$4:$AX$552,37,FALSE),0)","v":4},{"$f":"IFERROR(VLOOKUP($A48,Filtro!$A$4:$AX$552,38,FALSE),0)","v":3}]
[null,"SECCION D: NIVEL DE CONTROL DE POBLACION RESPIRATORIA CRONICA"]
[null,"PROGRAMAS",null,"TOTAL",null,null,"GRUPOS DE EDAD (en años) Y SEXO"]
[{"$nulls":6},"0 a 4 años",null,"5 a 9 años",null,"10 a 14 años",null,"15 a 19 años",null,"20 a 24 años",null,"25 a 29 años",null,"30 a 34 años",null,"35 a 39 años",null,"40 a 44 años",null,"45 a 49 años",null,"50 a 54 años",null,"55 a 59 años",null,"60 a 64 años",null,"65 a 69 años",null,"70 a 74 años",null,"75 a 79 años",null,"80 y más años"]
[{"$nulls":3},"Ambos\nsexos","Hombres","Mujeres","Hombres","Mujeres","Hombres","Mujeres","Hombres","Mujeres","Hombres","Mujeres","Hombres","Mujeres","Hombres","Mujeres","Hombres","Mujeres","Hombres","Mujeres","Hombres","Mujeres","Hombres","Mujeres","Hombres","Mujeres","Hombres","Mujeres","Hombres","Mujeres","Hombres ","Mujeres","Hombres ","Mujeres","Hombres ","Mujeres","Hombres ","Mujeres"]
["P3161041","ASMA BRONQUIAL","Controlado",{"$f":"IFERROR(VLOOKUP($A53,Filtro!$A$4:$AX$552,2,FALSE),0)","v":8075},{"$f":"IFERROR(VLOOKUP($A53,Filtro!$A$4:$AX$552,3,FALSE),0)","v":3080},{"$f":"IFERROR(VLOOKUP($A53,Filtro!$A$4:$AX$552,4,FALSE),0)","v":4995},{"$f":"IFERROR(VLOOKUP($A53,Filtro!$A$4:$AX$552,5,FALSE),0)","v":122},{"$f":"IFERROR(VLOOKUP($A53,Filtro!$A$4:$AX$552,6,FALSE),0)","v":79},{"$f":"IFERROR(VLOOKUP($A53,Filtro!$A$4:$AX$552,7,FALSE),0)","v":847},{"$f":"IFERROR(VLOOKUP($A53,Filtro!$A$4:$AX$552,8,FALSE),0)","v":598},{"$f":"IFERROR(VLOOKUP($A53,Filtro!$A$4:$AX$552,9,FALSE),0)","v":730},{"$f":"IFERROR(VLOOKUP($A53,Filtro!$A$4:$AX$552,10,FALSE),0)","v":515},{"$f":"IFERROR(VLOOKUP($A53,Filtro!$A$4:$AX$552,11,FALSE),0)","v":374},{"$f":"IFERROR(VLOOKUP($A53,Filtro!$A$4:$AX$552,12,FALSE),0)","v":347},{"$f":"IFERROR(VLOOKUP($A53,Filtro!$A$4:$AX$552,13,FALSE),0)","v":110},{"$f":"IFERROR(VLOOKUP($A53,Filtro!$A$4:$AX$552,14,FALSE),0)","v":202},{"$f":"IFERROR(VLOOKUP($A53,Filtro!$A$4:$AX$552,15,FALSE),0)","v":77},{"$f":"IFERROR(VLOOKUP($A53,Filtro!$A$4:$AX$552,16,FALSE),0)","v":183},{"$f":"IFERROR(VLOOKUP($A53,Filtro!$A$4:$AX$552,17,FALSE),0)","v":59},{"$f":"IFERROR(VLOOKUP($A53,Filtro!$A$4:$AX$552,18,FALSE),0)","v":194},{"$f":"IFERROR(VLOOKUP($A53,Filtro!$A$4:$AX$552,19,FALSE),0)","v":42},{"$f":"IFERROR(VLOOKUP($A53,Filtro!$A$4:$AX$552,20,FALSE),0)","v":172},{"$f":"IFERROR(VLOOKUP($A53,Filtro!$A$4:$AX$552,21,FALSE),0)","v":45},{"$f":"IFERROR(VLOOKUP($A53,Filtro!$A$4:$AX$552,22,FALSE),0)","v":199},{"$f":"IFERROR(VLOOKUP($A53,Filtro!$A$4:$AX$552,23,FALSE),0)","v":55},{"$f":"IFERROR(VLOOKUP($A53,Filtro!$A$4:$AX$552,24,FALSE),0)","v":265},{"$f":"IFERROR(VLOOKUP($A53,Filtro!$A$4:$AX$552,25,FALSE),0)","v":63},{"$f":"IFERROR(VLOOKUP($A53,Filtro!$A$4:$AX$552,26,FALSE),0)","v":302},{"$f":"IFERROR(VLOOKUP($A53,Filtro!$A$4:$AX$552,27,FALSE),0)","v":76},{"$f":"IFERROR(VLOOKUP($A53,Filtro!$A$4:$AX$552,28,FALSE),0)","v":323},{"$f":"IFERROR(VLOOKUP($A53,Filtro!$A$4:$AX$552,29,FALSE),0)","v":94},{"$f":"IFERROR(VLOOKUP($A53,Filtro!$A$4:$AX$552,30,FALSE),0)","v":333},{"$f":"IFERROR(VLOOKUP($A53,Filtro!$A$4:$AX$552,31,FALSE),0)","v":96},{"$f":"IFERROR(VLOOKUP($A53,Filtro!$A$4:$AX$552,32,FALSE),0)","v":331},{"$f":"IFERROR(VLOOKUP($A53,Filtro!$A$4:$AX$552,33,FALSE),0)","v":89},{"$f":"IFERROR(VLOOKUP($A53,Filtro!$A$4:$AX$552,34,FALSE),0)","v":350},{"$f":"IFERROR(VLOOKUP($A53,Filtro!$A$4:$AX$552,35,FALSE),0)","v":93},{"$f":"IFERROR(VLOOKUP($A53,Filtro!$A$4:$AX$552,36,FALSE),0)","v":280},{"$f":"IFERROR(VLOOKUP($A53,Filtro!$A$4:$AX$552,37,FALSE),0)","v":108},{"$f":"IFERROR(VLOOKUP($A53,Filtro!$A$4:$AX$552,38,FALSE),0)","v":322}]
["P3161042",null,"Parcialmente Controlado",{"$f":"IFERROR(VLOOKUP($A54,Filtro!$A$4:$AX$552,2,FALSE),0)","v":1977},{"$f":"IFERROR(VLOOKUP($A54,Filtro!$A$4:$AX$552,3,FALSE),0)","v":641},{"$f":"IFERROR(VLOOKUP($A54,Filtro!$A$4:$AX$552,4,FALSE),0)","v":1336},{"$f":"IFERROR(VLOOKUP($A54,Filtro!$A$4:$AX$552,5,FALSE),0)","v":23},{"$f":"IFERROR(VLOOKUP($A54,Filtro!$A$4:$AX$552,6,FALSE),0)","v":23},{"$f":"IFERROR(VLOOKUP($A54,Filtro!$A$4:$AX$552,7,FALSE),0)","v":194},{"$f":"IFERROR(VLOOKUP($A54,Filtro!$A$4:$AX$552,8,FALSE),0)","v":138},{"$f":"IFERROR(VLOOKUP($A54,Filtro!$A$4:$AX$552,9,FALSE),0)","v":111},{"$f":"IFERROR(VLOOKUP($A54,Filtro!$A$4:$AX$552,10,FALSE),0)","v":115},{"$f":"IFERROR(VLOOKUP($A54,Filtro!$A$4:$AX$552,11,FALSE),0)","v":70},{"$f":"IFERROR(VLOOKUP($A54,Filtro!$A$4:$AX$552,12,FALSE),0)","v":102},{"$f":"IFERROR(VLOOKUP($A54,Filtro!$A$4:$AX$552,13,FALSE),0)","v":29},{"$f":"IFERROR(VLOOKUP($A54,Filtro!$A$4:$AX$552,14,FALSE),0)","v":44},{"$f":"IFERROR(VLOOKUP($A54,Filtro!$A$4:$AX$552,15,FALSE),0)","v":9},{"$f":"IFERROR(VLOOKUP($A54,Filtro!$A$4:$AX$552,16,FALSE),0)","v":59},{"$f":"IFERROR(VLOOKUP($A54,Filtro!$A$4:$AX$552,17,FALSE),0)","v":16},{"$f":"IFERROR(VLOOKUP($A54,Filtro!$A$4:$AX$552,18,FALSE),0)","v":61},{"$f":"IFERROR(VLOOKUP($A54,Filtro!$A$4:$AX$552,19,FALSE),0)","v":15},{"$f":"IFERROR(VLOOKUP($A54,Filtro!$A$4:$AX$552,20,FALSE),0)","v":52},{"$f":"IFERROR(VLOOKUP($A54,Filtro!$A$4:$AX$552,21,FALSE),0)","v":9},{"$f":"IFERROR(VLOOKUP($A54,Filtro!$A$4:$AX$552,22,FALSE),0)","v":69},{"$f":"IFERROR(VLOOKUP($A54,Filtro!$A$4:$AX$552,23,FALSE),0)","v":16},{"$f":"IFERROR(VLOOKUP($A54,Filtro!$A$4:$AX$552,24,FALSE),0)","v":81},{"$f":"IFERROR(VLOOKUP($A54,Filtro!$A$4:$AX$552,25,FALSE),0)","v":20},{"$f":"IFERROR(VLOOKUP($A54,Filtro!$A$4:$AX$552,26,FALSE),0)","v":84},{"$f":"IFERROR(VLOOKUP($A54,Filtro!$A$4:$AX$552,27,FALSE),0)","v":16},{"$f":"IFERROR(VLOOKUP($A54,Filtro!$A$4:$AX$552,28,FALSE),0)","v":87},{"$f":"IFERROR(VLOOKUP($A54,Filtro!$A$4:$AX$552,29,FALSE),0)","v":24},{"$f":"IFERROR(VLOOKUP($A54,Filtro!$A$4:$AX$552,30,FALSE),0)","v":118},{"$f":"IFERROR(VLOOKUP($A54,Filtro!$A$4:$AX$552,31,FALSE),0)","v":26},{"$f":"IFERROR(VLOOKUP($A54,Filtro!$A$4:$AX$552,32,FALSE),0)","v":90},{"$f":"IFERROR(VLOOKUP($A54,Filtro!$A$4:$AX$552,33,FALSE),0)","v":18},{"$f":"IFERROR(VLOOKUP($A54,Filtro!$A$4:$AX$552,34,FALSE),0)","v":85},{"$f":"IFERROR(VLOOKUP($A54,Filtro!$A$4:$AX$552,35,FALSE),0)","v":23},{"$f":"IFERROR(VLOOKUP($A54,Filtro!$A$4:$AX$552,36,FALSE),0)","v":64},{"$f":"IFERROR(VLOOKUP($A54,Filtro!$A$4:$AX$552,37,FALSE),0)","v":22},{"$f":"IFERROR(VLOOKUP($A54,Filtro!$A$4:$AX$552,38,FALSE),0)","v":64}]
["P3161043",null,"No Controlado",{"$f":"IFERROR(VLOOKUP($A55,Filtro!$A$4:$AX$552,2,FALSE),0)","v":560},{"$f":"IFERROR(VLOOKUP($A55,Filtro!$A$4:$AX$552,3,FALSE),0)","v":189},{"$f":"IFERROR(VLOOKUP($A55,Filtro!$A$4:$AX$552,4,FALSE),0)","v":371},{"$f":"IFERROR(VLOOKUP($A55,Filtro!$A$4:$AX$552,5,FALSE),0)","v":1},{"$f":"IFERROR(VLOOKUP($A55,Filtro!$A$4:$AX$552,6,FALSE),0)","v":2},{"$f":"IFERROR(VLOOKUP($A55,Filtro!$A$4:$AX$552,7,FALSE),0)","v":54},{"$f":"IFERROR(VLOOKUP($A55,Filtro!$A$4:$AX$552,8,FALSE),0)","v":47},{"$f":"IFERROR(VLOOKUP($A55,Filtro!$A$4:$AX$552,9,FALSE),0)","v":42},{"$f":"IFERROR(VLOOKUP($A55,Filtro!$A$4:$AX$552,10,FALSE),0)","v":27},{"$f":"IFERROR(VLOOKUP($A55,Filtro!$A$4:$AX$552,11,FALSE),0)","v":14},{"$f":"IFERROR(VLOOKUP($A55,Filtro!$A$4:$AX$552,12,FALSE),0)","v":23},{"$f":"IFERROR(VLOOKUP($A55,Filtro!$A$4:$AX$552,13,FALSE),0)","v":15},{"$f":"IFERROR(VLOOKUP($A55,Filtro!$A$4:$AX$552,14,FALSE),0)","v":18},{"$f":"IFERROR(VLOOKUP($A55,Filtro!$A$4:$AX$552,15,FALSE),0)","v":8},{"$f":"IFERROR(VLOOKUP($A55,Filtro!$A$4:$AX$552,16,FALSE),0)","v":22},{"$f":"IFERROR(VLOOKUP($A55,Filtro!$A$4:$AX$552,17,FALSE),0)","v":1},{"$f":"IFERROR(VLOOKUP($A55,Filtro!$A$4:$AX$552,18,FALSE),0)","v":25},{"$f":"IFERROR(VLOOKUP($A55,Filtro!$A$4:$AX$552,19,FALSE),0)","v":1},{"$f":"IFERROR(VLOOKUP($A55,Filtro!$A$4:$AX$552,20,FALSE),0)","v":12},{"$f":"IFERROR(VLOOKUP($A55,Filtro!$A$4:$AX$552,21,FALSE),0)","v":4},{"$f":"IFERROR(VLOOKUP($A55,Filtro!$A$4:$AX$552,22,FALSE),0)","v":22},{"$f":"IFERROR(VLOOKUP($A55,Filtro!$A$4:$AX$552,23,FALSE),0)","v":4},{"$f":"IFERROR(VLOOKUP($A55,Filtro!$A$4:$AX$552,24,FALSE),0)","v":14},{"$f":"IFERROR(VLOOKUP($A55,Filtro!$A$4:$AX$552,25,FALSE),0)","v":3},{"$f":"IFERROR(VLOOKUP($A55,Filtro!$A$4:$AX$552,26,FALSE),0)","v":24},{"$f":"IFERROR(VLOOKUP($A55,Filtro!$A$4:$AX$552,27,FALSE),0)","v":6},{"$f":"IFERROR(VLOOKUP($A55,Filtro!$A$4:$AX$552,28,FALSE),0)","v":15},{"$f":"IFERROR(VLOOKUP($A55,Filtro!$A$4:$AX$552,29,FALSE),0)","v":5},{"$f":"IFERROR(VLOOKUP($A55,Filtro!$A$4:$AX$552,30,FALSE),0)","v":34},{"$f":"IFERROR(VLOOKUP($A55,Filtro!$A$4:$AX$552,31,FALSE),0)","v":9},{"$f":"IFERROR(VLOOKUP($A55,Filtro!$A$4:$AX$552,32,FALSE),0)","v":22},{"$f":"IFERROR(VLOOKUP($A55,Filtro!$A$4:$AX$552,33,FALSE),0)","v":8},{"$f":"IFERROR(VLOOKUP($A55,Filtro!$A$4:$AX$552,34,FALSE),0)","v":29},{"$f":"IFERROR(VLOOKUP($A55,Filtro!$A$4:$AX$552,35,FALSE),0)","v":5},{"$f":"IFERROR(VLOOKUP($A55,Filtro!$A$4:$AX$552,36,FALSE),0)","v":10},{"$f":"IFERROR(VLOOKUP($A55,Filtro!$A$4:$AX$552,37,FALSE),0)","v":9},{"$f":"IFERROR(VLOOKUP($A55,Filtro!$A$4:$AX$552,38,FALSE),0)","v":25}]
["P3161044",null,"No evaluada",{"$f":"IFERROR(VLOOKUP($A56,Filtro!$A$4:$AX$552,2,FALSE),0)","v":1035},{"$f":"IFERROR(VLOOKUP($A56,Filtro!$A$4:$AX$552,3,FALSE),0)","v":354},{"$f":"IFERROR(VLOOKUP($A56,Filtro!$A$4:$AX$552,4,FALSE),0)","v":681},{"$f":"IFERROR(VLOOKUP($A56,Filtro!$A$4:$AX$552,5,FALSE),0)","v":23},{"$f":"IFERROR(VLOOKUP($A56,Filtro!$A$4:$AX$552,6,FALSE),0)","v":15},{"$f":"IFERROR(VLOOKUP($A56,Filtro!$A$4:$AX$552,7,FALSE),0)","v":67},{"$f":"IFERROR(VLOOKUP($A56,Filtro!$A$4:$AX$552,8,FALSE),0)","v":59},{"$f":"IFERROR(VLOOKUP($A56,Filtro!$A$4:$AX$552,9,FALSE),0)","v":56},{"$f":"IFERROR(VLOOKUP($A56,Filtro!$A$4:$AX$552,10,FALSE),0)","v":30},{"$f":"IFERROR(VLOOKUP($A56,Filtro!$A$4:$AX$552,11,FALSE),0)","v":46},{"$f":"IFERROR(VLOOKUP($A56,Filtro!$A$4:$AX$552,12,FALSE),0)","v":30},{"$f":"IFERROR(VLOOKUP($A56,Filtro!$A$4:$AX$552,13,FALSE),0)","v":27},{"$f":"IFERROR(VLOOKUP($A56,Filtro!$A$4:$AX$552,14,FALSE),0)","v":46},{"$f":"IFERROR(VLOOKUP($A56,Filtro!$A$4:$AX$552,15,FALSE),0)","v":15},{"$f":"IFERROR(VLOOKUP($A56,Filtro!$A$4:$AX$552,16,FALSE),0)","v":50},{"$f":"IFERROR(VLOOKUP($A56,Filtro!$A$4:$AX$552,17,FALSE),0)","v":16},{"$f":"IFERROR(VLOOKUP($A56,Filtro!$A$4:$AX$552,18,FALSE),0)","v":46},{"$f":"IFERROR(VLOOKUP($A56,Filtro!$A$4:$AX$552,19,FALSE),0)","v":7},{"$f":"IFERROR(VLOOKUP($A56,Filtro!$A$4:$AX$552,20,FALSE),0)","v":35},{"$f":"IFERROR(VLOOKUP($A56,Filtro!$A$4:$AX$552,21,FALSE),0)","v":9},{"$f":"IFERROR(VLOOKUP($A56,Filtro!$A$4:$AX$552,22,FALSE),0)","v":46},{"$f":"IFERROR(VLOOKUP($A56,Filtro!$A$4:$AX$552,23,FALSE),0)","v":9},{"$f":"IFERROR(VLOOKUP($A56,Filtro!$A$4:$AX$552,24,FALSE),0)","v":49},{"$f":"IFERROR(VLOOKUP($A56,Filtro!$A$4:$AX$552,25,FALSE),0)","v":10},{"$f":"IFERROR(VLOOKUP($A56,Filtro!$A$4:$AX$552,26,FALSE),0)","v":49},{"$f":"IFERROR(VLOOKUP($A56,Filtro!$A$4:$AX$552,27,FALSE),0)","v":16},{"$f":"IFERROR(VLOOKUP($A56,Filtro!$A$4:$AX$552,28,FALSE),0)","v":52},{"$f":"IFERROR(VLOOKUP($A56,Filtro!$A$4:$AX$552,29,FALSE),0)","v":5},{"$f":"IFERROR(VLOOKUP($A56,Filtro!$A$4:$AX$552,30,FALSE),0)","v":29},{"$f":"IFERROR(VLOOKUP($A56,Filtro!$A$4:$AX$552,31,FALSE),0)","v":17},{"$f":"IFERROR(VLOOKUP($A56,Filtro!$A$4:$AX$552,32,FALSE),0)","v":53},{"$f":"IFERROR(VLOOKUP($A56,Filtro!$A$4:$AX$552,33,FALSE),0)","v":15},{"$f":"IFERROR(VLOOKUP($A56,Filtro!$A$4:$AX$552,34,FALSE),0)","v":35},{"$f":"IFERROR(VLOOKUP($A56,Filtro!$A$4:$AX$552,35,FALSE),0)","v":7},{"$f":"IFERROR(VLOOKUP($A56,Filtro!$A$4:$AX$552,36,FALSE),0)","v":25},{"$f":"IFERROR(VLOOKUP($A56,Filtro!$A$4:$AX$552,37,FALSE),0)","v":9},{"$f":"IFERROR(VLOOKUP($A56,Filtro!$A$4:$AX$552,38,FALSE),0)","v":32},{"$f":"CC56","v":""},{"$nulls":39},{"$f":"IF(SUM(D15:D17)>=SUM(D53:D56),\"\",\"* El total de Asma Bronquial en ambos sexo no puede ser mayor al total de Asma Bronquial de ambos sexo de la Sección A. \")","v":""},{"$nulls":7},{"$f":"IF(SUM(D15:D17)>=SUM(D53:D56),0,1)","v":0}]
["P3161045","ENFERMEDAD PULMONAR OBSTRUCTIVA CRÓNICA (EPOC)","Logra Control Adecuado",{"$f":"IFERROR(VLOOKUP($A57,Filtro!$A$4:$AX$552,2,FALSE),0)","v":2410},{"$f":"IFERROR(VLOOKUP($A57,Filtro!$A$4:$AX$552,3,FALSE),0)","v":1206},{"$f":"IFERROR(VLOOKUP($A57,Filtro!$A$4:$AX$552,4,FALSE),0)","v":1204},{"$f":"IFERROR(VLOOKUP($A57,Filtro!$A$4:$AX$552,5,FALSE),0)","v":0},{"$f":"IFERROR(VLOOKUP($A57,Filtro!$A$4:$AX$552,6,FALSE),0)","v":0},{"$f":"IFERROR(VLOOKUP($A57,Filtro!$A$4:$AX$552,7,FALSE),0)","v":0},{"$f":"IFERROR(VLOOKUP($A57,Filtro!$A$4:$AX$552,8,FALSE),0)","v":0},{"$f":"IFERROR(VLOOKUP($A57,Filtro!$A$4:$AX$552,9,FALSE),0)","v":0},{"$f":"IFERROR(VLOOKUP($A57,Filtro!$A$4:$AX$552,10,FALSE),0)","v":0},{"$f":"IFERROR(VLOOKUP($A57,Filtro!$A$4:$AX$552,11,FALSE),0)","v":0},{"$f":"IFERROR(VLOOKUP($A57,Filtro!$A$4:$AX$552,12,FALSE),0)","v":0},{"$f":"IFERROR(VLOOKUP($A57,Filtro!$A$4:$AX$552,13,FALSE),0)","v":0},{"$f":"IFERROR(VLOOKUP($A57,Filtro!$A$4:$AX$552,14,FALSE),0)","v":0},{"$f":"IFERROR(VLOOKUP($A57,Filtro!$A$4:$AX$552,15,FALSE),0)","v":0},{"$f":"IFERROR(VLOOKUP($A57,Filtro!$A$4:$AX$552,16,FALSE),0)","v":0},{"$f":"IFERROR(VLOOKUP($A57,Filtro!$A$4:$AX$552,17,FALSE),0)","v":0},{"$f":"IFERROR(VLOOKUP($A57,Filtro!$A$4:$AX$552,18,FALSE),0)","v":0},{"$f":"IFERROR(VLOOKUP($A57,Filtro!$A$4:$AX$552,19,FALSE),0)","v":0},{"$f":"IFERROR(VLOOKUP($A57,Filtro!$A$4:$AX$552,20,FALSE),0)","v":0},{"$f":"IFERROR(VLOOKUP($A57,Filtro!$A$4:$AX$552,21,FALSE),0)","v":8},{"$f":"IFERROR(VLOOKUP($A57,Filtro!$A$4:$AX$552,22,FALSE),0)","v":5},{"$f":"IFERROR(VLOOKUP($A57,Filtro!$A$4:$AX$552,23,FALSE),0)","v":6},{"$f":"IFERROR(VLOOKUP($A57,Filtro!$A$4:$AX$552,24,FALSE),0)","v":12},{"$f":"IFERROR(VLOOKUP($A57,Filtro!$A$4:$AX$552,25,FALSE),0)","v":16},{"$f":"IFERROR(VLOOKUP($A57,Filtro!$A$4:$AX$552,26,FALSE),0)","v":30},{"$f":"IFERROR(VLOOKUP($A57,Filtro!$A$4:$AX$552,27,FALSE),0)","v":46},{"$f":"IFERROR(VLOOKUP($A57,Filtro!$A$4:$AX$552,28,FALSE),0)","v":61},{"$f":"IFERROR(VLOOKUP($A57,Filtro!$A$4:$AX$552,29,FALSE),0)","v":104},{"$f":"IFERROR(VLOOKUP($A57,Filtro!$A$4:$AX$552,30,FALSE),0)","v":119},{"$f":"IFERROR(VLOOKUP($A57,Filtro!$A$4:$AX$552,31,FALSE),0)","v":152},{"$f":"IFERROR(VLOOKUP($A57,Filtro!$A$4:$AX$552,32,FALSE),0)","v":186},{"$f":"IFERROR(VLOOKUP($A57,Filtro!$A$4:$AX$552,33,FALSE),0)","v":214},{"$f":"IFERROR(VLOOKUP($A57,Filtro!$A$4:$AX$552,34,FALSE),0)","v":193},{"$f":"IFERROR(VLOOKUP($A57,Filtro!$A$4:$AX$552,35,FALSE),0)","v":259},{"$f":"IFERROR(VLOOKUP($A57,Filtro!$A$4:$AX$552,36,FALSE),0)","v":225},{"$f":"IFERROR(VLOOKUP($A57,Filtro!$A$4:$AX$552,37,FALSE),0)","v":401},{"$f":"IFERROR(VLOOKUP($A57,Filtro!$A$4:$AX$552,38,FALSE),0)","v":373}]
["P3161046",null,"No Logra Control Adecuado",{"$f":"IFERROR(VLOOKUP($A58,Filtro!$A$4:$AX$552,2,FALSE),0)","v":391},{"$f":"IFERROR(VLOOKUP($A58,Filtro!$A$4:$AX$552,3,FALSE),0)","v":174},{"$f":"IFERROR(VLOOKUP($A58,Filtro!$A$4:$AX$552,4,FALSE),0)","v":217},{"$f":"IFERROR(VLOOKUP($A58,Filtro!$A$4:$AX$552,5,FALSE),0)","v":0},{"$f":"IFERROR(VLOOKUP($A58,Filtro!$A$4:$AX$552,6,FALSE),0)","v":0},{"$f":"IFERROR(VLOOKUP($A58,Filtro!$A$4:$AX$552,7,FALSE),0)","v":0},{"$f":"IFERROR(VLOOKUP($A58,Filtro!$A$4:$AX$552,8,FALSE),0)","v":0},{"$f":"IFERROR(VLOOKUP($A58,Filtro!$A$4:$AX$552,9,FALSE),0)","v":0},{"$f":"IFERROR(VLOOKUP($A58,Filtro!$A$4:$AX$552,10,FALSE),0)","v":0},{"$f":"IFERROR(VLOOKUP($A58,Filtro!$A$4:$AX$552,11,FALSE),0)","v":0},{"$f":"IFERROR(VLOOKUP($A58,Filtro!$A$4:$AX$552,12,FALSE),0)","v":0},{"$f":"IFERROR(VLOOKUP($A58,Filtro!$A$4:$AX$552,13,FALSE),0)","v":0},{"$f":"IFERROR(VLOOKUP($A58,Filtro!$A$4:$AX$552,14,FALSE),0)","v":0},{"$f":"IFERROR(VLOOKUP($A58,Filtro!$A$4:$AX$552,15,FALSE),0)","v":0},{"$f":"IFERROR(VLOOKUP($A58,Filtro!$A$4:$AX$552,16,FALSE),0)","v":0},{"$f":"IFERROR(VLOOKUP($A58,Filtro!$A$4:$AX$552,17,FALSE),0)","v":0},{"$f":"IFERROR(VLOOKUP($A58,Filtro!$A$4:$AX$552,18,FALSE),0)","v":0},{"$f":"IFERROR(VLOOKUP($A58,Filtro!$A$4:$AX$552,19,FALSE),0)","v":0},{"$f":"IFERROR(VLOOKUP($A58,Filtro!$A$4:$AX$552,20,FALSE),0)","v":0},{"$f":"IFERROR(VLOOKUP($A58,Filtro!$A$4:$AX$552,21,FALSE),0)","v":0},{"$f":"IFERROR(VLOOKUP($A58,Filtro!$A$4:$AX$552,22,FALSE),0)","v":0},{"$f":"IFERROR(VLOOKUP($A58,Filtro!$A$4:$AX$552,23,FALSE),0)","v":0},{"$f":"IFERROR(VLOOKUP($A58,Filtro!$A$4:$AX$552,24,FALSE),0)","v":2},{"$f":"IFERROR(VLOOKUP($A58,Filtro!$A$4:$AX$552,25,FALSE),0)","v":3},{"$f":"IFERROR(VLOOKUP($A58,Filtro!$A$4:$AX$552,26,FALSE),0)","v":4},{"$f":"IFERROR(VLOOKUP($A58,Filtro!$A$4:$AX$552,27,FALSE),0)","v":4},{"$f":"IFERROR(VLOOKUP($A58,Filtro!$A$4:$AX$552,28,FALSE),0)","v":15},{"$f":"IFERROR(VLOOKUP($A58,Filtro!$A$4:$AX$552,29,FALSE),0)","v":12},{"$f":"IFERROR(VLOOKUP($A58,Filtro!$A$4:$AX$552,30,FALSE),0)","v":17},{"$f":"IFERROR(VLOOKUP($A58,Filtro!$A$4:$AX$552,31,FALSE),0)","v":17},{"$f":"IFERROR(VLOOKUP($A58,Filtro!$A$4:$AX$552,32,FALSE),0)","v":32},{"$f":"IFERROR(VLOOKUP($A58,Filtro!$A$4:$AX$552,33,FALSE),0)","v":26},{"$f":"IFERROR(VLOOKUP($A58,Filtro!$A$4:$AX$552,34,FALSE),0)","v":34},{"$f":"IFERROR(VLOOKUP($A58,Filtro!$A$4:$AX$552,35,FALSE),0)","v":38},{"$f":"IFERROR(VLOOKUP($A58,Filtro!$A$4:$AX$552,36,FALSE),0)","v":41},{"$f":"IFERROR(VLOOKUP($A58,Filtro!$A$4:$AX$552,37,FALSE),0)","v":74},{"$f":"IFERROR(VLOOKUP($A58,Filtro!$A$4:$AX$552,38,FALSE),0)","v":72}]
["P3161047",null,"No evaluada",{"$f":"IFERROR(VLOOKUP($A59,Filtro!$A$4:$AX$552,2,FALSE),0)","v":427},{"$f":"IFERROR(VLOOKUP($A59,Filtro!$A$4:$AX$552,3,FALSE),0)","v":231},{"$f":"IFERROR(VLOOKUP($A59,Filtro!$A$4:$AX$552,4,FALSE),0)","v":196},{"$f":"IFERROR(VLOOKUP($A59,Filtro!$A$4:$AX$552,5,FALSE),0)","v":0},{"$f":"IFERROR(VLOOKUP($A59,Filtro!$A$4:$AX$552,6,FALSE),0)","v":0},{"$f":"IFERROR(VLOOKUP($A59,Filtro!$A$4:$AX$552,7,FALSE),0)","v":0},{"$f":"IFERROR(VLOOKUP($A59,Filtro!$A$4:$AX$552,8,FALSE),0)","v":0},{"$f":"IFERROR(VLOOKUP($A59,Filtro!$A$4:$AX$552,9,FALSE),0)","v":0},{"$f":"IFERROR(VLOOKUP($A59,Filtro!$A$4:$AX$552,10,FALSE),0)","v":0},{"$f":"IFERROR(VLOOKUP($A59,Filtro!$A$4:$AX$552,11,FALSE),0)","v":0},{"$f":"IFERROR(VLOOKUP($A59,Filtro!$A$4:$AX$552,12,FALSE),0)","v":0},{"$f":"IFERROR(VLOOKUP($A59,Filtro!$A$4:$AX$552,13,FALSE),0)","v":0},{"$f":"IFERROR(VLOOKUP($A59,Filtro!$A$4:$AX$552,14,FALSE),0)","v":0},{"$f":"IFERROR(VLOOKUP($A59,Filtro!$A$4:$AX$552,15,FALSE),0)","v":0},{"$f":"IFERROR(VLOOKUP($A59,Filtro!$A$4:$AX$552,16,FALSE),0)","v":0},{"$f":"IFERROR(VLOOKUP($A59,Filtro!$A$4:$AX$552,17,FALSE),0)","v":0},{"$f":"IFERROR(VLOOKUP($A59,Filtro!$A$4:$AX$552,18,FALSE),0)","v":0},{"$f":"IFERROR(VLOOKUP($A59,Filtro!$A$4:$AX$552,19,FALSE),0)","v":0},{"$f":"IFERROR(VLOOKUP($A59,Filtro!$A$4:$AX$552,20,FALSE),0)","v":0},{"$f":"IFERROR(VLOOKUP($A59,Filtro!$A$4:$AX$552,21,FALSE),0)","v":0},{"$f":"IFERROR(VLOOKUP($A59,Filtro!$A$4:$AX$552,22,FALSE),0)","v":1},{"$f":"IFERROR(VLOOKUP($A59,Filtro!$A$4:$AX$552,23,FALSE),0)","v":0},{"$f":"IFERROR(VLOOKUP($A59,Filtro!$A$4:$AX$552,24,FALSE),0)","v":4},{"$f":"IFERROR(VLOOKUP($A59,Filtro!$A$4:$AX$552,25,FALSE),0)","v":6},{"$f":"IFERROR(VLOOKUP($A59,Filtro!$A$4:$AX$552,26,FALSE),0)","v":5},{"$f":"IFERROR(VLOOKUP($A59,Filtro!$A$4:$AX$552,27,FALSE),0)","v":9},{"$f":"IFERROR(VLOOKUP($A59,Filtro!$A$4:$AX$552,28,FALSE),0)","v":11},{"$f":"IFERROR(VLOOKUP($A59,Filtro!$A$4:$AX$552,29,FALSE),0)","v":21},{"$f":"IFERROR(VLOOKUP($A59,Filtro!$A$4:$AX$552,30,FALSE),0)","v":24},{"$f":"IFERROR(VLOOKUP($A59,Filtro!$A$4:$AX$552,31,FALSE),0)","v":39},{"$f":"IFERROR(VLOOKUP($A59,Filtro!$A$4:$AX$552,32,FALSE),0)","v":32},{"$f":"IFERROR(VLOOKUP($A59,Filtro!$A$4:$AX$552,33,FALSE),0)","v":43},{"$f":"IFERROR(VLOOKUP($A59,Filtro!$A$4:$AX$552,34,FALSE),0)","v":29},{"$f":"IFERROR(VLOOKUP($A59,Filtro!$A$4:$AX$552,35,FALSE),0)","v":45},{"$f":"IFERROR(VLOOKUP($A59,Filtro!$A$4:$AX$552,36,FALSE),0)","v":29},{"$f":"IFERROR(VLOOKUP($A59,Filtro!$A$4:$AX$552,37,FALSE),0)","v":68},{"$f":"IFERROR(VLOOKUP($A59,Filtro!$A$4:$AX$552,38,FALSE),0)","v":61},{"$f":"CC59","v":""},{"$nulls":39},{"$f":"IF(SUM(D57:D59)>SUM(D18:D19),\"* El total de EPOC en ambos sexos no puede ser superior al total de EPOC en ambos sexos de la sección A. \",\"\")","v":""},{"$nulls":7},{"$f":"IF(SUM(D57:D59)>SUM(D18:D19),1,0)","v":0}]
[]
[]
[]
[]
[]
["CODIGO NUEVO"]
["P3170200"]
{"$rows_empty":14}
[null,{"$f":"SUM(D12:AQ37,D43:H43,D48:AN48,D53:AN59)","v":255538},"datos"]
[null,{"$f":"SUM(CJ11:CP72)","v":2},"errores"]

{"sheet":"P4","index":4,"n_rows":112,"n_cols":124,"rows_kept":112,"merged":[[6,1,6,21],[8,1,10,2],[8,3,9,5],[8,6,8,33],[8,34,9,35],[8,36,9,37],[8,38,10,38],[8,56,9,57],[8,58,9,59],[8,60,10,60],[8,62,9,62],[8,63,9,63],[9,6,9,7],[9,8,9,9],[9,10,9,11],[9,12,9,13],[9,14,9,15],[9,16,9,17],[9,18,9,19],[9,20,9,21],[9,22,9,23],[9,24,9,25],[9,26,9,27],[9,28,9,29],[9,30,9,31],[9,32,9,33],[11,1,11,2],[12,1,14,1],[15,1,20,1],[21,1,27,1],[28,1,28,2],[29,1,31,2],[29,3,30,5],[29,6,29,33],[29,34,30,35],[29,36,30,37],[30,6,30,7],[30,8,30,9],[30,10,30,11],[30,12,30,13],[30,14,30,15],[30,16,30,17],[30,18,30,19],[30,20,30,21],[30,22,30,23],[30,24,30,25],[30,26,30,27],[30,28,30,29],[30,30,30,31],[30,32,30,33],[32,1,33,1],[34,1,37,1],[38,1,39,1],[41,1,42,2],[41,3,42,3],[41,4,41,5],[41,6,41,7],[43,1,43,7],[44,1,44,2],[45,1,45,2],[46,1,46,2],[47,1,47,2],[48,1,48,2],[49,1,49,2],[50,1,50,2],[51,1,51,2],[52,1,52,2],[53,1,53,2],[54,1,57,1],[58,1,59,1],[60,1,60,2],[61,1,61,2],[65,1,65,2],[66,1,66,2],[67,1,67,2],[69,1,69,2],[70,1,70,2],[71,1,71,2],[72,1,72,2],[73,1,73,2],[76,1,76,16],[77,1,79,2],[77,3,78,5],[77,6,77,21],[77,22,78,23],[77,24,78,25],[78,6,78,7],[78,8,78,9],[78,10,78,11],[78,12,78,13],[78,14,78,15],[78,16,78,17],[78,18,78,19],[78,20,78,21],[80,1,80,2],[81,1,81,2],[82,1,82,2],[83,1,86,1]]}
[]
[]
[]
[]
[]
[]
[null,"REM-P4. POBLACIÓN EN CONTROL PROGRAMA DE SALUD CARDIOVASCULAR (PSCV)"]
[null,"SECCIÓN A: PROGRAMA SALUD CARDIOVASCULAR (PSCV)"]
[null,"CONCEPTO",null,"TOTAL ",null,null,"GRUPOS DE EDAD (en años) Y SEXO",{"$nulls":27},"Pueblos Originarios",null,"Población Migrantes",null,"Pacientes Diabéticos",{"$nulls":17},"Pueblos Originarios",null,"Población Migrantes",null,"Pacientes Diabéticos",null,"Pueblos Originarios","Población Migrantes"]
[{"$nulls":6},"15 a 19 años",null,"20 a 24 años",null,"25 a 29 años",null,"30 a 34 años",null,"35 a 39 años",null,"40 a 44 años",null,"45 a 49 años",null,"50 a 54 años",null,"55 a 59 años",null,"60 a 64 años",null,"65 a 69 años",null,"70 a 74 años",null,"75 a 79 años",null,"80 y más años"]
[{"$nulls":3},"Ambos\nsexos","Hombres","Mujeres","Hombres","Mujeres","Hombres","Mujeres","Hombres","Mujeres","Hombres","Mujeres","Hombres","Mujeres","Hombres","Mujeres","Hombres","Mujeres","Hombres","Mujeres","Hombres","Mujeres","Hombres","Mujeres","Hombres ","Mujeres","Hombres ","Mujeres","Hombres ","Mujeres","Hombres ","Mujeres","Hombres","Mujeres","Hombres","Mujeres",{"$nulls":18},"Hombres","Mujeres","Hombres","Mujeres",null,null,"No Olvide","No Olvide"]
["P4150100","NUMERO DE PERSONAS EN PSCV",null,{"$f":"SUM(E12:F12)","v":99813},{"$f":"+G12+I12+K12+M12+O12+Q12+S12+U12+W12+Y12+AA12+AC12+AE12+AG12","v":35715},{"$f":"+H12+J12+L12+N12+P12+R12+T12+V12+X12+Z12+AB12+AD12+AF12+AH12","v":64098},{"$f":"SUM(G13:G15)","v":60},{"$f":"SUM(H13:H15)","v":66},109,195,162,384,346,695,575,1281,947,2246,1618,3728,2778,6078,3793,8130,4532,8398,5114,8591,5101,7915,4689,6758,5891,9633,{"$f":"SUM(AI13:AI15)","v":35},{"$f":"SUM(AJ13:AJ15)","v":52},85,189]
["P4190100","CLASIFICACIÓN DEL\nRIESGO\nCARDIOVASCULAR","BAJO",{"$f":"IFERROR(VLOOKUP($A13,Filtro!$A$4:$AX$552,2,FALSE),0)","v":23132},{"$f":"IFERROR(VLOOKUP($A13,Filtro!$A$4:$AX$552,3,FALSE),0)","v":7007},{"$f":"IFERROR(VLOOKUP($A13,Filtro!$A$4:$AX$552,4,FALSE),0)","v":16125},{"$f":"IFERROR(VLOOKUP($A13,Filtro!$A$4:$AX$552,5,FALSE),0)","v":31},{"$f":"IFERROR(VLOOKUP($A13,Filtro!$A$4:$AX$552,6,FALSE),0)","v":41},{"$f":"IFERROR(VLOOKUP($A13,Filtro!$A$4:$AX$552,7,FALSE),0)","v":57},{"$f":"IFERROR(VLOOKUP($A13,Filtro!$A$4:$AX$552,8,FALSE),0)","v":109},{"$f":"IFERROR(VLOOKUP($A13,Filtro!$A$4:$AX$552,9,FALSE),0)","v":67},{"$f":"IFERROR(VLOOKUP($A13,Filtro!$A$4:$AX$552,10,FALSE),0)","v":167},{"$f":"IFERROR(VLOOKUP($A13,Filtro!$A$4:$AX$552,11,FALSE),0)","v":129},{"$f":"IFERROR(VLOOKUP($A13,Filtro!$A$4:$AX$552,12,FALSE),0)","v":270},{"$f":"IFERROR(VLOOKUP($A13,Filtro!$A$4:$AX$552,13,FALSE),0)","v":198},{"$f":"IFERROR(VLOOKUP($A13,Filtro!$A$4:$AX$552,14,FALSE),0)","v":503},{"$f":"IFERROR(VLOOKUP($A13,Filtro!$A$4:$AX$552,15,FALSE),0)","v":274},{"$f":"IFERROR(VLOOKUP($A13,Filtro!$A$4:$AX$552,16,FALSE),0)","v":809},{"$f":"IFERROR(VLOOKUP($A13,Filtro!$A$4:$AX$552,17,FALSE),0)","v":444},{"$f":"IFERROR(VLOOKUP($A13,Filtro!$A$4:$AX$552,18,FALSE),0)","v":1235},{"$f":"IFERROR(VLOOKUP($A13,Filtro!$A$4:$AX$552,19,FALSE),0)","v":729},{"$f":"IFERROR(VLOOKUP($A13,Filtro!$A$4:$AX$552,20,FALSE),0)","v":1906},{"$f":"IFERROR(VLOOKUP($A13,Filtro!$A$4:$AX$552,21,FALSE),0)","v":888},{"$f":"IFERROR(VLOOKUP($A13,Filtro!$A$4:$AX$552,22,FALSE),0)","v":2345},{"$f":"IFERROR(VLOOKUP($A13,Filtro!$A$4:$AX$552,23,FALSE),0)","v":896},{"$f":"IFERROR(VLOOKUP($A13,Filtro!$A$4:$AX$552,24,FALSE),0)","v":2194},{"$f":"IFERROR(VLOOKUP($A13,Filtro!$A$4:$AX$552,25,FALSE),0)","v":931},{"$f":"IFERROR(VLOOKUP($A13,Filtro!$A$4:$AX$552,26,FALSE),0)","v":2083},{"$f":"IFERROR(VLOOKUP($A13,Filtro!$A$4:$AX$552,27,FALSE),0)","v":879},{"$f":"IFERROR(VLOOKUP($A13,Filtro!$A$4:$AX$552,28,FALSE),0)","v":1810},{"$f":"IFERROR(VLOOKUP($A13,Filtro!$A$4:$AX$552,29,FALSE),0)","v":700},{"$f":"IFERROR(VLOOKUP($A13,Filtro!$A$4:$AX$552,30,FALSE),0)","v":1259},{"$f":"IFERROR(VLOOKUP($A13,Filtro!$A$4:$AX$552,31,FALSE),0)","v":784},{"$f":"IFERROR(VLOOKUP($A13,Filtro!$A$4:$AX$552,32,FALSE),0)","v":1394},{"$f":"IFERROR(VLOOKUP($A13,Filtro!$A$4:$AX$552,33,FALSE),0)","v":13},{"$f":"IFERROR(VLOOKUP($A13,Filtro!$A$4:$AX$552,34,FALSE),0)","v":12},{"$f":"IFERROR(VLOOKUP($A13,Filtro!$A$4:$AX$552,35,FALSE),0)","v":46},{"$f":"IFERROR(VLOOKUP($A13,Filtro!$A$4:$AX$552,36,FALSE),0)","v":102},{"$f":"IFERROR(VLOOKUP($A13,Filtro!$A$4:$AX$552,37,FALSE),0)","v":0},{"$f":"IFERROR(VLOOKUP($A13,Filtro!$A$4:$AX$552,38,FALSE),0)","v":0},{"$f":"IFERROR(VLOOKUP($A13,Filtro!$A$4:$AX$552,39,FALSE),0)","v":0},{"$f":"IFERROR(VLOOKUP($A13,Filtro!$A$4:$AX$552,40,FALSE),0)","v":0},{"$f":"IFERROR(VLOOKUP($A13,Filtro!$A$4:$AX$552,41,FALSE),0)","v":0},{"$f":"IFERROR(VLOOKUP($A13,Filtro!$A$4:$AX$552,42,FALSE),0)","v":0},{"$nulls":12},{"$f":"IF($E13>=$AI13,\"\",\"* Pueblos Originarios-Hombres no debe ser mayor al Total de personas en PSCV. \")","v":""},{"$f":"IF($F13>=$AJ13,\"\",\"* Pueblos Originarios-Mujeres no debe ser mayor al Total de personas en PSCV. \")","v":""},{"$f":"IF($E13>=$AK13,\"\",\"* Población Migrantes-Hombres no debe ser mayor al Total de personas en PSCV. \")","v":""},{"$f":"IF($F13>=$AL13,\"\",\"* Población Migrantes-Mujeres no debe ser mayor al Total de personas en PSCV. \")","v":""},{"$f":"IF(D12<>D28, \"* El numero de Personas en PSCV de ambos sexo debe ser igua al total de detección y prevención de la progresión de la enfermedad renal crónica de ambos sexo. \",\"\")","v":"* El numero de Personas en PSCV de ambos sexo debe ser igua al total de detección y prevención de la progresión de la enfermedad renal crónica de ambos sexo. "},null,{"$f":"IF(AND(E13<>0,AI13=\"\"),\"* No olvide escribir en la celda de 'Pueblos Originarios' (Digite CERO si no tiene). \",IF(AND(F13<>0,AJ13=\"\"),\"* No olvide escribir en la celda de 'Pueblos Originarios' (Digite CERO si no tiene). \",\"\"))","v":""},{"$f":"IF(AND(E13<>0,AK13=\"\"),\"* No olvide escribir en la celda de 'Población Migrantes' (Digite CERO si no tiene). \",IF(AND(F13<>0,AL13=\"\"),\"* No olvide escribir en la celda de 'Población Migrantes' (Digite CERO si no tiene). \",\"\"))","v":""},{"$nulls":28},{"$f":"IF($E13>=$AI13,0,1)","v":0},{"$f":"IF($F13>=$AJ13,0,1)","v":0},{"$f":"IF($E13>=$AK13,0,1)","v":0},{"$f":"IF($F13>=$AL13,0,1)","v":0},{"$f":"IF(D12<>D28, 1,0)","v":1},{"$nulls":3},{"$f":"IF(AND(E15<>0,AI15=\"\"),1,IF(AND(F15<>0,AJ15=\"\"),1,0))","v":0},{"$f":"IF(AND(E15<>0,AK15=\"\"),1,IF(AND(F15<>0,AL15=\"\"),1,0))","v":0}]
["P4150703",null,"MODERADO",{"$f":"IFERROR(VLOOKUP($A14,Filtro!$A$4:$AX$552,2,FALSE),0)","v":28148},{"$f":"IFERROR(VLOOKUP($A14,Filtro!$A$4:$AX$552,3,FALSE),0)","v":9394},{"$f":"IFERROR(VLOOKUP($A14,Filtro!$A$4:$AX$552,4,FALSE),0)","v":18754},{"$f":"IFERROR(VLOOKUP($A14,Filtro!$A$4:$AX$552,5,FALSE),0)","v":9},{"$f":"IFERROR(VLOOKUP($A14,Filtro!$A$4:$AX$552,6,FALSE),0)","v":9},{"$f":"IFERROR(VLOOKUP($A14,Filtro!$A$4:$AX$552,7,FALSE),0)","v":29},{"$f":"IFERROR(VLOOKUP($A14,Filtro!$A$4:$AX$552,8,FALSE),0)","v":39},{"$f":"IFERROR(VLOOKUP($A14,Filtro!$A$4:$AX$552,9,FALSE),0)","v":41},{"$f":"IFERROR(VLOOKUP($A14,Filtro!$A$4:$AX$552,10,FALSE),0)","v":83},{"$f":"IFERROR(VLOOKUP($A14,Filtro!$A$4:$AX$552,11,FALSE),0)","v":85},{"$f":"IFERROR(VLOOKUP($A14,Filtro!$A$4:$AX$552,12,FALSE),0)","v":169},{"$f":"IFERROR(VLOOKUP($A14,Filtro!$A$4:$AX$552,13,FALSE),0)","v":143},{"$f":"IFERROR(VLOOKUP($A14,Filtro!$A$4:$AX$552,14,FALSE),0)","v":325},{"$f":"IFERROR(VLOOKUP($A14,Filtro!$A$4:$AX$552,15,FALSE),0)","v":223},{"$f":"IFERROR(VLOOKUP($A14,Filtro!$A$4:$AX$552,16,FALSE),0)","v":625},{"$f":"IFERROR(VLOOKUP($A14,Filtro!$A$4:$AX$552,17,FALSE),0)","v":416},{"$f":"IFERROR(VLOOKUP($A14,Filtro!$A$4:$AX$552,18,FALSE),0)","v":1140},{"$f":"IFERROR(VLOOKUP($A14,Filtro!$A$4:$AX$552,19,FALSE),0)","v":698},{"$f":"IFERROR(VLOOKUP($A14,Filtro!$A$4:$AX$552,20,FALSE),0)","v":1753},{"$f":"IFERROR(VLOOKUP($A14,Filtro!$A$4:$AX$552,21,FALSE),0)","v":976},{"$f":"IFERROR(VLOOKUP($A14,Filtro!$A$4:$AX$552,22,FALSE),0)","v":2384},{"$f":"IFERROR(VLOOKUP($A14,Filtro!$A$4:$AX$552,23,FALSE),0)","v":1187},{"$f":"IFERROR(VLOOKUP($A14,Filtro!$A$4:$AX$552,24,FALSE),0)","v":2428},{"$f":"IFERROR(VLOOKUP($A14,Filtro!$A$4:$AX$552,25,FALSE),0)","v":1316},{"$f":"IFERROR(VLOOKUP($A14,Filtro!$A$4:$AX$552,26,FALSE),0)","v":2507},{"$f":"IFERROR(VLOOKUP($A14,Filtro!$A$4:$AX$552,27,FALSE),0)","v":1399},{"$f":"IFERROR(VLOOKUP($A14,Filtro!$A$4:$AX$552,28,FALSE),0)","v":2354},{"$f":"IFERROR(VLOOKUP($A14,Filtro!$A$4:$AX$552,29,FALSE),0)","v":1367},{"$f":"IFERROR(VLOOKUP($A14,Filtro!$A$4:$AX$552,30,FALSE),0)","v":2120},{"$f":"IFERROR(VLOOKUP($A14,Filtro!$A$4:$AX$552,31,FALSE),0)","v":1505},{"$f":"IFERROR(VLOOKUP($A14,Filtro!$A$4:$AX$552,32,FALSE),0)","v":2818},{"$f":"IFERROR(VLOOKUP($A14,Filtro!$A$4:$AX$552,33,FALSE),0)","v":11},{"$f":"IFERROR(VLOOKUP($A14,Filtro!$A$4:$AX$552,34,FALSE),0)","v":13},{"$f":"IFERROR(VLOOKUP($A14,Filtro!$A$4:$AX$552,35,FALSE),0)","v":15},{"$f":"IFERROR(VLOOKUP($A14,Filtro!$A$4:$AX$552,36,FALSE),0)","v":41},{"$f":"IFERROR(VLOOKUP($A14,Filtro!$A$4:$AX$552,37,FALSE),0)","v":0},{"$f":"IFERROR(VLOOKUP($A14,Filtro!$A$4:$AX$552,38,FALSE),0)","v":0},{"$f":"IFERROR(VLOOKUP($A14,Filtro!$A$4:$AX$552,39,FALSE),0)","v":0},{"$f":"IFERROR(VLOOKUP($A14,Filtro!$A$4:$AX$552,40,FALSE),0)","v":0},{"$f":"IFERROR(VLOOKUP($A14,Filtro!$A$4:$AX$552,41,FALSE),0)","v":0},{"$f":"IFERROR(VLOOKUP($A14,Filtro!$A$4:$AX$552,42,FALSE),0)","v":0},{"$nulls":12},"","","","",null,null,"","",{"$nulls":28},{"$f":"IF($E14>=$AI14,0,1)","v":0},{"$f":"IF($F14>=$AJ14,0,1)","v":0},{"$f":"IF($E14>=$AK14,0,1)","v":0},{"$f":"IF($F14>=$AL14,0,1)","v":0},{"$nulls":4},{"$f":"IF(AND(E16<>0,AI16=\"\"),1,IF(AND(F16<>0,AJ16=\"\"),1,0))","v":0},{"$f":"IF(AND(E16<>0,AK16=\"\"),1,IF(AND(F16<>0,AL16=\"\"),1,0))","v":0}]
["P4150801",null,"ALTO",{"$f":"IFERROR(VLOOKUP($A15,Filtro!$A$4:$AX$552,2,FALSE),0)","v":48533},{"$f":"IFERROR(VLOOKUP($A15,Filtro!$A$4:$AX$552,3,FALSE),0)","v":19314},{"$f":"IFERROR(VLOOKUP($A15,Filtro!$A$4:$AX$552,4,FALSE),0)","v":29219},{"$f":"IFERROR(VLOOKUP($A15,Filtro!$A$4:$AX$552,5,FALSE),0)","v":20},{"$f":"IFERROR(VLOOKUP($A15,Filtro!$A$4:$AX$552,6,FALSE),0)","v":16},{"$f":"IFERROR(VLOOKUP($A15,Filtro!$A$4:$AX$552,7,FALSE),0)","v":23},{"$f":"IFERROR(VLOOKUP($A15,Filtro!$A$4:$AX$552,8,FALSE),0)","v":47},{"$f":"IFERROR(VLOOKUP($A15,Filtro!$A$4:$AX$552,9,FALSE),0)","v":54},{"$f":"IFERROR(VLOOKUP($A15,Filtro!$A$4:$AX$552,10,FALSE),0)","v":134},{"$f":"IFERROR(VLOOKUP($A15,Filtro!$A$4:$AX$552,11,FALSE),0)","v":132},{"$f":"IFERROR(VLOOKUP($A15,Filtro!$A$4:$AX$552,12,FALSE),0)","v":256},{"$f":"IFERROR(VLOOKUP($A15,Filtro!$A$4:$AX$552,13,FALSE),0)","v":234},{"$f":"IFERROR(VLOOKUP($A15,Filtro!$A$4:$AX$552,14,FALSE),0)","v":453},{"$f":"IFERROR(VLOOKUP($A15,Filtro!$A$4:$AX$552,15,FALSE),0)","v":450},{"$f":"IFERROR(VLOOKUP($A15,Filtro!$A$4:$AX$552,16,FALSE),0)","v":812},{"$f":"IFERROR(VLOOKUP($A15,Filtro!$A$4:$AX$552,17,FALSE),0)","v":758},{"$f":"IFERROR(VLOOKUP($A15,Filtro!$A$4:$AX$552,18,FALSE),0)","v":1353},{"$f":"IFERROR(VLOOKUP($A15,Filtro!$A$4:$AX$552,19,FALSE),0)","v":1351},{"$f":"IFERROR(VLOOKUP($A15,Filtro!$A$4:$AX$552,20,FALSE),0)","v":2419},{"$f":"IFERROR(VLOOKUP($A15,Filtro!$A$4:$AX$552,21,FALSE),0)","v":1929},{"$f":"IFERROR(VLOOKUP($A15,Filtro!$A$4:$AX$552,22,FALSE),0)","v":3401},{"$f":"IFERROR(VLOOKUP($A15,Filtro!$A$4:$AX$552,23,FALSE),0)","v":2449},{"$f":"IFERROR(VLOOKUP($A15,Filtro!$A$4:$AX$552,24,FALSE),0)","v":3776},{"$f":"IFERROR(VLOOKUP($A15,Filtro!$A$4:$AX$552,25,FALSE),0)","v":2867},{"$f":"IFERROR(VLOOKUP($A15,Filtro!$A$4:$AX$552,26,FALSE),0)","v":4001},{"$f":"IFERROR(VLOOKUP($A15,Filtro!$A$4:$AX$552,27,FALSE),0)","v":2823},{"$f":"IFERROR(VLOOKUP($A15,Filtro!$A$4:$AX$552,28,FALSE),0)","v":3751},{"$f":"IFERROR(VLOOKUP($A15,Filtro!$A$4:$AX$552,29,FALSE),0)","v":2622},{"$f":"IFERROR(VLOOKUP($A15,Filtro!$A$4:$AX$552,30,FALSE),0)","v":3379},{"$f":"IFERROR(VLOOKUP($A15,Filtro!$A$4:$AX$552,31,FALSE),0)","v":3602},{"$f":"IFERROR(VLOOKUP($A15,Filtro!$A$4:$AX$552,32,FALSE),0)","v":5421},{"$f":"IFERROR(VLOOKUP($A15,Filtro!$A$4:$AX$552,33,FALSE),0)","v":11},{"$f":"IFERROR(VLOOKUP($A15,Filtro!$A$4:$AX$552,34,FALSE),0)","v":27},{"$f":"IFERROR(VLOOKUP($A15,Filtro!$A$4:$AX$552,35,FALSE),0)","v":24},{"$f":"IFERROR(VLOOKUP($A15,Filtro!$A$4:$AX$552,36,FALSE),0)","v":46},{"$f":"IFERROR(VLOOKUP($A15,Filtro!$A$4:$AX$552,37,FALSE),0)","v":0},{"$f":"IFERROR(VLOOKUP($A15,Filtro!$A$4:$AX$552,38,FALSE),0)","v":0},{"$f":"IFERROR(VLOOKUP($A15,Filtro!$A$4:$AX$552,39,FALSE),0)","v":0},{"$f":"IFERROR(VLOOKUP($A15,Filtro!$A$4:$AX$552,40,FALSE),0)","v":0},{"$f":"IFERROR(VLOOKUP($A15,Filtro!$A$4:$AX$552,41,FALSE),0)","v":0},{"$f":"IFERROR(VLOOKUP($A15,Filtro!$A$4:$AX$552,42,FALSE),0)","v":0},{"$nulls":12},"","","","",null,null,"","",{"$nulls":28},0,0,0,0,{"$nulls":4},0,0]
["P4150601","PERSONAS BAJO CONTROL SEGÚN PATOLOGÍA Y FACTORES DE RIESGO (EXISTENCIA)","HIPERTENSOS",{"$f":"IFERROR(VLOOKUP($A16,Filtro!$A$4:$AX$552,2,FALSE),0)","v":76696},{"$f":"IFERROR(VLOOKUP($A16,Filtro!$A$4:$AX$552,3,FALSE),0)","v":27992},{"$f":"IFERROR(VLOOKUP($A16,Filtro!$A$4:$AX$552,4,FALSE),0)","v":48704},{"$f":"IFERROR(VLOOKUP($A16,Filtro!$A$4:$AX$552,5,FALSE),0)","v":23},{"$f":"IFERROR(VLOOKUP($A16,Filtro!$A$4:$AX$552,6,FALSE),0)","v":17},{"$f":"IFERROR(VLOOKUP($A16,Filtro!$A$4:$AX$552,7,FALSE),0)","v":53},{"$f":"IFERROR(VLOOKUP($A16,Filtro!$A$4:$AX$552,8,FALSE),0)","v":66},{"$f":"IFERROR(VLOOKUP($A16,Filtro!$A$4:$AX$552,9,FALSE),0)","v":74},{"$f":"IFERROR(VLOOKUP($A16,Filtro!$A$4:$AX$552,10,FALSE),0)","v":132},{"$f":"IFERROR(VLOOKUP($A16,Filtro!$A$4:$AX$552,11,FALSE),0)","v":190},{"$f":"IFERROR(VLOOKUP($A16,Filtro!$A$4:$AX$552,12,FALSE),0)","v":311},{"$f":"IFERROR(VLOOKUP($A16,Filtro!$A$4:$AX$552,13,FALSE),0)","v":318},{"$f":"IFERROR(VLOOKUP($A16,Filtro!$A$4:$AX$552,14,FALSE),0)","v":664},{"$f":"IFERROR(VLOOKUP($A16,Filtro!$A$4:$AX$552,15,FALSE),0)","v":499},{"$f":"IFERROR(VLOOKUP($A16,Filtro!$A$4:$AX$552,16,FALSE),0)","v":1300},{"$f":"IFERROR(VLOOKUP($A16,Filtro!$A$4:$AX$552,17,FALSE),0)","v":1001},{"$f":"IFERROR(VLOOKUP($A16,Filtro!$A$4:$AX$552,18,FALSE),0)","v":2299},{"$f":"IFERROR(VLOOKUP($A16,Filtro!$A$4:$AX$552,19,FALSE),0)","v":1798},{"$f":"IFERROR(VLOOKUP($A16,Filtro!$A$4:$AX$552,20,FALSE),0)","v":4007},{"$f":"IFERROR(VLOOKUP($A16,Filtro!$A$4:$AX$552,21,FALSE),0)","v":2602},{"$f":"IFERROR(VLOOKUP($A16,Filtro!$A$4:$AX$552,22,FALSE),0)","v":5405},{"$f":"IFERROR(VLOOKUP($A16,Filtro!$A$4:$AX$552,23,FALSE),0)","v":3669},{"$f":"IFERROR(VLOOKUP($A16,Filtro!$A$4:$AX$552,24,FALSE),0)","v":5894},{"$f":"IFERROR(VLOOKUP($A16,Filtro!$A$4:$AX$552,25,FALSE),0)","v":4039},{"$f":"IFERROR(VLOOKUP($A16,Filtro!$A$4:$AX$552,26,FALSE),0)","v":6850},{"$f":"IFERROR(VLOOKUP($A16,Filtro!$A$4:$AX$552,27,FALSE),0)","v":4309},{"$f":"IFERROR(VLOOKUP($A16,Filtro!$A$4:$AX$552,28,FALSE),0)","v":6737},{"$f":"IFERROR(VLOOKUP($A16,Filtro!$A$4:$AX$552,29,FALSE),0)","v":4060},{"$f":"IFERROR(VLOOKUP($A16,Filtro!$A$4:$AX$552,30,FALSE),0)","v":6052},{"$f":"IFERROR(VLOOKUP($A16,Filtro!$A$4:$AX$552,31,FALSE),0)","v":5357},{"$f":"IFERROR(VLOOKUP($A16,Filtro!$A$4:$AX$552,32,FALSE),0)","v":8970},{"$f":"IFERROR(VLOOKUP($A16,Filtro!$A$4:$AX$552,33,FALSE),0)","v":22},{"$f":"IFERROR(VLOOKUP($A16,Filtro!$A$4:$AX$552,34,FALSE),0)","v":23},{"$f":"IFERROR(VLOOKUP($A16,Filtro!$A$4:$AX$552,35,FALSE),0)","v":47},{"$f":"IFERROR(VLOOKUP($A16,Filtro!$A$4:$AX$552,36,FALSE),0)","v":93},{"$f":"IFERROR(VLOOKUP($A16,Filtro!$A$4:$AX$552,37,FALSE),0)","v":0},{"$f":"IFERROR(VLOOKUP($A16,Filtro!$A$4:$AX$552,38,FALSE),0)","v":0},{"$f":"IFERROR(VLOOKUP($A16,Filtro!$A$4:$AX$552,39,FALSE),0)","v":0},{"$f":"IFERROR(VLOOKUP($A16,Filtro!$A$4:$AX$552,40,FALSE),0)","v":0},{"$f":"IFERROR(VLOOKUP($A16,Filtro!$A$4:$AX$552,41,FALSE),0)","v":0},{"$f":"IFERROR(VLOOKUP($A16,Filtro!$A$4:$AX$552,42,FALSE),0)","v":0},{"$nulls":12},"","","","",null,null,"","",{"$nulls":28},0,0,0,0,{"$nulls":4},0,0]
["P4150602",null,"DIABETICOS",{"$f":"IFERROR(VLOOKUP($A17,Filtro!$A$4:$AX$552,2,FALSE),0)","v":38188},{"$f":"IFERROR(VLOOKUP($A17,Filtro!$A$4:$AX$552,3,FALSE),0)","v":14592},{"$f":"IFERROR(VLOOKUP($A17,Filtro!$A$4:$AX$552,4,FALSE),0)","v":23596},{"$f":"IFERROR(VLOOKUP($A17,Filtro!$A$4:$AX$552,5,FALSE),0)","v":23},{"$f":"IFERROR(VLOOKUP($A17,Filtro!$A$4:$AX$552,6,FALSE),0)","v":19},{"$f":"IFERROR(VLOOKUP($A17,Filtro!$A$4:$AX$552,7,FALSE),0)","v":15},{"$f":"IFERROR(VLOOKUP($A17,Filtro!$A$4:$AX$552,8,FALSE),0)","v":46},{"$f":"IFERROR(VLOOKUP($A17,Filtro!$A$4:$AX$552,9,FALSE),0)","v":55},{"$f":"IFERROR(VLOOKUP($A17,Filtro!$A$4:$AX$552,10,FALSE),0)","v":145},{"$f":"IFERROR(VLOOKUP($A17,Filtro!$A$4:$AX$552,11,FALSE),0)","v":127},{"$f":"IFERROR(VLOOKUP($A17,Filtro!$A$4:$AX$552,12,FALSE),0)","v":251},{"$f":"IFERROR(VLOOKUP($A17,Filtro!$A$4:$AX$552,13,FALSE),0)","v":224},{"$f":"IFERROR(VLOOKUP($A17,Filtro!$A$4:$AX$552,14,FALSE),0)","v":439},{"$f":"IFERROR(VLOOKUP($A17,Filtro!$A$4:$AX$552,15,FALSE),0)","v":416},{"$f":"IFERROR(VLOOKUP($A17,Filtro!$A$4:$AX$552,16,FALSE),0)","v":736},{"$f":"IFERROR(VLOOKUP($A17,Filtro!$A$4:$AX$552,17,FALSE),0)","v":672},{"$f":"IFERROR(VLOOKUP($A17,Filtro!$A$4:$AX$552,18,FALSE),0)","v":1244},{"$f":"IFERROR(VLOOKUP($A17,Filtro!$A$4:$AX$552,19,FALSE),0)","v":1219},{"$f":"IFERROR(VLOOKUP($A17,Filtro!$A$4:$AX$552,20,FALSE),0)","v":2236},{"$f":"IFERROR(VLOOKUP($A17,Filtro!$A$4:$AX$552,21,FALSE),0)","v":1653},{"$f":"IFERROR(VLOOKUP($A17,Filtro!$A$4:$AX$552,22,FALSE),0)","v":3005},{"$f":"IFERROR(VLOOKUP($A17,Filtro!$A$4:$AX$552,23,FALSE),0)","v":2075},{"$f":"IFERROR(VLOOKUP($A17,Filtro!$A$4:$AX$552,24,FALSE),0)","v":3328},{"$f":"IFERROR(VLOOKUP($A17,Filtro!$A$4:$AX$552,25,FALSE),0)","v":2255},{"$f":"IFERROR(VLOOKUP($A17,Filtro!$A$4:$AX$552,26,FALSE),0)","v":3355},{"$f":"IFERROR(VLOOKUP($A17,Filtro!$A$4:$AX$552,27,FALSE),0)","v":2103},{"$f":"IFERROR(VLOOKUP($A17,Filtro!$A$4:$AX$552,28,FALSE),0)","v":3113},{"$f":"IFERROR(VLOOKUP($A17,Filtro!$A$4:$AX$552,29,FALSE),0)","v":1848},{"$f":"IFERROR(VLOOKUP($A17,Filtro!$A$4:$AX$552,30,FALSE),0)","v":2552},{"$f":"IFERROR(VLOOKUP($A17,Filtro!$A$4:$AX$552,31,FALSE),0)","v":1907},{"$f":"IFERROR(VLOOKUP($A17,Filtro!$A$4:$AX$552,32,FALSE),0)","v":3127},{"$f":"IFERROR(VLOOKUP($A17,Filtro!$A$4:$AX$552,33,FALSE),0)","v":13},{"$f":"IFERROR(VLOOKUP($A17,Filtro!$A$4:$AX$552,34,FALSE),0)","v":25},{"$f":"IFERROR(VLOOKUP($A17,Filtro!$A$4:$AX$552,35,FALSE),0)","v":27},{"$f":"IFERROR(VLOOKUP($A17,Filtro!$A$4:$AX$552,36,FALSE),0)","v":38},{"$f":"IFERROR(VLOOKUP($A17,Filtro!$A$4:$AX$552,37,FALSE),0)","v":0},{"$f":"IFERROR(VLOOKUP($A17,Filtro!$A$4:$AX$552,38,FALSE),0)","v":0},{"$f":"IFERROR(VLOOKUP($A17,Filtro!$A$4:$AX$552,39,FALSE),0)","v":0},{"$f":"IFERROR(VLOOKUP($A17,Filtro!$A$4:$AX$552,40,FALSE),0)","v":0},{"$f":"IFERROR(VLOOKUP($A17,Filtro!$A$4:$AX$552,41,FALSE),0)","v":0},{"$f":"IFERROR(VLOOKUP($A17,Filtro!$A$4:$AX$552,42,FALSE),0)","v":0},{"$nulls":12},"","","","",null,null,"","",{"$nulls":28},0,0,0,0,{"$nulls":4},0,0]
["P4150603",null,"DISLIPIDEMICOS",{"$f":"IFERROR(VLOOKUP($A18,Filtro!$A$4:$AX$552,2,FALSE),0)","v":52983},{"$f":"IFERROR(VLOOKUP($A18,Filtro!$A$4:$AX$552,3,FALSE),0)","v":17498},{"$f":"IFERROR(VLOOKUP($A18,Filtro!$A$4:$AX$552,4,FALSE),0)","v":35485},{"$f":"IFERROR(VLOOKUP($A18,Filtro!$A$4:$AX$552,5,FALSE),0)","v":23},{"$f":"IFERROR(VLOOKUP($A18,Filtro!$A$4:$AX$552,6,FALSE),0)","v":30},{"$f":"IFERROR(VLOOKUP($A18,Filtro!$A$4:$AX$552,7,FALSE),0)","v":47},{"$f":"IFERROR(VLOOKUP($A18,Filtro!$A$4:$AX$552,8,FALSE),0)","v":102},{"$f":"IFERROR(VLOOKUP($A18,Filtro!$A$4:$AX$552,9,FALSE),0)","v":73},{"$f":"IFERROR(VLOOKUP($A18,Filtro!$A$4:$AX$552,10,FALSE),0)","v":153},{"$f":"IFERROR(VLOOKUP($A18,Filtro!$A$4:$AX$552,11,FALSE),0)","v":163},{"$f":"IFERROR(VLOOKUP($A18,Filtro!$A$4:$AX$552,12,FALSE),0)","v":305},{"$f":"IFERROR(VLOOKUP($A18,Filtro!$A$4:$AX$552,13,FALSE),0)","v":298},{"$f":"IFERROR(VLOOKUP($A18,Filtro!$A$4:$AX$552,14,FALSE),0)","v":563},{"$f":"IFERROR(VLOOKUP($A18,Filtro!$A$4:$AX$552,15,FALSE),0)","v":473},{"$f":"IFERROR(VLOOKUP($A18,Filtro!$A$4:$AX$552,16,FALSE),0)","v":1047},{"$f":"IFERROR(VLOOKUP($A18,Filtro!$A$4:$AX$552,17,FALSE),0)","v":807},{"$f":"IFERROR(VLOOKUP($A18,Filtro!$A$4:$AX$552,18,FALSE),0)","v":1740},{"$f":"IFERROR(VLOOKUP($A18,Filtro!$A$4:$AX$552,19,FALSE),0)","v":1418},{"$f":"IFERROR(VLOOKUP($A18,Filtro!$A$4:$AX$552,20,FALSE),0)","v":3202},{"$f":"IFERROR(VLOOKUP($A18,Filtro!$A$4:$AX$552,21,FALSE),0)","v":2075},{"$f":"IFERROR(VLOOKUP($A18,Filtro!$A$4:$AX$552,22,FALSE),0)","v":4990},{"$f":"IFERROR(VLOOKUP($A18,Filtro!$A$4:$AX$552,23,FALSE),0)","v":2410},{"$f":"IFERROR(VLOOKUP($A18,Filtro!$A$4:$AX$552,24,FALSE),0)","v":5208},{"$f":"IFERROR(VLOOKUP($A18,Filtro!$A$4:$AX$552,25,FALSE),0)","v":2562},{"$f":"IFERROR(VLOOKUP($A18,Filtro!$A$4:$AX$552,26,FALSE),0)","v":5027},{"$f":"IFERROR(VLOOKUP($A18,Filtro!$A$4:$AX$552,27,FALSE),0)","v":2456},{"$f":"IFERROR(VLOOKUP($A18,Filtro!$A$4:$AX$552,28,FALSE),0)","v":4673},{"$f":"IFERROR(VLOOKUP($A18,Filtro!$A$4:$AX$552,29,FALSE),0)","v":2223},{"$f":"IFERROR(VLOOKUP($A18,Filtro!$A$4:$AX$552,30,FALSE),0)","v":3743},{"$f":"IFERROR(VLOOKUP($A18,Filtro!$A$4:$AX$552,31,FALSE),0)","v":2470},{"$f":"IFERROR(VLOOKUP($A18,Filtro!$A$4:$AX$552,32,FALSE),0)","v":4702},{"$f":"IFERROR(VLOOKUP($A18,Filtro!$A$4:$AX$552,33,FALSE),0)","v":14},{"$f":"IFERROR(VLOOKUP($A18,Filtro!$A$4:$AX$552,34,FALSE),0)","v":21},{"$f":"IFERROR(VLOOKUP($A18,Filtro!$A$4:$AX$552,35,FALSE),0)","v":26},{"$f":"IFERROR(VLOOKUP($A18,Filtro!$A$4:$AX$552,36,FALSE),0)","v":53},{"$f":"IFERROR(VLOOKUP($A18,Filtro!$A$4:$AX$552,37,FALSE),0)","v":0},{"$f":"IFERROR(VLOOKUP($A18,Filtro!$A$4:$AX$552,38,FALSE),0)","v":0},{"$f":"IFERROR(VLOOKUP($A18,Filtro!$A$4:$AX$552,39,FALSE),0)","v":0},{"$f":"IFERROR(VLOOKUP($A18,Filtro!$A$4:$AX$552,40,FALSE),0)","v":0},{"$f":"IFERROR(VLOOKUP($A18,Filtro!$A$4:$AX$552,41,FALSE),0)","v":0},{"$f":"IFERROR(VLOOKUP($A18,Filtro!$A$4:$AX$552,42,FALSE),0)","v":0},{"$nulls":12},"","","","",null,null,"","",{"$nulls":28},0,0,0,0,{"$nulls":4},0,0]
["P4150701",null,"TABAQUISMO ≥ 55 AÑOS",{"$f":"IFERROR(VLOOKUP($A19,Filtro!$A$4:$AX$552,2,FALSE),0)","v":6127},{"$f":"IFERROR(VLOOKUP($A19,Filtro!$A$4:$AX$552,3,FALSE),0)","v":2569},{"$f":"IFERROR(VLOOKUP($A19,Filtro!$A$4:$AX$552,4,FALSE),0)","v":3558},{"$f":"IFERROR(VLOOKUP($A19,Filtro!$A$4:$AX$552,5,FALSE),0)","v":0},{"$f":"IFERROR(VLOOKUP($A19,Filtro!$A$4:$AX$552,6,FALSE),0)","v":0},{"$f":"IFERROR(VLOOKUP($A19,Filtro!$A$4:$AX$552,7,FALSE),0)","v":0},{"$f":"IFERROR(VLOOKUP($A19,Filtro!$A$4:$AX$552,8,FALSE),0)","v":0},{"$f":"IFERROR(VLOOKUP($A19,Filtro!$A$4:$AX$552,9,FALSE),0)","v":0},{"$f":"IFERROR(VLOOKUP($A19,Filtro!$A$4:$AX$552,10,FALSE),0)","v":0},{"$f":"IFERROR(VLOOKUP($A19,Filtro!$A$4:$AX$552,11,FALSE),0)","v":0},{"$f":"IFERROR(VLOOKUP($A19,Filtro!$A$4:$AX$552,12,FALSE),0)","v":0},{"$f":"IFERROR(VLOOKUP($A19,Filtro!$A$4:$AX$552,13,FALSE),0)","v":0},{"$f":"IFERROR(VLOOKUP($A19,Filtro!$A$4:$AX$552,14,FALSE),0)","v":0},{"$f":"IFERROR(VLOOKUP($A19,Filtro!$A$4:$AX$552,15,FALSE),0)","v":0},{"$f":"IFERROR(VLOOKUP($A19,Filtro!$A$4:$AX$552,16,FALSE),0)","v":0},{"$f":"IFERROR(VLOOKUP($A19,Filtro!$A$4:$AX$552,17,FALSE),0)","v":0},{"$f":"IFERROR(VLOOKUP($A19,Filtro!$A$4:$AX$552,18,FALSE),0)","v":0},{"$f":"IFERROR(VLOOKUP($A19,Filtro!$A$4:$AX$552,19,FALSE),0)","v":0},{"$f":"IFERROR(VLOOKUP($A19,Filtro!$A$4:$AX$552,20,FALSE),0)","v":0},{"$f":"IFERROR(VLOOKUP($A19,Filtro!$A$4:$AX$552,21,FALSE),0)","v":564},{"$f":"IFERROR(VLOOKUP($A19,Filtro!$A$4:$AX$552,22,FALSE),0)","v":993},{"$f":"IFERROR(VLOOKUP($A19,Filtro!$A$4:$AX$552,23,FALSE),0)","v":627},{"$f":"IFERROR(VLOOKUP($A19,Filtro!$A$4:$AX$552,24,FALSE),0)","v":1029},{"$f":"IFERROR(VLOOKUP($A19,Filtro!$A$4:$AX$552,25,FALSE),0)","v":535},{"$f":"IFERROR(VLOOKUP($A19,Filtro!$A$4:$AX$552,26,FALSE),0)","v":698},{"$f":"IFERROR(VLOOKUP($A19,Filtro!$A$4:$AX$552,27,FALSE),0)","v":361},{"$f":"IFERROR(VLOOKUP($A19,Filtro!$A$4:$AX$552,28,FALSE),0)","v":416},{"$f":"IFERROR(VLOOKUP($A19,Filtro!$A$4:$AX$552,29,FALSE),0)","v":285},{"$f":"IFERROR(VLOOKUP($A19,Filtro!$A$4:$AX$552,30,FALSE),0)","v":202},{"$f":"IFERROR(VLOOKUP($A19,Filtro!$A$4:$AX$552,31,FALSE),0)","v":197},{"$f":"IFERROR(VLOOKUP($A19,Filtro!$A$4:$AX$552,32,FALSE),0)","v":220},{"$f":"IFERROR(VLOOKUP($A19,Filtro!$A$4:$AX$552,33,FALSE),0)","v":1},{"$f":"IFERROR(VLOOKUP($A19,Filtro!$A$4:$AX$552,34,FALSE),0)","v":1},{"$f":"IFERROR(VLOOKUP($A19,Filtro!$A$4:$AX$552,35,FALSE),0)","v":8},{"$f":"IFERROR(VLOOKUP($A19,Filtro!$A$4:$AX$552,36,FALSE),0)","v":17},{"$f":"IFERROR(VLOOKUP($A19,Filtro!$A$4:$AX$552,37,FALSE),0)","v":0},{"$f":"IFERROR(VLOOKUP($A19,Filtro!$A$4:$AX$552,38,FALSE),0)","v":0},{"$f":"IFERROR(VLOOKUP($A19,Filtro!$A$4:$AX$552,39,FALSE),0)","v":0},{"$f":"IFERROR(VLOOKUP($A19,Filtro!$A$4:$AX$552,40,FALSE),0)","v":0},{"$f":"IFERROR(VLOOKUP($A19,Filtro!$A$4:$AX$552,41,FALSE),0)","v":0},{"$f":"IFERROR(VLOOKUP($A19,Filtro!$A$4:$AX$552,42,FALSE),0)","v":0},{"$nulls":12},"","","","",null,null,"","",{"$nulls":28},0,0,0,0,{"$nulls":4},0,0]
["P4190900",null,"ANTECEDENTES DE INFARTO AGUDO AL MIOCARDIO (IAM)",{"$f":"IFERROR(VLOOKUP($A20,Filtro!$A$4:$AX$552,2,FALSE),0)","v":2640},{"$f":"IFERROR(VLOOKUP($A20,Filtro!$A$4:$AX$552,3,FALSE),0)","v":1422},{"$f":"IFERROR(VLOOKUP($A20,Filtro!$A$4:$AX$552,4,FALSE),0)","v":1218},{"$f":"IFERROR(VLOOKUP($A20,Filtro!$A$4:$AX$552,5,FALSE),0)","v":0},{"$f":"IFERROR(VLOOKUP($A20,Filtro!$A$4:$AX$552,6,FALSE),0)","v":0},{"$f":"IFERROR(VLOOKUP($A20,Filtro!$A$4:$AX$552,7,FALSE),0)","v":0},{"$f":"IFERROR(VLOOKUP($A20,Filtro!$A$4:$AX$552,8,FALSE),0)","v":0},{"$f":"IFERROR(VLOOKUP($A20,Filtro!$A$4:$AX$552,9,FALSE),0)","v":0},{"$f":"IFERROR(VLOOKUP($A20,Filtro!$A$4:$AX$552,10,FALSE),0)","v":2},{"$f":"IFERROR(VLOOKUP($A20,Filtro!$A$4:$AX$552,11,FALSE),0)","v":2},{"$f":"IFERROR(VLOOKUP($A20,Filtro!$A$4:$AX$552,12,FALSE),0)","v":1},{"$f":"IFERROR(VLOOKUP($A20,Filtro!$A$4:$AX$552,13,FALSE),0)","v":9},{"$f":"IFERROR(VLOOKUP($A20,Filtro!$A$4:$AX$552,14,FALSE),0)","v":5},{"$f":"IFERROR(VLOOKUP($A20,Filtro!$A$4:$AX$552,15,FALSE),0)","v":10},{"$f":"IFERROR(VLOOKUP($A20,Filtro!$A$4:$AX$552,16,FALSE),0)","v":9},{"$f":"IFERROR(VLOOKUP($A20,Filtro!$A$4:$AX$552,17,FALSE),0)","v":41},{"$f":"IFERROR(VLOOKUP($A20,Filtro!$A$4:$AX$552,18,FALSE),0)","v":35},{"$f":"IFERROR(VLOOKUP($A20,Filtro!$A$4:$AX$552,19,FALSE),0)","v":71},{"$f":"IFERROR(VLOOKUP($A20,Filtro!$A$4:$AX$552,20,FALSE),0)","v":71},{"$f":"IFERROR(VLOOKUP($A20,Filtro!$A$4:$AX$552,21,FALSE),0)","v":111},{"$f":"IFERROR(VLOOKUP($A20,Filtro!$A$4:$AX$552,22,FALSE),0)","v":89},{"$f":"IFERROR(VLOOKUP($A20,Filtro!$A$4:$AX$552,23,FALSE),0)","v":185},{"$f":"IFERROR(VLOOKUP($A20,Filtro!$A$4:$AX$552,24,FALSE),0)","v":116},{"$f":"IFERROR(VLOOKUP($A20,Filtro!$A$4:$AX$552,25,FALSE),0)","v":228},{"$f":"IFERROR(VLOOKUP($A20,Filtro!$A$4:$AX$552,26,FALSE),0)","v":164},{"$f":"IFERROR(VLOOKUP($A20,Filtro!$A$4:$AX$552,27,FALSE),0)","v":252},{"$f":"IFERROR(VLOOKUP($A20,Filtro!$A$4:$AX$552,28,FALSE),0)","v":225},{"$f":"IFERROR(VLOOKUP($A20,Filtro!$A$4:$AX$552,29,FALSE),0)","v":215},{"$f":"IFERROR(VLOOKUP($A20,Filtro!$A$4:$AX$552,30,FALSE),0)","v":186},{"$f":"IFERROR(VLOOKUP($A20,Filtro!$A$4:$AX$552,31,FALSE),0)","v":298},{"$f":"IFERROR(VLOOKUP($A20,Filtro!$A$4:$AX$552,32,FALSE),0)","v":315},{"$f":"IFERROR(VLOOKUP($A20,Filtro!$A$4:$AX$552,33,FALSE),0)","v":2},{"$f":"IFERROR(VLOOKUP($A20,Filtro!$A$4:$AX$552,34,FALSE),0)","v":2},{"$f":"IFERROR(VLOOKUP($A20,Filtro!$A$4:$AX$552,35,FALSE),0)","v":0},{"$f":"IFERROR(VLOOKUP($A20,Filtro!$A$4:$AX$552,36,FALSE),0)","v":3},{"$f":"IFERROR(VLOOKUP($A20,Filtro!$A$4:$AX$552,37,FALSE),0)","v":0},{"$f":"IFERROR(VLOOKUP($A20,Filtro!$A$4:$AX$552,38,FALSE),0)","v":0},{"$f":"IFERROR(VLOOKUP($A20,Filtro!$A$4:$AX$552,39,FALSE),0)","v":0},{"$f":"IFERROR(VLOOKUP($A20,Filtro!$A$4:$AX$552,40,FALSE),0)","v":0},{"$f":"IFERROR(VLOOKUP($A20,Filtro!$A$4:$AX$552,41,FALSE),0)","v":0},{"$f":"IFERROR(VLOOKUP($A20,Filtro!$A$4:$AX$552,42,FALSE),0)","v":0},{"$nulls":12},"","","","",null,null,"","",{"$nulls":28},0,0,0,0,{"$nulls":4},0,0]
["P4190910",null,"ANTECEDENTES DE ENF. CEREBRO VASCULAR ",{"$f":"IFERROR(VLOOKUP($A21,Filtro!$A$4:$AX$552,2,FALSE),0)","v":2979},{"$f":"IFERROR(VLOOKUP($A21,Filtro!$A$4:$AX$552,3,FALSE),0)","v":1434},{"$f":"IFERROR(VLOOKUP($A21,Filtro!$A$4:$AX$552,4,FALSE),0)","v":1545},{"$f":"IFERROR(VLOOKUP($A21,Filtro!$A$4:$AX$552,5,FALSE),0)","v":0},{"$f":"IFERROR(VLOOKUP($A21,Filtro!$A$4:$AX$552,6,FALSE),0)","v":0},{"$f":"IFERROR(VLOOKUP($A21,Filtro!$A$4:$AX$552,7,FALSE),0)","v":0},{"$f":"IFERROR(VLOOKUP($A21,Filtro!$A$4:$AX$552,8,FALSE),0)","v":0},{"$f":"IFERROR(VLOOKUP($A21,Filtro!$A$4:$AX$552,9,FALSE),0)","v":1},{"$f":"IFERROR(VLOOKUP($A21,Filtro!$A$4:$AX$552,10,FALSE),0)","v":2},{"$f":"IFERROR(VLOOKUP($A21,Filtro!$A$4:$AX$552,11,FALSE),0)","v":1},{"$f":"IFERROR(VLOOKUP($A21,Filtro!$A$4:$AX$552,12,FALSE),0)","v":2},{"$f":"IFERROR(VLOOKUP($A21,Filtro!$A$4:$AX$552,13,FALSE),0)","v":8},{"$f":"IFERROR(VLOOKUP($A21,Filtro!$A$4:$AX$552,14,FALSE),0)","v":10},{"$f":"IFERROR(VLOOKUP($A21,Filtro!$A$4:$AX$552,15,FALSE),0)","v":10},{"$f":"IFERROR(VLOOKUP($A21,Filtro!$A$4:$AX$552,16,FALSE),0)","v":25},{"$f":"IFERROR(VLOOKUP($A21,Filtro!$A$4:$AX$552,17,FALSE),0)","v":26},{"$f":"IFERROR(VLOOKUP($A21,Filtro!$A$4:$AX$552,18,FALSE),0)","v":44},{"$f":"IFERROR(VLOOKUP($A21,Filtro!$A$4:$AX$552,19,FALSE),0)","v":96},{"$f":"IFERROR(VLOOKUP($A21,Filtro!$A$4:$AX$552,20,FALSE),0)","v":139},{"$f":"IFERROR(VLOOKUP($A21,Filtro!$A$4:$AX$552,21,FALSE),0)","v":112},{"$f":"IFERROR(VLOOKUP($A21,Filtro!$A$4:$AX$552,22,FALSE),0)","v":125},{"$f":"IFERROR(VLOOKUP($A21,Filtro!$A$4:$AX$552,23,FALSE),0)","v":157},{"$f":"IFERROR(VLOOKUP($A21,Filtro!$A$4:$AX$552,24,FALSE),0)","v":164},{"$f":"IFERROR(VLOOKUP($A21,Filtro!$A$4:$AX$552,25,FALSE),0)","v":225},{"$f":"IFERROR(VLOOKUP($A21,Filtro!$A$4:$AX$552,26,FALSE),0)","v":186},{"$f":"IFERROR(VLOOKUP($A21,Filtro!$A$4:$AX$552,27,FALSE),0)","v":240},{"$f":"IFERROR(VLOOKUP($A21,Filtro!$A$4:$AX$552,28,FALSE),0)","v":221},{"$f":"IFERROR(VLOOKUP($A21,Filtro!$A$4:$AX$552,29,FALSE),0)","v":233},{"$f":"IFERROR(VLOOKUP($A21,Filtro!$A$4:$AX$552,30,FALSE),0)","v":228},{"$f":"IFERROR(VLOOKUP($A21,Filtro!$A$4:$AX$552,31,FALSE),0)","v":325},{"$f":"IFERROR(VLOOKUP($A21,Filtro!$A$4:$AX$552,32,FALSE),0)","v":399},{"$f":"IFERROR(VLOOKUP($A21,Filtro!$A$4:$AX$552,33,FALSE),0)","v":3},{"$f":"IFERROR(VLOOKUP($A21,Filtro!$A$4:$AX$552,34,FALSE),0)","v":2},{"$f":"IFERROR(VLOOKUP($A21,Filtro!$A$4:$AX$552,35,FALSE),0)","v":1},{"$f":"IFERROR(VLOOKUP($A21,Filtro!$A$4:$AX$552,36,FALSE),0)","v":4},{"$f":"IFERROR(VLOOKUP($A21,Filtro!$A$4:$AX$552,37,FALSE),0)","v":0},{"$f":"IFERROR(VLOOKUP($A21,Filtro!$A$4:$AX$552,38,FALSE),0)","v":0},{"$f":"IFERROR(VLOOKUP($A21,Filtro!$A$4:$AX$552,39,FALSE),0)","v":0},{"$f":"IFERROR(VLOOKUP($A21,Filtro!$A$4:$AX$552,40,FALSE),0)","v":0},{"$f":"IFERROR(VLOOKUP($A21,Filtro!$A$4:$AX$552,41,FALSE),0)","v":0},{"$f":"IFERROR(VLOOKUP($A21,Filtro!$A$4:$AX$552,42,FALSE),0)","v":0},{"$nulls":12},"","","","",null,null,"","",{"$nulls":28},0,0,0,0,{"$nulls":4},0,0]
["P4190800","DETECCIÓN Y PREVENCION DE LA PROGRESION DE LA ENFERMEDAD RENAL CRÓNICA (ERC). ","SIN ENFERMEDAD RENAL (S/ERC)",{"$f":"IFERROR(VLOOKUP($A22,Filtro!$A$4:$AX$552,2,FALSE),0)","v":45118},{"$f":"IFERROR(VLOOKUP($A22,Filtro!$A$4:$AX$552,3,FALSE),0)","v":15988},{"$f":"IFERROR(VLOOKUP($A22,Filtro!$A$4:$AX$552,4,FALSE),0)","v":29130},{"$f":"IFERROR(VLOOKUP($A22,Filtro!$A$4:$AX$552,5,FALSE),0)","v":36},{"$f":"IFERROR(VLOOKUP($A22,Filtro!$A$4:$AX$552,6,FALSE),0)","v":56},{"$f":"IFERROR(VLOOKUP($A22,Filtro!$A$4:$AX$552,7,FALSE),0)","v":75},{"$f":"IFERROR(VLOOKUP($A22,Filtro!$A$4:$AX$552,8,FALSE),0)","v":117},{"$f":"IFERROR(VLOOKUP($A22,Filtro!$A$4:$AX$552,9,FALSE),0)","v":92},{"$f":"IFERROR(VLOOKUP($A22,Filtro!$A$4:$AX$552,10,FALSE),0)","v":243},{"$f":"IFERROR(VLOOKUP($A22,Filtro!$A$4:$AX$552,11,FALSE),0)","v":213},{"$f":"IFERROR(VLOOKUP($A22,Filtro!$A$4:$AX$552,12,FALSE),0)","v":438},{"$f":"IFERROR(VLOOKUP($A22,Filtro!$A$4:$AX$552,13,FALSE),0)","v":340},{"$f":"IFERROR(VLOOKUP($A22,Filtro!$A$4:$AX$552,14,FALSE),0)","v":722},{"$f":"IFERROR(VLOOKUP($A22,Filtro!$A$4:$AX$552,15,FALSE),0)","v":520},{"$f":"IFERROR(VLOOKUP($A22,Filtro!$A$4:$AX$552,16,FALSE),0)","v":1263},{"$f":"IFERROR(VLOOKUP($A22,Filtro!$A$4:$AX$552,17,FALSE),0)","v":887},{"$f":"IFERROR(VLOOKUP($A22,Filtro!$A$4:$AX$552,18,FALSE),0)","v":1998},{"$f":"IFERROR(VLOOKUP($A22,Filtro!$A$4:$AX$552,19,FALSE),0)","v":1384},{"$f":"IFERROR(VLOOKUP($A22,Filtro!$A$4:$AX$552,20,FALSE),0)","v":3154},{"$f":"IFERROR(VLOOKUP($A22,Filtro!$A$4:$AX$552,21,FALSE),0)","v":1902},{"$f":"IFERROR(VLOOKUP($A22,Filtro!$A$4:$AX$552,22,FALSE),0)","v":4014},{"$f":"IFERROR(VLOOKUP($A22,Filtro!$A$4:$AX$552,23,FALSE),0)","v":2136},{"$f":"IFERROR(VLOOKUP($A22,Filtro!$A$4:$AX$552,24,FALSE),0)","v":4024},{"$f":"IFERROR(VLOOKUP($A22,Filtro!$A$4:$AX$552,25,FALSE),0)","v":2310},{"$f":"IFERROR(VLOOKUP($A22,Filtro!$A$4:$AX$552,26,FALSE),0)","v":3901},{"$f":"IFERROR(VLOOKUP($A22,Filtro!$A$4:$AX$552,27,FALSE),0)","v":2156},{"$f":"IFERROR(VLOOKUP($A22,Filtro!$A$4:$AX$552,28,FALSE),0)","v":3284},{"$f":"IFERROR(VLOOKUP($A22,Filtro!$A$4:$AX$552,29,FALSE),0)","v":1863},{"$f":"IFERROR(VLOOKUP($A22,Filtro!$A$4:$AX$552,30,FALSE),0)","v":2526},{"$f":"IFERROR(VLOOKUP($A22,Filtro!$A$4:$AX$552,31,FALSE),0)","v":2074},{"$f":"IFERROR(VLOOKUP($A22,Filtro!$A$4:$AX$552,32,FALSE),0)","v":3390},{"$f":"IFERROR(VLOOKUP($A22,Filtro!$A$4:$AX$552,33,FALSE),0)","v":23},{"$f":"IFERROR(VLOOKUP($A22,Filtro!$A$4:$AX$552,34,FALSE),0)","v":38},{"$f":"IFERROR(VLOOKUP($A22,Filtro!$A$4:$AX$552,35,FALSE),0)","v":17},{"$f":"IFERROR(VLOOKUP($A22,Filtro!$A$4:$AX$552,36,FALSE),0)","v":62},{"$f":"IFERROR(VLOOKUP($A22,Filtro!$A$4:$AX$552,37,FALSE),0)","v":11829},{"$f":"IFERROR(VLOOKUP($A22,Filtro!$A$4:$AX$552,38,FALSE),0)","v":0},{"$f":"IFERROR(VLOOKUP($A22,Filtro!$A$4:$AX$552,39,FALSE),0)","v":0},{"$f":"IFERROR(VLOOKUP($A22,Filtro!$A$4:$AX$552,40,FALSE),0)","v":0},{"$f":"IFERROR(VLOOKUP($A22,Filtro!$A$4:$AX$552,41,FALSE),0)","v":0},{"$f":"IFERROR(VLOOKUP($A22,Filtro!$A$4:$AX$552,42,FALSE),0)","v":0},{"$nulls":12},"","","","",{"$f":"IF($AM22<=$D22,\"\",\"* Personas diabéticas 'Sin enfermedad renal' no debe ser mayor que el Total pacientes evaluados. \")","v":""},null,"","",{"$nulls":28},0,0,0,0,{"$f":"IF($AM22<=$D22,0,1)","v":0},{"$nulls":3},0,0]
["P4190801",null,"ETAPA G1 Y ETAPA G2 (VFG ≥ 60 ml/min)",{"$f":"IFERROR(VLOOKUP($A23,Filtro!$A$4:$AX$552,2,FALSE),0)","v":19259},{"$f":"IFERROR(VLOOKUP($A23,Filtro!$A$4:$AX$552,3,FALSE),0)","v":7053},{"$f":"IFERROR(VLOOKUP($A23,Filtro!$A$4:$AX$552,4,FALSE),0)","v":12206},{"$f":"IFERROR(VLOOKUP($A23,Filtro!$A$4:$AX$552,5,FALSE),0)","v":1},{"$f":"IFERROR(VLOOKUP($A23,Filtro!$A$4:$AX$552,6,FALSE),0)","v":2},{"$f":"IFERROR(VLOOKUP($A23,Filtro!$A$4:$AX$552,7,FALSE),0)","v":7},{"$f":"IFERROR(VLOOKUP($A23,Filtro!$A$4:$AX$552,8,FALSE),0)","v":7},{"$f":"IFERROR(VLOOKUP($A23,Filtro!$A$4:$AX$552,9,FALSE),0)","v":9},{"$f":"IFERROR(VLOOKUP($A23,Filtro!$A$4:$AX$552,10,FALSE),0)","v":19},{"$f":"IFERROR(VLOOKUP($A23,Filtro!$A$4:$AX$552,11,FALSE),0)","v":24},{"$f":"IFERROR(VLOOKUP($A23,Filtro!$A$4:$AX$552,12,FALSE),0)","v":60},{"$f":"IFERROR(VLOOKUP($A23,Filtro!$A$4:$AX$552,13,FALSE),0)","v":56},{"$f":"IFERROR(VLOOKUP($A23,Filtro!$A$4:$AX$552,14,FALSE),0)","v":129},{"$f":"IFERROR(VLOOKUP($A23,Filtro!$A$4:$AX$552,15,FALSE),0)","v":112},{"$f":"IFERROR(VLOOKUP($A23,Filtro!$A$4:$AX$552,16,FALSE),0)","v":295},{"$f":"IFERROR(VLOOKUP($A23,Filtro!$A$4:$AX$552,17,FALSE),0)","v":209},{"$f":"IFERROR(VLOOKUP($A23,Filtro!$A$4:$AX$552,18,FALSE),0)","v":596},{"$f":"IFERROR(VLOOKUP($A23,Filtro!$A$4:$AX$552,19,FALSE),0)","v":479},{"$f":"IFERROR(VLOOKUP($A23,Filtro!$A$4:$AX$552,20,FALSE),0)","v":1011},{"$f":"IFERROR(VLOOKUP($A23,Filtro!$A$4:$AX$552,21,FALSE),0)","v":674},{"$f":"IFERROR(VLOOKUP($A23,Filtro!$A$4:$AX$552,22,FALSE),0)","v":1495},{"$f":"IFERROR(VLOOKUP($A23,Filtro!$A$4:$AX$552,23,FALSE),0)","v":959},{"$f":"IFERROR(VLOOKUP($A23,Filtro!$A$4:$AX$552,24,FALSE),0)","v":1713},{"$f":"IFERROR(VLOOKUP($A23,Filtro!$A$4:$AX$552,25,FALSE),0)","v":1151},{"$f":"IFERROR(VLOOKUP($A23,Filtro!$A$4:$AX$552,26,FALSE),0)","v":1756},{"$f":"IFERROR(VLOOKUP($A23,Filtro!$A$4:$AX$552,27,FALSE),0)","v":1149},{"$f":"IFERROR(VLOOKUP($A23,Filtro!$A$4:$AX$552,28,FALSE),0)","v":1790},{"$f":"IFERROR(VLOOKUP($A23,Filtro!$A$4:$AX$552,29,FALSE),0)","v":1077},{"$f":"IFERROR(VLOOKUP($A23,Filtro!$A$4:$AX$552,30,FALSE),0)","v":1491},{"$f":"IFERROR(VLOOKUP($A23,Filtro!$A$4:$AX$552,31,FALSE),0)","v":1146},{"$f":"IFERROR(VLOOKUP($A23,Filtro!$A$4:$AX$552,32,FALSE),0)","v":1842},{"$f":"IFERROR(VLOOKUP($A23,Filtro!$A$4:$AX$552,33,FALSE),0)","v":2},{"$f":"IFERROR(VLOOKUP($A23,Filtro!$A$4:$AX$552,34,FALSE),0)","v":1},{"$f":"IFERROR(VLOOKUP($A23,Filtro!$A$4:$AX$552,35,FALSE),0)","v":9},{"$f":"IFERROR(VLOOKUP($A23,Filtro!$A$4:$AX$552,36,FALSE),0)","v":11},{"$f":"IFERROR(VLOOKUP($A23,Filtro!$A$4:$AX$552,37,FALSE),0)","v":4644},{"$f":"IFERROR(VLOOKUP($A23,Filtro!$A$4:$AX$552,38,FALSE),0)","v":0},{"$f":"IFERROR(VLOOKUP($A23,Filtro!$A$4:$AX$552,39,FALSE),0)","v":0},{"$f":"IFERROR(VLOOKUP($A23,Filtro!$A$4:$AX$552,40,FALSE),0)","v":0},{"$f":"IFERROR(VLOOKUP($A23,Filtro!$A$4:$AX$552,41,FALSE),0)","v":0},{"$f":"IFERROR(VLOOKUP($A23,Filtro!$A$4:$AX$552,42,FALSE),0)","v":0},{"$nulls":12},"","","","",{"$f":"IF($AM23<=$D23,\"\",\"* Personas diabéticas 'Etapa 1 y 2' no debe ser mayor que el Total pacientes evaluados. \")","v":""},null,"","",{"$nulls":28},0,0,0,0,0,{"$nulls":3},0,0]
["P4190810",null,"ETAPA G3a (VFG ≥45 a 59 ml/min)",{"$f":"IFERROR(VLOOKUP($A24,Filtro!$A$4:$AX$552,2,FALSE),0)","v":5389},{"$f":"IFERROR(VLOOKUP($A24,Filtro!$A$4:$AX$552,3,FALSE),0)","v":2000},{"$f":"IFERROR(VLOOKUP($A24,Filtro!$A$4:$AX$552,4,FALSE),0)","v":3389},{"$f":"IFERROR(VLOOKUP($A24,Filtro!$A$4:$AX$552,5,FALSE),0)","v":0},{"$f":"IFERROR(VLOOKUP($A24,Filtro!$A$4:$AX$552,6,FALSE),0)","v":0},{"$f":"IFERROR(VLOOKUP($A24,Filtro!$A$4:$AX$552,7,FALSE),0)","v":0},{"$f":"IFERROR(VLOOKUP($A24,Filtro!$A$4:$AX$552,8,FALSE),0)","v":1},{"$f":"IFERROR(VLOOKUP($A24,Filtro!$A$4:$AX$552,9,FALSE),0)","v":0},{"$f":"IFERROR(VLOOKUP($A24,Filtro!$A$4:$AX$552,10,FALSE),0)","v":1},{"$f":"IFERROR(VLOOKUP($A24,Filtro!$A$4:$AX$552,11,FALSE),0)","v":1},{"$f":"IFERROR(VLOOKUP($A24,Filtro!$A$4:$AX$552,12,FALSE),0)","v":6},{"$f":"IFERROR(VLOOKUP($A24,Filtro!$A$4:$AX$552,13,FALSE),0)","v":2},{"$f":"IFERROR(VLOOKUP($A24,Filtro!$A$4:$AX$552,14,FALSE),0)","v":5},{"$f":"IFERROR(VLOOKUP($A24,Filtro!$A$4:$AX$552,15,FALSE),0)","v":6},{"$f":"IFERROR(VLOOKUP($A24,Filtro!$A$4:$AX$552,16,FALSE),0)","v":20},{"$f":"IFERROR(VLOOKUP($A24,Filtro!$A$4:$AX$552,17,FALSE),0)","v":15},{"$f":"IFERROR(VLOOKUP($A24,Filtro!$A$4:$AX$552,18,FALSE),0)","v":41},{"$f":"IFERROR(VLOOKUP($A24,Filtro!$A$4:$AX$552,19,FALSE),0)","v":29},{"$f":"IFERROR(VLOOKUP($A24,Filtro!$A$4:$AX$552,20,FALSE),0)","v":91},{"$f":"IFERROR(VLOOKUP($A24,Filtro!$A$4:$AX$552,21,FALSE),0)","v":65},{"$f":"IFERROR(VLOOKUP($A24,Filtro!$A$4:$AX$552,22,FALSE),0)","v":189},{"$f":"IFERROR(VLOOKUP($A24,Filtro!$A$4:$AX$552,23,FALSE),0)","v":135},{"$f":"IFERROR(VLOOKUP($A24,Filtro!$A$4:$AX$552,24,FALSE),0)","v":224},{"$f":"IFERROR(VLOOKUP($A24,Filtro!$A$4:$AX$552,25,FALSE),0)","v":223},{"$f":"IFERROR(VLOOKUP($A24,Filtro!$A$4:$AX$552,26,FALSE),0)","v":429},{"$f":"IFERROR(VLOOKUP($A24,Filtro!$A$4:$AX$552,27,FALSE),0)","v":390},{"$f":"IFERROR(VLOOKUP($A24,Filtro!$A$4:$AX$552,28,FALSE),0)","v":562},{"$f":"IFERROR(VLOOKUP($A24,Filtro!$A$4:$AX$552,29,FALSE),0)","v":387},{"$f":"IFERROR(VLOOKUP($A24,Filtro!$A$4:$AX$552,30,FALSE),0)","v":637},{"$f":"IFERROR(VLOOKUP($A24,Filtro!$A$4:$AX$552,31,FALSE),0)","v":747},{"$f":"IFERROR(VLOOKUP($A24,Filtro!$A$4:$AX$552,32,FALSE),0)","v":1183},{"$f":"IFERROR(VLOOKUP($A24,Filtro!$A$4:$AX$552,33,FALSE),0)","v":0},{"$f":"IFERROR(VLOOKUP($A24,Filtro!$A$4:$AX$552,34,FALSE),0)","v":2},{"$f":"IFERROR(VLOOKUP($A24,Filtro!$A$4:$AX$552,35,FALSE),0)","v":1},{"$f":"IFERROR(VLOOKUP($A24,Filtro!$A$4:$AX$552,36,FALSE),0)","v":0},{"$f":"IFERROR(VLOOKUP($A24,Filtro!$A$4:$AX$552,37,FALSE),0)","v":1318},{"$f":"IFERROR(VLOOKUP($A24,Filtro!$A$4:$AX$552,38,FALSE),0)","v":0},{"$f":"IFERROR(VLOOKUP($A24,Filtro!$A$4:$AX$552,39,FALSE),0)","v":0},{"$f":"IFERROR(VLOOKUP($A24,Filtro!$A$4:$AX$552,40,FALSE),0)","v":0},{"$f":"IFERROR(VLOOKUP($A24,Filtro!$A$4:$AX$552,41,FALSE),0)","v":0},{"$f":"IFERROR(VLOOKUP($A24,Filtro!$A$4:$AX$552,42,FALSE),0)","v":0},{"$nulls":12},"","","","",{"$f":"IF($AM24<=$D24,\"\",\"* Personas diabéticas 'Etapa 1 y 2' no debe ser mayor que el Total pacientes evaluados. \")","v":""},null,"","",{"$nulls":28},0,0,0,0,0,{"$nulls":3},0,0]
["P4190811",null,"ETAPA G3b (VFG ≥30 a 44 ml/min)",{"$f":"IFERROR(VLOOKUP($A25,Filtro!$A$4:$AX$552,2,FALSE),0)","v":1749},{"$f":"IFERROR(VLOOKUP($A25,Filtro!$A$4:$AX$552,3,FALSE),0)","v":623},{"$f":"IFERROR(VLOOKUP($A25,Filtro!$A$4:$AX$552,4,FALSE),0)","v":1126},{"$f":"IFERROR(VLOOKUP($A25,Filtro!$A$4:$AX$552,5,FALSE),0)","v":0},{"$f":"IFERROR(VLOOKUP($A25,Filtro!$A$4:$AX$552,6,FALSE),0)","v":0},{"$f":"IFERROR(VLOOKUP($A25,Filtro!$A$4:$AX$552,7,FALSE),0)","v":0},{"$f":"IFERROR(VLOOKUP($A25,Filtro!$A$4:$AX$552,8,FALSE),0)","v":0},{"$f":"IFERROR(VLOOKUP($A25,Filtro!$A$4:$AX$552,9,FALSE),0)","v":0},{"$f":"IFERROR(VLOOKUP($A25,Filtro!$A$4:$AX$552,10,FALSE),0)","v":1},{"$f":"IFERROR(VLOOKUP($A25,Filtro!$A$4:$AX$552,11,FALSE),0)","v":0},{"$f":"IFERROR(VLOOKUP($A25,Filtro!$A$4:$AX$552,12,FALSE),0)","v":0},{"$f":"IFERROR(VLOOKUP($A25,Filtro!$A$4:$AX$552,13,FALSE),0)","v":0},{"$f":"IFERROR(VLOOKUP($A25,Filtro!$A$4:$AX$552,14,FALSE),0)","v":2},{"$f":"IFERROR(VLOOKUP($A25,Filtro!$A$4:$AX$552,15,FALSE),0)","v":0},{"$f":"IFERROR(VLOOKUP($A25,Filtro!$A$4:$AX$552,16,FALSE),0)","v":7},{"$f":"IFERROR(VLOOKUP($A25,Filtro!$A$4:$AX$552,17,FALSE),0)","v":3},{"$f":"IFERROR(VLOOKUP($A25,Filtro!$A$4:$AX$552,18,FALSE),0)","v":11},{"$f":"IFERROR(VLOOKUP($A25,Filtro!$A$4:$AX$552,19,FALSE),0)","v":9},{"$f":"IFERROR(VLOOKUP($A25,Filtro!$A$4:$AX$552,20,FALSE),0)","v":18},{"$f":"IFERROR(VLOOKUP($A25,Filtro!$A$4:$AX$552,21,FALSE),0)","v":23},{"$f":"IFERROR(VLOOKUP($A25,Filtro!$A$4:$AX$552,22,FALSE),0)","v":45},{"$f":"IFERROR(VLOOKUP($A25,Filtro!$A$4:$AX$552,23,FALSE),0)","v":24},{"$f":"IFERROR(VLOOKUP($A25,Filtro!$A$4:$AX$552,24,FALSE),0)","v":52},{"$f":"IFERROR(VLOOKUP($A25,Filtro!$A$4:$AX$552,25,FALSE),0)","v":58},{"$f":"IFERROR(VLOOKUP($A25,Filtro!$A$4:$AX$552,26,FALSE),0)","v":87},{"$f":"IFERROR(VLOOKUP($A25,Filtro!$A$4:$AX$552,27,FALSE),0)","v":78},{"$f":"IFERROR(VLOOKUP($A25,Filtro!$A$4:$AX$552,28,FALSE),0)","v":164},{"$f":"IFERROR(VLOOKUP($A25,Filtro!$A$4:$AX$552,29,FALSE),0)","v":120},{"$f":"IFERROR(VLOOKUP($A25,Filtro!$A$4:$AX$552,30,FALSE),0)","v":216},{"$f":"IFERROR(VLOOKUP($A25,Filtro!$A$4:$AX$552,31,FALSE),0)","v":308},{"$f":"IFERROR(VLOOKUP($A25,Filtro!$A$4:$AX$552,32,FALSE),0)","v":523},{"$f":"IFERROR(VLOOKUP($A25,Filtro!$A$4:$AX$552,33,FALSE),0)","v":0},{"$f":"IFERROR(VLOOKUP($A25,Filtro!$A$4:$AX$552,34,FALSE),0)","v":0},{"$f":"IFERROR(VLOOKUP($A25,Filtro!$A$4:$AX$552,35,FALSE),0)","v":0},{"$f":"IFERROR(VLOOKUP($A25,Filtro!$A$4:$AX$552,36,FALSE),0)","v":0},{"$f":"IFERROR(VLOOKUP($A25,Filtro!$A$4:$AX$552,37,FALSE),0)","v":435},{"$f":"IFERROR(VLOOKUP($A25,Filtro!$A$4:$AX$552,38,FALSE),0)","v":0},{"$f":"IFERROR(VLOOKUP($A25,Filtro!$A$4:$AX$552,39,FALSE),0)","v":0},{"$f":"IFERROR(VLOOKUP($A25,Filtro!$A$4:$AX$552,40,FALSE),0)","v":0},{"$f":"IFERROR(VLOOKUP($A25,Filtro!$A$4:$AX$552,41,FALSE),0)","v":0},{"$f":"IFERROR(VLOOKUP($A25,Filtro!$A$4:$AX$552,42,FALSE),0)","v":0},{"$nulls":12},"","","","",{"$f":"IF($AM25<=$D25,\"\",\"* Personas diabéticas 'Etapa 1 y 2' no debe ser mayor que el Total pacientes evaluados. \")","v":""},null,"","",{"$nulls":28},0,0,0,0,0,{"$nulls":3},0,0]
["P4190803",null,"ETAPA G4 (VFG ≥15 a 29 ml/min)",{"$f":"IFERROR(VLOOKUP($A26,Filtro!$A$4:$AX$552,2,FALSE),0)","v":534},{"$f":"IFERROR(VLOOKUP($A26,Filtro!$A$4:$AX$552,3,FALSE),0)","v":178},{"$f":"IFERROR(VLOOKUP($A26,Filtro!$A$4:$AX$552,4,FALSE),0)","v":356},{"$f":"IFERROR(VLOOKUP($A26,Filtro!$A$4:$AX$552,5,FALSE),0)","v":0},{"$f":"IFERROR(VLOOKUP($A26,Filtro!$A$4:$AX$552,6,FALSE),0)","v":0},{"$f":"IFERROR(VLOOKUP($A26,Filtro!$A$4:$AX$552,7,FALSE),0)","v":0},{"$f":"IFERROR(VLOOKUP($A26,Filtro!$A$4:$AX$552,8,FALSE),0)","v":0},{"$f":"IFERROR(VLOOKUP($A26,Filtro!$A$4:$AX$552,9,FALSE),0)","v":0},{"$f":"IFERROR(VLOOKUP($A26,Filtro!$A$4:$AX$552,10,FALSE),0)","v":0},{"$f":"IFERROR(VLOOKUP($A26,Filtro!$A$4:$AX$552,11,FALSE),0)","v":0},{"$f":"IFERROR(VLOOKUP($A26,Filtro!$A$4:$AX$552,12,FALSE),0)","v":0},{"$f":"IFERROR(VLOOKUP($A26,Filtro!$A$4:$AX$552,13,FALSE),0)","v":1},{"$f":"IFERROR(VLOOKUP($A26,Filtro!$A$4:$AX$552,14,FALSE),0)","v":2},{"$f":"IFERROR(VLOOKUP($A26,Filtro!$A$4:$AX$552,15,FALSE),0)","v":1},{"$f":"IFERROR(VLOOKUP($A26,Filtro!$A$4:$AX$552,16,FALSE),0)","v":2},{"$f":"IFERROR(VLOOKUP($A26,Filtro!$A$4:$AX$552,17,FALSE),0)","v":1},{"$f":"IFERROR(VLOOKUP($A26,Filtro!$A$4:$AX$552,18,FALSE),0)","v":6},{"$f":"IFERROR(VLOOKUP($A26,Filtro!$A$4:$AX$552,19,FALSE),0)","v":2},{"$f":"IFERROR(VLOOKUP($A26,Filtro!$A$4:$AX$552,20,FALSE),0)","v":5},{"$f":"IFERROR(VLOOKUP($A26,Filtro!$A$4:$AX$552,21,FALSE),0)","v":7},{"$f":"IFERROR(VLOOKUP($A26,Filtro!$A$4:$AX$552,22,FALSE),0)","v":17},{"$f":"IFERROR(VLOOKUP($A26,Filtro!$A$4:$AX$552,23,FALSE),0)","v":18},{"$f":"IFERROR(VLOOKUP($A26,Filtro!$A$4:$AX$552,24,FALSE),0)","v":19},{"$f":"IFERROR(VLOOKUP($A26,Filtro!$A$4:$AX$552,25,FALSE),0)","v":23},{"$f":"IFERROR(VLOOKUP($A26,Filtro!$A$4:$AX$552,26,FALSE),0)","v":29},{"$f":"IFERROR(VLOOKUP($A26,Filtro!$A$4:$AX$552,27,FALSE),0)","v":33},{"$f":"IFERROR(VLOOKUP($A26,Filtro!$A$4:$AX$552,28,FALSE),0)","v":41},{"$f":"IFERROR(VLOOKUP($A26,Filtro!$A$4:$AX$552,29,FALSE),0)","v":23},{"$f":"IFERROR(VLOOKUP($A26,Filtro!$A$4:$AX$552,30,FALSE),0)","v":68},{"$f":"IFERROR(VLOOKUP($A26,Filtro!$A$4:$AX$552,31,FALSE),0)","v":69},{"$f":"IFERROR(VLOOKUP($A26,Filtro!$A$4:$AX$552,32,FALSE),0)","v":167},{"$f":"IFERROR(VLOOKUP($A26,Filtro!$A$4:$AX$552,33,FALSE),0)","v":0},{"$f":"IFERROR(VLOOKUP($A26,Filtro!$A$4:$AX$552,34,FALSE),0)","v":0},{"$f":"IFERROR(VLOOKUP($A26,Filtro!$A$4:$AX$552,35,FALSE),0)","v":0},{"$f":"IFERROR(VLOOKUP($A26,Filtro!$A$4:$AX$552,36,FALSE),0)","v":0},{"$f":"IFERROR(VLOOKUP($A26,Filtro!$A$4:$AX$552,37,FALSE),0)","v":129},{"$f":"IFERROR(VLOOKUP($A26,Filtro!$A$4:$AX$552,38,FALSE),0)","v":0},{"$f":"IFERROR(VLOOKUP($A26,Filtro!$A$4:$AX$552,39,FALSE),0)","v":0},{"$f":"IFERROR(VLOOKUP($A26,Filtro!$A$4:$AX$552,40,FALSE),0)","v":0},{"$f":"IFERROR(VLOOKUP($A26,Filtro!$A$4:$AX$552,41,FALSE),0)","v":0},{"$f":"IFERROR(VLOOKUP($A26,Filtro!$A$4:$AX$552,42,FALSE),0)","v":0},{"$nulls":12},"","","","",{"$f":"IF($AM26<=$D26,\"\",\"* Personas diabéticas 'Etapa 4' no debe ser mayor que el Total pacientes evaluados. \")","v":""},null,"","",{"$nulls":28},0,0,0,0,0,{"$nulls":3},0,0]
["P4190804",null,"ETAPA G5 (VFG <15 ml/min)",{"$f":"IFERROR(VLOOKUP($A27,Filtro!$A$4:$AX$552,2,FALSE),0)","v":246},{"$f":"IFERROR(VLOOKUP($A27,Filtro!$A$4:$AX$552,3,FALSE),0)","v":122},{"$f":"IFERROR(VLOOKUP($A27,Filtro!$A$4:$AX$552,4,FALSE),0)","v":124},{"$f":"IFERROR(VLOOKUP($A27,Filtro!$A$4:$AX$552,5,FALSE),0)","v":0},{"$f":"IFERROR(VLOOKUP($A27,Filtro!$A$4:$AX$552,6,FALSE),0)","v":0},{"$f":"IFERROR(VLOOKUP($A27,Filtro!$A$4:$AX$552,7,FALSE),0)","v":0},{"$f":"IFERROR(VLOOKUP($A27,Filtro!$A$4:$AX$552,8,FALSE),0)","v":1},{"$f":"IFERROR(VLOOKUP($A27,Filtro!$A$4:$AX$552,9,FALSE),0)","v":0},{"$f":"IFERROR(VLOOKUP($A27,Filtro!$A$4:$AX$552,10,FALSE),0)","v":0},{"$f":"IFERROR(VLOOKUP($A27,Filtro!$A$4:$AX$552,11,FALSE),0)","v":0},{"$f":"IFERROR(VLOOKUP($A27,Filtro!$A$4:$AX$552,12,FALSE),0)","v":0},{"$f":"IFERROR(VLOOKUP($A27,Filtro!$A$4:$AX$552,13,FALSE),0)","v":1},{"$f":"IFERROR(VLOOKUP($A27,Filtro!$A$4:$AX$552,14,FALSE),0)","v":2},{"$f":"IFERROR(VLOOKUP($A27,Filtro!$A$4:$AX$552,15,FALSE),0)","v":2},{"$f":"IFERROR(VLOOKUP($A27,Filtro!$A$4:$AX$552,16,FALSE),0)","v":2},{"$f":"IFERROR(VLOOKUP($A27,Filtro!$A$4:$AX$552,17,FALSE),0)","v":2},{"$f":"IFERROR(VLOOKUP($A27,Filtro!$A$4:$AX$552,18,FALSE),0)","v":7},{"$f":"IFERROR(VLOOKUP($A27,Filtro!$A$4:$AX$552,19,FALSE),0)","v":11},{"$f":"IFERROR(VLOOKUP($A27,Filtro!$A$4:$AX$552,20,FALSE),0)","v":3},{"$f":"IFERROR(VLOOKUP($A27,Filtro!$A$4:$AX$552,21,FALSE),0)","v":9},{"$f":"IFERROR(VLOOKUP($A27,Filtro!$A$4:$AX$552,22,FALSE),0)","v":11},{"$f":"IFERROR(VLOOKUP($A27,Filtro!$A$4:$AX$552,23,FALSE),0)","v":17},{"$f":"IFERROR(VLOOKUP($A27,Filtro!$A$4:$AX$552,24,FALSE),0)","v":12},{"$f":"IFERROR(VLOOKUP($A27,Filtro!$A$4:$AX$552,25,FALSE),0)","v":24},{"$f":"IFERROR(VLOOKUP($A27,Filtro!$A$4:$AX$552,26,FALSE),0)","v":21},{"$f":"IFERROR(VLOOKUP($A27,Filtro!$A$4:$AX$552,27,FALSE),0)","v":19},{"$f":"IFERROR(VLOOKUP($A27,Filtro!$A$4:$AX$552,28,FALSE),0)","v":18},{"$f":"IFERROR(VLOOKUP($A27,Filtro!$A$4:$AX$552,29,FALSE),0)","v":15},{"$f":"IFERROR(VLOOKUP($A27,Filtro!$A$4:$AX$552,30,FALSE),0)","v":22},{"$f":"IFERROR(VLOOKUP($A27,Filtro!$A$4:$AX$552,31,FALSE),0)","v":22},{"$f":"IFERROR(VLOOKUP($A27,Filtro!$A$4:$AX$552,32,FALSE),0)","v":25},{"$f":"IFERROR(VLOOKUP($A27,Filtro!$A$4:$AX$552,33,FALSE),0)","v":0},{"$f":"IFERROR(VLOOKUP($A27,Filtro!$A$4:$AX$552,34,FALSE),0)","v":0},{"$f":"IFERROR(VLOOKUP($A27,Filtro!$A$4:$AX$552,35,FALSE),0)","v":0},{"$f":"IFERROR(VLOOKUP($A27,Filtro!$A$4:$AX$552,36,FALSE),0)","v":0},{"$f":"IFERROR(VLOOKUP($A27,Filtro!$A$4:$AX$552,37,FALSE),0)","v":68},{"$f":"IFERROR(VLOOKUP($A27,Filtro!$A$4:$AX$552,38,FALSE),0)","v":0},{"$f":"IFERROR(VLOOKUP($A27,Filtro!$A$4:$AX$552,39,FALSE),0)","v":0},{"$f":"IFERROR(VLOOKUP($A27,Filtro!$A$4:$AX$552,40,FALSE),0)","v":0},{"$f":"IFERROR(VLOOKUP($A27,Filtro!$A$4:$AX$552,41,FALSE),0)","v":0},{"$f":"IFERROR(VLOOKUP($A27,Filtro!$A$4:$AX$552,42,FALSE),0)","v":0},{"$nulls":12},"","","","",{"$f":"IF($AM27<=$D27,\"\",\"* Personas diabéticas 'Etapa 5' no debe ser mayor que el Total pacientes evaluados. \")","v":""},null,"","",{"$nulls":28},0,0,0,0,0,{"$nulls":3},0,0]
[null,null,"TOTAL",{"$f":"SUM(E28:F28)","v":72295},{"$f":"+G28+I28+K28+M28+O28+Q28+S28+U28+W28+Y28+AA28+AC28+AE28+AG28","v":25964},{"$f":"+H28+J28+L28+N28+P28+R28+T28+V28+X28+Z28+AB28+AD28+AF28+AH28","v":46331},{"$f":"SUM(G22:G27)","v":37},{"$f":"SUM(H22:H27)","v":58},82,126,101,264,238,504,400,862,641,1589,1117,2659,1914,4282,2680,5771,3289,6044,3789,6223,3825,5859,3485,4960,4366,7130,25,41,27,73,{"$f":"SUM(AM22:AM27)","v":18423}]
[null,"SECCIÓN B: METAS DE COMPENSACIÓN"]
[null,"CONCEPTO",null,"TOTAL ",null,null,"GRUPOS DE EDAD (en años) Y SEXO",{"$nulls":27},"Pueblos Originarios",null,"Población Migrantes"]
[{"$nulls":6},"15 a 19 años",null,"20 a 24 años",null,"25 a 29 años",null,"30 a 34 años",null,"35 a 39 años",null,"40 a 44 años",null,"45 a 49 años",null,"50 a 54 años",null,"55 a 59 años",null,"60 a 64 años",null,"65 a 69 años",null,"70 a 74 años",null,"75 a 79 años",null,"80 y más años"]
[{"$nulls":3},"Ambos\nsexos","Hombres","Mujeres","Hombres","Mujeres","Hombres","Mujeres","Hombres","Mujeres","Hombres","Mujeres","Hombres","Mujeres","Hombres","Mujeres","Hombres","Mujeres","Hombres","Mujeres","Hombres","Mujeres","Hombres","Mujeres","Hombres ","Mujeres","Hombres ","Mujeres","Hombres ","Mujeres","Hombres ","Mujeres","Hombres","Mujeres","Hombres","Mujeres"]
["P4180200","PERSONAS BAJO CONTROL POR HIPERTENSION","PA < 140/90 mmHg ",{"$f":"IFERROR(VLOOKUP($A33,Filtro!$A$4:$AX$552,2,FALSE),0)","v":36378},{"$f":"IFERROR(VLOOKUP($A33,Filtro!$A$4:$AX$552,3,FALSE),0)","v":12354},{"$f":"IFERROR(VLOOKUP($A33,Filtro!$A$4:$AX$552,4,FALSE),0)","v":24024},{"$f":"IFERROR(VLOOKUP($A33,Filtro!$A$4:$AX$552,5,FALSE),0)","v":13},{"$f":"IFERROR(VLOOKUP($A33,Filtro!$A$4:$AX$552,6,FALSE),0)","v":9},{"$f":"IFERROR(VLOOKUP($A33,Filtro!$A$4:$AX$552,7,FALSE),0)","v":28},{"$f":"IFERROR(VLOOKUP($A33,Filtro!$A$4:$AX$552,8,FALSE),0)","v":36},{"$f":"IFERROR(VLOOKUP($A33,Filtro!$A$4:$AX$552,9,FALSE),0)","v":30},{"$f":"IFERROR(VLOOKUP($A33,Filtro!$A$4:$AX$552,10,FALSE),0)","v":71},{"$f":"IFERROR(VLOOKUP($A33,Filtro!$A$4:$AX$552,11,FALSE),0)","v":79},{"$f":"IFERROR(VLOOKUP($A33,Filtro!$A$4:$AX$552,12,FALSE),0)","v":160},{"$f":"IFERROR(VLOOKUP($A33,Filtro!$A$4:$AX$552,13,FALSE),0)","v":148},{"$f":"IFERROR(VLOOKUP($A33,Filtro!$A$4:$AX$552,14,FALSE),0)","v":381},{"$f":"IFERROR(VLOOKUP($A33,Filtro!$A$4:$AX$552,15,FALSE),0)","v":251},{"$f":"IFERROR(VLOOKUP($A33,Filtro!$A$4:$AX$552,16,FALSE),0)","v":764},{"$f":"IFERROR(VLOOKUP($A33,Filtro!$A$4:$AX$552,17,FALSE),0)","v":513},{"$f":"IFERROR(VLOOKUP($A33,Filtro!$A$4:$AX$552,18,FALSE),0)","v":1356},{"$f":"IFERROR(VLOOKUP($A33,Filtro!$A$4:$AX$552,19,FALSE),0)","v":985},{"$f":"IFERROR(VLOOKUP($A33,Filtro!$A$4:$AX$552,20,FALSE),0)","v":2560},{"$f":"IFERROR(VLOOKUP($A33,Filtro!$A$4:$AX$552,21,FALSE),0)","v":1333},{"$f":"IFERROR(VLOOKUP($A33,Filtro!$A$4:$AX$552,22,FALSE),0)","v":3380},{"$f":"IFERROR(VLOOKUP($A33,Filtro!$A$4:$AX$552,23,FALSE),0)","v":2112},{"$f":"IFERROR(VLOOKUP($A33,Filtro!$A$4:$AX$552,24,FALSE),0)","v":3703},{"$f":"IFERROR(VLOOKUP($A33,Filtro!$A$4:$AX$552,25,FALSE),0)","v":2272},{"$f":"IFERROR(VLOOKUP($A33,Filtro!$A$4:$AX$552,26,FALSE),0)","v":4051},{"$f":"IFERROR(VLOOKUP($A33,Filtro!$A$4:$AX$552,27,FALSE),0)","v":2359},{"$f":"IFERROR(VLOOKUP($A33,Filtro!$A$4:$AX$552,28,FALSE),0)","v":3999},{"$f":"IFERROR(VLOOKUP($A33,Filtro!$A$4:$AX$552,29,FALSE),0)","v":2231},{"$f":"IFERROR(VLOOKUP($A33,Filtro!$A$4:$AX$552,30,FALSE),0)","v":3554},{"$f":"IFERROR(VLOOKUP($A33,Filtro!$A$4:$AX$552,31,FALSE),0)","v":0},{"$f":"IFERROR(VLOOKUP($A33,Filtro!$A$4:$AX$552,32,FALSE),0)","v":0},{"$f":"IFERROR(VLOOKUP($A33,Filtro!$A$4:$AX$552,33,FALSE),0)","v":37},{"$f":"IFERROR(VLOOKUP($A33,Filtro!$A$4:$AX$552,34,FALSE),0)","v":59},{"$f":"IFERROR(VLOOKUP($A33,Filtro!$A$4:$AX$552,35,FALSE),0)","v":20},{"$f":"IFERROR(VLOOKUP($A33,Filtro!$A$4:$AX$552,36,FALSE),0)","v":38},{"$f":"IFERROR(VLOOKUP($A33,Filtro!$A$4:$AX$552,37,FALSE),0)","v":0},{"$f":"IFERROR(VLOOKUP($A33,Filtro!$A$4:$AX$552,38,FALSE),0)","v":0},{"$f":"IFERROR(VLOOKUP($A33,Filtro!$A$4:$AX$552,39,FALSE),0)","v":0},{"$f":"IFERROR(VLOOKUP($A33,Filtro!$A$4:$AX$552,40,FALSE),0)","v":0},{"$f":"IFERROR(VLOOKUP($A33,Filtro!$A$4:$AX$552,41,FALSE),0)","v":0},{"$f":"IFERROR(VLOOKUP($A33,Filtro!$A$4:$AX$552,42,FALSE),0)","v":0},{"$nulls":10},{"$f":"IF(AND(E33<>0,AI33=\"\"),\"* No olvide escribir en la celda de 'Pueblos Originarios' (Digite CERO si no tiene). \",IF(AND(F33<>0,AJ33=\"\"),\"* No olvide escribir en la celda de 'Pueblos Originarios' (Digite CERO si no tiene). \",\"\"))","v":""},{"$f":"IF(AND(E33<>0,AK33=\"\"),\"* No olvide escribir en la celda de 'Población Migrantes' (Digite CERO si no tiene). \",IF(AND(F33<>0,AL33=\"\"),\"* No olvide escribir en la celda de 'Población Migrantes' (Digite CERO si no tiene). \",\"\"))","v":""},{"$f":"IF($E$33>=$AI$33,\"\",\"* Pueblos Originarios-Hombres no debe ser mayor al Total de personas Hombres. \")","v":""},{"$f":"IF($F$33>=$AJ$33,\"\",\"* Pueblos Originarios-Mujeres no debe ser mayor al Total de personas Mujeres. \")","v":""},{"$f":"IF($E33>=$AK33,\"\",\"* Población Migrantes-Hombres no debe ser mayor al Total de personas Hombres. \")","v":""},{"$f":"IF($F33>=$AL33,\"\",\"* Pueblos Originarios-Mujeres no debe ser mayor al Total de personas Mujeres. \")","v":""},{"$f":"IF($G$33<=$G$16,\"\",\"* Pacientes 15 a 19 años (Hombres) con PA<140/90 mmHg debe ser menor o igual a Hipertensos en Sección A. \")","v":""},{"$f":"IF($H$33<=$H$16,\"\",\"* Pacientes 15 a 19 años (Mujeres) con PA<140/90 mmHg debe ser menor o igual a Hipertensos en Sección A. \")","v":""},{"$f":"IF($I$33<=$I$16,\"\",\"* Pacientes 20 a 24 años (Hombres) con PA<140/90 mmHg debe ser menor o igual a Hipertensos en Sección A. \")","v":""},{"$f":"IF($J$33<=$J$16,\"\",\"* Pacientes 20 a 24 años (Mujeres) con PA<140/90 mmHg debe ser menor o igual a Hipertensos en Sección A. \")","v":""},{"$f":"IF($K$33<=$K$16,\"\",\"* Pacientes 25 a 29 años (Hombres) con PA<140/90 mmHg debe ser menor o igual a Hipertensos en Sección A. \")","v":""},{"$f":"IF($L$33<=$L$16,\"\",\"* Pacientes 25 a 29 años (Mujeres) con PA<140/90 mmHg debe ser menor o igual a Hipertensos en Sección A. \")","v":""},{"$f":"IF($M$33<=$M$16,\"\",\"* Pacientes 30 a 34 años (Hombres) con PA<140/90 mmHg debe ser menor o igual a Hipertensos en Sección A. \")","v":""},{"$f":"IF($N$33<=$N$16,\"\",\"* Pacientes 30 a 34 años (Mujeres) con PA<140/90 mmHg debe ser menor o igual a Hipertensos en Sección A. \")","v":""},{"$f":"IF($O$33<=$O$16,\"\",\"* Pacientes 35 a 39 años (Hombres) con PA<140/90 mmHg debe ser menor o igual a Hipertensos en Sección A. \")","v":""},{"$f":"IF($P$33<=$P$16,\"\",\"* Pacientes 35 a 39 años (Mujeres) con PA<140/90 mmHg debe ser menor o igual a Hipertensos en Sección A. \")","v":""},{"$f":"IF($Q$33<=$Q$16,\"\",\"* Pacientes 40 a 44 años (Hombres) con PA<140/90 mmHg debe ser menor o igual a Hipertensos en Sección A. \")","v":""},{"$f":"IF($R$33<=$R$16,\"\",\"* Pacientes 40 a 44 años (Mujeres) con PA<140/90 mmHg debe ser menor o igual a Hipertensos en Sección A. \")","v":""},{"$f":"IF($S$33<=$S$16,\"\",\"* Pacientes 45 a 49 años (Hombres) con PA<140/90 mmHg debe ser menor o igual a Hipertensos en Sección A. \")","v":""},{"$f":"IF($T$33<=$T$16,\"\",\"* Pacientes 45 a 49 años (Mujeres) con PA<140/90 mmHg debe ser menor o igual a Hipertensos en Sección A. \")","v":""},{"$f":"IF($U$33<=$U$16,\"\",\"* Pacientes 50 a 54 años (Hombres) con PA<140/90 mmHg debe ser menor o igual a Hipertensos en Sección A. \")","v":""},{"$f":"IF($V$33<=$V$16,\"\",\"* Pacientes 50 a 54 años (Mujeres) con PA<140/90 mmHg debe ser menor o igual a Hipertensos en Sección A. \")","v":""},{"$f":"IF($W$33<=$W$16,\"\",\"* Pacientes 55 a 59 años (Hombres) con PA<140/90 mmHg debe ser menor o igual a Hipertensos en Sección A. \")","v":""},{"$f":"IF($X$33<=$X$16,\"\",\"* Pacientes 55 a 59 años (Mujeres) con PA<140/90 mmHg debe ser menor o igual a Hipertensos en Sección A. \")","v":""},{"$f":"IF($Y$33<=$Y$16,\"\",\"* Pacientes 60 a 64 años (Hombres) con PA<140/90 mmHg debe ser menor o igual a Hipertensos en Sección A. \")","v":""},{"$f":"IF($Z$33<=$Z$16,\"\",\"* Pacientes 60 a 64 años (Mujeres) con PA<140/90 mmHg debe ser menor o igual a Hipertensos en Sección A. \")","v":""},{"$f":"IF($AA$33<=$AA$16,\"\",\"* Pacientes 65 a 69 años (Hombres) con PA<140/90 mmHg debe ser menor o igual a Hipertensos en Sección A. \")","v":""},{"$f":"IF($AB$33<=$AB$16,\"\",\"* Pacientes 65 a 69 años (Mujeres) con PA<140/90 mmHg debe ser menor o igual a Hipertensos en Sección A. \")","v":""},{"$f":"IF($AC$33<=$AC$16,\"\",\"* Pacientes 70 a 74 años (Hombres) con PA<140/90 mmHg debe ser menor o igual a Hipertensos en Sección A. \")","v":""},{"$f":"IF($AD$33<=$AD$16,\"\",\"* Pacientes 70 a 74 años (Mujeres) con PA<140/90 mmHg debe ser menor o igual a Hipertensos en Sección A. \")","v":""},{"$f":"IF($AE$33<=$AE$16,\"\",\"* Pacientes 75 a 79 años (Hombres) con PA<140/90 mmHg debe ser menor o igual a Hipertensos en Sección A. \")","v":""},{"$f":"IF($AF$33<=$AF$16,\"\",\"* Pacientes 75 a 79 años (Mujeres) con PA<140/90 mmHg debe ser menor o igual a Hipertensos en Sección A. \")","v":""},{"$f":"IF($AG$33<=$AG$16,\"\",\"* Pacientes 80 y más años (Hombres) con PA<140/90 mmHg debe ser menor o igual a Hipertensos en Sección A. \")","v":""},{"$f":"IF($AH$33<=$AH$16,\"\",\"* Pacientes 80 y más años (Mujeres) con PA<140/90 mmHg debe ser menor o igual a Hipertensos en Sección A. \")","v":""},null,null,{"$f":"IF(AND(E33<>0,AI33=\"\"),1,IF(AND(F33<>0,AJ33=\"\"),1,0))","v":0},{"$f":"IF(AND(E33<>0,AK33=\"\"),1,IF(AND(F33<>0,AL33=\"\"),1,0))","v":0},{"$f":"IF($E$33>=$AI$33,0,1)","v":0},{"$f":"IF($F$33>=$AJ$33,0,1)","v":0},{"$f":"IF($E33>=$AK33,0,1)","v":0},{"$f":"IF($F33>=$AL33,0,1)","v":0},{"$f":"IF(G$33<=G$16,0,1)","v":0},0,0,0,0,0,0,0,0,0,0,0,0,0,0,0,0,0,0,0,0,0,0,0,0,0,0,0]
["P4200100",null,"PA < 150/90 mmHg ",{"$f":"IFERROR(VLOOKUP($A34,Filtro!$A$4:$AX$552,2,FALSE),0)","v":7938},{"$f":"IFERROR(VLOOKUP($A34,Filtro!$A$4:$AX$552,3,FALSE),0)","v":3107},{"$f":"IFERROR(VLOOKUP($A34,Filtro!$A$4:$AX$552,4,FALSE),0)","v":4831},{"$f":"IFERROR(VLOOKUP($A34,Filtro!$A$4:$AX$552,5,FALSE),0)","v":0},{"$f":"IFERROR(VLOOKUP($A34,Filtro!$A$4:$AX$552,6,FALSE),0)","v":0},{"$f":"IFERROR(VLOOKUP($A34,Filtro!$A$4:$AX$552,7,FALSE),0)","v":0},{"$f":"IFERROR(VLOOKUP($A34,Filtro!$A$4:$AX$552,8,FALSE),0)","v":0},{"$f":"IFERROR(VLOOKUP($A34,Filtro!$A$4:$AX$552,9,FALSE),0)","v":0},{"$f":"IFERROR(VLOOKUP($A34,Filtro!$A$4:$AX$552,10,FALSE),0)","v":0},{"$f":"IFERROR(VLOOKUP($A34,Filtro!$A$4:$AX$552,11,FALSE),0)","v":0},{"$f":"IFERROR(VLOOKUP($A34,Filtro!$A$4:$AX$552,12,FALSE),0)","v":0},{"$f":"IFERROR(VLOOKUP($A34,Filtro!$A$4:$AX$552,13,FALSE),0)","v":0},{"$f":"IFERROR(VLOOKUP($A34,Filtro!$A$4:$AX$552,14,FALSE),0)","v":0},{"$f":"IFERROR(VLOOKUP($A34,Filtro!$A$4:$AX$552,15,FALSE),0)","v":0},{"$f":"IFERROR(VLOOKUP($A34,Filtro!$A$4:$AX$552,16,FALSE),0)","v":0},{"$f":"IFERROR(VLOOKUP($A34,Filtro!$A$4:$AX$552,17,FALSE),0)","v":0},{"$f":"IFERROR(VLOOKUP($A34,Filtro!$A$4:$AX$552,18,FALSE),0)","v":0},{"$f":"IFERROR(VLOOKUP($A34,Filtro!$A$4:$AX$552,19,FALSE),0)","v":0},{"$f":"IFERROR(VLOOKUP($A34,Filtro!$A$4:$AX$552,20,FALSE),0)","v":0},{"$f":"IFERROR(VLOOKUP($A34,Filtro!$A$4:$AX$552,21,FALSE),0)","v":0},{"$f":"IFERROR(VLOOKUP($A34,Filtro!$A$4:$AX$552,22,FALSE),0)","v":0},{"$f":"IFERROR(VLOOKUP($A34,Filtro!$A$4:$AX$552,23,FALSE),0)","v":0},{"$f":"IFERROR(VLOOKUP($A34,Filtro!$A$4:$AX$552,24,FALSE),0)","v":0},{"$f":"IFERROR(VLOOKUP($A34,Filtro!$A$4:$AX$552,25,FALSE),0)","v":0},{"$f":"IFERROR(VLOOKUP($A34,Filtro!$A$4:$AX$552,26,FALSE),0)","v":0},{"$f":"IFERROR(VLOOKUP($A34,Filtro!$A$4:$AX$552,27,FALSE),0)","v":0},{"$f":"IFERROR(VLOOKUP($A34,Filtro!$A$4:$AX$552,28,FALSE),0)","v":0},{"$f":"IFERROR(VLOOKUP($A34,Filtro!$A$4:$AX$552,29,FALSE),0)","v":0},{"$f":"IFERROR(VLOOKUP($A34,Filtro!$A$4:$AX$552,30,FALSE),0)","v":0},{"$f":"IFERROR(VLOOKUP($A34,Filtro!$A$4:$AX$552,31,FALSE),0)","v":3107},{"$f":"IFERROR(VLOOKUP($A34,Filtro!$A$4:$AX$552,32,FALSE),0)","v":4831},{"$f":"IFERROR(VLOOKUP($A34,Filtro!$A$4:$AX$552,33,FALSE),0)","v":4},{"$f":"IFERROR(VLOOKUP($A34,Filtro!$A$4:$AX$552,34,FALSE),0)","v":4},{"$f":"IFERROR(VLOOKUP($A34,Filtro!$A$4:$AX$552,35,FALSE),0)","v":23},{"$f":"IFERROR(VLOOKUP($A34,Filtro!$A$4:$AX$552,36,FALSE),0)","v":35},{"$f":"IFERROR(VLOOKUP($A34,Filtro!$A$4:$AX$552,37,FALSE),0)","v":0},{"$f":"IFERROR(VLOOKUP($A34,Filtro!$A$4:$AX$552,38,FALSE),0)","v":0},{"$f":"IFERROR(VLOOKUP($A34,Filtro!$A$4:$AX$552,39,FALSE),0)","v":0},{"$f":"IFERROR(VLOOKUP($A34,Filtro!$A$4:$AX$552,40,FALSE),0)","v":0},{"$f":"IFERROR(VLOOKUP($A34,Filtro!$A$4:$AX$552,41,FALSE),0)","v":0},{"$f":"IFERROR(VLOOKUP($A34,Filtro!$A$4:$AX$552,42,FALSE),0)","v":0},{"$nulls":10},"","",{"$f":"IF($E$34>=$AI$34,\"\",\"* Pueblos Originarios-Hombres no debe ser mayor al Total de personas Hombres. \")","v":""},{"$f":"IF($F$34>=$AJ$34,\"\",\"* Pueblos Originarios-Mujeres no debe ser mayor al Total de personas Mujeres. \")","v":""},"","",{"$nulls":30},{"$f":"IF(AND(E34<>0,AI34=\"\"),1,IF(AND(F34<>0,AJ34=\"\"),1,0))","v":0},{"$f":"IF(AND(E34<>0,AK34=\"\"),1,IF(AND(F34<>0,AL34=\"\"),1,0))","v":0},{"$f":"IF($E$34>=$AI$34,0,1)","v":0},{"$f":"IF($F$34>=$AJ$34,0,1)","v":0},0,{"$f":"IF($F34>=$AL34,0,1)","v":0}]
["P4180300","PERSONAS BAJO CONTROL POR DIABETES MELLITUS","HbA1C<7% ",{"$f":"IFERROR(VLOOKUP($A35,Filtro!$A$4:$AX$552,2,FALSE),0)","v":9689},{"$f":"IFERROR(VLOOKUP($A35,Filtro!$A$4:$AX$552,3,FALSE),0)","v":3443},{"$f":"IFERROR(VLOOKUP($A35,Filtro!$A$4:$AX$552,4,FALSE),0)","v":6246},{"$f":"IFERROR(VLOOKUP($A35,Filtro!$A$4:$AX$552,5,FALSE),0)","v":6},{"$f":"IFERROR(VLOOKUP($A35,Filtro!$A$4:$AX$552,6,FALSE),0)","v":5},{"$f":"IFERROR(VLOOKUP($A35,Filtro!$A$4:$AX$552,7,FALSE),0)","v":1},{"$f":"IFERROR(VLOOKUP($A35,Filtro!$A$4:$AX$552,8,FALSE),0)","v":10},{"$f":"IFERROR(VLOOKUP($A35,Filtro!$A$4:$AX$552,9,FALSE),0)","v":14},{"$f":"IFERROR(VLOOKUP($A35,Filtro!$A$4:$AX$552,10,FALSE),0)","v":39},{"$f":"IFERROR(VLOOKUP($A35,Filtro!$A$4:$AX$552,11,FALSE),0)","v":24},{"$f":"IFERROR(VLOOKUP($A35,Filtro!$A$4:$AX$552,12,FALSE),0)","v":69},{"$f":"IFERROR(VLOOKUP($A35,Filtro!$A$4:$AX$552,13,FALSE),0)","v":38},{"$f":"IFERROR(VLOOKUP($A35,Filtro!$A$4:$AX$552,14,FALSE),0)","v":113},{"$f":"IFERROR(VLOOKUP($A35,Filtro!$A$4:$AX$552,15,FALSE),0)","v":88},{"$f":"IFERROR(VLOOKUP($A35,Filtro!$A$4:$AX$552,16,FALSE),0)","v":216},{"$f":"IFERROR(VLOOKUP($A35,Filtro!$A$4:$AX$552,17,FALSE),0)","v":173},{"$f":"IFERROR(VLOOKUP($A35,Filtro!$A$4:$AX$552,18,FALSE),0)","v":360},{"$f":"IFERROR(VLOOKUP($A35,Filtro!$A$4:$AX$552,19,FALSE),0)","v":294},{"$f":"IFERROR(VLOOKUP($A35,Filtro!$A$4:$AX$552,20,FALSE),0)","v":609},{"$f":"IFERROR(VLOOKUP($A35,Filtro!$A$4:$AX$552,21,FALSE),0)","v":388},{"$f":"IFERROR(VLOOKUP($A35,Filtro!$A$4:$AX$552,22,FALSE),0)","v":783},{"$f":"IFERROR(VLOOKUP($A35,Filtro!$A$4:$AX$552,23,FALSE),0)","v":522},{"$f":"IFERROR(VLOOKUP($A35,Filtro!$A$4:$AX$552,24,FALSE),0)","v":963},{"$f":"IFERROR(VLOOKUP($A35,Filtro!$A$4:$AX$552,25,FALSE),0)","v":588},{"$f":"IFERROR(VLOOKUP($A35,Filtro!$A$4:$AX$552,26,FALSE),0)","v":1040},{"$f":"IFERROR(VLOOKUP($A35,Filtro!$A$4:$AX$552,27,FALSE),0)","v":653},{"$f":"IFERROR(VLOOKUP($A35,Filtro!$A$4:$AX$552,28,FALSE),0)","v":1043},{"$f":"IFERROR(VLOOKUP($A35,Filtro!$A$4:$AX$552,29,FALSE),0)","v":654},{"$f":"IFERROR(VLOOKUP($A35,Filtro!$A$4:$AX$552,30,FALSE),0)","v":996},{"$f":"IFERROR(VLOOKUP($A35,Filtro!$A$4:$AX$552,31,FALSE),0)","v":0},{"$f":"IFERROR(VLOOKUP($A35,Filtro!$A$4:$AX$552,32,FALSE),0)","v":0},{"$f":"IFERROR(VLOOKUP($A35,Filtro!$A$4:$AX$552,33,FALSE),0)","v":4},{"$f":"IFERROR(VLOOKUP($A35,Filtro!$A$4:$AX$552,34,FALSE),0)","v":10},{"$f":"IFERROR(VLOOKUP($A35,Filtro!$A$4:$AX$552,35,FALSE),0)","v":7},{"$f":"IFERROR(VLOOKUP($A35,Filtro!$A$4:$AX$552,36,FALSE),0)","v":9},{"$f":"IFERROR(VLOOKUP($A35,Filtro!$A$4:$AX$552,37,FALSE),0)","v":0},{"$f":"IFERROR(VLOOKUP($A35,Filtro!$A$4:$AX$552,38,FALSE),0)","v":0},{"$f":"IFERROR(VLOOKUP($A35,Filtro!$A$4:$AX$552,39,FALSE),0)","v":0},{"$f":"IFERROR(VLOOKUP($A35,Filtro!$A$4:$AX$552,40,FALSE),0)","v":0},{"$f":"IFERROR(VLOOKUP($A35,Filtro!$A$4:$AX$552,41,FALSE),0)","v":0},{"$f":"IFERROR(VLOOKUP($A35,Filtro!$A$4:$AX$552,42,FALSE),0)","v":0},{"$nulls":10},"","",{"$f":"IF($E$35>=$AI$35,\"\",\"* Pueblos Originarios-Hombres no debe ser mayor al Total de personas Hombres. \")","v":""},{"$f":"IF($F$35>=$AJ$35,\"\",\"* Pueblos Originarios-Mujeres no debe ser mayor al Total de personas Mujeres. \")","v":""},"","",{"$f":"IF($G$35<=$G$17,\"\",\"* Pacientes 15 a 19 años (Hombres) con HbA1C<7% debe ser menor o igual a Diabéticos en Sección A. \")","v":""},{"$f":"IF($H$35<=$H$17,\"\",\"* Pacientes 15 a 19 años (Mujeres) con HbA1C<7% debe ser menor o igual a Diabéticos en Sección A. \")","v":""},{"$f":"IF($I$35<=$I$17,\"\",\"* Pacientes 20 a 24 años (Hombres) con HbA1C<7% debe ser menor o igual a Diabéticos en Sección A. \")","v":""},{"$f":"IF($J$35<=$J$17,\"\",\"* Pacientes 20 a 24 años (Mujeres) con HbA1C<7% debe ser menor o igual a Diabéticos en Sección A. \")","v":""},{"$f":"IF($K$35<=$K$17,\"\",\"* Pacientes 25 a 29 años (Hombres) con HbA1C<7% debe ser menor o igual a Diabéticos en Sección A. \")","v":""},{"$f":"IF($L$35<=$L$17,\"\",\"* Pacientes 25 a 29 años (Mujeres) con HbA1C<7% debe ser menor o igual a Diabéticos en Sección A. \")","v":""},{"$f":"IF($M$35<=$M$17,\"\",\"* Pacientes 30 a 34 años (Hombres) con HbA1C<7% debe ser menor o igual a Diabéticos en Sección A. \")","v":""},{"$f":"IF($N$35<=$N$17,\"\",\"* Pacientes 30 a 34 años (Mujeres) con HbA1C<7% debe ser menor o igual a Diabéticos en Sección A. \")","v":""},{"$f":"IF($O$35<=$O$17,\"\",\"* Pacientes 35 a 39 años (Hombres) con HbA1C<7% debe ser menor o igual a Diabéticos en Sección A. \")","v":""},{"$f":"IF($P$35<=$P$17,\"\",\"* Pacientes 35 a 39 años (Mujeres) con HbA1C<7% debe ser menor o igual a Diabéticos en Sección A. \")","v":""},{"$f":"IF($Q$35<=$Q$17,\"\",\"* Pacientes 40 a 44 años (Hombres) con HbA1C<7% debe ser menor o igual a Diabéticos en Sección A. \")","v":""},{"$f":"IF($R$35<=$R$17,\"\",\"* Pacientes 40 a 44 años (Mujeres) con HbA1C<7% debe ser menor o igual a Diabéticos en Sección A. \")","v":""},{"$f":"IF($S$35<=$S$17,\"\",\"* Pacientes 45 a 49 años (Hombres) con HbA1C<7% debe ser menor o igual a Diabéticos en Sección A. \")","v":""},{"$f":"IF($T$35<=$T$17,\"\",\"* Pacientes 45 a 49 años (Mujeres) con HbA1C<7% debe ser menor o igual a Diabéticos en Sección A. \")","v":""},{"$f":"IF($U$35<=$U$17,\"\",\"* Pacientes 50 a 54 años (Hombres) con HbA1C<7% debe ser menor o igual a Diabéticos en Sección A. \")","v":""},{"$f":"IF($V$35<=$V$17,\"\",\"* Pacientes 50 a 54 años (Mujeres) con HbA1C<7% debe ser menor o igual a Diabéticos en Sección A. \")","v":""},{"$f":"IF($W$35<=$W$17,\"\",\"* Pacientes 55 a 59 años (Hombres) con HbA1C<7% debe ser menor o igual a Diabéticos en Sección A. \")","v":""},{"$f":"IF($X$35<=$X$17,\"\",\"* Pacientes 55 a 59 años (Mujeres) con HbA1C<7% debe ser menor o igual a Diabéticos en Sección A. \")","v":""},{"$f":"IF($Y$35<=$Y$17,\"\",\"* Pacientes 60 a 64 años (Hombres) con HbA1C<7% debe ser menor o igual a Diabéticos en Sección A. \")","v":""},{"$f":"IF($Z$35<=$Z$17,\"\",\"* Pacientes 60 a 64 años (Mujeres) con HbA1C<7% debe ser menor o igual a Diabéticos en Sección A. \")","v":""},{"$f":"IF($AA$35<=$AA$17,\"\",\"* Pacientes 65 a 69 años (Hombres) con HbA1C<7% debe ser menor o igual a Diabéticos en Sección A. \")","v":""},{"$f":"IF($AB$35<=$AB$17,\"\",\"* Pacientes 65 a 69 años (Mujeres) con HbA1C<7% debe ser menor o igual a Diabéticos en Sección A. \")","v":""},{"$f":"IF($AC$35<=$AC$17,\"\",\"* Pacientes 70 a 74 años (Hombres) con HbA1C<7% debe ser menor o igual a Diabéticos en Sección A. \")","v":""},{"$f":"IF($AD$35<=$AD$17,\"\",\"* Pacientes 70 a 74 años (Mujeres) con HbA1C<7% debe ser menor o igual a Diabéticos en Sección A. \")","v":""},{"$f":"IF($AE$35<=$AE$17,\"\",\"* Pacientes 75 a 79 años (Hombres) con HbA1C<7% debe ser menor o igual a Diabéticos en Sección A. \")","v":""},{"$f":"IF($AF$35<=$AF$17,\"\",\"* Pacientes 75 a 79 años (Mujeres) con HbA1C<7% debe ser menor o igual a Diabéticos en Sección A. \")","v":""},{"$f":"IF($AG$35<=$AG$17,\"\",\"* Pacientes 80 y más años (Hombres) con HbA1C<7% debe ser menor o igual a Diabéticos en Sección A. \")","v":""},{"$f":"IF($AH$36<=$AH$17,\"\",\"* Pacientes 80 y más años (Mujeres) con HbA1C<8% debe ser menor o igual a Diabéticos en Sección A. \")","v":""},null,null,0,0,{"$f":"IF($E$35>=$AI$35,0,1)","v":0},{"$f":"IF($F$35>=$AJ$35,0,1)","v":0},0,{"$f":"IF($F35>=$AL35,0,1)","v":0},{"$f":"IF(G$35<=G$17,0,1)","v":0},0,0,0,0,0,0,0,0,0,0,0,0,0,0,0,0,0,0,0,0,0,0,0,0,0,0,0]
["P4200200",null,"HbA1C<8%",{"$f":"IFERROR(VLOOKUP($A36,Filtro!$A$4:$AX$552,2,FALSE),0)","v":1949},{"$f":"IFERROR(VLOOKUP($A36,Filtro!$A$4:$AX$552,3,FALSE),0)","v":711},{"$f":"IFERROR(VLOOKUP($A36,Filtro!$A$4:$AX$552,4,FALSE),0)","v":1238},{"$f":"IFERROR(VLOOKUP($A36,Filtro!$A$4:$AX$552,5,FALSE),0)","v":0},{"$f":"IFERROR(VLOOKUP($A36,Filtro!$A$4:$AX$552,6,FALSE),0)","v":0},{"$f":"IFERROR(VLOOKUP($A36,Filtro!$A$4:$AX$552,7,FALSE),0)","v":0},{"$f":"IFERROR(VLOOKUP($A36,Filtro!$A$4:$AX$552,8,FALSE),0)","v":0},{"$f":"IFERROR(VLOOKUP($A36,Filtro!$A$4:$AX$552,9,FALSE),0)","v":0},{"$f":"IFERROR(VLOOKUP($A36,Filtro!$A$4:$AX$552,10,FALSE),0)","v":0},{"$f":"IFERROR(VLOOKUP($A36,Filtro!$A$4:$AX$552,11,FALSE),0)","v":0},{"$f":"IFERROR(VLOOKUP($A36,Filtro!$A$4:$AX$552,12,FALSE),0)","v":0},{"$f":"IFERROR(VLOOKUP($A36,Filtro!$A$4:$AX$552,13,FALSE),0)","v":0},{"$f":"IFERROR(VLOOKUP($A36,Filtro!$A$4:$AX$552,14,FALSE),0)","v":0},{"$f":"IFERROR(VLOOKUP($A36,Filtro!$A$4:$AX$552,15,FALSE),0)","v":0},{"$f":"IFERROR(VLOOKUP($A36,Filtro!$A$4:$AX$552,16,FALSE),0)","v":0},{"$f":"IFERROR(VLOOKUP($A36,Filtro!$A$4:$AX$552,17,FALSE),0)","v":0},{"$f":"IFERROR(VLOOKUP($A36,Filtro!$A$4:$AX$552,18,FALSE),0)","v":0},{"$f":"IFERROR(VLOOKUP($A36,Filtro!$A$4:$AX$552,19,FALSE),0)","v":0},{"$f":"IFERROR(VLOOKUP($A36,Filtro!$A$4:$AX$552,20,FALSE),0)","v":0},{"$f":"IFERROR(VLOOKUP($A36,Filtro!$A$4:$AX$552,21,FALSE),0)","v":0},{"$f":"IFERROR(VLOOKUP($A36,Filtro!$A$4:$AX$552,22,FALSE),0)","v":0},{"$f":"IFERROR(VLOOKUP($A36,Filtro!$A$4:$AX$552,23,FALSE),0)","v":0},{"$f":"IFERROR(VLOOKUP($A36,Filtro!$A$4:$AX$552,24,FALSE),0)","v":0},{"$f":"IFERROR(VLOOKUP($A36,Filtro!$A$4:$AX$552,25,FALSE),0)","v":0},{"$f":"IFERROR(VLOOKUP($A36,Filtro!$A$4:$AX$552,26,FALSE),0)","v":0},{"$f":"IFERROR(VLOOKUP($A36,Filtro!$A$4:$AX$552,27,FALSE),0)","v":0},{"$f":"IFERROR(VLOOKUP($A36,Filtro!$A$4:$AX$552,28,FALSE),0)","v":0},{"$f":"IFERROR(VLOOKUP($A36,Filtro!$A$4:$AX$552,29,FALSE),0)","v":0},{"$f":"IFERROR(VLOOKUP($A36,Filtro!$A$4:$AX$552,30,FALSE),0)","v":0},{"$f":"IFERROR(VLOOKUP($A36,Filtro!$A$4:$AX$552,31,FALSE),0)","v":711},{"$f":"IFERROR(VLOOKUP($A36,Filtro!$A$4:$AX$552,32,FALSE),0)","v":1238},{"$f":"IFERROR(VLOOKUP($A36,Filtro!$A$4:$AX$552,33,FALSE),0)","v":5},{"$f":"IFERROR(VLOOKUP($A36,Filtro!$A$4:$AX$552,34,FALSE),0)","v":4},{"$f":"IFERROR(VLOOKUP($A36,Filtro!$A$4:$AX$552,35,FALSE),0)","v":3},{"$f":"IFERROR(VLOOKUP($A36,Filtro!$A$4:$AX$552,36,FALSE),0)","v":5},{"$f":"IFERROR(VLOOKUP($A36,Filtro!$A$4:$AX$552,37,FALSE),0)","v":0},{"$f":"IFERROR(VLOOKUP($A36,Filtro!$A$4:$AX$552,38,FALSE),0)","v":0},{"$f":"IFERROR(VLOOKUP($A36,Filtro!$A$4:$AX$552,39,FALSE),0)","v":0},{"$f":"IFERROR(VLOOKUP($A36,Filtro!$A$4:$AX$552,40,FALSE),0)","v":0},{"$f":"IFERROR(VLOOKUP($A36,Filtro!$A$4:$AX$552,41,FALSE),0)","v":0},{"$f":"IFERROR(VLOOKUP($A36,Filtro!$A$4:$AX$552,42,FALSE),0)","v":0},{"$nulls":10},"","",{"$f":"IF($E$36>=$AI$36,\"\",\"* Pueblos Originarios-Hombres no debe ser mayor al Total de personas Hombres. \")","v":""},{"$f":"IF($F$36>=$AJ$36,\"\",\"* Pueblos Originarios-Mujeres no debe ser mayor al Total de personas Mujeres. \")","v":""},"","",{"$nulls":30},0,0,{"$f":"IF($E$36>=$AI$36,0,1)","v":0},{"$f":"IF($F$36>=$AJ$36,0,1)","v":0},{"$f":"IF($E36>=$AK36,0,1)","v":0},{"$f":"IF($F36>=$AL36,0,1)","v":0}]
["P4190920",null,"HbA1C<7% - PA < 140/90mmHg y Colesterol LDL < 100 mg/dl",{"$f":"IFERROR(VLOOKUP($A37,Filtro!$A$4:$AX$552,2,FALSE),0)","v":3769},{"$f":"IFERROR(VLOOKUP($A37,Filtro!$A$4:$AX$552,3,FALSE),0)","v":1356},{"$f":"IFERROR(VLOOKUP($A37,Filtro!$A$4:$AX$552,4,FALSE),0)","v":2413},{"$f":"IFERROR(VLOOKUP($A37,Filtro!$A$4:$AX$552,5,FALSE),0)","v":3},{"$f":"IFERROR(VLOOKUP($A37,Filtro!$A$4:$AX$552,6,FALSE),0)","v":2},{"$f":"IFERROR(VLOOKUP($A37,Filtro!$A$4:$AX$552,7,FALSE),0)","v":0},{"$f":"IFERROR(VLOOKUP($A37,Filtro!$A$4:$AX$552,8,FALSE),0)","v":4},{"$f":"IFERROR(VLOOKUP($A37,Filtro!$A$4:$AX$552,9,FALSE),0)","v":4},{"$f":"IFERROR(VLOOKUP($A37,Filtro!$A$4:$AX$552,10,FALSE),0)","v":15},{"$f":"IFERROR(VLOOKUP($A37,Filtro!$A$4:$AX$552,11,FALSE),0)","v":8},{"$f":"IFERROR(VLOOKUP($A37,Filtro!$A$4:$AX$552,12,FALSE),0)","v":27},{"$f":"IFERROR(VLOOKUP($A37,Filtro!$A$4:$AX$552,13,FALSE),0)","v":11},{"$f":"IFERROR(VLOOKUP($A37,Filtro!$A$4:$AX$552,14,FALSE),0)","v":38},{"$f":"IFERROR(VLOOKUP($A37,Filtro!$A$4:$AX$552,15,FALSE),0)","v":32},{"$f":"IFERROR(VLOOKUP($A37,Filtro!$A$4:$AX$552,16,FALSE),0)","v":75},{"$f":"IFERROR(VLOOKUP($A37,Filtro!$A$4:$AX$552,17,FALSE),0)","v":52},{"$f":"IFERROR(VLOOKUP($A37,Filtro!$A$4:$AX$552,18,FALSE),0)","v":117},{"$f":"IFERROR(VLOOKUP($A37,Filtro!$A$4:$AX$552,19,FALSE),0)","v":97},{"$f":"IFERROR(VLOOKUP($A37,Filtro!$A$4:$AX$552,20,FALSE),0)","v":181},{"$f":"IFERROR(VLOOKUP($A37,Filtro!$A$4:$AX$552,21,FALSE),0)","v":127},{"$f":"IFERROR(VLOOKUP($A37,Filtro!$A$4:$AX$552,22,FALSE),0)","v":291},{"$f":"IFERROR(VLOOKUP($A37,Filtro!$A$4:$AX$552,23,FALSE),0)","v":172},{"$f":"IFERROR(VLOOKUP($A37,Filtro!$A$4:$AX$552,24,FALSE),0)","v":332},{"$f":"IFERROR(VLOOKUP($A37,Filtro!$A$4:$AX$552,25,FALSE),0)","v":208},{"$f":"IFERROR(VLOOKUP($A37,Filtro!$A$4:$AX$552,26,FALSE),0)","v":342},{"$f":"IFERROR(VLOOKUP($A37,Filtro!$A$4:$AX$552,27,FALSE),0)","v":233},{"$f":"IFERROR(VLOOKUP($A37,Filtro!$A$4:$AX$552,28,FALSE),0)","v":345},{"$f":"IFERROR(VLOOKUP($A37,Filtro!$A$4:$AX$552,29,FALSE),0)","v":182},{"$f":"IFERROR(VLOOKUP($A37,Filtro!$A$4:$AX$552,30,FALSE),0)","v":280},{"$f":"IFERROR(VLOOKUP($A37,Filtro!$A$4:$AX$552,31,FALSE),0)","v":227},{"$f":"IFERROR(VLOOKUP($A37,Filtro!$A$4:$AX$552,32,FALSE),0)","v":364},{"$f":"IFERROR(VLOOKUP($A37,Filtro!$A$4:$AX$552,33,FALSE),0)","v":5},{"$f":"IFERROR(VLOOKUP($A37,Filtro!$A$4:$AX$552,34,FALSE),0)","v":6},{"$f":"IFERROR(VLOOKUP($A37,Filtro!$A$4:$AX$552,35,FALSE),0)","v":7},{"$f":"IFERROR(VLOOKUP($A37,Filtro!$A$4:$AX$552,36,FALSE),0)","v":12},{"$f":"IFERROR(VLOOKUP($A37,Filtro!$A$4:$AX$552,37,FALSE),0)","v":0},{"$f":"IFERROR(VLOOKUP($A37,Filtro!$A$4:$AX$552,38,FALSE),0)","v":0},{"$f":"IFERROR(VLOOKUP($A37,Filtro!$A$4:$AX$552,39,FALSE),0)","v":0},{"$f":"IFERROR(VLOOKUP($A37,Filtro!$A$4:$AX$552,40,FALSE),0)","v":0},{"$f":"IFERROR(VLOOKUP($A37,Filtro!$A$4:$AX$552,41,FALSE),0)","v":0},{"$f":"IFERROR(VLOOKUP($A37,Filtro!$A$4:$AX$552,42,FALSE),0)","v":0},{"$nulls":10},"","",{"$f":"IF($E$37>=$AI$37,\"\",\"* Pueblos Originarios-Hombres no debe ser mayor al Total de personas Hombres. \")","v":""},{"$f":"IF($F$37>=$AJ$37,\"\",\"* Pueblos Originarios-Mujeres no debe ser mayor al Total de personas Mujeres. \")","v":""},"","",{"$f":"IF($G$37<=$G$35,\"\",\"* Pacientes 15 a 19 años (Hombres) con HbA1C<7% - PA<140/90mmHg debe ser menor o igual a los con HbA1C<7%. \")","v":""},{"$f":"IF($H$37<=$H$35,\"\",\"* Pacientes 15 a 19 años (Mujeres) con HbA1C<7% - PA<140/90mmHg debe ser menor o igual a los con HbA1C<7%. \")","v":""},{"$f":"IF($I$37<=$I$35,\"\",\"* Pacientes 20 a 24 años (Hombres) con HbA1C<7% - PA<140/90mmHg debe ser menor o igual a los con HbA1C<7%. \")","v":""},{"$f":"IF($J$37<=$J$35,\"\",\"* Pacientes 20 a 24 años (Mujeres) con HbA1C<7% - PA<140/90mmHg debe ser menor o igual a los con HbA1C<7%. \")","v":""},{"$f":"IF($K$37<=$K$35,\"\",\"* Pacientes 25 a 29 años (Hombres) con HbA1C<7% - PA<140/90mmHg debe ser menor o igual a los con HbA1C<7%. \")","v":""},{"$f":"IF($L$37<=$L$35,\"\",\"* Pacientes 25 a 29 años (Mujeres) con HbA1C<7% - PA<140/90mmHg debe ser menor o igual a los con HbA1C<7%. \")","v":""},{"$f":"IF($M$37<=$M$35,\"\",\"* Pacientes 30 a 34 años (Hombres) con HbA1C<7% - PA<140/90mmHg debe ser menor o igual a los con HbA1C<7%. \")","v":""},{"$f":"IF($N$37<=$N$35,\"\",\"* Pacientes 30 a 34 años (Mujeres) con HbA1C<7% - PA<140/90mmHg debe ser menor o igual a los con HbA1C<7%. \")","v":""},{"$f":"IF($O$37<=$O$35,\"\",\"* Pacientes 35 a 39 años (Hombres) con HbA1C<7% - PA<140/90mmHg debe ser menor o igual a los con HbA1C<7%. \")","v":""},{"$f":"IF($P$37<=$P$35,\"\",\"* Pacientes 35 a 39 años (Mujeres) con HbA1C<7% - PA<140/90mmHg debe ser menor o igual a los con HbA1C<7%. \")","v":""},{"$f":"IF($Q$37<=$Q$35,\"\",\"* Pacientes 40 a 44 años (Hombres) con HbA1C<7% - PA<140/90mmHg debe ser menor o igual a los con HbA1C<7%. \")","v":""},{"$f":"IF($R$37<=$R$35,\"\",\"* Pacientes 40 a 44 años (Mujeres) con HbA1C<7% - PA<140/90mmHg debe ser menor o igual a los con HbA1C<7%. \")","v":""},{"$f":"IF($S$37<=$S$35,\"\",\"* Pacientes 45 a 49 años (Hombres) con HbA1C<7% - PA<140/90mmHg debe ser menor o igual a los con HbA1C<7%. \")","v":""},{"$f":"IF($T$37<=$T$35,\"\",\"* Pacientes 45 a 49 años (Mujeres) con HbA1C<7% - PA<140/90mmHg debe ser menor o igual a los con HbA1C<7%. \")","v":""},{"$f":"IF($U$37<=$U$35,\"\",\"* Pacientes 50 a 54 años (Hombres) con HbA1C<7% - PA<140/90mmHg debe ser menor o igual a los con HbA1C<7%. \")","v":""},{"$f":"IF($V$37<=$V$35,\"\",\"* Pacientes 50 a 54 años (Mujeres) con HbA1C<7% - PA<140/90mmHg debe ser menor o igual a los con HbA1C<7%. \")","v":""},{"$f":"IF($W$37<=$W$35,\"\",\"* Pacientes 55 a 59 años (Hombres) con HbA1C<7% - PA<140/90mmHg debe ser menor o igual a los con HbA1C<7%. \")","v":""},{"$f":"IF($X$37<=$X$35,\"\",\"* Pacientes 55 a 59 años (Mujeres) con HbA1C<7% - PA<140/90mmHg debe ser menor o igual a los con HbA1C<7%. \")","v":""},{"$f":"IF($Y$37<=$Y$35,\"\",\"* Pacientes 60 a 64 años (Hombres) con HbA1C<7% - PA<140/90mmHg debe ser menor o igual a los con HbA1C<7%. \")","v":""},{"$f":"IF($Z$37<=$Z$35,\"\",\"* Pacientes 60 a 64 años (Mujeres) con HbA1C<7% - PA<140/90mmHg debe ser menor o igual a los con HbA1C<7%. \")","v":""},{"$f":"IF($AA$37<=$AA$35,\"\",\"* Pacientes 65 a 69 años (Hombres) con HbA1C<7% - PA<140/90mmHg debe ser menor o igual a los con HbA1C<7%. \")","v":""},{"$f":"IF($AB$37<=$AB$35,\"\",\"* Pacientes 65 a 69 años (Mujeres) con HbA1C<7% - PA<140/90mmHg debe ser menor o igual a los con HbA1C<7%. \")","v":""},{"$f":"IF($AC$37<=$AC$35,\"\",\"* Pacientes 70 a 74 años (Hombres) con HbA1C<7% - PA<140/90mmHg debe ser menor o igual a los con HbA1C<7%. \")","v":""},{"$f":"IF($AD$37<=$AD$35,\"\",\"* Pacientes 70 a 74 años (Mujeres) con HbA1C<7% - PA<140/90mmHg debe ser menor o igual a los con HbA1C<7%. \")","v":""},{"$f":"IF($AE$37<=$AE$35,\"\",\"* Pacientes 75 a 79 años (Hombres) con HbA1C<7% - PA<140/90mmHg debe ser menor o igual a los con HbA1C<7%. \")","v":""},{"$f":"IF($AF$37<=$AF$35,\"\",\"* Pacientes 75 a 79 años (Mujeres) con HbA1C<7% - PA<140/70mmHg debe ser menor o igual a los con HbA1C<7%. \")","v":""},{"$nulls":4},0,0,{"$f":"IF($E$37>=$AI$37,0,1)","v":0},{"$f":"IF($F$37>=$AJ$37,0,1)","v":0},0,{"$f":"IF($F37>=$AL37,0,1)","v":0},{"$f":"IF(G$37<=G$35,0,1)","v":0},0,0,0,0,0,0,0,0,0,0,0,0,0,0,0,0,0,0,0,0,0,0,0,0,0]
["P4180500",null,"COLESTEROL LDL < 100 mg/dL",{"$f":"IFERROR(VLOOKUP($A38,Filtro!$A$4:$AX$552,2,FALSE),0)","v":8223},{"$f":"IFERROR(VLOOKUP($A38,Filtro!$A$4:$AX$552,3,FALSE),0)","v":3061},{"$f":"IFERROR(VLOOKUP($A38,Filtro!$A$4:$AX$552,4,FALSE),0)","v":5162},{"$f":"IFERROR(VLOOKUP($A38,Filtro!$A$4:$AX$552,5,FALSE),0)","v":4},{"$f":"IFERROR(VLOOKUP($A38,Filtro!$A$4:$AX$552,6,FALSE),0)","v":3},{"$f":"IFERROR(VLOOKUP($A38,Filtro!$A$4:$AX$552,7,FALSE),0)","v":2},{"$f":"IFERROR(VLOOKUP($A38,Filtro!$A$4:$AX$552,8,FALSE),0)","v":5},{"$f":"IFERROR(VLOOKUP($A38,Filtro!$A$4:$AX$552,9,FALSE),0)","v":12},{"$f":"IFERROR(VLOOKUP($A38,Filtro!$A$4:$AX$552,10,FALSE),0)","v":20},{"$f":"IFERROR(VLOOKUP($A38,Filtro!$A$4:$AX$552,11,FALSE),0)","v":17},{"$f":"IFERROR(VLOOKUP($A38,Filtro!$A$4:$AX$552,12,FALSE),0)","v":51},{"$f":"IFERROR(VLOOKUP($A38,Filtro!$A$4:$AX$552,13,FALSE),0)","v":32},{"$f":"IFERROR(VLOOKUP($A38,Filtro!$A$4:$AX$552,14,FALSE),0)","v":87},{"$f":"IFERROR(VLOOKUP($A38,Filtro!$A$4:$AX$552,15,FALSE),0)","v":83},{"$f":"IFERROR(VLOOKUP($A38,Filtro!$A$4:$AX$552,16,FALSE),0)","v":173},{"$f":"IFERROR(VLOOKUP($A38,Filtro!$A$4:$AX$552,17,FALSE),0)","v":115},{"$f":"IFERROR(VLOOKUP($A38,Filtro!$A$4:$AX$552,18,FALSE),0)","v":236},{"$f":"IFERROR(VLOOKUP($A38,Filtro!$A$4:$AX$552,19,FALSE),0)","v":270},{"$f":"IFERROR(VLOOKUP($A38,Filtro!$A$4:$AX$552,20,FALSE),0)","v":450},{"$f":"IFERROR(VLOOKUP($A38,Filtro!$A$4:$AX$552,21,FALSE),0)","v":278},{"$f":"IFERROR(VLOOKUP($A38,Filtro!$A$4:$AX$552,22,FALSE),0)","v":642},{"$f":"IFERROR(VLOOKUP($A38,Filtro!$A$4:$AX$552,23,FALSE),0)","v":412},{"$f":"IFERROR(VLOOKUP($A38,Filtro!$A$4:$AX$552,24,FALSE),0)","v":695},{"$f":"IFERROR(VLOOKUP($A38,Filtro!$A$4:$AX$552,25,FALSE),0)","v":489},{"$f":"IFERROR(VLOOKUP($A38,Filtro!$A$4:$AX$552,26,FALSE),0)","v":777},{"$f":"IFERROR(VLOOKUP($A38,Filtro!$A$4:$AX$552,27,FALSE),0)","v":511},{"$f":"IFERROR(VLOOKUP($A38,Filtro!$A$4:$AX$552,28,FALSE),0)","v":727},{"$f":"IFERROR(VLOOKUP($A38,Filtro!$A$4:$AX$552,29,FALSE),0)","v":396},{"$f":"IFERROR(VLOOKUP($A38,Filtro!$A$4:$AX$552,30,FALSE),0)","v":600},{"$f":"IFERROR(VLOOKUP($A38,Filtro!$A$4:$AX$552,31,FALSE),0)","v":440},{"$f":"IFERROR(VLOOKUP($A38,Filtro!$A$4:$AX$552,32,FALSE),0)","v":696},{"$f":"IFERROR(VLOOKUP($A38,Filtro!$A$4:$AX$552,33,FALSE),0)","v":7},{"$f":"IFERROR(VLOOKUP($A38,Filtro!$A$4:$AX$552,34,FALSE),0)","v":9},{"$f":"IFERROR(VLOOKUP($A38,Filtro!$A$4:$AX$552,35,FALSE),0)","v":2},{"$f":"IFERROR(VLOOKUP($A38,Filtro!$A$4:$AX$552,36,FALSE),0)","v":8},{"$f":"IFERROR(VLOOKUP($A38,Filtro!$A$4:$AX$552,37,FALSE),0)","v":0},{"$f":"IFERROR(VLOOKUP($A38,Filtro!$A$4:$AX$552,38,FALSE),0)","v":0},{"$f":"IFERROR(VLOOKUP($A38,Filtro!$A$4:$AX$552,39,FALSE),0)","v":0},{"$f":"IFERROR(VLOOKUP($A38,Filtro!$A$4:$AX$552,40,FALSE),0)","v":0},{"$f":"IFERROR(VLOOKUP($A38,Filtro!$A$4:$AX$552,41,FALSE),0)","v":0},{"$f":"IFERROR(VLOOKUP($A38,Filtro!$A$4:$AX$552,42,FALSE),0)","v":0},{"$nulls":10},"","",{"$f":"IF($E$38>=$AI$38,\"\",\"* Pueblos Originarios-Hombres no debe ser mayor al Total de personas Hombres. \")","v":""},{"$f":"IF($F$38>=$AJ$38,\"\",\"* Pueblos Originarios-Mujeres no debe ser mayor al Total de personas Mujeres. \")","v":""},"","",{"$f":"IF($G$38<=$G$15,\"\",\"* Pacientes 15 a 19 años (Hombres) con RCV Alto con Colesterol LDL <100 mg/dl no debe ser mayor al Total RCV Alto de Sección A. \")","v":""},{"$f":"IF($H$38<=$H$15,\"\",\"* Pacientes 15 a 19 años (Mujeres) con RCV Alto con Colesterol LDL <100 mg/dl no debe ser mayor al Total RCV Alto de Sección A. \")","v":""},{"$f":"IF($I$38<=+$I$15,\"\",\"* Pacientes 20 a 24 años (Hombres) con RCV Alto con Colesterol LDL <100 mg/dl no debe ser mayor al Total RCV Alto de Sección A. \")","v":""},{"$f":"IF($J$38<=+$J$15,\"\",\"* Pacientes 20 a 24 años (Mujeres) con RCV Alto con Colesterol LDL <100 mg/dl no debe ser mayor al Total RCV Alto de Sección A. \")","v":""},{"$f":"IF($K$38<=+$K$15,\"\",\"* Pacientes 25 a 29 años (Hombres) con RCV Alto con Colesterol LDL <100 mg/dl no debe ser mayor al Total RCV Alto de Sección A. \")","v":""},{"$f":"IF($L$38<=+$L$15,\"\",\"* Pacientes 25 a 29 años (Mujeres) con RCV Alto con Colesterol LDL <100 mg/dl no debe ser mayor al Total RCV Alto de Sección A. \")","v":""},{"$f":"IF($M$38<=+$M$15,\"\",\"* Pacientes 30 a 34 años (Hombres) con RCV Alto con Colesterol LDL <100 mg/dl no debe ser mayor al Total RCV Alto de Sección A. \")","v":""},{"$f":"IF($N$38<=+$N$15,\"\",\"* Pacientes 30 a 34 años (Mujeres) con RCV Alto con Colesterol LDL <100 mg/dl no debe ser mayor al Total RCV Alto de Sección A. \")","v":""},{"$f":"IF($O$38<=+$O$15,\"\",\"* Pacientes 35 a 39 años (Hombres) con RCV Alto con Colesterol LDL <100 mg/dl no debe ser mayor al Total RCV Alto de Sección A. \")","v":""},{"$f":"IF($P$38<=+$P$15,\"\",\"* Pacientes 35 a 39 años (Mujeres) con RCV Alto con Colesterol LDL <100 mg/dl no debe ser mayor al Total RCV Alto de Sección A. \")","v":""},{"$f":"IF($Q$38<=+$Q$15,\"\",\"* Pacientes 40 a 44 años (Hombres) con RCV Alto con Colesterol LDL <100 mg/dl no debe ser mayor al Total RCV Alto de Sección A. \")","v":""},{"$f":"IF($R$38<=+$R$15,\"\",\"* Pacientes 40 a 44 años (Mujeres) con RCV Alto con Colesterol LDL <100 mg/dl no debe ser mayor al Total RCV Alto de Sección A. \")","v":""},{"$f":"IF($S$38<=+$S$15,\"\",\"* Pacientes 45 a 49 años (Hombres) con RCV Alto con Colesterol LDL <100 mg/dl no debe ser mayor al Total RCV Alto de Sección A. \")","v":""},{"$f":"IF($T$38<=+$T$15,\"\",\"* Pacientes 45 a 49 años (Mujeres) con RCV Alto con Colesterol LDL <100 mg/dl no debe ser mayor al Total RCV Alto de Sección A. \")","v":""},{"$f":"IF($U$38<=+$U$15,\"\",\"* Pacientes 50 a 54 años (Hombres) con RCV Alto con Colesterol LDL <100 mg/dl no debe ser mayor al Total RCV Alto de Sección A. \")","v":""},{"$f":"IF($V$38<=+$V$15,\"\",\"* Pacientes 50 a 54 años (Mujeres) con RCV Alto con Colesterol LDL <100 mg/dl no debe ser mayor al Total RCV Alto de Sección A. \")","v":""},{"$f":"IF($W$38<=+$W$15,\"\",\"* Pacientes 55 a 59 años (Hombres) con RCV Alto con Colesterol LDL <100 mg/dl no debe ser mayor al Total RCV Alto de Sección A. \")","v":""},{"$f":"IF($X$38<=+$X$15,\"\",\"* Pacientes 55 a 59 años (Mujeres) con RCV Alto con Colesterol LDL <100 mg/dl no debe ser mayor al Total RCV Alto de Sección A. \")","v":""},{"$f":"IF($Y$38<=+$Y$15,\"\",\"* Pacientes 60 a 64 años (Hombres) con RCV Alto con Colesterol LDL <100 mg/dl no debe ser mayor al Total RCV Alto de Sección A. \")","v":""},{"$f":"IF($Z$38<=+$Z$15,\"\",\"* Pacientes 60 a 64 años (Mujeres) con RCV Alto con Colesterol LDL <100 mg/dl no debe ser mayor al Total RCV Alto de Sección A. \")","v":""},{"$f":"IF($AA$38<=+$AA$15,\"\",\"* Pacientes 65 a 69 años (Hombres) con RCV Alto con Colesterol LDL <100 mg/dl no debe ser mayor al Total RCV Alto de Sección A. \")","v":""},{"$f":"IF($AB$38<=+$AB$15,\"\",\"* Pacientes 65 a 69 años (Mujeres) con RCV Alto con Colesterol LDL <100 mg/dl no debe ser mayor al Total RCV Alto de Sección A. \")","v":""},{"$f":"IF($AC$38<=+$AC$15,\"\",\"* Pacientes 70 a 74 años (Hombres) con RCV Alto con Colesterol LDL <100 mg/dl no debe ser mayor al Total RCV Alto de Sección A. \")","v":""},{"$f":"IF($AD$38<=+$AD$15,\"\",\"* Pacientes 70 a 74 años (Mujeres) con RCV Alto con Colesterol LDL <100 mg/dl no debe ser mayor al Total RCV Alto de Sección A. \")","v":""},{"$f":"IF($AE$38<=+$AE$15,\"\",\"* Pacientes 75 a 79 años (Hombres) con RCV Alto con Colesterol LDL <100 mg/dl no debe ser mayor al Total RCV Alto de Sección A. \")","v":""},{"$f":"IF($AF$38<=+$AF$15,\"\",\"* Pacientes 75 a 79 años (Mujeres) con RCV Alto con Colesterol LDL <100 mg/dl no debe ser mayor al Total RCV Alto de Sección A. \")","v":""},{"$f":"IF($AG$38<=+$AG$15,\"\",\"* Pacientes 80 y más años (Hombres) con RCV Alto con Colesterol LDL <100 mg/dl no debe ser mayor al Total RCV Alto de Sección A. \")","v":""},{"$f":"IF($AH$38<=+$AH$15,\"\",\"* Pacientes 80 y más años (Mujeres) con RCV Alto con Colesterol LDL <100 mg/dl no debe ser mayor al Total RCV Alto de Sección A. \")","v":""},null,null,0,0,{"$f":"IF($E$38>=$AI$38,0,1)","v":0},{"$f":"IF($F$38>=$AJ$38,0,1)","v":0},0,{"$f":"IF($F38>=$AK38,0,1)","v":0},{"$f":"IF(G$38<=+G$15,0,1)","v":0},0,0,0,0,0,0,0,0,0,0,0,0,0,0,0,0,0,0,0,0,0,0,0,0,0,0,0]
["P4190930","PERSONAS BAJO CONTROL con antecedentes Enfermedad Cardiovascular (ECV)","En tratamiento con Acido Acetilsalicílico ",{"$f":"IFERROR(VLOOKUP($A39,Filtro!$A$4:$AX$552,2,FALSE),0)","v":2624},{"$f":"IFERROR(VLOOKUP($A39,Filtro!$A$4:$AX$552,3,FALSE),0)","v":1391},{"$f":"IFERROR(VLOOKUP($A39,Filtro!$A$4:$AX$552,4,FALSE),0)","v":1233},{"$f":"IFERROR(VLOOKUP($A39,Filtro!$A$4:$AX$552,5,FALSE),0)","v":0},{"$f":"IFERROR(VLOOKUP($A39,Filtro!$A$4:$AX$552,6,FALSE),0)","v":0},{"$f":"IFERROR(VLOOKUP($A39,Filtro!$A$4:$AX$552,7,FALSE),0)","v":0},{"$f":"IFERROR(VLOOKUP($A39,Filtro!$A$4:$AX$552,8,FALSE),0)","v":0},{"$f":"IFERROR(VLOOKUP($A39,Filtro!$A$4:$AX$552,9,FALSE),0)","v":0},{"$f":"IFERROR(VLOOKUP($A39,Filtro!$A$4:$AX$552,10,FALSE),0)","v":0},{"$f":"IFERROR(VLOOKUP($A39,Filtro!$A$4:$AX$552,11,FALSE),0)","v":0},{"$f":"IFERROR(VLOOKUP($A39,Filtro!$A$4:$AX$552,12,FALSE),0)","v":1},{"$f":"IFERROR(VLOOKUP($A39,Filtro!$A$4:$AX$552,13,FALSE),0)","v":8},{"$f":"IFERROR(VLOOKUP($A39,Filtro!$A$4:$AX$552,14,FALSE),0)","v":6},{"$f":"IFERROR(VLOOKUP($A39,Filtro!$A$4:$AX$552,15,FALSE),0)","v":16},{"$f":"IFERROR(VLOOKUP($A39,Filtro!$A$4:$AX$552,16,FALSE),0)","v":11},{"$f":"IFERROR(VLOOKUP($A39,Filtro!$A$4:$AX$552,17,FALSE),0)","v":36},{"$f":"IFERROR(VLOOKUP($A39,Filtro!$A$4:$AX$552,18,FALSE),0)","v":39},{"$f":"IFERROR(VLOOKUP($A39,Filtro!$A$4:$AX$552,19,FALSE),0)","v":72},{"$f":"IFERROR(VLOOKUP($A39,Filtro!$A$4:$AX$552,20,FALSE),0)","v":65},{"$f":"IFERROR(VLOOKUP($A39,Filtro!$A$4:$AX$552,21,FALSE),0)","v":121},{"$f":"IFERROR(VLOOKUP($A39,Filtro!$A$4:$AX$552,22,FALSE),0)","v":101},{"$f":"IFERROR(VLOOKUP($A39,Filtro!$A$4:$AX$552,23,FALSE),0)","v":172},{"$f":"IFERROR(VLOOKUP($A39,Filtro!$A$4:$AX$552,24,FALSE),0)","v":132},{"$f":"IFERROR(VLOOKUP($A39,Filtro!$A$4:$AX$552,25,FALSE),0)","v":224},{"$f":"IFERROR(VLOOKUP($A39,Filtro!$A$4:$AX$552,26,FALSE),0)","v":183},{"$f":"IFERROR(VLOOKUP($A39,Filtro!$A$4:$AX$552,27,FALSE),0)","v":246},{"$f":"IFERROR(VLOOKUP($A39,Filtro!$A$4:$AX$552,28,FALSE),0)","v":196},{"$f":"IFERROR(VLOOKUP($A39,Filtro!$A$4:$AX$552,29,FALSE),0)","v":221},{"$f":"IFERROR(VLOOKUP($A39,Filtro!$A$4:$AX$552,30,FALSE),0)","v":188},{"$f":"IFERROR(VLOOKUP($A39,Filtro!$A$4:$AX$552,31,FALSE),0)","v":275},{"$f":"IFERROR(VLOOKUP($A39,Filtro!$A$4:$AX$552,32,FALSE),0)","v":311},{"$f":"IFERROR(VLOOKUP($A39,Filtro!$A$4:$AX$552,33,FALSE),0)","v":3},{"$f":"IFERROR(VLOOKUP($A39,Filtro!$A$4:$AX$552,34,FALSE),0)","v":1},{"$f":"IFERROR(VLOOKUP($A39,Filtro!$A$4:$AX$552,35,FALSE),0)","v":1},{"$f":"IFERROR(VLOOKUP($A39,Filtro!$A$4:$AX$552,36,FALSE),0)","v":7},{"$f":"IFERROR(VLOOKUP($A39,Filtro!$A$4:$AX$552,37,FALSE),0)","v":0},{"$f":"IFERROR(VLOOKUP($A39,Filtro!$A$4:$AX$552,38,FALSE),0)","v":0},{"$f":"IFERROR(VLOOKUP($A39,Filtro!$A$4:$AX$552,39,FALSE),0)","v":0},{"$f":"IFERROR(VLOOKUP($A39,Filtro!$A$4:$AX$552,40,FALSE),0)","v":0},{"$f":"IFERROR(VLOOKUP($A39,Filtro!$A$4:$AX$552,41,FALSE),0)","v":0},{"$f":"IFERROR(VLOOKUP($A39,Filtro!$A$4:$AX$552,42,FALSE),0)","v":0},{"$nulls":10},"","",{"$f":"IF($E$39>=$AI$39,\"\",\"* Pueblos Originarios-Hombres no debe ser mayor al Total de personas Hombres. \")","v":""},{"$f":"IF($F$39>=$AJ$39,\"\",\"* Pueblos Originarios-Mujeres no debe ser mayor al Total de personas Mujeres. \")","v":""},"","",{"$f":"IF($G$39<=$G$20+$G$21,\"\",\"* Pacientes 15 a 19 años (Hombres) con con antecedentes ECV con tto. Acido Acetilsalicílico no debe ser mayor al Total Población con Antecedentes de IAM y ECV de Sección A. \")","v":""},{"$f":"IF($H$39<=$H$20+$H$21,\"\",\"* Pacientes 15 a 19 años (Mujeres) con con antecedentes ECV con tto. Acido Acetilsalicílico no debe ser mayor al Total Población con Antecedentes de IAM y ECV de Sección A. \")","v":""},{"$f":"IF($I$39<=$I$20+$I$21,\"\",\"* Pacientes 20 a 24 años (Hombres) con con antecedentes ECV con tto. Acido Acetilsalicílico no debe ser mayor al Total Población con Antecedentes de IAM y ECV de Sección A. \")","v":""},{"$f":"IF($J$39<=$J$20+$J$21,\"\",\"* Pacientes 20 a 24 años (Mujeres) con con antecedentes ECV con tto. Acido Acetilsalicílico no debe ser mayor al Total Población con Antecedentes de IAM y ECV de Sección A. \")","v":""},{"$f":"IF($K$39<=$K$20+$K$21,\"\",\"* Pacientes 25 a 29 años (Hombres) con con antecedentes ECV con tto. Acido Acetilsalicílico no debe ser mayor al Total Población con Antecedentes de IAM y ECV de Sección A. \")","v":""},{"$f":"IF($L$39<=$L$20+$L$21,\"\",\"* Pacientes 25 a 29 años (Mujeres) con con antecedentes ECV con tto. Acido Acetilsalicílico no debe ser mayor al Total Población con Antecedentes de IAM y ECV de Sección A. \")","v":""},{"$f":"IF($M$39<=$M$20+$M$21,\"\",\"* Pacientes 30 a 34 años (Hombres) con con antecedentes ECV con tto. Acido Acetilsalicílico no debe ser mayor al Total Población con Antecedentes de IAM y ECV de Sección A. \")","v":""},{"$f":"IF($N$39<=$N$20+$N$21,\"\",\"* Pacientes 30 a 34 años (Mujeres) con con antecedentes ECV con tto. Acido Acetilsalicílico no debe ser mayor al Total Población con Antecedentes de IAM y ECV de Sección A. \")","v":""},{"$f":"IF($O$39<=$O$20+$O$21,\"\",\"* Pacientes 35 a 39 años (Hombres) con con antecedentes ECV con tto. Acido Acetilsalicílico no debe ser mayor al Total Población con Antecedentes de IAM y ECV de Sección A. \")","v":""},{"$f":"IF($P$39<=$P$20+$P$21,\"\",\"* Pacientes 35 a 39 años (Mujeres) con con antecedentes ECV con tto. Acido Acetilsalicílico no debe ser mayor al Total Población con Antecedentes de IAM y ECV de Sección A. \")","v":""},{"$f":"IF($Q$39<=$Q$20+$Q$21,\"\",\"* Pacientes 40 a 44 años (Hombres) con con antecedentes ECV con tto. Acido Acetilsalicílico no debe ser mayor al Total Población con Antecedentes de IAM y ECV de Sección A. \")","v":""},{"$f":"IF($R$39<=$R$20+$R$21,\"\",\"* Pacientes 40 a 44 años (Mujeres) con con antecedentes ECV con tto. Acido Acetilsalicílico no debe ser mayor al Total Población con Antecedentes de IAM y ECV de Sección A. \")","v":""},{"$f":"IF($S$39<=$S$20+$S$21,\"\",\"* Pacientes 45 a 49 años (Hombres) con con antecedentes ECV con tto. Acido Acetilsalicílico no debe ser mayor al Total Población con Antecedentes de IAM y ECV de Sección A. \")","v":""},{"$f":"IF($T$39<=$T$20+$T$21,\"\",\"* Pacientes 45 a 49 años (Mujeres) con con antecedentes ECV con tto. Acido Acetilsalicílico no debe ser mayor al Total Población con Antecedentes de IAM y ECV de Sección A. \")","v":""},{"$f":"IF($U$39<=$U$20+$U$21,\"\",\"* Pacientes 50 a 54 años (Hombres) con con antecedentes ECV con tto. Acido Acetilsalicílico no debe ser mayor al Total Población con Antecedentes de IAM y ECV de Sección A. \")","v":""},{"$f":"IF($V$39<=$V$20+$V$21,\"\",\"* Pacientes 50 a 54 años (Mujeres) con con antecedentes ECV con tto. Acido Acetilsalicílico no debe ser mayor al Total Población con Antecedentes de IAM y ECV de Sección A. \")","v":""},{"$f":"IF($W$39<=$W$20+$W$21,\"\",\"* Pacientes 55 a 59 años (Hombres) con con antecedentes ECV con tto. Acido Acetilsalicílico no debe ser mayor al Total Población con Antecedentes de IAM y ECV de Sección A. \")","v":""},{"$f":"IF($X$39<=$X$20+$X$21,\"\",\"* Pacientes 55 a 59 años (Mujeres) con con antecedentes ECV con tto. Acido Acetilsalicílico no debe ser mayor al Total Población con Antecedentes de IAM y ECV de Sección A. \")","v":""},{"$f":"IF($Y$39<=$Y$20+$Y$21,\"\",\"* Pacientes 60 a 64 años (Hombres) con con antecedentes ECV con tto. Acido Acetilsalicílico no debe ser mayor al Total Población con Antecedentes de IAM y ECV de Sección A. \")","v":""},{"$f":"IF($Z$39<=$Z$20+$Z$21,\"\",\"* Pacientes 60 a 64 años (Mujeres) con con antecedentes ECV con tto. Acido Acetilsalicílico no debe ser mayor al Total Población con Antecedentes de IAM y ECV de Sección A. \")","v":""},{"$f":"IF($AA$39<=$AA$20+$AA$21,\"\",\"* Pacientes 65 a 69 años (Hombres) con con antecedentes ECV con tto. Acido Acetilsalicílico no debe ser mayor al Total Población con Antecedentes de IAM y ECV de Sección A. \")","v":""},{"$f":"IF($AB$39<=$AB$20+$AB$21,\"\",\"* Pacientes 65 a 69 años (Mujeres) con con antecedentes ECV con tto. Acido Acetilsalicílico no debe ser mayor al Total Población con Antecedentes de IAM y ECV de Sección A. \")","v":""},{"$f":"IF($AC$39<=$AC$20+$AC$21,\"\",\"* Pacientes 70 a 74 años (Hombres) con con antecedentes ECV con tto. Acido Acetilsalicílico no debe ser mayor al Total Población con Antecedentes de IAM y ECV de Sección A. \")","v":""},{"$f":"IF($AD$39<=$AD$20+$AD$21,\"\",\"* Pacientes 70 a 74 años (Mujeres) con con antecedentes ECV con tto. Acido Acetilsalicílico no debe ser mayor al Total Población con Antecedentes de IAM y ECV de Sección A. \")","v":""},{"$f":"IF($AE$39<=$AE$20+$AE$21,\"\",\"* Pacientes 75 a 79 años (Hombres) con con antecedentes ECV con tto. Acido Acetilsalicílico no debe ser mayor al Total Población con Antecedentes de IAM y ECV de Sección A. \")","v":""},{"$f":"IF($AF$39<=$AF$20+$AF$21,\"\",\"* Pacientes 75 a 79 años (Mujeres) con con antecedentes ECV con tto. Acido Acetilsalicílico no debe ser mayor al Total Población con Antecedentes de IAM y ECV de Sección A. \")","v":""},{"$f":"IF($AG$39<=$AG$20+$AG$21,\"\",\"* Pacientes 80 y más años (Hombres) con con antecedentes ECV con tto. Acido Acetilsalicílico no debe ser mayor al Total Población con Antecedentes de IAM y ECV de Sección A. \")","v":""},{"$f":"IF($AH$39<=$AH$20+$AH$21,\"\",\"* Pacientes 80 y más años (Mujeres) con con antecedentes ECV con tto. Acido Acetilsalicílico no debe ser mayor al Total Población con Antecedentes de IAM y ECV de Sección A. \")","v":""},null,null,0,0,{"$f":"IF($E$39>=$AI$39,0,1)","v":0},{"$f":"IF($F$39>=$AJ$39,0,1)","v":0},0,{"$f":"IF($F39>=$AK39,0,1)","v":0},{"$f":"IF(G$39<=G$20+G$21,0,1)","v":0},0,0,0,0,0,0,0,0,0,0,0,0,0,0,0,0,0,0,0,0,0,0,0,0,0,0,0]
["P4190940",null,"En tratamiento con Estatina",{"$f":"IFERROR(VLOOKUP($A40,Filtro!$A$4:$AX$552,2,FALSE),0)","v":2454},{"$f":"IFERROR(VLOOKUP($A40,Filtro!$A$4:$AX$552,3,FALSE),0)","v":1264},{"$f":"IFERROR(VLOOKUP($A40,Filtro!$A$4:$AX$552,4,FALSE),0)","v":1190},{"$f":"IFERROR(VLOOKUP($A40,Filtro!$A$4:$AX$552,5,FALSE),0)","v":0},{"$f":"IFERROR(VLOOKUP($A40,Filtro!$A$4:$AX$552,6,FALSE),0)","v":0},{"$f":"IFERROR(VLOOKUP($A40,Filtro!$A$4:$AX$552,7,FALSE),0)","v":0},{"$f":"IFERROR(VLOOKUP($A40,Filtro!$A$4:$AX$552,8,FALSE),0)","v":0},{"$f":"IFERROR(VLOOKUP($A40,Filtro!$A$4:$AX$552,9,FALSE),0)","v":0},{"$f":"IFERROR(VLOOKUP($A40,Filtro!$A$4:$AX$552,10,FALSE),0)","v":2},{"$f":"IFERROR(VLOOKUP($A40,Filtro!$A$4:$AX$552,11,FALSE),0)","v":0},{"$f":"IFERROR(VLOOKUP($A40,Filtro!$A$4:$AX$552,12,FALSE),0)","v":2},{"$f":"IFERROR(VLOOKUP($A40,Filtro!$A$4:$AX$552,13,FALSE),0)","v":7},{"$f":"IFERROR(VLOOKUP($A40,Filtro!$A$4:$AX$552,14,FALSE),0)","v":7},{"$f":"IFERROR(VLOOKUP($A40,Filtro!$A$4:$AX$552,15,FALSE),0)","v":12},{"$f":"IFERROR(VLOOKUP($A40,Filtro!$A$4:$AX$552,16,FALSE),0)","v":14},{"$f":"IFERROR(VLOOKUP($A40,Filtro!$A$4:$AX$552,17,FALSE),0)","v":30},{"$f":"IFERROR(VLOOKUP($A40,Filtro!$A$4:$AX$552,18,FALSE),0)","v":38},{"$f":"IFERROR(VLOOKUP($A40,Filtro!$A$4:$AX$552,19,FALSE),0)","v":67},{"$f":"IFERROR(VLOOKUP($A40,Filtro!$A$4:$AX$552,20,FALSE),0)","v":64},{"$f":"IFERROR(VLOOKUP($A40,Filtro!$A$4:$AX$552,21,FALSE),0)","v":117},{"$f":"IFERROR(VLOOKUP($A40,Filtro!$A$4:$AX$552,22,FALSE),0)","v":112},{"$f":"IFERROR(VLOOKUP($A40,Filtro!$A$4:$AX$552,23,FALSE),0)","v":158},{"$f":"IFERROR(VLOOKUP($A40,Filtro!$A$4:$AX$552,24,FALSE),0)","v":142},{"$f":"IFERROR(VLOOKUP($A40,Filtro!$A$4:$AX$552,25,FALSE),0)","v":186},{"$f":"IFERROR(VLOOKUP($A40,Filtro!$A$4:$AX$552,26,FALSE),0)","v":173},{"$f":"IFERROR(VLOOKUP($A40,Filtro!$A$4:$AX$552,27,FALSE),0)","v":217},{"$f":"IFERROR(VLOOKUP($A40,Filtro!$A$4:$AX$552,28,FALSE),0)","v":176},{"$f":"IFERROR(VLOOKUP($A40,Filtro!$A$4:$AX$552,29,FALSE),0)","v":200},{"$f":"IFERROR(VLOOKUP($A40,Filtro!$A$4:$AX$552,30,FALSE),0)","v":178},{"$f":"IFERROR(VLOOKUP($A40,Filtro!$A$4:$AX$552,31,FALSE),0)","v":270},{"$f":"IFERROR(VLOOKUP($A40,Filtro!$A$4:$AX$552,32,FALSE),0)","v":282},{"$f":"IFERROR(VLOOKUP($A40,Filtro!$A$4:$AX$552,33,FALSE),0)","v":5},{"$f":"IFERROR(VLOOKUP($A40,Filtro!$A$4:$AX$552,34,FALSE),0)","v":1},{"$f":"IFERROR(VLOOKUP($A40,Filtro!$A$4:$AX$552,35,FALSE),0)","v":2},{"$f":"IFERROR(VLOOKUP($A40,Filtro!$A$4:$AX$552,36,FALSE),0)","v":2},{"$f":"IFERROR(VLOOKUP($A40,Filtro!$A$4:$AX$552,37,FALSE),0)","v":0},{"$f":"IFERROR(VLOOKUP($A40,Filtro!$A$4:$AX$552,38,FALSE),0)","v":0},{"$f":"IFERROR(VLOOKUP($A40,Filtro!$A$4:$AX$552,39,FALSE),0)","v":0},{"$f":"IFERROR(VLOOKUP($A40,Filtro!$A$4:$AX$552,40,FALSE),0)","v":0},{"$f":"IFERROR(VLOOKUP($A40,Filtro!$A$4:$AX$552,41,FALSE),0)","v":0},{"$f":"IFERROR(VLOOKUP($A40,Filtro!$A$4:$AX$552,42,FALSE),0)","v":0},{"$nulls":10},"","",{"$f":"IF($E$40>=$AI$40,\"\",\"* Pueblos Originarios-Hombres no debe ser mayor al Total de personas Hombres. \")","v":""},{"$f":"IF($F$40>=$AJ$40,\"\",\"* Pueblos Originarios-Mujeres no debe ser mayor al Total de personas Mujeres. \")","v":""},"","",{"$f":"IF($G$40<=$G$20+$G$21,\"\",\"* Pacientes 15 a 19 años (Hombres) con con antecedentes ECV con Estatina no debe ser mayor al Total Población con Antecedentes de IAM y ECV de Sección A. \")","v":""},{"$f":"IF($H$40<=$H$20+$H$21,\"\",\"* Pacientes 15 a 19 años (Mujeres) con con antecedentes ECV con Estatina no debe ser mayor al Total Población con Antecedentes de IAM y ECV de Sección A. \")","v":""},{"$f":"IF($I$40<=$I$20+$I$21,\"\",\"* Pacientes 20 a 24 años (Hombres) con con antecedentes ECV con Estatina no debe ser mayor al Total Población con Antecedentes de IAM y ECV de Sección A. \")","v":""},{"$f":"IF($J$40<=$J$20+$J$21,\"\",\"* Pacientes 20 a 24 años (Mujeres) con con antecedentes ECV con Estatina no debe ser mayor al Total Población con Antecedentes de IAM y ECV de Sección A. \")","v":""},{"$f":"IF($K$40<=$K$20+$K$21,\"\",\"* Pacientes 25 a 29 años (Hombres) con con antecedentes ECV con Estatina no debe ser mayor al Total Población con Antecedentes de IAM y ECV de Sección A. \")","v":""},{"$f":"IF($L$40<=$L$20+$L$21,\"\",\"* Pacientes 25 a 29 años (Mujeres) con con antecedentes ECV con Estatina no debe ser mayor al Total Población con Antecedentes de IAM y ECV de Sección A. \")","v":""},{"$f":"IF($M$40<=$M$20+$M$21,\"\",\"* Pacientes 30 a 34 años (Hombres) con con antecedentes ECV con Estatina no debe ser mayor al Total Población con Antecedentes de IAM y ECV de Sección A. \")","v":""},{"$f":"IF($N$40<=$N$20+$N$21,\"\",\"* Pacientes 30 a 34 años (Mujeres) con con antecedentes ECV con Estatina no debe ser mayor al Total Población con Antecedentes de IAM y ECV de Sección A. \")","v":""},{"$f":"IF($O$40<=$O$20+$O$21,\"\",\"* Pacientes 35 a 39 años (Hombres) con con antecedentes ECV con Estatina no debe ser mayor al Total Población con Antecedentes de IAM y ECV de Sección A. \")","v":""},{"$f":"IF($P$40<=$P$20+$P$21,\"\",\"* Pacientes 35 a 39 años (Mujeres) con con antecedentes ECV con Estatina no debe ser mayor al Total Población con Antecedentes de IAM y ECV de Sección A. \")","v":""},{"$f":"IF($Q$40<=$Q$20+$Q$21,\"\",\"* Pacientes 40 a 44 años (Hombres) con con antecedentes ECV con Estatina no debe ser mayor al Total Población con Antecedentes de IAM y ECV de Sección A. \")","v":""},{"$f":"IF($R$40<=$R$20+$R$21,\"\",\"* Pacientes 40 a 44 años (Mujeres) con con antecedentes ECV con Estatina no debe ser mayor al Total Población con Antecedentes de IAM y ECV de Sección A. \")","v":""},{"$f":"IF($S$40<=$S$20+$S$21,\"\",\"* Pacientes 45 a 49 años (Hombres) con con antecedentes ECV con Estatina no debe ser mayor al Total Población con Antecedentes de IAM y ECV de Sección A. \")","v":""},{"$f":"IF($T$40<=$T$20+$T$21,\"\",\"* Pacientes 45 a 49 años (Mujeres) con con antecedentes ECV con Estatina no debe ser mayor al Total Población con Antecedentes de IAM y ECV de Sección A. \")","v":""},{"$f":"IF($U$40<=$U$20+$U$21,\"\",\"* Pacientes 50 a 54 años (Hombres) con con antecedentes ECV con Estatina no debe ser mayor al Total Población con Antecedentes de IAM y ECV de Sección A. \")","v":""},{"$f":"IF($V$40<=$V$20+$V$21,\"\",\"* Pacientes 50 a 54 años (Mujeres) con con antecedentes ECV con Estatina no debe ser mayor al Total Población con Antecedentes de IAM y ECV de Sección A. \")","v":""},{"$f":"IF($W$40<=$W$20+$W$21,\"\",\"* Pacientes 55 a 59 años (Hombres) con con antecedentes ECV con Estatina no debe ser mayor al Total Población con Antecedentes de IAM y ECV de Sección A. \")","v":""},{"$f":"IF($X$40<=$X$20+$X$21,\"\",\"* Pacientes 55 a 59 años (Mujeres) con con antecedentes ECV con Estatina no debe ser mayor al Total Población con Antecedentes de IAM y ECV de Sección A. \")","v":""},{"$f":"IF($Y$40<=$Y$20+$Y$21,\"\",\"* Pacientes 60 a 64 años (Hombres) con con antecedentes ECV con Estatina no debe ser mayor al Total Población con Antecedentes de IAM y ECV de Sección A. \")","v":""},{"$f":"IF($Z$40<=$Z$20+$Z$21,\"\",\"* Pacientes 60 a 64 años (Mujeres) con con antecedentes ECV con Estatina no debe ser mayor al Total Población con Antecedentes de IAM y ECV de Sección A. \")","v":""},{"$f":"IF($AA$40<=$AA$20+$AA$21,\"\",\"* Pacientes 65 a 69 años (Hombres) con con antecedentes ECV con Estatina no debe ser mayor al Total Población con Antecedentes de IAM y ECV de Sección A. \")","v":""},{"$f":"IF($AB$40<=$AB$20+$AB$21,\"\",\"* Pacientes 65 a 69 años (Mujeres) con con antecedentes ECV con Estatina no debe ser mayor al Total Población con Antecedentes de IAM y ECV de Sección A. \")","v":""},{"$f":"IF($AC$40<=$AC$20+$AC$21,\"\",\"* Pacientes 70 a 74 años (Hombres) con con antecedentes ECV con Estatina no debe ser mayor al Total Población con Antecedentes de IAM y ECV de Sección A. \")","v":""},{"$f":"IF($AD$40<=$AD$20+$AD$21,\"\",\"* Pacientes 70 a 74 años (Mujeres) con con antecedentes ECV con Estatina no debe ser mayor al Total Población con Antecedentes de IAM y ECV de Sección A. \")","v":""},{"$f":"IF($AE$40<=$AE$20+$AE$21,\"\",\"* Pacientes 75 a 79 años (Hombres) con con antecedentes ECV con Estatina no debe ser mayor al Total Población con Antecedentes de IAM y ECV de Sección A. \")","v":""},{"$f":"IF($AF$40<=$AF$20+$AF$21,\"\",\"* Pacientes 75 a 79 años (Mujeres) con con antecedentes ECV con Estatina no debe ser mayor al Total Población con Antecedentes de IAM y ECV de Sección A. \")","v":""},{"$f":"IF($AG$40<=$AG$20+$AG$21,\"\",\"* Pacientes 80 y más años (Hombres) con con antecedentes ECV con Estatina no debe ser mayor al Total Población con Antecedentes de IAM y ECV de Sección A. \")","v":""},{"$f":"IF($AH$40<=$AH$20+$AH$21,\"\",\"* Pacientes 80 y más años (Mujeres) con con antecedentes ECV con Estatina no debe ser mayor al Total Población con Antecedentes de IAM y ECV de Sección A. \")","v":""},null,null,0,0,{"$f":"IF($E$40>=$AI$40,0,1)","v":0},{"$f":"IF($F$40>=$AJ$40,0,1)","v":0},0,{"$f":"IF($F40>=$AK40,0,1)","v":0},{"$f":"IF(G$40<=G$20+G$21,0,1)","v":0},0,0,0,0,0,0,0,0,0,0,0,0,0,0,0,0,0,0,0,0,0,0,0,0,0,0,0]
[null,"SECCIÓN C: VARIABLES DE SEGUIMIENTO DEL PSCV AL CORTE"]
[null,"VARIABLES",null,"TOTAL ","EDAD (en años)",null,"SEXO"]
[{"$nulls":4},"15 a 64 ","65 y más","Hombres","Mujeres"]
[null,"PERSONAS DIABETICAS EN PSCV",{"$nulls":56},{"$f":"IF($G$44+$H$44<>$D$44,\"* La suma de Sexo debe ser igual al TOTAL de personas Diabéticas en PSCV. \",\"\")","v":""},{"$nulls":35},{"$f":"IF($G$44+$H$44<>$D$44,1,0)","v":0}]
["P4190805","CON RAZON ALBÚMINA CREATININA (RAC),VIGENTE",null,{"$f":"IFERROR(VLOOKUP($A45,Filtro!$A$4:$AX$552,2,FALSE),0)","v":11639},{"$f":"IFERROR(VLOOKUP($A45,Filtro!$A$4:$AX$552,3,FALSE),0)","v":5791},{"$f":"IFERROR(VLOOKUP($A45,Filtro!$A$4:$AX$552,4,FALSE),0)","v":5848},{"$f":"IFERROR(VLOOKUP($A45,Filtro!$A$4:$AX$552,5,FALSE),0)","v":4188},{"$f":"IFERROR(VLOOKUP($A45,Filtro!$A$4:$AX$552,6,FALSE),0)","v":7451},{"$f":" BE45 & BF45 & BG45","v":""},{"$nulls":47},{"$f":"IF($E$45<=SUM($G$17:$Z$17),\"\",\"* Los pacientes diabéticos de 15 a 64 años con razón albúmina creatinina (RAC) no deben ser mayor a los pacientes Diabéticos en Control de la sección A de la misma edad. \")","v":""},{"$f":"IF($F$45<=SUM($AA$17:$AH$17),\"\",\"* Los pacientes diabéticos de 65+ años con razón albúmina creatinina (RAC) no deben ser mayor a los pacientes Diabéticos en Control de la sección A de la misma edad. \")","v":""},{"$f":"IF($G$45+$H$45<>$D$45,\"* La suma de Sexo debe ser igual al TOTAL de pacientes con razón albúmina creatinina (RAC). \",\"\")","v":""},{"$nulls":33},{"$f":"IF($E$45<=SUM($G$17:$Z$17),0,1)","v":0},{"$f":"IF($F$45<=SUM($AA$17:$AH$17),0,1)","v":0},{"$f":"IF($G$45+$H$45<>$D$45,1,0)","v":0}]
["P4190806","CON VELOCIDAD DE FILTRACIÓN GLOMERULAR (VFG), VIGENTE",null,{"$f":"IFERROR(VLOOKUP($A46,Filtro!$A$4:$AX$552,2,FALSE),0)","v":13088},{"$f":"IFERROR(VLOOKUP($A46,Filtro!$A$4:$AX$552,3,FALSE),0)","v":6202},{"$f":"IFERROR(VLOOKUP($A46,Filtro!$A$4:$AX$552,4,FALSE),0)","v":6886},{"$f":"IFERROR(VLOOKUP($A46,Filtro!$A$4:$AX$552,5,FALSE),0)","v":4682},{"$f":"IFERROR(VLOOKUP($A46,Filtro!$A$4:$AX$552,6,FALSE),0)","v":8406},"",{"$nulls":47},{"$f":"IF($E$46<=SUM($G$17:$Z$17),\"\",\"* Los pacientes diabéticos de 15 a 64 años con velocidad de filtración glomerular (VFG) no deben ser mayor a los pacientes Diabéticos en Control de la sección A de la misma edad. \")","v":""},{"$f":"IF($F$46<=SUM($AA$17:$AH$17),\"\",\"* Los pacientes diabéticos de 65+ años con velocidad de filtración glomerular (VFG) no deben ser mayor a los pacientes Diabéticos en Control de la sección A de la misma edad. \")","v":""},{"$f":"IF($G$46+$H$46<>$D$46,\"* La suma de Sexo debe ser igual al TOTAL de pacientes con velocidad de filtración glomerular (VFG). \",\"\")","v":""},{"$nulls":33},{"$f":"IF($E$46<=SUM($G$17:$Z$17),0,1)","v":0},{"$f":"IF($F$46<=SUM($AA$17:$AH$17),0,1)","v":0},{"$f":"IF($G$46+$H$46<>$D$46,1,0)","v":0}]
["P4190950","CON FONDO DE OJO, VIGENTE",null,{"$f":"IFERROR(VLOOKUP($A47,Filtro!$A$4:$AX$552,2,FALSE),0)","v":7759},{"$f":"IFERROR(VLOOKUP($A47,Filtro!$A$4:$AX$552,3,FALSE),0)","v":4127},{"$f":"IFERROR(VLOOKUP($A47,Filtro!$A$4:$AX$552,4,FALSE),0)","v":3632},{"$f":"IFERROR(VLOOKUP($A47,Filtro!$A$4:$AX$552,5,FALSE),0)","v":2744},{"$f":"IFERROR(VLOOKUP($A47,Filtro!$A$4:$AX$552,6,FALSE),0)","v":5015},"",{"$nulls":47},{"$f":"IF($E$47<=SUM($G$17:$Z$17),\"\",\"* Los pacientes diabéticos de 15 a 64 años con Fondo de ojo no deben ser mayor a los pacientes Diabéticos en Control de la sección A. \")","v":""},{"$f":"IF($F$47<=SUM($AA$17:$AH$17),\"\",\"* Los pacientes diabéticos de 65+ años con Fondo de ojo no deben ser mayor a los pacientes Diabéticos en Control de la sección A. \")","v":""},{"$f":"IF($G$47+$H$47<>$D$47,\"* La suma de Sexo debe ser igual al TOTAL de pacientes con Fondo de ojo. \",\"\")","v":""},{"$nulls":33},{"$f":"IF($E$47<=SUM($G$17:$Z$17),0,1)","v":0},{"$f":"IF($F$47<=SUM($AA$17:$AH$17),0,1)","v":0},{"$f":"IF($G$47+$H$47<>$D$47,1,0)","v":0}]
["P4200600","CON ATENCIÓN PODOLÓGICA VIGENTE",null,{"$f":"IFERROR(VLOOKUP($A48,Filtro!$A$4:$AX$552,2,FALSE),0)","v":5681},{"$f":"IFERROR(VLOOKUP($A48,Filtro!$A$4:$AX$552,3,FALSE),0)","v":2390},{"$f":"IFERROR(VLOOKUP($A48,Filtro!$A$4:$AX$552,4,FALSE),0)","v":3291},{"$f":"IFERROR(VLOOKUP($A48,Filtro!$A$4:$AX$552,5,FALSE),0)","v":2029},{"$f":"IFERROR(VLOOKUP($A48,Filtro!$A$4:$AX$552,6,FALSE),0)","v":3652},"",{"$nulls":47},{"$f":"IF($E$48<=SUM($G$17:$Z$17),\"\",\"* Los pacientes diabéticos de 15 a 64 años con Atención Podológica Vigente no deben ser mayor a los pacientes Diabéticos en Control de la sección A. \")","v":""},{"$f":"IF($F$48<=SUM($AA$17:$AH$17),\"\",\"* Los pacientes diabéticos de 65+ años con Atención Podológica vigente no deben ser mayor a los pacientes Diabéticos en Control de la sección A. \")","v":""},{"$f":"IF($G$48+$H$48<>$D$48,\"* La suma de Sexo debe ser igual al TOTAL de pacientes con Atención Podológica vigente. \",\"\")","v":""},{"$nulls":33},{"$f":"IF($E$48<=SUM($G$17:$Z$17),0,1)","v":0},{"$f":"IF($F$48<=SUM($AA$17:$AH$17),0,1)","v":0},{"$f":"IF($G$48+$H$48<>$D$48,1,0)","v":0}]
["P4200300","CON ECG VIGENTE",null,{"$f":"IFERROR(VLOOKUP($A49,Filtro!$A$4:$AX$552,2,FALSE),0)","v":5562},{"$f":"IFERROR(VLOOKUP($A49,Filtro!$A$4:$AX$552,3,FALSE),0)","v":2788},{"$f":"IFERROR(VLOOKUP($A49,Filtro!$A$4:$AX$552,4,FALSE),0)","v":2774},{"$f":"IFERROR(VLOOKUP($A49,Filtro!$A$4:$AX$552,5,FALSE),0)","v":1967},{"$f":"IFERROR(VLOOKUP($A49,Filtro!$A$4:$AX$552,6,FALSE),0)","v":3595},"",{"$nulls":47},{"$f":"IF($E$49<=SUM($G$17:$Z$17),\"\",\"* Los pacientes diabéticos de 15 a 64 años con ECG no deben ser mayor a los pacientes Diabéticos en Control de la sección A. \")","v":""},{"$f":"IF($F$49<=SUM($AA$17:$AH$17),\"\",\"* Los pacientes diabéticos de 65+ años con ECG no deben ser mayor a los pacientes Diabéticos en Control de la sección A. \")","v":""},{"$f":"IF($G$49+$H$49<>$D$49,\"* La suma de Sexo debe ser igual al TOTAL de pacientes con ECG. \",\"\")","v":""},{"$nulls":33},{"$f":"IF($E$49<=SUM($G$17:$Z$17),0,1)","v":0},{"$f":"IF($F$49<=SUM($AA$17:$AH$17),0,1)","v":0},{"$f":"IF($G$49+$H$49<>$D$49,1,0)","v":0}]
["P4180800","EN TRATAMIENTO CON INSULINA",null,{"$f":"IFERROR(VLOOKUP($A50,Filtro!$A$4:$AX$552,2,FALSE),0)","v":7477},{"$f":"IFERROR(VLOOKUP($A50,Filtro!$A$4:$AX$552,3,FALSE),0)","v":3795},{"$f":"IFERROR(VLOOKUP($A50,Filtro!$A$4:$AX$552,4,FALSE),0)","v":3682},{"$f":"IFERROR(VLOOKUP($A50,Filtro!$A$4:$AX$552,5,FALSE),0)","v":2773},{"$f":"IFERROR(VLOOKUP($A50,Filtro!$A$4:$AX$552,6,FALSE),0)","v":4704},"",{"$nulls":47},{"$f":"IF($E$50<=SUM($G$17:$Z$17),\"\",\"* Los pacientes diabéticos de 15 a 64 años en tratamiento con insulina no deben ser mayor a los pacientes Diabéticos en Control de la sección A. \")","v":""},{"$f":"IF($F$50<=SUM($AA$17:$AH$17),\"\",\"* Los pacientes diabéticos de 65+ años en tratamiento con insulina no deben ser mayor a los pacientes Diabéticos en Control de la sección A. \")","v":""},{"$f":"IF($G$50+$H$50<>$D$50,\"* La suma de Sexo debe ser igual al TOTAL de pacientes en tratamiento con insulina. \",\"\")","v":""},{"$nulls":33},{"$f":"IF($E$50<=SUM($G$17:$Z$17),0,1)","v":0},{"$f":"IF($F$50<=SUM($AA$17:$AH$17),0,1)","v":0},{"$f":"IF($G$50+$H$50<>$D$50,1,0)","v":0}]
["P4200700","EN  TRATAMIENTO CON INSULINA QUE LOGRA META CON  HbA1C SEGÚN EDAD",null,{"$f":"IFERROR(VLOOKUP($A51,Filtro!$A$4:$AX$552,2,FALSE),0)","v":1319},{"$f":"IFERROR(VLOOKUP($A51,Filtro!$A$4:$AX$552,3,FALSE),0)","v":524},{"$f":"IFERROR(VLOOKUP($A51,Filtro!$A$4:$AX$552,4,FALSE),0)","v":795},{"$f":"IFERROR(VLOOKUP($A51,Filtro!$A$4:$AX$552,5,FALSE),0)","v":518},{"$f":"IFERROR(VLOOKUP($A51,Filtro!$A$4:$AX$552,6,FALSE),0)","v":801},"",{"$nulls":47},{"$f":"IF($E$51<=SUM($G$17:$Z$17),\"\",\"* Los pacientes diabéticos de 15 a 64 años en tratamiento con insulina con HbA1C<7% no deben ser mayor a los pacientes Diabéticos en Control de la sección A. \")","v":""},null,{"$f":"IF($G$51+$H$51<>$D$51,\"* La suma de Sexo debe ser igual al TOTAL de pacientes en tratamiento con insulina con HbA1C<7%. \",\"\")","v":""},{"$nulls":33},{"$f":"IF($E$51<=SUM($G$17:$Z$17),0,1)","v":0},null,{"$f":"IF($G$51+$H$51<>$D$51,1,0)","v":0}]
["P4190960","CON HbA1C>= 9 %",null,{"$f":"IFERROR(VLOOKUP($A52,Filtro!$A$4:$AX$552,2,FALSE),0)","v":5578},{"$f":"IFERROR(VLOOKUP($A52,Filtro!$A$4:$AX$552,3,FALSE),0)","v":3352},{"$f":"IFERROR(VLOOKUP($A52,Filtro!$A$4:$AX$552,4,FALSE),0)","v":2226},{"$f":"IFERROR(VLOOKUP($A52,Filtro!$A$4:$AX$552,5,FALSE),0)","v":2104},{"$f":"IFERROR(VLOOKUP($A52,Filtro!$A$4:$AX$552,6,FALSE),0)","v":3415},"* La suma de Sexo debe ser igual al TOTAL de pacientes diabéticas en PSCV con HbA1>=9 %.",{"$nulls":47},{"$f":"IF(($E$52+SUM($G$35:$Z$35))<=SUM($G$17:$Z$17),\"\",\"Diabéticos de 15a64 años con HbA1C>=9% más HbA1C<7% de seccion B no deben ser mayor a los pacientes Diabéticos en Control de la sección A. \")","v":""},{"$f":"IF(($F$52+SUM($AA$35:$AH$35,AG36:AH36)<=SUM($AA$17:$AH$17)),\"\",\"Diabéticos de 65+ años con HbA1C>=9% más HbA1C<7% mas HbA1C<8% de seccion B no deben ser mayor a los pacientes Diabéticos en Control de la sección A. \")","v":""},{"$f":"IF($G$52+$H$52<>$D$52,\"* La suma de Sexo debe ser igual al TOTAL de pacientes diabéticas en PSCV con HbA1>=9 %.\",\"\")","v":"* La suma de Sexo debe ser igual al TOTAL de pacientes diabéticas en PSCV con HbA1>=9 %."},{"$nulls":33},{"$f":"IF(($E$52+SUM($G$35:$Z$35))<=SUM($G$17:$Z$17),0,1)","v":0},{"$f":"IF(($F$52+SUM($AA$35:$AH$35,AG36:AH36)<=SUM($AA$17:$AH$17)),0,1)","v":0},{"$f":"IF($G$52+$H$52<>$D$52,1,0)","v":1}]
["P4190807","EN TRATAMIENTO CON IECA O ARA II.",null,{"$f":"IFERROR(VLOOKUP($A53,Filtro!$A$4:$AX$552,2,FALSE),0)","v":13267},{"$f":"IFERROR(VLOOKUP($A53,Filtro!$A$4:$AX$552,3,FALSE),0)","v":5368},{"$f":"IFERROR(VLOOKUP($A53,Filtro!$A$4:$AX$552,4,FALSE),0)","v":7899},{"$f":"IFERROR(VLOOKUP($A53,Filtro!$A$4:$AX$552,5,FALSE),0)","v":5061},{"$f":"IFERROR(VLOOKUP($A53,Filtro!$A$4:$AX$552,6,FALSE),0)","v":8206},"",{"$nulls":47},{"$f":"IF($E$53<=SUM($G$17:$Z$17),\"\",\"* Los pacientes diabéticos de 15 a 64 años en tratamiento con IECA o ARA II no deben ser mayor a los pacientes Diabéticos en Control de la sección A. \")","v":""},{"$f":"IF($F$53<=SUM($AA$17:$AH$17),\"\",\"* Los pacientes diabéticos de 65+ años y más en tratamiento con IECA o ARA II no deben ser mayor a los pacientes Diabéticos en Control de la sección A. \")","v":""},{"$f":"IF($G$53+$H$53<>$D$53,\"* La suma de Sexo debe ser igual al TOTAL de pacientes en tratamiento con IECA o ARA II .\",\"\")","v":""},{"$nulls":33},{"$f":"IF($E$53<=SUM($G$17:$Z$17),0,1)","v":0},{"$f":"IF($F$53<=SUM($AA$17:$AH$17),0,1)","v":0},{"$f":"IF($G$53+$H$53<>$D$53,1,0)","v":0}]
["P4190808","CON UN EXÁMEN DE COLESTEROL LDL VIGENTE.",null,{"$f":"IFERROR(VLOOKUP($A54,Filtro!$A$4:$AX$552,2,FALSE),0)","v":13839},{"$f":"IFERROR(VLOOKUP($A54,Filtro!$A$4:$AX$552,3,FALSE),0)","v":6885},{"$f":"IFERROR(VLOOKUP($A54,Filtro!$A$4:$AX$552,4,FALSE),0)","v":6954},{"$f":"IFERROR(VLOOKUP($A54,Filtro!$A$4:$AX$552,5,FALSE),0)","v":4925},{"$f":"IFERROR(VLOOKUP($A54,Filtro!$A$4:$AX$552,6,FALSE),0)","v":8914},"",{"$nulls":47},{"$f":"IF($E$54<=SUM($G$17:$Z$17),\"\",\"* Los pacientes diabéticos de 15 a 64 años con exámen de colesterol LDL vigente no deben ser mayor a los pacientes Diabéticos en Control de la sección A. \")","v":""},{"$f":"IF($F$54<=SUM($AA$17:$AH$17),\"\",\"* Los pacientes diabéticos de 65+ años y más con exámen de colesterol LDL vigente no deben ser mayor a los pacientes Diabéticos en Control de la sección A. \")","v":""},{"$f":"IF($G$54+$H$54<>$D$54,\"* La suma de Sexo debe ser igual al TOTAL de pacientes con exámen de colesterol LDL vigente. \",\"\")","v":""},{"$nulls":33},{"$f":"IF($E$54<=SUM($G$17:$Z$17),0,1)","v":0},{"$f":"IF($F$54<=SUM($AA$17:$AH$17),0,1)","v":0},{"$f":"IF($G$54+$H$54<>$D$54,1,0)","v":0}]
["P4190809","CON \"EVALUACIÓN VIGENTE DEL PIE SEGÚN PAUTA DE ESTIMACION DEL RIESGO DE ULCERACION EN PERSONAS CON DIABETES","Riesgo bajo",{"$f":"IFERROR(VLOOKUP($A55,Filtro!$A$4:$AX$552,2,FALSE),0)","v":8555},{"$f":"IFERROR(VLOOKUP($A55,Filtro!$A$4:$AX$552,3,FALSE),0)","v":4382},{"$f":"IFERROR(VLOOKUP($A55,Filtro!$A$4:$AX$552,4,FALSE),0)","v":4173},{"$f":"IFERROR(VLOOKUP($A55,Filtro!$A$4:$AX$552,5,FALSE),0)","v":3063},{"$f":"IFERROR(VLOOKUP($A55,Filtro!$A$4:$AX$552,6,FALSE),0)","v":5492},"",{"$nulls":47},{"$f":"IF(SUM($E$55:$E$58)<=SUM($G$17:$Z$17),\"\",\"* Los pacientes diabéticos de 15 a 64 años con evaluación vigente de pie clasificados como riesgo bajo no deben ser mayor a los pacientes Diabéticos en Control de la sección A. \")","v":""},{"$f":"IF(SUM($F$55:$F$58)<=SUM($AA$17:$AH$17),\"\",\"* Los pacientes diabéticos de 65+ años y más con evaluación vigente de pie clasificados como riesgo bajo no deben ser mayor a los pacientes Diabéticos en Control de la sección A. \")","v":""},{"$f":"IF($G$55+$H$55<>$D$55,\"* La suma de Sexo debe ser igual al TOTAL de pacientes con Rbajo. \",\"\")","v":""},{"$nulls":33},{"$f":"IF(SUM($E$55:$E$58)<=SUM($G$17:$Z$17),0,1)","v":0},{"$f":"IF(SUM($F$55:$F$58)<=SUM($AA$17:$AH$17),0,1)","v":0},{"$f":"IF($G$55+$H$55<>$D$55,1,0)","v":0}]
["P4170300",null,"Riesgo moderado ",{"$f":"IFERROR(VLOOKUP($A56,Filtro!$A$4:$AX$552,2,FALSE),0)","v":1393},{"$f":"IFERROR(VLOOKUP($A56,Filtro!$A$4:$AX$552,3,FALSE),0)","v":499},{"$f":"IFERROR(VLOOKUP($A56,Filtro!$A$4:$AX$552,4,FALSE),0)","v":894},{"$f":"IFERROR(VLOOKUP($A56,Filtro!$A$4:$AX$552,5,FALSE),0)","v":545},{"$f":"IFERROR(VLOOKUP($A56,Filtro!$A$4:$AX$552,6,FALSE),0)","v":848},{"$f":" BG56","v":""},{"$nulls":49},{"$f":"IF($G$56+$H$56<>$D$56,\"* La suma de Sexo debe ser igual al TOTAL de pacientes con Rmoderado. \",\"\")","v":""},{"$nulls":35},{"$f":"IF($G$56+$H$56<>$D$56,1,0)","v":0}]
["P4190500",null,"Riesgo alto",{"$f":"IFERROR(VLOOKUP($A57,Filtro!$A$4:$AX$552,2,FALSE),0)","v":2209},{"$f":"IFERROR(VLOOKUP($A57,Filtro!$A$4:$AX$552,3,FALSE),0)","v":644},{"$f":"IFERROR(VLOOKUP($A57,Filtro!$A$4:$AX$552,4,FALSE),0)","v":1565},{"$f":"IFERROR(VLOOKUP($A57,Filtro!$A$4:$AX$552,5,FALSE),0)","v":816},{"$f":"IFERROR(VLOOKUP($A57,Filtro!$A$4:$AX$552,6,FALSE),0)","v":1393},{"$f":" BG57","v":""},{"$nulls":49},{"$f":"IF($G$57+$H$57<>$D$57,\"* La suma de Sexo debe ser igual al TOTAL de pacientes con Ralto. \",\"\")","v":""},{"$nulls":35},{"$f":"IF($G$57+$H$57<>$D$57,1,0)","v":0}]
["P4190600",null,"Riesgo máximo ",{"$f":"IFERROR(VLOOKUP($A58,Filtro!$A$4:$AX$552,2,FALSE),0)","v":1002},{"$f":"IFERROR(VLOOKUP($A58,Filtro!$A$4:$AX$552,3,FALSE),0)","v":389},{"$f":"IFERROR(VLOOKUP($A58,Filtro!$A$4:$AX$552,4,FALSE),0)","v":613},{"$f":"IFERROR(VLOOKUP($A58,Filtro!$A$4:$AX$552,5,FALSE),0)","v":547},{"$f":"IFERROR(VLOOKUP($A58,Filtro!$A$4:$AX$552,6,FALSE),0)","v":455},{"$f":" BG58","v":""},{"$nulls":49},{"$f":"IF($G$58+$H$58<>$D$58,\"* La suma de Sexo debe ser igual al TOTAL de pacientes con Rmáximo. \",\"\")","v":""},{"$nulls":35},{"$f":"IF($G$58+$H$58<>$D$58,1,0)","v":0}]
["P4190970","CON ÚLCERAS ACTIVAS DE PIE TRATADAS CON CURACIÓN ","Curación Convencional",{"$f":"IFERROR(VLOOKUP($A59,Filtro!$A$4:$AX$552,2,FALSE),0)","v":44},{"$f":"IFERROR(VLOOKUP($A59,Filtro!$A$4:$AX$552,3,FALSE),0)","v":29},{"$f":"IFERROR(VLOOKUP($A59,Filtro!$A$4:$AX$552,4,FALSE),0)","v":15},{"$f":"IFERROR(VLOOKUP($A59,Filtro!$A$4:$AX$552,5,FALSE),0)","v":25},{"$f":"IFERROR(VLOOKUP($A59,Filtro!$A$4:$AX$552,6,FALSE),0)","v":19},{"$f":" BE59 & BF59 & BG59","v":""},{"$nulls":47},{"$f":"IF(($E$59+$E$60)<=SUM($G$17:$Z$17),\"\",\"* Los pacientes diabéticos de 15 a 64 años con úlceras activas de pie tratadas con curación convencional 0 avanzada no deben ser mayor a los pacientes Diabéticos en Control de la sección A. \")","v":""},{"$f":"IF(($F$59+$F$60)<=SUM($AA$17:$AH$17),\"\",\"* Los pacientes diabéticos de 65+ años con úlceras activas de pie tratadas con curación convencional o avanzada no deben ser mayor a los pacientes Diabéticos en Control de la sección A. \")","v":""},{"$f":"IF($G$59+$H$59<>$D$59,\"* La suma de Sexo debe ser igual al TOTAL de pacientes con úlceras activas de pie tratadas con curación convencional de heridas. \",\"\")","v":""},{"$nulls":33},{"$f":"IF(($E$59+$E$60)<=SUM($G$17:$Z$17),0,1)","v":0},{"$f":"IF(($F$59+$F$60)<=SUM($AA$17:$AH$17),0,1)","v":0},{"$f":"IF($G$59+$H$59<>$D$59,1,0)","v":0}]
["P4170500",null,"Curación Avanzada",{"$f":"IFERROR(VLOOKUP($A60,Filtro!$A$4:$AX$552,2,FALSE),0)","v":1900},{"$f":"IFERROR(VLOOKUP($A60,Filtro!$A$4:$AX$552,3,FALSE),0)","v":1039},{"$f":"IFERROR(VLOOKUP($A60,Filtro!$A$4:$AX$552,4,FALSE),0)","v":861},{"$f":"IFERROR(VLOOKUP($A60,Filtro!$A$4:$AX$552,5,FALSE),0)","v":1222},{"$f":"IFERROR(VLOOKUP($A60,Filtro!$A$4:$AX$552,6,FALSE),0)","v":678},{"$f":" BG60","v":""},{"$nulls":49},{"$f":"IF($G60+$H60<>$D60,\"* La suma de Sexo debe ser igual al TOTAL de pacientes con úlceras activas de pie tratadas con curación avanzada de heridas. \",\"\")","v":""},{"$nulls":35},{"$f":"IF($G60+$H60<>$D60,1,0)","v":0}]
["P4200800","CON AMPUTACIÓN POR PIE DIABÉTICO",null,{"$f":"IFERROR(VLOOKUP($A61,Filtro!$A$4:$AX$552,2,FALSE),0)","v":303},{"$f":"IFERROR(VLOOKUP($A61,Filtro!$A$4:$AX$552,3,FALSE),0)","v":137},{"$f":"IFERROR(VLOOKUP($A61,Filtro!$A$4:$AX$552,4,FALSE),0)","v":166},{"$f":"IFERROR(VLOOKUP($A61,Filtro!$A$4:$AX$552,5,FALSE),0)","v":206},{"$f":"IFERROR(VLOOKUP($A61,Filtro!$A$4:$AX$552,6,FALSE),0)","v":97},{"$nulls":50},{"$f":"IF($G61+$H61<>$D61,\"* La suma de Sexo debe ser igual al TOTAL de pacientes con amputación por pie diabético. \",\"\")","v":""},{"$nulls":35},{"$f":"IF($G61+$H61<>$D61,1,0)","v":0}]
["P4200900","CON DIAGNOSTICO ASOCIADO DE HIPERTENSION ARTERIAL",null,{"$f":"IFERROR(VLOOKUP($A62,Filtro!$A$4:$AX$552,2,FALSE),0)","v":18900},{"$f":"IFERROR(VLOOKUP($A62,Filtro!$A$4:$AX$552,3,FALSE),0)","v":7542},{"$f":"IFERROR(VLOOKUP($A62,Filtro!$A$4:$AX$552,4,FALSE),0)","v":11358},{"$f":"IFERROR(VLOOKUP($A62,Filtro!$A$4:$AX$552,5,FALSE),0)","v":6927},{"$f":"IFERROR(VLOOKUP($A62,Filtro!$A$4:$AX$552,6,FALSE),0)","v":11957},{"$nulls":50},{"$f":"IF($G62+$H62<>$D62,\"* La suma de Sexo debe ser igual al TOTAL de pacientes con diagnóstico asociado de hipertensión arterial. \",\"\")","v":"* La suma de Sexo debe ser igual al TOTAL de pacientes con diagnóstico asociado de hipertensión arterial. "},{"$nulls":35},1]
["P4201100","CON ANTECEDENTE DE ATAQUE CEREBRO VASCULAR",null,{"$f":"IFERROR(VLOOKUP($A63,Filtro!$A$4:$AX$552,2,FALSE),0)","v":963},{"$f":"IFERROR(VLOOKUP($A63,Filtro!$A$4:$AX$552,3,FALSE),0)","v":227},{"$f":"IFERROR(VLOOKUP($A63,Filtro!$A$4:$AX$552,4,FALSE),0)","v":736},{"$f":"IFERROR(VLOOKUP($A63,Filtro!$A$4:$AX$552,5,FALSE),0)","v":495},{"$f":"IFERROR(VLOOKUP($A63,Filtro!$A$4:$AX$552,6,FALSE),0)","v":460},{"$nulls":50},{"$f":"IF($G63+$H63<>$D63,\"* La suma de Sexo debe ser igual al TOTAL de pacientes con antecedente de ataque cerebro vascular. \",\"\")","v":"* La suma de Sexo debe ser igual al TOTAL de pacientes con antecedente de ataque cerebro vascular. "},{"$nulls":35},1]
["P4201200","CON ANTECEDENTES DE INFARTO AGUDO AL MIOCARDIO",null,{"$f":"IFERROR(VLOOKUP($A64,Filtro!$A$4:$AX$552,2,FALSE),0)","v":998},{"$f":"IFERROR(VLOOKUP($A64,Filtro!$A$4:$AX$552,3,FALSE),0)","v":320},{"$f":"IFERROR(VLOOKUP($A64,Filtro!$A$4:$AX$552,4,FALSE),0)","v":678},{"$f":"IFERROR(VLOOKUP($A64,Filtro!$A$4:$AX$552,5,FALSE),0)","v":531},{"$f":"IFERROR(VLOOKUP($A64,Filtro!$A$4:$AX$552,6,FALSE),0)","v":447},{"$nulls":50},{"$f":"IF($G64+$H64<>$D64,\"* La suma de Sexo debe ser igual al TOTAL de pacientes con antecedentes de infarto agudo al miocardio. \",\"\")","v":"* La suma de Sexo debe ser igual al TOTAL de pacientes con antecedentes de infarto agudo al miocardio. "},{"$nulls":35},1]
[null,"PERSONAS HIPERTENSAS EN PSCV"]
["P4190812","CON RAZON ALBÚMINA CREATININA (RAC),VIGENTE",null,{"$f":"IFERROR(VLOOKUP($A66,Filtro!$A$4:$AX$552,2,FALSE),0)","v":16181},{"$f":"IFERROR(VLOOKUP($A66,Filtro!$A$4:$AX$552,3,FALSE),0)","v":6891},{"$f":"IFERROR(VLOOKUP($A66,Filtro!$A$4:$AX$552,4,FALSE),0)","v":9290},{"$f":"IFERROR(VLOOKUP($A66,Filtro!$A$4:$AX$552,5,FALSE),0)","v":6070},{"$f":"IFERROR(VLOOKUP($A66,Filtro!$A$4:$AX$552,6,FALSE),0)","v":10111},{"$f":" BE66 & BF66 & BG66","v":""},{"$nulls":47},{"$f":"IF($E$66<=SUM($G$16:$Z$16),\"\",\"* Los pacientes Hipertensos de 15 a 64 años con razón albúmina creatinina (RAC) no deben ser mayor a los pacientes Hipertensos en Control de la sección A de la misma edad. \")","v":""},{"$f":"IF($F$66<=SUM($AA$16:$AH$16),\"\",\"* Los pacientes Hipertensos de 65+ años con razón albúmina creatinina (RAC) no deben ser mayor a los pacientes Hipertensos en Control de la sección A de la misma edad. \")","v":""},{"$f":"IF($G$66+$H$66<>$D$66,\"* La suma de Sexo debe ser igual al TOTAL de pacientes con razón albúmina creatinina (RAC). \",\"\")","v":""},{"$nulls":33},{"$f":"IF($E$66<=SUM($G$16:$Z$16),0,1)","v":0},{"$f":"IF($F$66<=SUM($AA$16:$AH$16),0,1)","v":0},{"$f":"IF($G$66+$H$66<>$D$66,1,0)","v":0}]
["P4200400","CON PRESIÓN ARTERIAL igual o Mayor 160/100 mmHg",null,{"$f":"IFERROR(VLOOKUP($A67,Filtro!$A$4:$AX$552,2,FALSE),0)","v":2836},{"$f":"IFERROR(VLOOKUP($A67,Filtro!$A$4:$AX$552,3,FALSE),0)","v":1158},{"$f":"IFERROR(VLOOKUP($A67,Filtro!$A$4:$AX$552,4,FALSE),0)","v":1678},{"$f":"IFERROR(VLOOKUP($A67,Filtro!$A$4:$AX$552,5,FALSE),0)","v":1162},{"$f":"IFERROR(VLOOKUP($A67,Filtro!$A$4:$AX$552,6,FALSE),0)","v":1674},{"$f":" BG67","v":""},{"$nulls":47},{"$f":"IF($E$67<=SUM($G$16:$Z$16),\"\",\"* Los pacientes Hipertensos de 15 a 64 años con PRESIÓN ARTERIAL igual o Mayor 160/100 mmHg no deben ser mayor a los Hipertensos en Control de la sección A de la misma edad. \")","v":""},{"$f":"IF($F$67<=SUM($AA$16:$AH$16),\"\",\"* Los pacientes Hipertensos de 65+ años con PRESIÓN ARTERIAL igual o Mayor 160/100 mmHg no deben ser mayor a los pacientes Hipertensos en Control de la sección A de la misma edad. \")","v":""},{"$f":"IF($G$67+$H$67<>$D$67,\"* La suma de Sexo debe ser igual al TOTAL de pacientes con presión arterial igual o Mayor 160/100 mmHg. \",\"\")","v":""},{"$nulls":33},{"$f":"IF($E$67<=SUM($G$16:$Z$16),0,1)","v":0},{"$f":"IF($F$67<=SUM($AA$16:$AH$16),0,1)","v":0},{"$f":"IF($G$67+$H$67<>$D$67,1,0)","v":0}]
[null,"TODAS LAS PERSONAS EN PSCV"]
["P4201300","CON DIAGNÓSTCO DE GLICEMIA DE AYUNAS ALTERADA",null,{"$f":"IFERROR(VLOOKUP($A69,Filtro!$A$4:$AX$552,2,FALSE),0)","v":0},{"$f":"IFERROR(VLOOKUP($A69,Filtro!$A$4:$AX$552,3,FALSE),0)","v":0},{"$f":"IFERROR(VLOOKUP($A69,Filtro!$A$4:$AX$552,4,FALSE),0)","v":0},{"$f":"IFERROR(VLOOKUP($A69,Filtro!$A$4:$AX$552,5,FALSE),0)","v":0},{"$f":"IFERROR(VLOOKUP($A69,Filtro!$A$4:$AX$552,6,FALSE),0)","v":0},{"$f":" BG69","v":""},{"$nulls":49},{"$f":"IF($G69+$H69<>$D69,\"* La suma de Sexo debe ser igual al TOTAL de pacientes con diagnóstico de Glicemi de Ayunas alterada. \",\"\")","v":""},{"$nulls":35},{"$f":"IF($G69+$H69<>$D69,1,0)","v":0}]
["P4201400","CON DIAGNÓSTCO DE INTOLERANCIA A LA GLUCOSA",null,{"$f":"IFERROR(VLOOKUP($A70,Filtro!$A$4:$AX$552,2,FALSE),0)","v":0},{"$f":"IFERROR(VLOOKUP($A70,Filtro!$A$4:$AX$552,3,FALSE),0)","v":0},{"$f":"IFERROR(VLOOKUP($A70,Filtro!$A$4:$AX$552,4,FALSE),0)","v":0},{"$f":"IFERROR(VLOOKUP($A70,Filtro!$A$4:$AX$552,5,FALSE),0)","v":0},{"$f":"IFERROR(VLOOKUP($A70,Filtro!$A$4:$AX$552,6,FALSE),0)","v":0},"",{"$nulls":49},{"$f":"IF($G70+$H70<>$D70,\"* La suma de Sexo debe ser igual al TOTAL de pacientes con Diagnóstico de Intolerancia a la Glucosa. \",\"\")","v":""},{"$nulls":35},0]
["P4201500","SOBREPESO: IMC entre 25 y 29.9",null,{"$f":"IFERROR(VLOOKUP($A71,Filtro!$A$4:$AX$552,2,FALSE),0)","v":11247},{"$f":"IFERROR(VLOOKUP($A71,Filtro!$A$4:$AX$552,3,FALSE),0)","v":11247},{"$f":"IFERROR(VLOOKUP($A71,Filtro!$A$4:$AX$552,4,FALSE),0)","v":0},{"$f":"IFERROR(VLOOKUP($A71,Filtro!$A$4:$AX$552,5,FALSE),0)","v":4593},{"$f":"IFERROR(VLOOKUP($A71,Filtro!$A$4:$AX$552,6,FALSE),0)","v":6654},"",{"$nulls":49},{"$f":"IF($G71+$H71<>$D71,\"* La suma de Sexo debe ser igual al TOTAL de pacientes con IMC entre 25 y 29.9. \",\"\")","v":""},{"$nulls":35},0]
["P4201600","SOBREPESO: IMC entre 28 y 31.9",null,{"$f":"IFERROR(VLOOKUP($A72,Filtro!$A$4:$AX$552,2,FALSE),0)","v":11400},{"$f":"IFERROR(VLOOKUP($A72,Filtro!$A$4:$AX$552,3,FALSE),0)","v":0},{"$f":"IFERROR(VLOOKUP($A72,Filtro!$A$4:$AX$552,4,FALSE),0)","v":11400},{"$f":"IFERROR(VLOOKUP($A72,Filtro!$A$4:$AX$552,5,FALSE),0)","v":4364},{"$f":"IFERROR(VLOOKUP($A72,Filtro!$A$4:$AX$552,6,FALSE),0)","v":7036},"",{"$nulls":49},{"$f":"IF($G72+$H72<>$D72,\"* La suma de Sexo debe ser igual al TOTAL de pacientes con IMC entre 27 y 31.9. \",\"\")","v":""},{"$nulls":35},0]
["P4200500","**IMC igual o Mayor a 30KG/M2",null,{"$f":"IFERROR(VLOOKUP($A73,Filtro!$A$4:$AX$552,2,FALSE),0)","v":16533},{"$f":"IFERROR(VLOOKUP($A73,Filtro!$A$4:$AX$552,3,FALSE),0)","v":16533},{"$f":"IFERROR(VLOOKUP($A73,Filtro!$A$4:$AX$552,4,FALSE),0)","v":0},{"$f":"IFERROR(VLOOKUP($A73,Filtro!$A$4:$AX$552,5,FALSE),0)","v":5070},{"$f":"IFERROR(VLOOKUP($A73,Filtro!$A$4:$AX$552,6,FALSE),0)","v":11463},"",{"$nulls":49},{"$f":"IF($G73+$H73<>$D73,\"* La suma de Sexo debe ser igual al TOTAL de pacientes con IMC igual o mayor a 30KG/M2. \",\"\")","v":""},{"$nulls":35},0]
["P4201700","OBESIDAD: IMC igual o Mayor a 32KG/M2",null,{"$f":"IFERROR(VLOOKUP($A74,Filtro!$A$4:$AX$552,2,FALSE),0)","v":9280},{"$f":"IFERROR(VLOOKUP($A74,Filtro!$A$4:$AX$552,3,FALSE),0)","v":0},{"$f":"IFERROR(VLOOKUP($A74,Filtro!$A$4:$AX$552,4,FALSE),0)","v":9280},{"$f":"IFERROR(VLOOKUP($A74,Filtro!$A$4:$AX$552,5,FALSE),0)","v":2627},{"$f":"IFERROR(VLOOKUP($A74,Filtro!$A$4:$AX$552,6,FALSE),0)","v":6653},{"$f":" BG74","v":""},{"$nulls":49},{"$f":"IF($G74+$H74<>$D74,\"* La suma de Sexo debe ser igual al TOTAL de pacientes con IMC igual o mayor a 32KG/M2. \",\"\")","v":""},{"$nulls":35},{"$f":"IF($G74+$H74<>$D74,1,0)","v":0}]
[null,"NOTA (*): La vigencia de la evaluación es de 12 meses."]
[null,"**Considerar en adultos mayores (65 años y más) un IMC igual o mayor a 32G/M2"]
[null,"SECCIÓN D: POBLACION EN CONTROL (EMPA VIGENTE) SEGÚN COMPENSACION Y ESTADO NUTRICIONAL "]
[null,"CONCEPTO",null,"TOTAL ",null,null,"GRUPOS DE EDAD (en años) Y SEXO",{"$nulls":15},"Pueblos originarios",null,"Población Migrante"]
[{"$nulls":6},"25 a 29 años",null,"30 a 34 años",null,"35 a 39 años",null,"40 a 44 años",null,"45 a 49 años",null,"50 a 54 años",null,"55 a 59 años",null,"60 a 64 años"]
[{"$nulls":3},"Ambos\nsexos","Hombres","Mujeres","Hombres","Mujeres","Hombres","Mujeres","Hombres","Mujeres","Hombres","Mujeres","Hombres","Mujeres","Hombres","Mujeres","Hombres","Mujeres","Hombres","Mujeres","Hombres","Mujeres","Hombres","Mujeres"]
["P4201800","POBLACIÓN BAJO CONTROL (EMPA VIGENTE)",null,{"$f":"IFERROR(VLOOKUP($A81,Filtro!$A$4:$AX$552,2,FALSE),0)","v":3003},{"$f":"IFERROR(VLOOKUP($A81,Filtro!$A$4:$AX$552,3,FALSE),0)","v":1207},{"$f":"IFERROR(VLOOKUP($A81,Filtro!$A$4:$AX$552,4,FALSE),0)","v":1796},{"$f":"IFERROR(VLOOKUP($A81,Filtro!$A$4:$AX$552,5,FALSE),0)","v":173},{"$f":"IFERROR(VLOOKUP($A81,Filtro!$A$4:$AX$552,6,FALSE),0)","v":281},{"$f":"IFERROR(VLOOKUP($A81,Filtro!$A$4:$AX$552,7,FALSE),0)","v":208},{"$f":"IFERROR(VLOOKUP($A81,Filtro!$A$4:$AX$552,8,FALSE),0)","v":220},{"$f":"IFERROR(VLOOKUP($A81,Filtro!$A$4:$AX$552,9,FALSE),0)","v":143},{"$f":"IFERROR(VLOOKUP($A81,Filtro!$A$4:$AX$552,10,FALSE),0)","v":213},{"$f":"IFERROR(VLOOKUP($A81,Filtro!$A$4:$AX$552,11,FALSE),0)","v":157},{"$f":"IFERROR(VLOOKUP($A81,Filtro!$A$4:$AX$552,12,FALSE),0)","v":225},{"$f":"IFERROR(VLOOKUP($A81,Filtro!$A$4:$AX$552,13,FALSE),0)","v":142},{"$f":"IFERROR(VLOOKUP($A81,Filtro!$A$4:$AX$552,14,FALSE),0)","v":247},{"$f":"IFERROR(VLOOKUP($A81,Filtro!$A$4:$AX$552,15,FALSE),0)","v":159},{"$f":"IFERROR(VLOOKUP($A81,Filtro!$A$4:$AX$552,16,FALSE),0)","v":224},{"$f":"IFERROR(VLOOKUP($A81,Filtro!$A$4:$AX$552,17,FALSE),0)","v":120},{"$f":"IFERROR(VLOOKUP($A81,Filtro!$A$4:$AX$552,18,FALSE),0)","v":211},{"$f":"IFERROR(VLOOKUP($A81,Filtro!$A$4:$AX$552,19,FALSE),0)","v":105},{"$f":"IFERROR(VLOOKUP($A81,Filtro!$A$4:$AX$552,20,FALSE),0)","v":175},{"$f":"IFERROR(VLOOKUP($A81,Filtro!$A$4:$AX$552,21,FALSE),0)","v":0},{"$f":"IFERROR(VLOOKUP($A81,Filtro!$A$4:$AX$552,22,FALSE),0)","v":0},{"$f":"IFERROR(VLOOKUP($A81,Filtro!$A$4:$AX$552,23,FALSE),0)","v":35},{"$f":"IFERROR(VLOOKUP($A81,Filtro!$A$4:$AX$552,24,FALSE),0)","v":38},{"$f":"BE81&BF81&BG81&BH81&BI81","v":""},{"$nulls":29},{"$f":"IF(CO81=1,CONCATENATE(\"* La cantidad de \",W$80,\" de Pueblos Originarios No puede superar el Total de \",W$80,\" en \",$B81,\". \"),\"\")","v":""},{"$f":"IF(CP81=1,CONCATENATE(\"* La cantidad de \",X$80,\" de Pueblos Originarios No puede superar el Total de \",X$80,\" en \",$B81,\". \"),\"\")","v":""},{"$f":"IF(CQ81=1,CONCATENATE(\"* La cantidad de \",Y$80,\" de Población Migrante No puede superar el Total de \",Y$80,\" en \",$B81,\". \"),\"\")","v":""},{"$f":"IF(CR81=1,CONCATENATE(\"* La cantidad de \",Z$80,\" de Población Migrante No puede superar el Total de \",Z$80,\" en \",$B81,\". \"),\"\")","v":""},{"$f":"IF(CS81=1,\" * No olvide digitar Las columnas Pueblo Originario y/o Población Migrante (Digite Cero si no tiene). \",\"\")","v":""},{"$nulls":31},{"$f":"IF(W81>$E81,1,0)","v":0},{"$f":"IF(X81>$F81,1,0)","v":0},{"$f":"IF(Y81>$E81,1,0)","v":0},{"$f":"IF(Z81>$F81,1,0)","v":0},{"$f":"IF(AND(D81<>0,OR(W81=\"\",X81=\"\",Y81=\"\",Z81=\"\",)),1,0)","v":0}]
["P4201900","PRESIÓN ARTERIAL ELEVADA (= >140/90 mmHg)",null,{"$f":"IFERROR(VLOOKUP($A82,Filtro!$A$4:$AX$552,2,FALSE),0)","v":83},{"$f":"IFERROR(VLOOKUP($A82,Filtro!$A$4:$AX$552,3,FALSE),0)","v":32},{"$f":"IFERROR(VLOOKUP($A82,Filtro!$A$4:$AX$552,4,FALSE),0)","v":51},{"$f":"IFERROR(VLOOKUP($A82,Filtro!$A$4:$AX$552,5,FALSE),0)","v":1},{"$f":"IFERROR(VLOOKUP($A82,Filtro!$A$4:$AX$552,6,FALSE),0)","v":3},{"$f":"IFERROR(VLOOKUP($A82,Filtro!$A$4:$AX$552,7,FALSE),0)","v":2},{"$f":"IFERROR(VLOOKUP($A82,Filtro!$A$4:$AX$552,8,FALSE),0)","v":2},{"$f":"IFERROR(VLOOKUP($A82,Filtro!$A$4:$AX$552,9,FALSE),0)","v":3},{"$f":"IFERROR(VLOOKUP($A82,Filtro!$A$4:$AX$552,10,FALSE),0)","v":5},{"$f":"IFERROR(VLOOKUP($A82,Filtro!$A$4:$AX$552,11,FALSE),0)","v":2},{"$f":"IFERROR(VLOOKUP($A82,Filtro!$A$4:$AX$552,12,FALSE),0)","v":5},{"$f":"IFERROR(VLOOKUP($A82,Filtro!$A$4:$AX$552,13,FALSE),0)","v":6},{"$f":"IFERROR(VLOOKUP($A82,Filtro!$A$4:$AX$552,14,FALSE),0)","v":5},{"$f":"IFERROR(VLOOKUP($A82,Filtro!$A$4:$AX$552,15,FALSE),0)","v":6},{"$f":"IFERROR(VLOOKUP($A82,Filtro!$A$4:$AX$552,16,FALSE),0)","v":11},{"$f":"IFERROR(VLOOKUP($A82,Filtro!$A$4:$AX$552,17,FALSE),0)","v":7},{"$f":"IFERROR(VLOOKUP($A82,Filtro!$A$4:$AX$552,18,FALSE),0)","v":11},{"$f":"IFERROR(VLOOKUP($A82,Filtro!$A$4:$AX$552,19,FALSE),0)","v":5},{"$f":"IFERROR(VLOOKUP($A82,Filtro!$A$4:$AX$552,20,FALSE),0)","v":9},{"$f":"IFERROR(VLOOKUP($A82,Filtro!$A$4:$AX$552,21,FALSE),0)","v":0},{"$f":"IFERROR(VLOOKUP($A82,Filtro!$A$4:$AX$552,22,FALSE),0)","v":1},{"$f":"IFERROR(VLOOKUP($A82,Filtro!$A$4:$AX$552,23,FALSE),0)","v":5},{"$f":"IFERROR(VLOOKUP($A82,Filtro!$A$4:$AX$552,24,FALSE),0)","v":7},{"$f":"BE82&BF82&BG82&BH82&BI82","v":""},{"$nulls":29},{"$f":"IF(CO82=1,CONCATENATE(\"* La cantidad de \",W$80,\" de Pueblos Originarios No puede superar el Total de \",W$80,\" en \",$B82,\". \"),\"\")","v":""},"",{"$f":"IF(CQ82=1,CONCATENATE(\"* La cantidad de \",Y$80,\" de Población Migrante No puede superar el Total de \",Y$80,\" en \",$B82,\". \"),\"\")","v":""},{"$f":"IF(CR82=1,CONCATENATE(\"* La cantidad de \",Z$80,\" de Población Migrante No puede superar el Total de \",Z$80,\" en \",$B82,\". \"),\"\")","v":""},{"$f":"IF(CS82=1,\" * No olvide digitar Las columnas Pueblo Originario y/o Población Migrante (Digite Cero si no tiene). \",\"\")","v":""},{"$nulls":31},{"$f":"IF(W82>$E82,1,0)","v":0},{"$f":"IF(X82>$F82,1,0)","v":0},{"$f":"IF(Y82>$E82,1,0)","v":0},{"$f":"IF(Z82>$F82,1,0)","v":0},{"$f":"IF(AND(D82<>0,OR(W82=\"\",X82=\"\",Y82=\"\",Z82=\"\",)),1,0)","v":0}]
["P4202000","COLESTEROL ELEVADO (= > 200 mg/dl)",null,{"$f":"IFERROR(VLOOKUP($A83,Filtro!$A$4:$AX$552,2,FALSE),0)","v":875},{"$f":"IFERROR(VLOOKUP($A83,Filtro!$A$4:$AX$552,3,FALSE),0)","v":384},{"$f":"IFERROR(VLOOKUP($A83,Filtro!$A$4:$AX$552,4,FALSE),0)","v":491},{"$f":"IFERROR(VLOOKUP($A83,Filtro!$A$4:$AX$552,5,FALSE),0)","v":53},{"$f":"IFERROR(VLOOKUP($A83,Filtro!$A$4:$AX$552,6,FALSE),0)","v":63},{"$f":"IFERROR(VLOOKUP($A83,Filtro!$A$4:$AX$552,7,FALSE),0)","v":51},{"$f":"IFERROR(VLOOKUP($A83,Filtro!$A$4:$AX$552,8,FALSE),0)","v":48},{"$f":"IFERROR(VLOOKUP($A83,Filtro!$A$4:$AX$552,9,FALSE),0)","v":33},{"$f":"IFERROR(VLOOKUP($A83,Filtro!$A$4:$AX$552,10,FALSE),0)","v":55},{"$f":"IFERROR(VLOOKUP($A83,Filtro!$A$4:$AX$552,11,FALSE),0)","v":42},{"$f":"IFERROR(VLOOKUP($A83,Filtro!$A$4:$AX$552,12,FALSE),0)","v":59},{"$f":"IFERROR(VLOOKUP($A83,Filtro!$A$4:$AX$552,13,FALSE),0)","v":47},{"$f":"IFERROR(VLOOKUP($A83,Filtro!$A$4:$AX$552,14,FALSE),0)","v":67},{"$f":"IFERROR(VLOOKUP($A83,Filtro!$A$4:$AX$552,15,FALSE),0)","v":58},{"$f":"IFERROR(VLOOKUP($A83,Filtro!$A$4:$AX$552,16,FALSE),0)","v":72},{"$f":"IFERROR(VLOOKUP($A83,Filtro!$A$4:$AX$552,17,FALSE),0)","v":61},{"$f":"IFERROR(VLOOKUP($A83,Filtro!$A$4:$AX$552,18,FALSE),0)","v":71},{"$f":"IFERROR(VLOOKUP($A83,Filtro!$A$4:$AX$552,19,FALSE),0)","v":39},{"$f":"IFERROR(VLOOKUP($A83,Filtro!$A$4:$AX$552,20,FALSE),0)","v":56},{"$f":"IFERROR(VLOOKUP($A83,Filtro!$A$4:$AX$552,21,FALSE),0)","v":0},{"$f":"IFERROR(VLOOKUP($A83,Filtro!$A$4:$AX$552,22,FALSE),0)","v":1},{"$f":"IFERROR(VLOOKUP($A83,Filtro!$A$4:$AX$552,23,FALSE),0)","v":0},{"$f":"IFERROR(VLOOKUP($A83,Filtro!$A$4:$AX$552,24,FALSE),0)","v":0},"",{"$nulls":29},"","","","","",{"$nulls":31},0,0,0,0,0]
["P4202010","ESTADO NUTRICIONAL","NORMAL",{"$f":"IFERROR(VLOOKUP($A84,Filtro!$A$4:$AX$552,2,FALSE),0)","v":834},{"$f":"IFERROR(VLOOKUP($A84,Filtro!$A$4:$AX$552,3,FALSE),0)","v":319},{"$f":"IFERROR(VLOOKUP($A84,Filtro!$A$4:$AX$552,4,FALSE),0)","v":515},{"$f":"IFERROR(VLOOKUP($A84,Filtro!$A$4:$AX$552,5,FALSE),0)","v":62},{"$f":"IFERROR(VLOOKUP($A84,Filtro!$A$4:$AX$552,6,FALSE),0)","v":103},{"$f":"IFERROR(VLOOKUP($A84,Filtro!$A$4:$AX$552,7,FALSE),0)","v":87},{"$f":"IFERROR(VLOOKUP($A84,Filtro!$A$4:$AX$552,8,FALSE),0)","v":79},{"$f":"IFERROR(VLOOKUP($A84,Filtro!$A$4:$AX$552,9,FALSE),0)","v":40},{"$f":"IFERROR(VLOOKUP($A84,Filtro!$A$4:$AX$552,10,FALSE),0)","v":68},{"$f":"IFERROR(VLOOKUP($A84,Filtro!$A$4:$AX$552,11,FALSE),0)","v":35},{"$f":"IFERROR(VLOOKUP($A84,Filtro!$A$4:$AX$552,12,FALSE),0)","v":60},{"$f":"IFERROR(VLOOKUP($A84,Filtro!$A$4:$AX$552,13,FALSE),0)","v":34},{"$f":"IFERROR(VLOOKUP($A84,Filtro!$A$4:$AX$552,14,FALSE),0)","v":61},{"$f":"IFERROR(VLOOKUP($A84,Filtro!$A$4:$AX$552,15,FALSE),0)","v":24},{"$f":"IFERROR(VLOOKUP($A84,Filtro!$A$4:$AX$552,16,FALSE),0)","v":46},{"$f":"IFERROR(VLOOKUP($A84,Filtro!$A$4:$AX$552,17,FALSE),0)","v":16},{"$f":"IFERROR(VLOOKUP($A84,Filtro!$A$4:$AX$552,18,FALSE),0)","v":52},{"$f":"IFERROR(VLOOKUP($A84,Filtro!$A$4:$AX$552,19,FALSE),0)","v":21},{"$f":"IFERROR(VLOOKUP($A84,Filtro!$A$4:$AX$552,20,FALSE),0)","v":46},{"$f":"IFERROR(VLOOKUP($A84,Filtro!$A$4:$AX$552,21,FALSE),0)","v":1},{"$f":"IFERROR(VLOOKUP($A84,Filtro!$A$4:$AX$552,22,FALSE),0)","v":0},{"$f":"IFERROR(VLOOKUP($A84,Filtro!$A$4:$AX$552,23,FALSE),0)","v":6},{"$f":"IFERROR(VLOOKUP($A84,Filtro!$A$4:$AX$552,24,FALSE),0)","v":8},"",{"$nulls":29},{"$f":"IF(CO84=1,CONCATENATE(\"* La cantidad de \",W$80,\" de Pueblos Originarios No puede superar el Total de \",W$80,\" en \",$B$84,\" \",$C84,\". \"),\"\")","v":""},{"$f":"IF(CP84=1,CONCATENATE(\"* La cantidad de \",X$80,\" de Pueblos Originarios No puede superar el Total de \",X$80,\" en \",$B$84,\" \",$C84,\". \"),\"\")","v":""},{"$f":"IF(CQ84=1,CONCATENATE(\"* La cantidad de \",Y$80,\" de Población Migrante No puede superar el Total de \",Y$80,\" en \",$B$84,\" \",$C84,\". \"),\"\")","v":""},{"$f":"IF(CR84=1,CONCATENATE(\"* La cantidad de \",Z$80,\" de Población Migrante No puede superar el Total de \",Z$80,\" en \",$B$84,\" \",$C84,\". \"),\"\")","v":""},"",{"$nulls":31},0,0,0,0,0]
["P4202020",null,"BAJO PESO",{"$f":"IFERROR(VLOOKUP($A85,Filtro!$A$4:$AX$552,2,FALSE),0)","v":22},{"$f":"IFERROR(VLOOKUP($A85,Filtro!$A$4:$AX$552,3,FALSE),0)","v":12},{"$f":"IFERROR(VLOOKUP($A85,Filtro!$A$4:$AX$552,4,FALSE),0)","v":10},{"$f":"IFERROR(VLOOKUP($A85,Filtro!$A$4:$AX$552,5,FALSE),0)","v":8},{"$f":"IFERROR(VLOOKUP($A85,Filtro!$A$4:$AX$552,6,FALSE),0)","v":2},{"$f":"IFERROR(VLOOKUP($A85,Filtro!$A$4:$AX$552,7,FALSE),0)","v":1},{"$f":"IFERROR(VLOOKUP($A85,Filtro!$A$4:$AX$552,8,FALSE),0)","v":1},{"$f":"IFERROR(VLOOKUP($A85,Filtro!$A$4:$AX$552,9,FALSE),0)","v":0},{"$f":"IFERROR(VLOOKUP($A85,Filtro!$A$4:$AX$552,10,FALSE),0)","v":1},{"$f":"IFERROR(VLOOKUP($A85,Filtro!$A$4:$AX$552,11,FALSE),0)","v":1},{"$f":"IFERROR(VLOOKUP($A85,Filtro!$A$4:$AX$552,12,FALSE),0)","v":0},{"$f":"IFERROR(VLOOKUP($A85,Filtro!$A$4:$AX$552,13,FALSE),0)","v":0},{"$f":"IFERROR(VLOOKUP($A85,Filtro!$A$4:$AX$552,14,FALSE),0)","v":1},{"$f":"IFERROR(VLOOKUP($A85,Filtro!$A$4:$AX$552,15,FALSE),0)","v":0},{"$f":"IFERROR(VLOOKUP($A85,Filtro!$A$4:$AX$552,16,FALSE),0)","v":1},{"$f":"IFERROR(VLOOKUP($A85,Filtro!$A$4:$AX$552,17,FALSE),0)","v":0},{"$f":"IFERROR(VLOOKUP($A85,Filtro!$A$4:$AX$552,18,FALSE),0)","v":2},{"$f":"IFERROR(VLOOKUP($A85,Filtro!$A$4:$AX$552,19,FALSE),0)","v":2},{"$f":"IFERROR(VLOOKUP($A85,Filtro!$A$4:$AX$552,20,FALSE),0)","v":2},{"$f":"IFERROR(VLOOKUP($A85,Filtro!$A$4:$AX$552,21,FALSE),0)","v":0},{"$f":"IFERROR(VLOOKUP($A85,Filtro!$A$4:$AX$552,22,FALSE),0)","v":1},{"$f":"IFERROR(VLOOKUP($A85,Filtro!$A$4:$AX$552,23,FALSE),0)","v":0},{"$f":"IFERROR(VLOOKUP($A85,Filtro!$A$4:$AX$552,24,FALSE),0)","v":0},"",{"$nulls":29},{"$f":"IF(CO85=1,CONCATENATE(\"* La cantidad de \",W$80,\" de Pueblos Originarios No puede superar el Total de \",W$80,\" en \",$B$84,\" \",$C85,\". \"),\"\")","v":""},"",{"$f":"IF(CQ85=1,CONCATENATE(\"* La cantidad de \",Y$80,\" de Población Migrante No puede superar el Total de \",Y$80,\" en \",$B$84,\" \",$C85,\". \"),\"\")","v":""},{"$f":"IF(CR85=1,CONCATENATE(\"* La cantidad de \",Z$80,\" de Población Migrante No puede superar el Total de \",Z$80,\" en \",$B$84,\" \",$C85,\". \"),\"\")","v":""},"",{"$nulls":31},0,0,0,0,0]
["P4202030",null,"SOBREPESO",{"$f":"IFERROR(VLOOKUP($A86,Filtro!$A$4:$AX$552,2,FALSE),0)","v":1235},{"$f":"IFERROR(VLOOKUP($A86,Filtro!$A$4:$AX$552,3,FALSE),0)","v":513},{"$f":"IFERROR(VLOOKUP($A86,Filtro!$A$4:$AX$552,4,FALSE),0)","v":722},{"$f":"IFERROR(VLOOKUP($A86,Filtro!$A$4:$AX$552,5,FALSE),0)","v":68},{"$f":"IFERROR(VLOOKUP($A86,Filtro!$A$4:$AX$552,6,FALSE),0)","v":100},{"$f":"IFERROR(VLOOKUP($A86,Filtro!$A$4:$AX$552,7,FALSE),0)","v":65},{"$f":"IFERROR(VLOOKUP($A86,Filtro!$A$4:$AX$552,8,FALSE),0)","v":78},{"$f":"IFERROR(VLOOKUP($A86,Filtro!$A$4:$AX$552,9,FALSE),0)","v":60},{"$f":"IFERROR(VLOOKUP($A86,Filtro!$A$4:$AX$552,10,FALSE),0)","v":81},{"$f":"IFERROR(VLOOKUP($A86,Filtro!$A$4:$AX$552,11,FALSE),0)","v":63},{"$f":"IFERROR(VLOOKUP($A86,Filtro!$A$4:$AX$552,12,FALSE),0)","v":102},{"$f":"IFERROR(VLOOKUP($A86,Filtro!$A$4:$AX$552,13,FALSE),0)","v":51},{"$f":"IFERROR(VLOOKUP($A86,Filtro!$A$4:$AX$552,14,FALSE),0)","v":90},{"$f":"IFERROR(VLOOKUP($A86,Filtro!$A$4:$AX$552,15,FALSE),0)","v":88},{"$f":"IFERROR(VLOOKUP($A86,Filtro!$A$4:$AX$552,16,FALSE),0)","v":110},{"$f":"IFERROR(VLOOKUP($A86,Filtro!$A$4:$AX$552,17,FALSE),0)","v":64},{"$f":"IFERROR(VLOOKUP($A86,Filtro!$A$4:$AX$552,18,FALSE),0)","v":87},{"$f":"IFERROR(VLOOKUP($A86,Filtro!$A$4:$AX$552,19,FALSE),0)","v":54},{"$f":"IFERROR(VLOOKUP($A86,Filtro!$A$4:$AX$552,20,FALSE),0)","v":74},{"$f":"IFERROR(VLOOKUP($A86,Filtro!$A$4:$AX$552,21,FALSE),0)","v":0},{"$f":"IFERROR(VLOOKUP($A86,Filtro!$A$4:$AX$552,22,FALSE),0)","v":0},{"$f":"IFERROR(VLOOKUP($A86,Filtro!$A$4:$AX$552,23,FALSE),0)","v":10},{"$f":"IFERROR(VLOOKUP($A86,Filtro!$A$4:$AX$552,24,FALSE),0)","v":18},"",{"$nulls":29},"","","","","",{"$nulls":31},0,0,0,0,0]
["P4202040",null,"OBESO",{"$f":"IFERROR(VLOOKUP($A87,Filtro!$A$4:$AX$552,2,FALSE),0)","v":924},{"$f":"IFERROR(VLOOKUP($A87,Filtro!$A$4:$AX$552,3,FALSE),0)","v":365},{"$f":"IFERROR(VLOOKUP($A87,Filtro!$A$4:$AX$552,4,FALSE),0)","v":559},{"$f":"IFERROR(VLOOKUP($A87,Filtro!$A$4:$AX$552,5,FALSE),0)","v":35},{"$f":"IFERROR(VLOOKUP($A87,Filtro!$A$4:$AX$552,6,FALSE),0)","v":76},{"$f":"IFERROR(VLOOKUP($A87,Filtro!$A$4:$AX$552,7,FALSE),0)","v":55},{"$f":"IFERROR(VLOOKUP($A87,Filtro!$A$4:$AX$552,8,FALSE),0)","v":72},{"$f":"IFERROR(VLOOKUP($A87,Filtro!$A$4:$AX$552,9,FALSE),0)","v":43},{"$f":"IFERROR(VLOOKUP($A87,Filtro!$A$4:$AX$552,10,FALSE),0)","v":63},{"$f":"IFERROR(VLOOKUP($A87,Filtro!$A$4:$AX$552,11,FALSE),0)","v":60},{"$f":"IFERROR(VLOOKUP($A87,Filtro!$A$4:$AX$552,12,FALSE),0)","v":63},{"$f":"IFERROR(VLOOKUP($A87,Filtro!$A$4:$AX$552,13,FALSE),0)","v":57},{"$f":"IFERROR(VLOOKUP($A87,Filtro!$A$4:$AX$552,14,FALSE),0)","v":95},{"$f":"IFERROR(VLOOKUP($A87,Filtro!$A$4:$AX$552,15,FALSE),0)","v":47},{"$f":"IFERROR(VLOOKUP($A87,Filtro!$A$4:$AX$552,16,FALSE),0)","v":67},{"$f":"IFERROR(VLOOKUP($A87,Filtro!$A$4:$AX$552,17,FALSE),0)","v":40},{"$f":"IFERROR(VLOOKUP($A87,Filtro!$A$4:$AX$552,18,FALSE),0)","v":70},{"$f":"IFERROR(VLOOKUP($A87,Filtro!$A$4:$AX$552,19,FALSE),0)","v":28},{"$f":"IFERROR(VLOOKUP($A87,Filtro!$A$4:$AX$552,20,FALSE),0)","v":53},{"$f":"IFERROR(VLOOKUP($A87,Filtro!$A$4:$AX$552,21,FALSE),0)","v":0},{"$f":"IFERROR(VLOOKUP($A87,Filtro!$A$4:$AX$552,22,FALSE),0)","v":0},{"$f":"IFERROR(VLOOKUP($A87,Filtro!$A$4:$AX$552,23,FALSE),0)","v":19},{"$f":"IFERROR(VLOOKUP($A87,Filtro!$A$4:$AX$552,24,FALSE),0)","v":12},"",{"$nulls":29},"","","","","",{"$nulls":31},0,0,0,0,0]
[]
[]
["CODIGOS NUEVOS"]
["P4200600"]
["P4200700"]
["P4200800"]
["P4200900"]
["P4201100"]
["P4201200"]
["P4201300"]
["P4201400"]
["P4201500"]
["P4201600"]
["P4201700"]
["P4201800"]
["P4201900"]
["P4202000"]
["P4202010"]
["P4202020"]
["P4202030"]
["P4202040"]
[]
[]
[null,{"$f":"SUM(D12:AM28,D33:AL40,D45:H60,D66:H67,D74:H74)","v":2215018},"datos"]
[null,{"$f":"SUM(CM13:DT94)","v":5},"errores"]

{"sheet":"P5","index":5,"n_rows":82,"n_cols":45,"rows_kept":82,"merged":[[6,5,6,18],[7,30,8,31],[7,32,8,33],[7,34,8,34],[7,35,8,35],[7,37,8,38],[7,39,8,40],[7,41,8,41],[7,42,8,42],[8,1,10,3],[8,4,9,6],[8,7,8,14],[8,15,9,16],[8,17,9,18],[9,7,9,8],[9,9,9,10],[9,11,9,12],[9,13,9,14],[11,1,11,3],[12,1,12,3],[13,1,13,3],[14,1,14,3],[15,1,15,3],[16,1,16,3],[17,1,17,3],[19,1,19,3],[20,1,20,3],[22,1,24,3],[22,4,23,6],[22,7,22,16],[22,17,23,18],[22,19,23,20],[22,30,23,31],[22,32,23,33],[22,34,23,34],[22,35,23,35],[22,37,23,38],[22,39,23,40],[22,41,23,41],[22,42,23,42],[23,7,23,8],[23,9,23,10],[23,11,23,12],[23,13,23,14],[23,15,23,16],[25,1,25,3],[26,1,26,3],[27,1,27,3],[28,1,28,3],[30,1,32,2],[30,3,31,5],[30,6,30,13],[30,14,31,15],[30,16,31,17],[30,30,31,31],[30,32,31,33],[30,34,31,34],[30,35,31,35],[30,37,31,38],[30,39,31,40],[30,41,31,41],[30,42,31,42],[31,6,31,7],[31,8,31,9],[31,10,31,11],[31,12,31,13],[33,1,33,2],[34,1,34,2],[35,1,35,2],[36,1,36,2],[37,1,37,2],[38,1,38,7],[39,1,41,2],[39,3,40,5],[39,6,39,13],[40,6,40,7],[40,8,40,9],[40,10,40,11],[40,12,40,13],[42,1,42,2],[43,1,43,8],[44,1,46,2],[44,3,45,5],[44,6,44,13],[45,6,45,7],[45,8,45,9],[45,10,45,11],[45,12,45,13],[47,1,47,2],[48,1,48,9],[49,1,51,1],[49,2,51,3],[49,4,50,6],[49,7,49,14],[50,7,50,8],[50,9,50,10],[50,11,50,12],[50,13,50,14],[52,1,54,1],[52,2,52,3],[53,2,53,3],[54,2,54,3],[55,1,56,1],[55,2,55,3],[56,2,56,3]]}
[]
[]
[]
[]
[]
[]
[{"$nulls":5},"REM-P5. POBLACIÓN EN CONTROL PROGRAMA NACIONAL DE SALUD INTEGRAL DE PERSONAS MAYORES "]
[null,"SECCION A: POBLACIÓN EN CONTROL POR CONDICIÓN DE FUNCIONALIDAD",{"$nulls":28},"Pueblos Originarios",null,"Población Migrantes",null,"Pueblos Originarios","Población Migrantes",null,"Pueblos Originarios",null,"Población Migrantes",null,"Pueblos Originarios","Población Migrantes"]
[null,"CONDICIÓN DE \nFUNCIONALIDAD",null,null,"TOTAL",null,null,"GRUPO DE EDAD (en años) Y SEXO",{"$nulls":7},"Pueblos Originarios",null,"Población Migrantes"]
[{"$nulls":7},"65 a 69 años",null,"70 a 74 años",null,"75 a 79 años",null,"80 y más años",{"$nulls":16},"Hombres","Mujeres","Hombres","Mujeres","No Olvide","No Olvide",null,"Hombres","Mujeres","Hombres","Mujeres","No Olvide","No Olvide"]
[{"$nulls":4},"Ambos\nsexos","Hombres","Mujeres","Hombres ","Mujeres","Hombres ","Mujeres","Hombres ","Mujeres","Hombres ","Mujeres","Hombres","Mujeres","Hombres","Mujeres"]
["P5180100","AUTOVALENTE SIN RIESGO",null,null,{"$f":"IFERROR(VLOOKUP($A12,Filtro!$A$4:$AX$552,2,FALSE),0)","v":10332},{"$f":"IFERROR(VLOOKUP($A12,Filtro!$A$4:$AX$552,3,FALSE),0)","v":4479},{"$f":"IFERROR(VLOOKUP($A12,Filtro!$A$4:$AX$552,4,FALSE),0)","v":5853},{"$f":"IFERROR(VLOOKUP($A12,Filtro!$A$4:$AX$552,5,FALSE),0)","v":1381},{"$f":"IFERROR(VLOOKUP($A12,Filtro!$A$4:$AX$552,6,FALSE),0)","v":1978},{"$f":"IFERROR(VLOOKUP($A12,Filtro!$A$4:$AX$552,7,FALSE),0)","v":1277},{"$f":"IFERROR(VLOOKUP($A12,Filtro!$A$4:$AX$552,8,FALSE),0)","v":1761},{"$f":"IFERROR(VLOOKUP($A12,Filtro!$A$4:$AX$552,9,FALSE),0)","v":1023},{"$f":"IFERROR(VLOOKUP($A12,Filtro!$A$4:$AX$552,10,FALSE),0)","v":1233},{"$f":"IFERROR(VLOOKUP($A12,Filtro!$A$4:$AX$552,11,FALSE),0)","v":798},{"$f":"IFERROR(VLOOKUP($A12,Filtro!$A$4:$AX$552,12,FALSE),0)","v":881},{"$f":"IFERROR(VLOOKUP($A12,Filtro!$A$4:$AX$552,13,FALSE),0)","v":1},{"$f":"IFERROR(VLOOKUP($A12,Filtro!$A$4:$AX$552,14,FALSE),0)","v":2},{"$f":"IFERROR(VLOOKUP($A12,Filtro!$A$4:$AX$552,15,FALSE),0)","v":7},{"$f":"IFERROR(VLOOKUP($A12,Filtro!$A$4:$AX$552,16,FALSE),0)","v":9},{"$nulls":11},{"$f":"IF($F12>=$P12,\"\",\"* La celda 'Pueblos Originarios / Hombres' debe ser menor o igual al Total de Hombres en control. \")","v":""},{"$f":"IF($G12>=$Q12,\"\",\"* La celda 'Pueblos Originarios / Mujeres' debe ser menor o igual al Total de Mujeres en control. \")","v":""},{"$f":"IF($F12>=$R12,\"\",\"* La celda 'Población Migrantes / Hombres' debe ser menor o igual al Total de Hombres en control. \")","v":""},{"$f":"IF($G12>=$S12,\"\",\"* La celda 'Población Migrantes / Mujeres' debe ser menor o igual al Total de Mujeres en control. \")","v":""},{"$f":"IF(AND($F12<>0,$P12=\"\"),\"* No olvide escribir en las celdas de 'Pueblos Originarios' (Digite CERO si no tiene). \",IF(AND(G12<>0,Q12=\"\"),\"* No olvide escribir en las celdas de 'Pueblos Originarios' (Digite CERO si no tiene). \",\"\"))","v":""},{"$f":"IF(AND($F12<>0,$R12=\"\"),\"* No olvide escribir en las celdas de 'Población Migrantes' (Digite CERO si no tiene). \",IF(AND(G12<>0,S12=\"\"),\"* No olvide escribir en las celdas de 'Población Migrantes' (Digite CERO si no tiene). \",\"\"))","v":""},null,{"$f":"IF($F12>=$P12,0,1)","v":0},{"$f":"IF($G12>=$Q12,0,1)","v":0},{"$f":"IF($F12>=$R12,0,1)","v":0},{"$f":"IF($G12>=$S12,0,1)","v":0},{"$f":"IF(AND(F12<>0,P12=\"\"),1,IF(AND(G12<>0,Q12=\"\"),1,0))","v":0},{"$f":"IF(AND(F12<>0,R12=\"\"),1,IF(AND(G12<>0,S12=\"\"),1,0))","v":0}]
["P5180200","AUTOVALENTE CON RIESGO",null,null,{"$f":"IFERROR(VLOOKUP($A13,Filtro!$A$4:$AX$552,2,FALSE),0)","v":7589},{"$f":"IFERROR(VLOOKUP($A13,Filtro!$A$4:$AX$552,3,FALSE),0)","v":3092},{"$f":"IFERROR(VLOOKUP($A13,Filtro!$A$4:$AX$552,4,FALSE),0)","v":4497},{"$f":"IFERROR(VLOOKUP($A13,Filtro!$A$4:$AX$552,5,FALSE),0)","v":849},{"$f":"IFERROR(VLOOKUP($A13,Filtro!$A$4:$AX$552,6,FALSE),0)","v":1319},{"$f":"IFERROR(VLOOKUP($A13,Filtro!$A$4:$AX$552,7,FALSE),0)","v":817},{"$f":"IFERROR(VLOOKUP($A13,Filtro!$A$4:$AX$552,8,FALSE),0)","v":1256},{"$f":"IFERROR(VLOOKUP($A13,Filtro!$A$4:$AX$552,9,FALSE),0)","v":783},{"$f":"IFERROR(VLOOKUP($A13,Filtro!$A$4:$AX$552,10,FALSE),0)","v":1037},{"$f":"IFERROR(VLOOKUP($A13,Filtro!$A$4:$AX$552,11,FALSE),0)","v":643},{"$f":"IFERROR(VLOOKUP($A13,Filtro!$A$4:$AX$552,12,FALSE),0)","v":885},{"$f":"IFERROR(VLOOKUP($A13,Filtro!$A$4:$AX$552,13,FALSE),0)","v":3},{"$f":"IFERROR(VLOOKUP($A13,Filtro!$A$4:$AX$552,14,FALSE),0)","v":0},{"$f":"IFERROR(VLOOKUP($A13,Filtro!$A$4:$AX$552,15,FALSE),0)","v":4},{"$f":"IFERROR(VLOOKUP($A13,Filtro!$A$4:$AX$552,16,FALSE),0)","v":9},{"$nulls":11},{"$f":"IF($F13>=$P13,\"\",\"* La celda 'Pueblos Originarios / Hombres' debe ser menor o igual al Total de Hombres en control. \")","v":""},{"$f":"IF($G13>=$Q13,\"\",\"* La celda 'Pueblos Originarios / Mujeres' debe ser menor o igual al Total de Mujeres en control. \")","v":""},{"$f":"IF($F13>=$R13,\"\",\"* La celda 'Población Migrantes / Hombres' debe ser menor o igual al Total de Hombres en control. \")","v":""},{"$f":"IF($G13>=$S13,\"\",\"* La celda 'Población Migrantes / Mujeres' debe ser menor o igual al Total de Mujeres en control. \")","v":""},{"$f":"IF(AND($F13<>0,$P13=\"\"),\"* No olvide escribir en las celdas de 'Pueblos Originarios' (Digite CERO si no tiene). \",IF(AND(G13<>0,Q13=\"\"),\"* No olvide escribir en las celdas de 'Pueblos Originarios' (Digite CERO si no tiene). \",\"\"))","v":""},{"$f":"IF(AND($F13<>0,$R13=\"\"),\"* No olvide escribir en las celdas de 'Población Migrantes' (Digite CERO si no tiene). \",IF(AND(G13<>0,S13=\"\"),\"* No olvide escribir en las celdas de 'Población Migrantes' (Digite CERO si no tiene). \",\"\"))","v":""},null,{"$f":"IF($F13>=$P13,0,1)","v":0},{"$f":"IF($G13>=$Q13,0,1)","v":0},{"$f":"IF($F13>=$R13,0,1)","v":0},{"$f":"IF($G13>=$S13,0,1)","v":0},{"$f":"IF(AND(F13<>0,P13=\"\"),1,IF(AND(G13<>0,Q13=\"\"),1,0))","v":0},{"$f":"IF(AND(F13<>0,R13=\"\"),1,IF(AND(G13<>0,S13=\"\"),1,0))","v":0}]
["P5300510","RIESGO DE DEPENDENCIA ",null,null,{"$f":"IFERROR(VLOOKUP($A14,Filtro!$A$4:$AX$552,2,FALSE),0)","v":3931},{"$f":"IFERROR(VLOOKUP($A14,Filtro!$A$4:$AX$552,3,FALSE),0)","v":1490},{"$f":"IFERROR(VLOOKUP($A14,Filtro!$A$4:$AX$552,4,FALSE),0)","v":2441},{"$f":"IFERROR(VLOOKUP($A14,Filtro!$A$4:$AX$552,5,FALSE),0)","v":170},{"$f":"IFERROR(VLOOKUP($A14,Filtro!$A$4:$AX$552,6,FALSE),0)","v":266},{"$f":"IFERROR(VLOOKUP($A14,Filtro!$A$4:$AX$552,7,FALSE),0)","v":275},{"$f":"IFERROR(VLOOKUP($A14,Filtro!$A$4:$AX$552,8,FALSE),0)","v":384},{"$f":"IFERROR(VLOOKUP($A14,Filtro!$A$4:$AX$552,9,FALSE),0)","v":316},{"$f":"IFERROR(VLOOKUP($A14,Filtro!$A$4:$AX$552,10,FALSE),0)","v":525},{"$f":"IFERROR(VLOOKUP($A14,Filtro!$A$4:$AX$552,11,FALSE),0)","v":729},{"$f":"IFERROR(VLOOKUP($A14,Filtro!$A$4:$AX$552,12,FALSE),0)","v":1266},{"$f":"IFERROR(VLOOKUP($A14,Filtro!$A$4:$AX$552,13,FALSE),0)","v":1},{"$f":"IFERROR(VLOOKUP($A14,Filtro!$A$4:$AX$552,14,FALSE),0)","v":1},{"$f":"IFERROR(VLOOKUP($A14,Filtro!$A$4:$AX$552,15,FALSE),0)","v":5},{"$f":"IFERROR(VLOOKUP($A14,Filtro!$A$4:$AX$552,16,FALSE),0)","v":6},{"$nulls":11},{"$f":"IF($F14>=$P14,\"\",\"* La celda 'Pueblos Originarios / Hombres' debe ser menor o igual al Total de Hombres en control. \")","v":""},"",{"$f":"IF($F14>=$R14,\"\",\"* La celda 'Población Migrantes / Hombres' debe ser menor o igual al Total de Hombres en control. \")","v":""},"","","",null,{"$f":"IF($F14>=$P14,0,1)","v":0},{"$f":"IF($G14>=$Q14,0,1)","v":0},{"$f":"IF($F14>=$R14,0,1)","v":0},{"$f":"IF($G14>=$S14,0,1)","v":0},0,0]
[null,"SUBTOTAL (EFAM)",null,null,{"$f":"SUM(F15:G15)","v":21852},{"$f":"+H15+J15+L15+N15","v":9061},{"$f":"+I15+K15+M15+O15","v":12791},{"$f":"SUM(H12:H14)","v":2400},{"$f":"SUM(I12:I14)","v":3563},{"$f":"SUM(J12:J14)","v":2369},{"$f":"SUM(K12:K14)","v":3401},2122,2795,2170,3032,{"$f":"SUM(P12:P14)","v":5},{"$f":"SUM(Q12:Q14)","v":3},16,{"$f":"SUM(S12:S14)","v":24},{"$nulls":11},{"$f":"IF(E29-SUM(H29:I29)=E15,\"\",\"* El total de de la población bajo control en programa AMA debe ser igual al total de la población en control por EFAM de la Sección A\")","v":"* El total de de la población bajo control en programa AMA debe ser igual al total de la población en control por EFAM de la Sección A"},{"$nulls":6},{"$f":"IF(E29-SUM(H29:I29)=E15,0,1)","v":1}]
["P5300100","DEPENDIENTE LEVE",null,null,{"$f":"IFERROR(VLOOKUP($A16,Filtro!$A$4:$AX$552,2,FALSE),0)","v":2211},{"$f":"IFERROR(VLOOKUP($A16,Filtro!$A$4:$AX$552,3,FALSE),0)","v":773},{"$f":"IFERROR(VLOOKUP($A16,Filtro!$A$4:$AX$552,4,FALSE),0)","v":1438},{"$f":"IFERROR(VLOOKUP($A16,Filtro!$A$4:$AX$552,5,FALSE),0)","v":103},{"$f":"IFERROR(VLOOKUP($A16,Filtro!$A$4:$AX$552,6,FALSE),0)","v":127},{"$f":"IFERROR(VLOOKUP($A16,Filtro!$A$4:$AX$552,7,FALSE),0)","v":104},{"$f":"IFERROR(VLOOKUP($A16,Filtro!$A$4:$AX$552,8,FALSE),0)","v":181},{"$f":"IFERROR(VLOOKUP($A16,Filtro!$A$4:$AX$552,9,FALSE),0)","v":138},{"$f":"IFERROR(VLOOKUP($A16,Filtro!$A$4:$AX$552,10,FALSE),0)","v":291},{"$f":"IFERROR(VLOOKUP($A16,Filtro!$A$4:$AX$552,11,FALSE),0)","v":428},{"$f":"IFERROR(VLOOKUP($A16,Filtro!$A$4:$AX$552,12,FALSE),0)","v":839},{"$f":"IFERROR(VLOOKUP($A16,Filtro!$A$4:$AX$552,13,FALSE),0)","v":0},{"$f":"IFERROR(VLOOKUP($A16,Filtro!$A$4:$AX$552,14,FALSE),0)","v":0},{"$f":"IFERROR(VLOOKUP($A16,Filtro!$A$4:$AX$552,15,FALSE),0)","v":3},{"$f":"IFERROR(VLOOKUP($A16,Filtro!$A$4:$AX$552,16,FALSE),0)","v":3},{"$f":" AE16 & AF16 & AG16 & AH16 & AI16 & AJ16","v":""},{"$nulls":10},{"$f":"IF($F16>=$P16,\"\",\"* La celda 'Pueblos Originarios / Hombres' debe ser menor o igual al Total de Hombres en control. \")","v":""},{"$f":"IF($G16>=$Q16,\"\",\"* La celda 'Pueblos Originarios / Mujeres' debe ser menor o igual al Total de Mujeres en control. \")","v":""},{"$f":"IF($F16>=$R16,\"\",\"* La celda 'Población Migrantes / Hombres' debe ser menor o igual al Total de Hombres en control. \")","v":""},{"$f":"IF($G16>=$S16,\"\",\"* La celda 'Población Migrantes / Mujeres' debe ser menor o igual al Total de Mujeres en control. \")","v":""},{"$f":"IF(AND($F16<>0,$P16=\"\"),\"* No olvide escribir en las celdas de 'Pueblos Originarios' (Digite CERO si no tiene). \",IF(AND(G16<>0,Q16=\"\"),\"* No olvide escribir en las celdas de 'Pueblos Originarios' (Digite CERO si no tiene). \",\"\"))","v":""},{"$f":"IF(AND($F16<>0,$R16=\"\"),\"* No olvide escribir en las celdas de 'Población Migrantes' (Digite CERO si no tiene). \",IF(AND(G16<>0,S16=\"\"),\"* No olvide escribir en las celdas de 'Población Migrantes' (Digite CERO si no tiene). \",\"\"))","v":""},null,{"$f":"IF($F16>=$P16,0,1)","v":0},{"$f":"IF($G16>=$Q16,0,1)","v":0},{"$f":"IF($F16>=$R16,0,1)","v":0},{"$f":"IF($G16>=$S16,0,1)","v":0},{"$f":"IF(AND(F16<>0,P16=\"\"),1,IF(AND(G16<>0,Q16=\"\"),1,0))","v":0},{"$f":"IF(AND(F16<>0,R16=\"\"),1,IF(AND(G16<>0,S16=\"\"),1,0))","v":0}]
["P5300200","DEPENDIENTE MODERADO ",null,null,{"$f":"IFERROR(VLOOKUP($A17,Filtro!$A$4:$AX$552,2,FALSE),0)","v":794},{"$f":"IFERROR(VLOOKUP($A17,Filtro!$A$4:$AX$552,3,FALSE),0)","v":295},{"$f":"IFERROR(VLOOKUP($A17,Filtro!$A$4:$AX$552,4,FALSE),0)","v":499},{"$f":"IFERROR(VLOOKUP($A17,Filtro!$A$4:$AX$552,5,FALSE),0)","v":23},{"$f":"IFERROR(VLOOKUP($A17,Filtro!$A$4:$AX$552,6,FALSE),0)","v":31},{"$f":"IFERROR(VLOOKUP($A17,Filtro!$A$4:$AX$552,7,FALSE),0)","v":38},{"$f":"IFERROR(VLOOKUP($A17,Filtro!$A$4:$AX$552,8,FALSE),0)","v":48},{"$f":"IFERROR(VLOOKUP($A17,Filtro!$A$4:$AX$552,9,FALSE),0)","v":56},{"$f":"IFERROR(VLOOKUP($A17,Filtro!$A$4:$AX$552,10,FALSE),0)","v":71},{"$f":"IFERROR(VLOOKUP($A17,Filtro!$A$4:$AX$552,11,FALSE),0)","v":178},{"$f":"IFERROR(VLOOKUP($A17,Filtro!$A$4:$AX$552,12,FALSE),0)","v":349},{"$f":"IFERROR(VLOOKUP($A17,Filtro!$A$4:$AX$552,13,FALSE),0)","v":0},{"$f":"IFERROR(VLOOKUP($A17,Filtro!$A$4:$AX$552,14,FALSE),0)","v":0},{"$f":"IFERROR(VLOOKUP($A17,Filtro!$A$4:$AX$552,15,FALSE),0)","v":1},{"$f":"IFERROR(VLOOKUP($A17,Filtro!$A$4:$AX$552,16,FALSE),0)","v":3},{"$f":" AE17 & AF17 & AG17 & AH17 & AI17 & AJ17","v":""},{"$nulls":10},{"$f":"IF($F17>=$P17,\"\",\"* La celda 'Pueblos Originarios / Hombres' debe ser menor o igual al Total de Hombres en control. \")","v":""},{"$f":"IF($G17>=$Q17,\"\",\"* La celda 'Pueblos Originarios / Mujeres' debe ser menor o igual al Total de Mujeres en control. \")","v":""},{"$f":"IF($F17>=$R17,\"\",\"* La celda 'Población Migrantes / Hombres' debe ser menor o igual al Total de Hombres en control. \")","v":""},{"$f":"IF($G17>=$S17,\"\",\"* La celda 'Población Migrantes / Mujeres' debe ser menor o igual al Total de Mujeres en control. \")","v":""},{"$f":"IF(AND($F17<>0,$P17=\"\"),\"* No olvide escribir en las celdas de 'Pueblos Originarios' (Digite CERO si no tiene). \",IF(AND(G17<>0,Q17=\"\"),\"* No olvide escribir en las celdas de 'Pueblos Originarios' (Digite CERO si no tiene). \",\"\"))","v":""},{"$f":"IF(AND($F17<>0,$R17=\"\"),\"* No olvide escribir en las celdas de 'Población Migrantes' (Digite CERO si no tiene). \",IF(AND(G17<>0,S17=\"\"),\"* No olvide escribir en las celdas de 'Población Migrantes' (Digite CERO si no tiene). \",\"\"))","v":""},null,{"$f":"IF($F17>=$P17,0,1)","v":0},{"$f":"IF($G17>=$Q17,0,1)","v":0},{"$f":"IF($F17>=$R17,0,1)","v":0},{"$f":"IF($G17>=$S17,0,1)","v":0},{"$f":"IF(AND(F17<>0,P17=\"\"),1,IF(AND(G17<>0,Q17=\"\"),1,0))","v":0},{"$f":"IF(AND(F17<>0,R17=\"\"),1,IF(AND(G17<>0,S17=\"\"),1,0))","v":0}]
["P5300520","DEPENDIENTE GRAVE ",null,null,{"$f":"IFERROR(VLOOKUP($A18,Filtro!$A$4:$AX$552,2,FALSE),0)","v":712},{"$f":"IFERROR(VLOOKUP($A18,Filtro!$A$4:$AX$552,3,FALSE),0)","v":242},{"$f":"IFERROR(VLOOKUP($A18,Filtro!$A$4:$AX$552,4,FALSE),0)","v":470},{"$f":"IFERROR(VLOOKUP($A18,Filtro!$A$4:$AX$552,5,FALSE),0)","v":18},{"$f":"IFERROR(VLOOKUP($A18,Filtro!$A$4:$AX$552,6,FALSE),0)","v":24},{"$f":"IFERROR(VLOOKUP($A18,Filtro!$A$4:$AX$552,7,FALSE),0)","v":30},{"$f":"IFERROR(VLOOKUP($A18,Filtro!$A$4:$AX$552,8,FALSE),0)","v":41},{"$f":"IFERROR(VLOOKUP($A18,Filtro!$A$4:$AX$552,9,FALSE),0)","v":37},{"$f":"IFERROR(VLOOKUP($A18,Filtro!$A$4:$AX$552,10,FALSE),0)","v":58},{"$f":"IFERROR(VLOOKUP($A18,Filtro!$A$4:$AX$552,11,FALSE),0)","v":157},{"$f":"IFERROR(VLOOKUP($A18,Filtro!$A$4:$AX$552,12,FALSE),0)","v":347},{"$f":"IFERROR(VLOOKUP($A18,Filtro!$A$4:$AX$552,13,FALSE),0)","v":1},{"$f":"IFERROR(VLOOKUP($A18,Filtro!$A$4:$AX$552,14,FALSE),0)","v":0},{"$f":"IFERROR(VLOOKUP($A18,Filtro!$A$4:$AX$552,15,FALSE),0)","v":2},{"$f":"IFERROR(VLOOKUP($A18,Filtro!$A$4:$AX$552,16,FALSE),0)","v":3},{"$f":" AE18 & AF18 & AG18 & AH18 & AI18 & AJ18","v":""},{"$nulls":10},{"$f":"IF($F18>=$P18,\"\",\"* La celda 'Pueblos Originarios / Hombres' debe ser menor o igual al Total de Hombres en control. \")","v":""},"",{"$f":"IF($F18>=$R18,\"\",\"* La celda 'Población Migrantes / Hombres' debe ser menor o igual al Total de Hombres en control. \")","v":""},"","","",null,{"$f":"IF($F18>=$P18,0,1)","v":0},{"$f":"IF($G18>=$Q18,0,1)","v":0},{"$f":"IF($F18>=$R18,0,1)","v":0},{"$f":"IF($G18>=$S18,0,1)","v":0},0,0]
["P5300530","DEPENDIENTE TOTAL",null,null,{"$f":"IFERROR(VLOOKUP($A19,Filtro!$A$4:$AX$552,2,FALSE),0)","v":850},{"$f":"IFERROR(VLOOKUP($A19,Filtro!$A$4:$AX$552,3,FALSE),0)","v":270},{"$f":"IFERROR(VLOOKUP($A19,Filtro!$A$4:$AX$552,4,FALSE),0)","v":580},{"$f":"IFERROR(VLOOKUP($A19,Filtro!$A$4:$AX$552,5,FALSE),0)","v":28},{"$f":"IFERROR(VLOOKUP($A19,Filtro!$A$4:$AX$552,6,FALSE),0)","v":37},{"$f":"IFERROR(VLOOKUP($A19,Filtro!$A$4:$AX$552,7,FALSE),0)","v":31},{"$f":"IFERROR(VLOOKUP($A19,Filtro!$A$4:$AX$552,8,FALSE),0)","v":36},{"$f":"IFERROR(VLOOKUP($A19,Filtro!$A$4:$AX$552,9,FALSE),0)","v":48},{"$f":"IFERROR(VLOOKUP($A19,Filtro!$A$4:$AX$552,10,FALSE),0)","v":84},{"$f":"IFERROR(VLOOKUP($A19,Filtro!$A$4:$AX$552,11,FALSE),0)","v":163},{"$f":"IFERROR(VLOOKUP($A19,Filtro!$A$4:$AX$552,12,FALSE),0)","v":423},{"$f":"IFERROR(VLOOKUP($A19,Filtro!$A$4:$AX$552,13,FALSE),0)","v":0},{"$f":"IFERROR(VLOOKUP($A19,Filtro!$A$4:$AX$552,14,FALSE),0)","v":0},{"$f":"IFERROR(VLOOKUP($A19,Filtro!$A$4:$AX$552,15,FALSE),0)","v":0},{"$f":"IFERROR(VLOOKUP($A19,Filtro!$A$4:$AX$552,16,FALSE),0)","v":0},{"$f":" AE19 & AF19 & AG19 & AH19 & AI19 & AJ19","v":""},{"$nulls":10},{"$f":"IF($F19>=$P19,\"\",\"* La celda 'Pueblos Originarios / Hombres' debe ser menor o igual al Total de Hombres en control. \")","v":""},"",{"$f":"IF($F19>=$R19,\"\",\"* La celda 'Población Migrantes / Hombres' debe ser menor o igual al Total de Hombres en control. \")","v":""},"","","",null,{"$f":"IF($F19>=$P19,0,1)","v":0},{"$f":"IF($G19>=$Q19,0,1)","v":0},{"$f":"IF($F19>=$R19,0,1)","v":0},{"$f":"IF($G19>=$S19,0,1)","v":0},0,0]
[null,"SUBTOTAL (INDICE BARTHEL)",null,null,{"$f":"SUM(F20:G20)","v":4567},{"$f":"+H20+J20+L20+N20","v":1580},{"$f":"+I20+K20+M20+O20","v":2987},{"$f":"SUM(H16:H19)","v":172},{"$f":"SUM(I16:I19)","v":219},203,{"$f":"SUM(K16:K19)","v":306},279,504,926,1958,1,0,6,{"$f":"SUM(S16:S19)","v":9}]
[null,"TOTAL PERSONAS MAYORES EN CONTROL",null,null,{"$f":"SUM(F21:G21)","v":26419},{"$f":"+H21+J21+L21+N21","v":10641},15778,{"$f":"+H15+H20","v":2572},{"$f":"+I15+I20","v":3782},{"$f":"+J15+J20","v":2572},{"$f":"+K15+K20","v":3707},2401,3299,3096,4990,{"$f":"+P15+P20","v":6},{"$f":"+Q15+Q20","v":3},22,{"$f":"+S15+S20","v":33}]
[null,"SECCION A.1: EXISTENCIA DE POBLACIÓN EN CONTROL EN PROGRAMA \"MÁS ADULTOS MAYORES AUTOVALENTES\" POR CONDICIÓN DE FUNCIONALIDAD"]
[null,"CONDICIÓN DE \nFUNCIONALIDAD",null,null,"TOTAL",null,null,"GRUPO DE EDAD (en años) Y SEXO",{"$nulls":9},"Pueblos Originarios",null,"Población Migrantes",{"$nulls":10},"Pueblos Originarios",null,"Población Migrantes",null,"Pueblos Originarios","Población Migrantes",null,"Pueblos Originarios",null,"Población Migrantes",null,"Pueblos Originarios","Población Migrantes"]
[{"$nulls":7},"60 a 64 años",null,"65 a 69 años",null,"70 a 74 años",null,"75 a 79 años",null,"80 y más años"]
[{"$nulls":4},"Ambos\nsexos","Hombres","Mujeres","Hombres ","Mujeres","Hombres ","Mujeres","Hombres ","Mujeres","Hombres ","Mujeres","Hombres ","Mujeres","Hombres","Mujeres","Hombres","Mujeres",{"$nulls":9},"Hombres","Mujeres","Hombres","Mujeres","No Olvide","No Olvide",null,"Hombres","Mujeres","Hombres","Mujeres","No Olvide","No Olvide"]
["P5300570","AUTOVALENTE SIN RIESGO",null,null,{"$f":"IFERROR(VLOOKUP($A26,Filtro!$A$4:$AX$552,2,FALSE),0)","v":3467},{"$f":"IFERROR(VLOOKUP($A26,Filtro!$A$4:$AX$552,3,FALSE),0)","v":793},{"$f":"IFERROR(VLOOKUP($A26,Filtro!$A$4:$AX$552,4,FALSE),0)","v":2674},{"$f":"IFERROR(VLOOKUP($A26,Filtro!$A$4:$AX$552,5,FALSE),0)","v":101},{"$f":"IFERROR(VLOOKUP($A26,Filtro!$A$4:$AX$552,6,FALSE),0)","v":706},{"$f":"IFERROR(VLOOKUP($A26,Filtro!$A$4:$AX$552,7,FALSE),0)","v":169},{"$f":"IFERROR(VLOOKUP($A26,Filtro!$A$4:$AX$552,8,FALSE),0)","v":648},{"$f":"IFERROR(VLOOKUP($A26,Filtro!$A$4:$AX$552,9,FALSE),0)","v":206},{"$f":"IFERROR(VLOOKUP($A26,Filtro!$A$4:$AX$552,10,FALSE),0)","v":599},{"$f":"IFERROR(VLOOKUP($A26,Filtro!$A$4:$AX$552,11,FALSE),0)","v":181},{"$f":"IFERROR(VLOOKUP($A26,Filtro!$A$4:$AX$552,12,FALSE),0)","v":437},{"$f":"IFERROR(VLOOKUP($A26,Filtro!$A$4:$AX$552,13,FALSE),0)","v":136},{"$f":"IFERROR(VLOOKUP($A26,Filtro!$A$4:$AX$552,14,FALSE),0)","v":284},{"$f":"IFERROR(VLOOKUP($A26,Filtro!$A$4:$AX$552,15,FALSE),0)","v":0},{"$f":"IFERROR(VLOOKUP($A26,Filtro!$A$4:$AX$552,16,FALSE),0)","v":0},{"$f":"IFERROR(VLOOKUP($A26,Filtro!$A$4:$AX$552,17,FALSE),0)","v":0},{"$f":"IFERROR(VLOOKUP($A26,Filtro!$A$4:$AX$552,18,FALSE),0)","v":1},{"$f":" AE26 & AF26 & AG26 & AH26 & AI26 & AJ26","v":""},{"$nulls":8},{"$f":"IF($F26>=$R26,\"\",\"* La celda 'Pueblos Originarios / Hombres' debe ser menor o igual al Total de Hombres en control. \")","v":""},{"$f":"IF($G26>=$S26,\"\",\"* La celda 'Pueblos Originarios / Mujeres' debe ser menor o igual al Total de Mujeres en control. \")","v":""},{"$f":"IF($F26>=$T26,\"\",\"* La celda 'Población Migrantes / Hombres' debe ser menor o igual al Total de Hombres en control. \")","v":""},{"$f":"IF($G26>=$U26,\"\",\"* La celda 'Población Migrantes / Mujeres' debe ser menor o igual al Total de Mujeres en control. \")","v":""},{"$f":"IF(AND($F26<>0,$R26=\"\"),\"* No olvide escribir en las celdas de 'Pueblos Originarios' (Digite CERO si no tiene). \",IF(AND(G26<>0,S26=\"\"),\"* No olvide escribir en las celdas de 'Pueblos Originarios' (Digite CERO si no tiene). \",\"\"))","v":""},{"$f":"IF(AND($F26<>0,$T26=\"\"),\"* No olvide escribir en las celdas de 'Población Migrantes' (Digite CERO si no tiene). \",IF(AND(G26<>0,U26=\"\"),\"* No olvide escribir en las celdas de 'Población Migrantes' (Digite CERO si no tiene). \",\"\"))","v":""},null,{"$f":"IF($F26>=$R26,0,1)","v":0},{"$f":"IF($G26>=$S26,0,1)","v":0},{"$f":"IF($F26>=$T26,0,1)","v":0},{"$f":"IF($G26>=$U26,0,1)","v":0},{"$f":"IF(AND(F26<>0,R26=\"\"),1,IF(AND(G26<>0,S26=\"\"),1,0))","v":0},{"$f":"IF(AND(F26<>0,T26=\"\"),1,IF(AND(G26<>0,U26=\"\"),1,0))","v":0}]
["P5300580","AUTOVALENTE CON RIESGO",null,null,{"$f":"IFERROR(VLOOKUP($A27,Filtro!$A$4:$AX$552,2,FALSE),0)","v":1421},{"$f":"IFERROR(VLOOKUP($A27,Filtro!$A$4:$AX$552,3,FALSE),0)","v":297},{"$f":"IFERROR(VLOOKUP($A27,Filtro!$A$4:$AX$552,4,FALSE),0)","v":1124},{"$f":"IFERROR(VLOOKUP($A27,Filtro!$A$4:$AX$552,5,FALSE),0)","v":0},{"$f":"IFERROR(VLOOKUP($A27,Filtro!$A$4:$AX$552,6,FALSE),0)","v":2},{"$f":"IFERROR(VLOOKUP($A27,Filtro!$A$4:$AX$552,7,FALSE),0)","v":70},{"$f":"IFERROR(VLOOKUP($A27,Filtro!$A$4:$AX$552,8,FALSE),0)","v":284},{"$f":"IFERROR(VLOOKUP($A27,Filtro!$A$4:$AX$552,9,FALSE),0)","v":66},{"$f":"IFERROR(VLOOKUP($A27,Filtro!$A$4:$AX$552,10,FALSE),0)","v":346},{"$f":"IFERROR(VLOOKUP($A27,Filtro!$A$4:$AX$552,11,FALSE),0)","v":86},{"$f":"IFERROR(VLOOKUP($A27,Filtro!$A$4:$AX$552,12,FALSE),0)","v":252},{"$f":"IFERROR(VLOOKUP($A27,Filtro!$A$4:$AX$552,13,FALSE),0)","v":75},{"$f":"IFERROR(VLOOKUP($A27,Filtro!$A$4:$AX$552,14,FALSE),0)","v":240},{"$f":"IFERROR(VLOOKUP($A27,Filtro!$A$4:$AX$552,15,FALSE),0)","v":0},{"$f":"IFERROR(VLOOKUP($A27,Filtro!$A$4:$AX$552,16,FALSE),0)","v":0},{"$f":"IFERROR(VLOOKUP($A27,Filtro!$A$4:$AX$552,17,FALSE),0)","v":0},{"$f":"IFERROR(VLOOKUP($A27,Filtro!$A$4:$AX$552,18,FALSE),0)","v":0},{"$f":" AE27 & AF27 & AG27 & AH27 & AI27 & AJ27","v":""},{"$nulls":8},{"$f":"IF($F27>=$R27,\"\",\"* La celda 'Pueblos Originarios / Hombres' debe ser menor o igual al Total de Hombres en control. \")","v":""},{"$f":"IF($G27>=$S27,\"\",\"* La celda 'Pueblos Originarios / Mujeres' debe ser menor o igual al Total de Mujeres en control. \")","v":""},{"$f":"IF($F27>=$T27,\"\",\"* La celda 'Población Migrantes / Hombres' debe ser menor o igual al Total de Hombres en control. \")","v":""},{"$f":"IF($G27>=$U27,\"\",\"* La celda 'Población Migrantes / Mujeres' debe ser menor o igual al Total de Mujeres en control. \")","v":""},{"$f":"IF(AND($F27<>0,$R27=\"\"),\"* No olvide escribir en las celdas de 'Pueblos Originarios' (Digite CERO si no tiene). \",IF(AND(G27<>0,S27=\"\"),\"* No olvide escribir en las celdas de 'Pueblos Originarios' (Digite CERO si no tiene). \",\"\"))","v":""},{"$f":"IF(AND($F27<>0,$T27=\"\"),\"* No olvide escribir en las celdas de 'Población Migrantes' (Digite CERO si no tiene). \",IF(AND(G27<>0,U27=\"\"),\"* No olvide escribir en las celdas de 'Población Migrantes' (Digite CERO si no tiene). \",\"\"))","v":""},null,{"$f":"IF($F27>=$R27,0,1)","v":0},{"$f":"IF($G27>=$S27,0,1)","v":0},{"$f":"IF($F27>=$T27,0,1)","v":0},{"$f":"IF($G27>=$U27,0,1)","v":0},{"$f":"IF(AND(F27<>0,R27=\"\"),1,IF(AND(G27<>0,S27=\"\"),1,0))","v":0},{"$f":"IF(AND(F27<>0,T27=\"\"),1,IF(AND(G27<>0,U27=\"\"),1,0))","v":0}]
["P5300590","RIESGO DE DEPENDENCIA ",null,null,{"$f":"IFERROR(VLOOKUP($A28,Filtro!$A$4:$AX$552,2,FALSE),0)","v":494},{"$f":"IFERROR(VLOOKUP($A28,Filtro!$A$4:$AX$552,3,FALSE),0)","v":135},{"$f":"IFERROR(VLOOKUP($A28,Filtro!$A$4:$AX$552,4,FALSE),0)","v":359},{"$f":"IFERROR(VLOOKUP($A28,Filtro!$A$4:$AX$552,5,FALSE),0)","v":0},{"$f":"IFERROR(VLOOKUP($A28,Filtro!$A$4:$AX$552,6,FALSE),0)","v":0},{"$f":"IFERROR(VLOOKUP($A28,Filtro!$A$4:$AX$552,7,FALSE),0)","v":12},{"$f":"IFERROR(VLOOKUP($A28,Filtro!$A$4:$AX$552,8,FALSE),0)","v":37},{"$f":"IFERROR(VLOOKUP($A28,Filtro!$A$4:$AX$552,9,FALSE),0)","v":21},{"$f":"IFERROR(VLOOKUP($A28,Filtro!$A$4:$AX$552,10,FALSE),0)","v":62},{"$f":"IFERROR(VLOOKUP($A28,Filtro!$A$4:$AX$552,11,FALSE),0)","v":39},{"$f":"IFERROR(VLOOKUP($A28,Filtro!$A$4:$AX$552,12,FALSE),0)","v":90},{"$f":"IFERROR(VLOOKUP($A28,Filtro!$A$4:$AX$552,13,FALSE),0)","v":63},{"$f":"IFERROR(VLOOKUP($A28,Filtro!$A$4:$AX$552,14,FALSE),0)","v":170},{"$f":"IFERROR(VLOOKUP($A28,Filtro!$A$4:$AX$552,15,FALSE),0)","v":0},{"$f":"IFERROR(VLOOKUP($A28,Filtro!$A$4:$AX$552,16,FALSE),0)","v":0},{"$f":"IFERROR(VLOOKUP($A28,Filtro!$A$4:$AX$552,17,FALSE),0)","v":0},{"$f":"IFERROR(VLOOKUP($A28,Filtro!$A$4:$AX$552,18,FALSE),0)","v":0},{"$f":" AE28 & AF28 & AG28 & AH28 & AI28 & AJ28","v":""},{"$nulls":8},{"$f":"IF($F28>=$R28,\"\",\"* La celda 'Pueblos Originarios / Hombres' debe ser menor o igual al Total de Hombres en control. \")","v":""},"",{"$f":"IF($F28>=$T28,\"\",\"* La celda 'Población Migrantes / Hombres' debe ser menor o igual al Total de Hombres en control. \")","v":""},"","","",null,{"$f":"IF($F28>=$R28,0,1)","v":0},{"$f":"IF($G28>=$S28,0,1)","v":0},{"$f":"IF($F28>=$T28,0,1)","v":0},{"$f":"IF($G28>=$U28,0,1)","v":0},0,0]
[null,"TOTAL (EFAM)",null,null,{"$f":"SUM(F29:G29)","v":5382},{"$f":"+J29+L29+N29+P29+H29","v":1225},4157,{"$f":"SUM(H26:H28)","v":101},{"$f":"SUM(I26:I28)","v":708},{"$f":"SUM(J26:J28)","v":251},969,293,1007,306,779,274,694,{"$f":"SUM(R26:R28)","v":0},{"$f":"SUM(S26:S28)","v":0},0,1]
[null,"SECCION B: POBLACIÓN BAJO CONTROL POR ESTADO NUTRICIONAL"]
[null,"ESTADO NUTRICIONAL",null,"TOTAL",null,null,"GRUPO DE EDAD (en años) Y SEXO",{"$nulls":7},"Pueblos Originarios",null,"Población Migrantes",{"$nulls":13},"Pueblos Originarios",null,"Población Migrantes",null,"Pueblos Originarios","Población Migrantes",null,"Pueblos Originarios",null,"Población Migrantes",null,"Pueblos Originarios","Población Migrantes"]
[{"$nulls":6},"65 a 69 años",null,"70 a 74 años",null,"75 a 79 años",null,"80 y más años"]
[{"$nulls":3},"Ambos\nsexos","Hombres","Mujeres","Hombres ","Mujeres","Hombres ","Mujeres","Hombres ","Mujeres","Hombres","Mujeres","Hombres","Mujeres","Hombres","Mujeres",{"$nulls":12},"Hombres","Mujeres","Hombres","Mujeres","No Olvide","No Olvide",null,"Hombres","Mujeres","Hombres","Mujeres","No Olvide","No Olvide"]
["P5190200","BAJO PESO",null,{"$f":"IFERROR(VLOOKUP($A34,Filtro!$A$4:$AX$552,2,FALSE),0)","v":3415},{"$f":"IFERROR(VLOOKUP($A34,Filtro!$A$4:$AX$552,3,FALSE),0)","v":1491},{"$f":"IFERROR(VLOOKUP($A34,Filtro!$A$4:$AX$552,4,FALSE),0)","v":1924},{"$f":"IFERROR(VLOOKUP($A34,Filtro!$A$4:$AX$552,5,FALSE),0)","v":270},{"$f":"IFERROR(VLOOKUP($A34,Filtro!$A$4:$AX$552,6,FALSE),0)","v":286},{"$f":"IFERROR(VLOOKUP($A34,Filtro!$A$4:$AX$552,7,FALSE),0)","v":291},{"$f":"IFERROR(VLOOKUP($A34,Filtro!$A$4:$AX$552,8,FALSE),0)","v":316},{"$f":"IFERROR(VLOOKUP($A34,Filtro!$A$4:$AX$552,9,FALSE),0)","v":316},{"$f":"IFERROR(VLOOKUP($A34,Filtro!$A$4:$AX$552,10,FALSE),0)","v":423},{"$f":"IFERROR(VLOOKUP($A34,Filtro!$A$4:$AX$552,11,FALSE),0)","v":614},{"$f":"IFERROR(VLOOKUP($A34,Filtro!$A$4:$AX$552,12,FALSE),0)","v":899},{"$f":"IFERROR(VLOOKUP($A34,Filtro!$A$4:$AX$552,13,FALSE),0)","v":1},{"$f":"IFERROR(VLOOKUP($A34,Filtro!$A$4:$AX$552,14,FALSE),0)","v":0},{"$f":"IFERROR(VLOOKUP($A34,Filtro!$A$4:$AX$552,15,FALSE),0)","v":3},{"$f":"IFERROR(VLOOKUP($A34,Filtro!$A$4:$AX$552,16,FALSE),0)","v":1},{"$f":" AE34 & AF34 & AG34 & AH34 & AI34 & AJ34","v":""},{"$nulls":11},{"$f":"IF($E34>=$O34,\"\",\"* El Nº de hombres bajo peso de 'Pueblos Originarios' no debe ser mayor al Total hombres bajo peso en control. \")","v":""},{"$f":"IF($F34>=$P34,\"\",\"* El Nº de mujeres bajo peso de 'Pueblos Originarios' no debe ser mayor al Total mujeres bajo peso en control. \")","v":""},{"$f":"IF($E34>=$Q34,\"\",\"* El Nº de hombres bajo peso de Pueblos Migrantes no debe ser mayor al Total hombres bajo peso en control. \")","v":""},{"$f":"IF($F34>=$R34,\"\",\"* El Nº de mujeres bajo peso de Pueblos Migrantes no debe ser mayor al Total mujeres bajo peso en control. \")","v":""},{"$f":"IF(AND(F34<>0,O34=\"\"),\"* No olvide escribir en la celda de 'Pueblos Originarios' (Digite CERO si no tiene). \",IF(AND(G34<>0,P34=\"\"),\"* No olvide escribir en la celda de 'Pueblos Originarios' (Digite CERO si no tiene). \",\"\"))","v":""},{"$f":"IF(AND(F34<>0,Q34=\"\"),\"* No olvide escribir en la celda de 'Población Migrantes' (Digite CERO si no tiene). \",IF(AND(G34<>0,R34=\"\"),\"* No olvide escribir en la celda de 'Población Migrantes' (Digite CERO si no tiene). \",\"\"))","v":""},null,{"$f":"IF($E34>=$O34,0,1)","v":0},{"$f":"IF($F34>=$P34,0,1)","v":0},{"$f":"IF($E34>=$Q34,0,1)","v":0},{"$f":"IF($F34>=$R34,0,1)","v":0},{"$f":"IF(AND(F34<>0,O34=\"\"),1,IF(AND(G34<>0,P34=\"\"),1,0))","v":0},{"$f":"IF(AND(F34<>0,Q34=\"\"),1,IF(AND(G34<>0,R34=\"\"),1,0))","v":0}]
["P5190300","NORMAL",null,{"$f":"IFERROR(VLOOKUP($A35,Filtro!$A$4:$AX$552,2,FALSE),0)","v":9076},{"$f":"IFERROR(VLOOKUP($A35,Filtro!$A$4:$AX$552,3,FALSE),0)","v":4137},{"$f":"IFERROR(VLOOKUP($A35,Filtro!$A$4:$AX$552,4,FALSE),0)","v":4939},{"$f":"IFERROR(VLOOKUP($A35,Filtro!$A$4:$AX$552,5,FALSE),0)","v":918},{"$f":"IFERROR(VLOOKUP($A35,Filtro!$A$4:$AX$552,6,FALSE),0)","v":1006},{"$f":"IFERROR(VLOOKUP($A35,Filtro!$A$4:$AX$552,7,FALSE),0)","v":947},{"$f":"IFERROR(VLOOKUP($A35,Filtro!$A$4:$AX$552,8,FALSE),0)","v":1081},{"$f":"IFERROR(VLOOKUP($A35,Filtro!$A$4:$AX$552,9,FALSE),0)","v":939},{"$f":"IFERROR(VLOOKUP($A35,Filtro!$A$4:$AX$552,10,FALSE),0)","v":1023},{"$f":"IFERROR(VLOOKUP($A35,Filtro!$A$4:$AX$552,11,FALSE),0)","v":1333},{"$f":"IFERROR(VLOOKUP($A35,Filtro!$A$4:$AX$552,12,FALSE),0)","v":1829},{"$f":"IFERROR(VLOOKUP($A35,Filtro!$A$4:$AX$552,13,FALSE),0)","v":0},{"$f":"IFERROR(VLOOKUP($A35,Filtro!$A$4:$AX$552,14,FALSE),0)","v":0},{"$f":"IFERROR(VLOOKUP($A35,Filtro!$A$4:$AX$552,15,FALSE),0)","v":1},{"$f":"IFERROR(VLOOKUP($A35,Filtro!$A$4:$AX$552,16,FALSE),0)","v":4},{"$f":" AE35 & AF35 & AG35 & AH35 & AI35 & AJ35","v":""},{"$nulls":11},{"$f":"IF($E35>=$O35,\"\",\"* El Nº de hombres normal de 'Pueblos Originarios' no debe ser mayor al Total hombres normal en control. \")","v":""},{"$f":"IF($F35>=$P35,\"\",\"* El Nº de mujeres normal de 'Pueblos Originarios' no debe ser mayor al Total mujeres normal en control. \")","v":""},{"$f":"IF($E35>=$Q35,\"\",\"* El Nº de hombres normal de Pueblos Migrantes no debe ser mayor al Total hombres normal en control. \")","v":""},{"$f":"IF($F35>=$R35,\"\",\"* El Nº de mujeres normal de Pueblos Migrantes no debe ser mayor al Total mujeres normal en control. \")","v":""},{"$f":"IF(AND(F35<>0,O35=\"\"),\"* No olvide escribir en la celda de 'Pueblos Originarios' (Digite CERO si no tiene). \",IF(AND(G35<>0,P35=\"\"),\"* No olvide escribir en la celda de 'Pueblos Originarios' (Digite CERO si no tiene). \",\"\"))","v":""},{"$f":"IF(AND(F35<>0,Q35=\"\"),\"* No olvide escribir en la celda de 'Población Migrantes' (Digite CERO si no tiene). \",IF(AND(G35<>0,R35=\"\"),\"* No olvide escribir en la celda de 'Población Migrantes' (Digite CERO si no tiene). \",\"\"))","v":""},null,{"$f":"IF($E35>=$O35,0,1)","v":0},{"$f":"IF($F35>=$P35,0,1)","v":0},{"$f":"IF($E35>=$Q35,0,1)","v":0},{"$f":"IF($F35>=$R35,0,1)","v":0},{"$f":"IF(AND(F35<>0,O35=\"\"),1,IF(AND(G35<>0,P35=\"\"),1,0))","v":0},{"$f":"IF(AND(F35<>0,Q35=\"\"),1,IF(AND(G35<>0,R35=\"\"),1,0))","v":0}]
["P5190400","SOBREPESO",null,{"$f":"IFERROR(VLOOKUP($A36,Filtro!$A$4:$AX$552,2,FALSE),0)","v":7748},{"$f":"IFERROR(VLOOKUP($A36,Filtro!$A$4:$AX$552,3,FALSE),0)","v":3222},{"$f":"IFERROR(VLOOKUP($A36,Filtro!$A$4:$AX$552,4,FALSE),0)","v":4526},{"$f":"IFERROR(VLOOKUP($A36,Filtro!$A$4:$AX$552,5,FALSE),0)","v":829},{"$f":"IFERROR(VLOOKUP($A36,Filtro!$A$4:$AX$552,6,FALSE),0)","v":1139},{"$f":"IFERROR(VLOOKUP($A36,Filtro!$A$4:$AX$552,7,FALSE),0)","v":850},{"$f":"IFERROR(VLOOKUP($A36,Filtro!$A$4:$AX$552,8,FALSE),0)","v":1158},{"$f":"IFERROR(VLOOKUP($A36,Filtro!$A$4:$AX$552,9,FALSE),0)","v":745},{"$f":"IFERROR(VLOOKUP($A36,Filtro!$A$4:$AX$552,10,FALSE),0)","v":1010},{"$f":"IFERROR(VLOOKUP($A36,Filtro!$A$4:$AX$552,11,FALSE),0)","v":798},{"$f":"IFERROR(VLOOKUP($A36,Filtro!$A$4:$AX$552,12,FALSE),0)","v":1219},{"$f":"IFERROR(VLOOKUP($A36,Filtro!$A$4:$AX$552,13,FALSE),0)","v":2},{"$f":"IFERROR(VLOOKUP($A36,Filtro!$A$4:$AX$552,14,FALSE),0)","v":0},{"$f":"IFERROR(VLOOKUP($A36,Filtro!$A$4:$AX$552,15,FALSE),0)","v":2},{"$f":"IFERROR(VLOOKUP($A36,Filtro!$A$4:$AX$552,16,FALSE),0)","v":1},{"$f":" AE36 & AF36 & AG36 & AH36 & AI36 & AJ36","v":""},{"$nulls":11},{"$f":"IF($E36>=$O36,\"\",\"* El Nº de hombres sobrepeso de 'Pueblos Originarios' no debe ser mayor al Total hombres sobrepeso en control. \")","v":""},{"$f":"IF($F36>=$P36,\"\",\"* El Nº de mujeres sobrepeso de 'Pueblos Originarios' no debe ser mayor al Total mujeres sobrepeso en control. \")","v":""},{"$f":"IF($E36>=$Q36,\"\",\"* El Nº de hombres sobrepeso de Pueblos Migrantes no debe ser mayor al Total hombres sobrepeso en control. \")","v":""},{"$f":"IF($F36>=$R36,\"\",\"* El Nº de mujeres sobrepeso de Pueblos Migrantes no debe ser mayor al Total mujeres sobrepeso en control. \")","v":""},{"$f":"IF(AND(F36<>0,O36=\"\"),\"* No olvide escribir en la celda de 'Pueblos Originarios' (Digite CERO si no tiene). \",IF(AND(G36<>0,P36=\"\"),\"* No olvide escribir en la celda de 'Pueblos Originarios' (Digite CERO si no tiene). \",\"\"))","v":""},{"$f":"IF(AND(F36<>0,Q36=\"\"),\"* No olvide escribir en la celda de 'Población Migrantes' (Digite CERO si no tiene). \",IF(AND(G36<>0,R36=\"\"),\"* No olvide escribir en la celda de 'Población Migrantes' (Digite CERO si no tiene). \",\"\"))","v":""},null,{"$f":"IF($E36>=$O36,0,1)","v":0},{"$f":"IF($F36>=$P36,0,1)","v":0},{"$f":"IF($E36>=$Q36,0,1)","v":0},{"$f":"IF($F36>=$R36,0,1)","v":0},0,0]
["P5200100","OBESO",null,{"$f":"IFERROR(VLOOKUP($A37,Filtro!$A$4:$AX$552,2,FALSE),0)","v":5970},{"$f":"IFERROR(VLOOKUP($A37,Filtro!$A$4:$AX$552,3,FALSE),0)","v":1807},{"$f":"IFERROR(VLOOKUP($A37,Filtro!$A$4:$AX$552,4,FALSE),0)","v":4163},{"$f":"IFERROR(VLOOKUP($A37,Filtro!$A$4:$AX$552,5,FALSE),0)","v":583},{"$f":"IFERROR(VLOOKUP($A37,Filtro!$A$4:$AX$552,6,FALSE),0)","v":1347},{"$f":"IFERROR(VLOOKUP($A37,Filtro!$A$4:$AX$552,7,FALSE),0)","v":504},{"$f":"IFERROR(VLOOKUP($A37,Filtro!$A$4:$AX$552,8,FALSE),0)","v":1131},{"$f":"IFERROR(VLOOKUP($A37,Filtro!$A$4:$AX$552,9,FALSE),0)","v":386},{"$f":"IFERROR(VLOOKUP($A37,Filtro!$A$4:$AX$552,10,FALSE),0)","v":832},{"$f":"IFERROR(VLOOKUP($A37,Filtro!$A$4:$AX$552,11,FALSE),0)","v":334},{"$f":"IFERROR(VLOOKUP($A37,Filtro!$A$4:$AX$552,12,FALSE),0)","v":853},{"$f":"IFERROR(VLOOKUP($A37,Filtro!$A$4:$AX$552,13,FALSE),0)","v":3},{"$f":"IFERROR(VLOOKUP($A37,Filtro!$A$4:$AX$552,14,FALSE),0)","v":2},{"$f":"IFERROR(VLOOKUP($A37,Filtro!$A$4:$AX$552,15,FALSE),0)","v":2},{"$f":"IFERROR(VLOOKUP($A37,Filtro!$A$4:$AX$552,16,FALSE),0)","v":2},{"$f":" AE37 & AF37 & AG37 & AH37 & AI37 & AJ37","v":""},{"$nulls":11},{"$f":"IF($E37>=$O37,\"\",\"* El Nº de hombres obeso de 'Pueblos Originarios' no debe ser mayor al Total hombres obesos en control. \")","v":""},{"$f":"IF($F37>=$P37,\"\",\"* El Nº de mujeres obesas de 'Pueblos Originarios' no debe ser mayor al Total mujeres obesas en control. \")","v":""},{"$f":"IF($E37>=$Q37,\"\",\"* El Nº de hombres obeso de Pueblos Migrantes no debe ser mayor al Total hombres obeso en control. \")","v":""},{"$f":"IF($F37>=$R37,\"\",\"* El Nº de mujeres obesas de Pueblos Migrantes no debe ser mayor al Total mujeres obesas en control. \")","v":""},{"$f":"IF(AND(F37<>0,O37=\"\"),\"* No olvide escribir en la celda de 'Pueblos Originarios' (Digite CERO si no tiene). \",IF(AND(G37<>0,P37=\"\"),\"* No olvide escribir en la celda de 'Pueblos Originarios' (Digite CERO si no tiene). \",\"\"))","v":""},{"$f":"IF(AND(F37<>0,Q37=\"\"),\"* No olvide escribir en la celda de 'Población Migrantes' (Digite CERO si no tiene). \",IF(AND(G37<>0,R37=\"\"),\"* No olvide escribir en la celda de 'Población Migrantes' (Digite CERO si no tiene). \",\"\"))","v":""},null,{"$f":"IF($E37>=$O37,0,1)","v":0},{"$f":"IF($F37>=$P37,0,1)","v":0},{"$f":"IF($E37>=$Q37,0,1)","v":0},{"$f":"IF($F37>=$R37,0,1)","v":0},0,0]
[null,"TOTAL ",null,{"$f":"SUM(E38:F38)","v":26209},{"$f":"+G38+I38+K38+M38","v":10657},15552,{"$f":"SUM(G34:G37)","v":2600},{"$f":"SUM(H34:H37)","v":3778},2592,3686,2386,3288,3079,4800,{"$f":"SUM(O34:O37)","v":6},{"$f":"SUM(P34:P37)","v":2},8,8]
[null,"SECCION C: PERSONAS MAYORES CON SOSPECHA DE MALTRATO"]
[null,"CONCEPTO",null,"TOTAL",null,null,"GRUPO DE EDAD (en años) Y SEXO"]
[{"$nulls":6},"65 a 69 años",null,"70 a 74 años",null,"75 a 79 años",null,"80 y más años"]
[{"$nulls":3},"Ambos\nsexos","Hombres","Mujeres","Hombres ","Mujeres","Hombres ","Mujeres","Hombres ","Mujeres","Hombres","Mujeres"]
["P5300400","PERSONAS CON SOSPECHA DE MALTRATO",null,{"$f":"IFERROR(VLOOKUP($A43,Filtro!$A$4:$AX$552,2,FALSE),0)","v":136},{"$f":"IFERROR(VLOOKUP($A43,Filtro!$A$4:$AX$552,3,FALSE),0)","v":55},{"$f":"IFERROR(VLOOKUP($A43,Filtro!$A$4:$AX$552,4,FALSE),0)","v":81},{"$f":"IFERROR(VLOOKUP($A43,Filtro!$A$4:$AX$552,5,FALSE),0)","v":4},{"$f":"IFERROR(VLOOKUP($A43,Filtro!$A$4:$AX$552,6,FALSE),0)","v":12},{"$f":"IFERROR(VLOOKUP($A43,Filtro!$A$4:$AX$552,7,FALSE),0)","v":11},{"$f":"IFERROR(VLOOKUP($A43,Filtro!$A$4:$AX$552,8,FALSE),0)","v":6},{"$f":"IFERROR(VLOOKUP($A43,Filtro!$A$4:$AX$552,9,FALSE),0)","v":10},{"$f":"IFERROR(VLOOKUP($A43,Filtro!$A$4:$AX$552,10,FALSE),0)","v":16},{"$f":"IFERROR(VLOOKUP($A43,Filtro!$A$4:$AX$552,11,FALSE),0)","v":30},{"$f":"IFERROR(VLOOKUP($A43,Filtro!$A$4:$AX$552,12,FALSE),0)","v":47},{"$f":" AC43 & AD43 & AE43 & AF43 & AG43 & AH43 & AI43 & AJ43","v":""},{"$nulls":13},{"$f":"IF($H$21>=$G$43,\"\",\"* Los pacientes con sospecha de maltrato no pueden ser mayor que el total de Adultos Mayores en Control (65 - 69 años - Hombres). \")","v":""},{"$f":"IF($I$21>=$H$43,\"\",\"* Los pacientes con sospecha de maltrato no pueden ser mayor que el total de Adultos Mayores en Control (65 - 69 años - Mujeres). \")","v":""},{"$f":"IF($J$21>=$I$43,\"\",\"* Los pacientes con sospecha de maltrato no pueden ser mayor que el total de Adultos Mayores en Control (70 - 74 años - Hombres). \")","v":""},{"$f":"IF($K$21>=$J$43,\"\",\"* Los pacientes con sospecha de maltrato no pueden ser mayor que el total de Adultos Mayores en Control (70 - 74 años - Mujeres). \")","v":""},{"$f":"IF($L$21>=$K$43,\"\",\"* Los pacientes con sospecha de maltrato no pueden ser mayor que el total de Adultos Mayores en Control (75 - 79 años - Hombres). \")","v":""},{"$f":"IF($M$21>=$L$43,\"\",\"* Los pacientes con sospecha de maltrato no pueden ser mayor que el total de Adultos Mayores en Control (75 - 79 años - Mujeres). \")","v":""},{"$f":"IF($N$21>=$M$43,\"\",\"* Los pacientes con sospecha de maltrato no pueden ser mayor que el total de Adultos Mayores en Control (80 y más años - Hombres). \")","v":""},{"$f":"IF($O$21>=$N$43,\"\",\"* Los pacientes con sospecha de maltrato no pueden ser mayor que el total de Adultos Mayores en Control (80 y más años - Mujeres). \")","v":""},null,{"$f":"IF($H$21>=$G$43,0,1)","v":0},{"$f":"IF($I$21>=$H$43,0,1)","v":0},{"$f":"IF($J$21>=$I$43,0,1)","v":0},{"$f":"IF($K$21>=$J$43,0,1)","v":0},{"$f":"IF($L$21>=$K$43,0,1)","v":0},{"$f":"IF($M$21>=$L$43,0,1)","v":0},{"$f":"IF($N$21>=$M$43,0,1)","v":0},{"$f":"IF($O$21>=$N$43,0,1)","v":0}]
[null,"SECCION D: PERSONAS MAYORES EN ACTIVIDAD FÍSICA "]
[null,"CONCEPTO",null,"TOTAL",null,null,"GRUPO DE EDAD (en años) Y SEXO"]
[{"$nulls":6},"65 a 69 años",null,"70 a 74 años",null,"75 a 79 años",null,"80 y más años"]
[{"$nulls":3},"Ambos\nsexos","Hombres","Mujeres","Hombres ","Mujeres","Hombres ","Mujeres","Hombres ","Mujeres","Hombres","Mujeres"]
["P5300500","PERSONAS EN ACTIVIDAD FÍSICA ",null,{"$f":"IFERROR(VLOOKUP($A48,Filtro!$A$4:$AX$552,2,FALSE),0)","v":2131},{"$f":"IFERROR(VLOOKUP($A48,Filtro!$A$4:$AX$552,3,FALSE),0)","v":966},{"$f":"IFERROR(VLOOKUP($A48,Filtro!$A$4:$AX$552,4,FALSE),0)","v":1165},{"$f":"IFERROR(VLOOKUP($A48,Filtro!$A$4:$AX$552,5,FALSE),0)","v":315},{"$f":"IFERROR(VLOOKUP($A48,Filtro!$A$4:$AX$552,6,FALSE),0)","v":417},{"$f":"IFERROR(VLOOKUP($A48,Filtro!$A$4:$AX$552,7,FALSE),0)","v":288},{"$f":"IFERROR(VLOOKUP($A48,Filtro!$A$4:$AX$552,8,FALSE),0)","v":329},{"$f":"IFERROR(VLOOKUP($A48,Filtro!$A$4:$AX$552,9,FALSE),0)","v":203},{"$f":"IFERROR(VLOOKUP($A48,Filtro!$A$4:$AX$552,10,FALSE),0)","v":243},{"$f":"IFERROR(VLOOKUP($A48,Filtro!$A$4:$AX$552,11,FALSE),0)","v":160},{"$f":"IFERROR(VLOOKUP($A48,Filtro!$A$4:$AX$552,12,FALSE),0)","v":176},{"$f":" AJ48","v":""},{"$nulls":20},{"$f":"IF($D$48<=$E$15,\"\",\"* Los Adultos Mayores en actividad física no pueden ser mayor que los clasificados como Autovalentes sin/con riesgo y los riesgo de Dependencia. \")","v":""},null,{"$f":"IF($D$48<=$E$15,0,1)","v":0}]
[null,"SECCION E: PERSONAS MAYORES CON RIESGO DE CAÍDAS"]
[null,"INSTRUMENTO DE EVALUACIÓN","TIPO DE RIESGO",null,"TOTAL",null,null,"GRUPO DE EDAD (en años) Y SEXO"]
[{"$nulls":7},"65 a 69 años",null,"70 a 74 años",null,"75 a 79 años",null,"80 y más años"]
[{"$nulls":4},"Ambos\nsexos","Hombres","Mujeres","Hombres ","Mujeres","Hombres ","Mujeres","Hombres ","Mujeres","Hombres","Mujeres"]
["P5300540","TIMED UP AND GO","Normal",null,{"$f":"IFERROR(VLOOKUP($A53,Filtro!$A$4:$AX$552,2,FALSE),0)","v":7140},{"$f":"IFERROR(VLOOKUP($A53,Filtro!$A$4:$AX$552,3,FALSE),0)","v":3086},{"$f":"IFERROR(VLOOKUP($A53,Filtro!$A$4:$AX$552,4,FALSE),0)","v":4054},{"$f":"IFERROR(VLOOKUP($A53,Filtro!$A$4:$AX$552,5,FALSE),0)","v":974},{"$f":"IFERROR(VLOOKUP($A53,Filtro!$A$4:$AX$552,6,FALSE),0)","v":1398},{"$f":"IFERROR(VLOOKUP($A53,Filtro!$A$4:$AX$552,7,FALSE),0)","v":899},{"$f":"IFERROR(VLOOKUP($A53,Filtro!$A$4:$AX$552,8,FALSE),0)","v":1219},{"$f":"IFERROR(VLOOKUP($A53,Filtro!$A$4:$AX$552,9,FALSE),0)","v":730},{"$f":"IFERROR(VLOOKUP($A53,Filtro!$A$4:$AX$552,10,FALSE),0)","v":825},{"$f":"IFERROR(VLOOKUP($A53,Filtro!$A$4:$AX$552,11,FALSE),0)","v":483},{"$f":"IFERROR(VLOOKUP($A53,Filtro!$A$4:$AX$552,12,FALSE),0)","v":612}]
["P5300550",null,"Leve",null,{"$f":"IFERROR(VLOOKUP($A54,Filtro!$A$4:$AX$552,2,FALSE),0)","v":3715},{"$f":"IFERROR(VLOOKUP($A54,Filtro!$A$4:$AX$552,3,FALSE),0)","v":1422},{"$f":"IFERROR(VLOOKUP($A54,Filtro!$A$4:$AX$552,4,FALSE),0)","v":2293},{"$f":"IFERROR(VLOOKUP($A54,Filtro!$A$4:$AX$552,5,FALSE),0)","v":290},{"$f":"IFERROR(VLOOKUP($A54,Filtro!$A$4:$AX$552,6,FALSE),0)","v":499},{"$f":"IFERROR(VLOOKUP($A54,Filtro!$A$4:$AX$552,7,FALSE),0)","v":313},{"$f":"IFERROR(VLOOKUP($A54,Filtro!$A$4:$AX$552,8,FALSE),0)","v":572},{"$f":"IFERROR(VLOOKUP($A54,Filtro!$A$4:$AX$552,9,FALSE),0)","v":382},{"$f":"IFERROR(VLOOKUP($A54,Filtro!$A$4:$AX$552,10,FALSE),0)","v":574},{"$f":"IFERROR(VLOOKUP($A54,Filtro!$A$4:$AX$552,11,FALSE),0)","v":437},{"$f":"IFERROR(VLOOKUP($A54,Filtro!$A$4:$AX$552,12,FALSE),0)","v":648}]
["P5300560",null,"Alto",null,{"$f":"IFERROR(VLOOKUP($A55,Filtro!$A$4:$AX$552,2,FALSE),0)","v":1628},{"$f":"IFERROR(VLOOKUP($A55,Filtro!$A$4:$AX$552,3,FALSE),0)","v":586},{"$f":"IFERROR(VLOOKUP($A55,Filtro!$A$4:$AX$552,4,FALSE),0)","v":1042},{"$f":"IFERROR(VLOOKUP($A55,Filtro!$A$4:$AX$552,5,FALSE),0)","v":61},{"$f":"IFERROR(VLOOKUP($A55,Filtro!$A$4:$AX$552,6,FALSE),0)","v":125},{"$f":"IFERROR(VLOOKUP($A55,Filtro!$A$4:$AX$552,7,FALSE),0)","v":100},{"$f":"IFERROR(VLOOKUP($A55,Filtro!$A$4:$AX$552,8,FALSE),0)","v":166},{"$f":"IFERROR(VLOOKUP($A55,Filtro!$A$4:$AX$552,9,FALSE),0)","v":120},{"$f":"IFERROR(VLOOKUP($A55,Filtro!$A$4:$AX$552,10,FALSE),0)","v":231},{"$f":"IFERROR(VLOOKUP($A55,Filtro!$A$4:$AX$552,11,FALSE),0)","v":305},{"$f":"IFERROR(VLOOKUP($A55,Filtro!$A$4:$AX$552,12,FALSE),0)","v":520},{"$f":" AC55 & AD55 & AE55 & AF55 & AG55 & AH55 & AI55 & AJ55","v":""},{"$nulls":12},{"$f":"IF(SUM($H53:$H55)>$H15,\"* Riesgo de caída Hombres (65 a 69 años) deben ser menor o igual al Total Adultos Mayores con EFAM de sección A. \",\"\")","v":""},{"$f":"IF(SUM($I53:$I55)>$I15,\"* Riesgo de caída Mujeres (65 a 69 años) deben ser menor o igual al Total Adultos Mayores con EFAM de sección A. \",\"\")","v":""},{"$f":"IF(SUM($J53:$J55)>$J15,\"* Riesgo de caída Hombres (70 a 74 años) deben ser menor o igual al Total Adultos Mayores con EFAM de sección A. \",\"\")","v":""},{"$f":"IF(SUM($K53:$K55)>$K15,\"* Riesgo de caída Mujeres (70 a 74 años) deben ser menor o igual al Total Adultos Mayores con EFAM de sección A. \",\"\")","v":""},{"$f":"IF(SUM($L53:$L55)>$L15,\"* Riesgo de caída Hombres (75 a 79 años) deben ser menor o igual al Total Adultos Mayores con EFAM de sección A. \",\"\")","v":""},{"$f":"IF(SUM($M53:$M55)>$M15,\"* Riesgo de caída Mujeres (75 a 79 años) deben ser menor o igual al Total Adultos Mayores con EFAM de sección A. \",\"\")","v":""},{"$f":"IF(SUM($N53:$N55)>$N15,\"* Riesgo de caída Hombres (80 y más) deben ser menor o igual al Total Adultos Mayores con EFAM de sección A. \",\"\")","v":""},{"$f":"IF(SUM($O53:$O55)>$O15,\"* Riesgo de caída Mujeres (80 y más) deben ser menor o igual al Total Adultos Mayores con EFAM de sección A. \",\"\")","v":""},null,{"$f":"IF(SUM($H53:$H55)>$H15,1,0)","v":0},{"$f":"IF(SUM($I53:$I55)>$I15,1,0)","v":0},{"$f":"IF(SUM($J53:$J55)>$J15,1,0)","v":0},{"$f":"IF(SUM($K53:$K55)>$K15,1,0)","v":0},{"$f":"IF(SUM($L53:$L55)>$L15,1,0)","v":0},{"$f":"IF(SUM($M53:$M55)>$M15,1,0)","v":0},{"$f":"IF(SUM($N53:$N55)>$N15,1,0)","v":0},{"$f":"IF(SUM($O53:$O55)>$O15,1,0)","v":0}]
["P5400100","ESTACIÓN UNIPODAL","Normal ",null,{"$f":"IFERROR(VLOOKUP($A56,Filtro!$A$4:$AX$552,2,FALSE),0)","v":8336},{"$f":"IFERROR(VLOOKUP($A56,Filtro!$A$4:$AX$552,3,FALSE),0)","v":3650},{"$f":"IFERROR(VLOOKUP($A56,Filtro!$A$4:$AX$552,4,FALSE),0)","v":4686},{"$f":"IFERROR(VLOOKUP($A56,Filtro!$A$4:$AX$552,5,FALSE),0)","v":1239},{"$f":"IFERROR(VLOOKUP($A56,Filtro!$A$4:$AX$552,6,FALSE),0)","v":1700},{"$f":"IFERROR(VLOOKUP($A56,Filtro!$A$4:$AX$552,7,FALSE),0)","v":1064},{"$f":"IFERROR(VLOOKUP($A56,Filtro!$A$4:$AX$552,8,FALSE),0)","v":1461},{"$f":"IFERROR(VLOOKUP($A56,Filtro!$A$4:$AX$552,9,FALSE),0)","v":879},{"$f":"IFERROR(VLOOKUP($A56,Filtro!$A$4:$AX$552,10,FALSE),0)","v":928},{"$f":"IFERROR(VLOOKUP($A56,Filtro!$A$4:$AX$552,11,FALSE),0)","v":468},{"$f":"IFERROR(VLOOKUP($A56,Filtro!$A$4:$AX$552,12,FALSE),0)","v":597}]
["P5400200",null,"Alterado",null,{"$f":"IFERROR(VLOOKUP($A57,Filtro!$A$4:$AX$552,2,FALSE),0)","v":6253},{"$f":"IFERROR(VLOOKUP($A57,Filtro!$A$4:$AX$552,3,FALSE),0)","v":2409},{"$f":"IFERROR(VLOOKUP($A57,Filtro!$A$4:$AX$552,4,FALSE),0)","v":3844},{"$f":"IFERROR(VLOOKUP($A57,Filtro!$A$4:$AX$552,5,FALSE),0)","v":331},{"$f":"IFERROR(VLOOKUP($A57,Filtro!$A$4:$AX$552,6,FALSE),0)","v":634},{"$f":"IFERROR(VLOOKUP($A57,Filtro!$A$4:$AX$552,7,FALSE),0)","v":477},{"$f":"IFERROR(VLOOKUP($A57,Filtro!$A$4:$AX$552,8,FALSE),0)","v":783},{"$f":"IFERROR(VLOOKUP($A57,Filtro!$A$4:$AX$552,9,FALSE),0)","v":602},{"$f":"IFERROR(VLOOKUP($A57,Filtro!$A$4:$AX$552,10,FALSE),0)","v":959},{"$f":"IFERROR(VLOOKUP($A57,Filtro!$A$4:$AX$552,11,FALSE),0)","v":999},{"$f":"IFERROR(VLOOKUP($A57,Filtro!$A$4:$AX$552,12,FALSE),0)","v":1468}]
{"$rows_empty":23}
[null,{"$f":"SUM(E12:S21, E26:U29,D34:R38,D43:N43,D48:N48,E53:O57)","v":515576},"datos"]
[null,{"$f":"SUM(AL12:AS58)","v":1},"errores"]

{"sheet":"P7","index":6,"n_rows":58,"n_cols":13,"rows_kept":58,"merged":[[6,1,6,10],[23,1,23,3],[24,1,24,3],[25,1,28,1],[25,2,25,3],[26,2,26,3],[27,2,27,3],[28,2,28,3],[29,1,33,1],[29,2,29,3],[30,2,30,3],[31,2,31,3],[32,2,32,3],[33,2,33,3]]}
[]
[]
[]
[]
[]
[]
[null,"REM-P7. FAMILIAS EN CONTROL DE SALUD FAMILIAR"]
[null,"SECCIÓN A. CLASIFICACIÓN DE LAS FAMILIAS SECTOR URBANO"]
[null,"CLASIFICACIÓN DE LAS FAMILIAS POR SECTOR","TOTAL","SECTOR 1","SECTOR 2","SECTOR 3","SECTOR 4","SECTOR 5","SECTOR 6","SECTOR 7","SECTOR 8"]
["P7010100","N° FAMILIAS INSCRITAS ",{"$f":"IFERROR(VLOOKUP($A10,Filtro!$A$4:$AX$552,2,FALSE),0)","v":141876},{"$f":"IFERROR(VLOOKUP($A10,Filtro!$A$4:$AX$552,3,FALSE),0)","v":62130},{"$f":"IFERROR(VLOOKUP($A10,Filtro!$A$4:$AX$552,4,FALSE),0)","v":56586},{"$f":"IFERROR(VLOOKUP($A10,Filtro!$A$4:$AX$552,5,FALSE),0)","v":23160},{"$f":"IFERROR(VLOOKUP($A10,Filtro!$A$4:$AX$552,6,FALSE),0)","v":0},{"$f":"IFERROR(VLOOKUP($A10,Filtro!$A$4:$AX$552,7,FALSE),0)","v":0},{"$f":"IFERROR(VLOOKUP($A10,Filtro!$A$4:$AX$552,8,FALSE),0)","v":0},{"$f":"IFERROR(VLOOKUP($A10,Filtro!$A$4:$AX$552,9,FALSE),0)","v":0},{"$f":"IFERROR(VLOOKUP($A10,Filtro!$A$4:$AX$552,10,FALSE),0)","v":0}]
["P7010200","N° FAMILIAS EVALUADAS CON CARTOLA/ENCUESTA FAMILIAR",{"$f":"IFERROR(VLOOKUP($A11,Filtro!$A$4:$AX$552,2,FALSE),0)","v":17773},{"$f":"IFERROR(VLOOKUP($A11,Filtro!$A$4:$AX$552,3,FALSE),0)","v":10439},{"$f":"IFERROR(VLOOKUP($A11,Filtro!$A$4:$AX$552,4,FALSE),0)","v":5327},{"$f":"IFERROR(VLOOKUP($A11,Filtro!$A$4:$AX$552,5,FALSE),0)","v":2007},{"$f":"IFERROR(VLOOKUP($A11,Filtro!$A$4:$AX$552,6,FALSE),0)","v":0},{"$f":"IFERROR(VLOOKUP($A11,Filtro!$A$4:$AX$552,7,FALSE),0)","v":0},{"$f":"IFERROR(VLOOKUP($A11,Filtro!$A$4:$AX$552,8,FALSE),0)","v":0},{"$f":"IFERROR(VLOOKUP($A11,Filtro!$A$4:$AX$552,9,FALSE),0)","v":0},{"$f":"IFERROR(VLOOKUP($A11,Filtro!$A$4:$AX$552,10,FALSE),0)","v":0}]
["P7010300","N° DE FAMILIAS EN RIESGO BAJO",{"$f":"IFERROR(VLOOKUP($A12,Filtro!$A$4:$AX$552,2,FALSE),0)","v":12730},{"$f":"IFERROR(VLOOKUP($A12,Filtro!$A$4:$AX$552,3,FALSE),0)","v":7997},{"$f":"IFERROR(VLOOKUP($A12,Filtro!$A$4:$AX$552,4,FALSE),0)","v":3573},{"$f":"IFERROR(VLOOKUP($A12,Filtro!$A$4:$AX$552,5,FALSE),0)","v":1160},{"$f":"IFERROR(VLOOKUP($A12,Filtro!$A$4:$AX$552,6,FALSE),0)","v":0},{"$f":"IFERROR(VLOOKUP($A12,Filtro!$A$4:$AX$552,7,FALSE),0)","v":0},{"$f":"IFERROR(VLOOKUP($A12,Filtro!$A$4:$AX$552,8,FALSE),0)","v":0},{"$f":"IFERROR(VLOOKUP($A12,Filtro!$A$4:$AX$552,9,FALSE),0)","v":0},{"$f":"IFERROR(VLOOKUP($A12,Filtro!$A$4:$AX$552,10,FALSE),0)","v":0}]
["P7200100","N° DE FAMILIAS EN RIESGO MEDIO",{"$f":"IFERROR(VLOOKUP($A13,Filtro!$A$4:$AX$552,2,FALSE),0)","v":3520},{"$f":"IFERROR(VLOOKUP($A13,Filtro!$A$4:$AX$552,3,FALSE),0)","v":1736},{"$f":"IFERROR(VLOOKUP($A13,Filtro!$A$4:$AX$552,4,FALSE),0)","v":1257},{"$f":"IFERROR(VLOOKUP($A13,Filtro!$A$4:$AX$552,5,FALSE),0)","v":527},{"$f":"IFERROR(VLOOKUP($A13,Filtro!$A$4:$AX$552,6,FALSE),0)","v":0},{"$f":"IFERROR(VLOOKUP($A13,Filtro!$A$4:$AX$552,7,FALSE),0)","v":0},{"$f":"IFERROR(VLOOKUP($A13,Filtro!$A$4:$AX$552,8,FALSE),0)","v":0},{"$f":"IFERROR(VLOOKUP($A13,Filtro!$A$4:$AX$552,9,FALSE),0)","v":0},{"$f":"IFERROR(VLOOKUP($A13,Filtro!$A$4:$AX$552,10,FALSE),0)","v":0}]
["P7200200","N° DE FAMILIAS EN RIESGO ALTO",{"$f":"IFERROR(VLOOKUP($A14,Filtro!$A$4:$AX$552,2,FALSE),0)","v":1251},{"$f":"IFERROR(VLOOKUP($A14,Filtro!$A$4:$AX$552,3,FALSE),0)","v":624},{"$f":"IFERROR(VLOOKUP($A14,Filtro!$A$4:$AX$552,4,FALSE),0)","v":461},{"$f":"IFERROR(VLOOKUP($A14,Filtro!$A$4:$AX$552,5,FALSE),0)","v":166},{"$f":"IFERROR(VLOOKUP($A14,Filtro!$A$4:$AX$552,6,FALSE),0)","v":0},{"$f":"IFERROR(VLOOKUP($A14,Filtro!$A$4:$AX$552,7,FALSE),0)","v":0},{"$f":"IFERROR(VLOOKUP($A14,Filtro!$A$4:$AX$552,8,FALSE),0)","v":0},{"$f":"IFERROR(VLOOKUP($A14,Filtro!$A$4:$AX$552,9,FALSE),0)","v":0},{"$f":"IFERROR(VLOOKUP($A14,Filtro!$A$4:$AX$552,10,FALSE),0)","v":0}]
[]
[null,"SECCIÓN A.1 CLASIFICACIÓN DE LAS FAMILIAS SECTOR RURAL"]
[null,"CLASIFICACIÓN DE LAS FAMILIAS POR SECTOR","TOTAL","SECTOR 1","SECTOR 2","SECTOR 3","SECTOR 4","SECTOR 5","SECTOR 6","SECTOR 7","SECTOR 8"]
["P7010400","N° FAMILIAS INSCRITAS ",{"$f":"IFERROR(VLOOKUP($A18,Filtro!$A$4:$AX$552,2,FALSE),0)","v":48786},{"$f":"IFERROR(VLOOKUP($A18,Filtro!$A$4:$AX$552,3,FALSE),0)","v":42415},{"$f":"IFERROR(VLOOKUP($A18,Filtro!$A$4:$AX$552,4,FALSE),0)","v":4695},{"$f":"IFERROR(VLOOKUP($A18,Filtro!$A$4:$AX$552,5,FALSE),0)","v":848},{"$f":"IFERROR(VLOOKUP($A18,Filtro!$A$4:$AX$552,6,FALSE),0)","v":1714},{"$f":"IFERROR(VLOOKUP($A18,Filtro!$A$4:$AX$552,7,FALSE),0)","v":0},{"$f":"IFERROR(VLOOKUP($A18,Filtro!$A$4:$AX$552,8,FALSE),0)","v":0},{"$f":"IFERROR(VLOOKUP($A18,Filtro!$A$4:$AX$552,9,FALSE),0)","v":0},{"$f":"IFERROR(VLOOKUP($A18,Filtro!$A$4:$AX$552,10,FALSE),0)","v":0}]
["P7010500","N° FAMILIAS EVALUADAS CON CARTOLA/ENCUESTA FAMILIAR",{"$f":"IFERROR(VLOOKUP($A19,Filtro!$A$4:$AX$552,2,FALSE),0)","v":10209},{"$f":"IFERROR(VLOOKUP($A19,Filtro!$A$4:$AX$552,3,FALSE),0)","v":7434},{"$f":"IFERROR(VLOOKUP($A19,Filtro!$A$4:$AX$552,4,FALSE),0)","v":1055},{"$f":"IFERROR(VLOOKUP($A19,Filtro!$A$4:$AX$552,5,FALSE),0)","v":828},{"$f":"IFERROR(VLOOKUP($A19,Filtro!$A$4:$AX$552,6,FALSE),0)","v":892},{"$f":"IFERROR(VLOOKUP($A19,Filtro!$A$4:$AX$552,7,FALSE),0)","v":0},{"$f":"IFERROR(VLOOKUP($A19,Filtro!$A$4:$AX$552,8,FALSE),0)","v":0},{"$f":"IFERROR(VLOOKUP($A19,Filtro!$A$4:$AX$552,9,FALSE),0)","v":0},{"$f":"IFERROR(VLOOKUP($A19,Filtro!$A$4:$AX$552,10,FALSE),0)","v":0}]
["P7010600","N° DE FAMILIAS EN RIESGO BAJO",{"$f":"IFERROR(VLOOKUP($A20,Filtro!$A$4:$AX$552,2,FALSE),0)","v":7078},{"$f":"IFERROR(VLOOKUP($A20,Filtro!$A$4:$AX$552,3,FALSE),0)","v":5027},{"$f":"IFERROR(VLOOKUP($A20,Filtro!$A$4:$AX$552,4,FALSE),0)","v":714},{"$f":"IFERROR(VLOOKUP($A20,Filtro!$A$4:$AX$552,5,FALSE),0)","v":742},{"$f":"IFERROR(VLOOKUP($A20,Filtro!$A$4:$AX$552,6,FALSE),0)","v":595},{"$f":"IFERROR(VLOOKUP($A20,Filtro!$A$4:$AX$552,7,FALSE),0)","v":0},{"$f":"IFERROR(VLOOKUP($A20,Filtro!$A$4:$AX$552,8,FALSE),0)","v":0},{"$f":"IFERROR(VLOOKUP($A20,Filtro!$A$4:$AX$552,9,FALSE),0)","v":0},{"$f":"IFERROR(VLOOKUP($A20,Filtro!$A$4:$AX$552,10,FALSE),0)","v":0}]
["P7200300","N° DE FAMILIAS EN RIESGO MEDIO",{"$f":"IFERROR(VLOOKUP($A21,Filtro!$A$4:$AX$552,2,FALSE),0)","v":1514},{"$f":"IFERROR(VLOOKUP($A21,Filtro!$A$4:$AX$552,3,FALSE),0)","v":1117},{"$f":"IFERROR(VLOOKUP($A21,Filtro!$A$4:$AX$552,4,FALSE),0)","v":252},{"$f":"IFERROR(VLOOKUP($A21,Filtro!$A$4:$AX$552,5,FALSE),0)","v":43},{"$f":"IFERROR(VLOOKUP($A21,Filtro!$A$4:$AX$552,6,FALSE),0)","v":102},{"$f":"IFERROR(VLOOKUP($A21,Filtro!$A$4:$AX$552,7,FALSE),0)","v":0},{"$f":"IFERROR(VLOOKUP($A21,Filtro!$A$4:$AX$552,8,FALSE),0)","v":0},{"$f":"IFERROR(VLOOKUP($A21,Filtro!$A$4:$AX$552,9,FALSE),0)","v":0},{"$f":"IFERROR(VLOOKUP($A21,Filtro!$A$4:$AX$552,10,FALSE),0)","v":0}]
["P7200400","N° DE FAMILIAS EN RIESGO ALTO",{"$f":"IFERROR(VLOOKUP($A22,Filtro!$A$4:$AX$552,2,FALSE),0)","v":906},{"$f":"IFERROR(VLOOKUP($A22,Filtro!$A$4:$AX$552,3,FALSE),0)","v":754},{"$f":"IFERROR(VLOOKUP($A22,Filtro!$A$4:$AX$552,4,FALSE),0)","v":55},{"$f":"IFERROR(VLOOKUP($A22,Filtro!$A$4:$AX$552,5,FALSE),0)","v":43},{"$f":"IFERROR(VLOOKUP($A22,Filtro!$A$4:$AX$552,6,FALSE),0)","v":54},{"$f":"IFERROR(VLOOKUP($A22,Filtro!$A$4:$AX$552,7,FALSE),0)","v":0},{"$f":"IFERROR(VLOOKUP($A22,Filtro!$A$4:$AX$552,8,FALSE),0)","v":0},{"$f":"IFERROR(VLOOKUP($A22,Filtro!$A$4:$AX$552,9,FALSE),0)","v":0},{"$f":"IFERROR(VLOOKUP($A22,Filtro!$A$4:$AX$552,10,FALSE),0)","v":0}]
[null,"SECCIÓN B. INTERVENCIÓN EN FAMILIAS SECTOR URBANO Y RURAL"]
[null,"INTERVENCIÓN EN FAMILIAS",null,null,"TOTAL","SECTOR 1","SECTOR 2","SECTOR 3","SECTOR 4","SECTOR 5","SECTOR 6","SECTOR 7","SECTOR 8"]
["P7200500","N° FAMILIAS CON PLAN DE INTERVENCIÓN",null,null,{"$f":"IFERROR(VLOOKUP($A25,Filtro!$A$4:$AX$552,2,FALSE),0)","v":6385},{"$f":"IFERROR(VLOOKUP($A25,Filtro!$A$4:$AX$552,3,FALSE),0)","v":3172},{"$f":"IFERROR(VLOOKUP($A25,Filtro!$A$4:$AX$552,4,FALSE),0)","v":1785},{"$f":"IFERROR(VLOOKUP($A25,Filtro!$A$4:$AX$552,5,FALSE),0)","v":1384},{"$f":"IFERROR(VLOOKUP($A25,Filtro!$A$4:$AX$552,6,FALSE),0)","v":51},{"$f":"IFERROR(VLOOKUP($A25,Filtro!$A$4:$AX$552,7,FALSE),0)","v":0},{"$f":"IFERROR(VLOOKUP($A25,Filtro!$A$4:$AX$552,8,FALSE),0)","v":0},{"$f":"IFERROR(VLOOKUP($A25,Filtro!$A$4:$AX$552,9,FALSE),0)","v":0},{"$f":"IFERROR(VLOOKUP($A25,Filtro!$A$4:$AX$552,10,FALSE),0)","v":0}]
["P7201200","N° FAMILIAS SIN PLAN DE INTERVENCIÓN","SIN RIESGO ",null,{"$f":"IFERROR(VLOOKUP($A26,Filtro!$A$4:$AX$552,2,FALSE),0)","v":908},{"$f":"IFERROR(VLOOKUP($A26,Filtro!$A$4:$AX$552,3,FALSE),0)","v":496},{"$f":"IFERROR(VLOOKUP($A26,Filtro!$A$4:$AX$552,4,FALSE),0)","v":147},{"$f":"IFERROR(VLOOKUP($A26,Filtro!$A$4:$AX$552,5,FALSE),0)","v":127},{"$f":"IFERROR(VLOOKUP($A26,Filtro!$A$4:$AX$552,6,FALSE),0)","v":138},{"$f":"IFERROR(VLOOKUP($A26,Filtro!$A$4:$AX$552,7,FALSE),0)","v":0},{"$f":"IFERROR(VLOOKUP($A26,Filtro!$A$4:$AX$552,8,FALSE),0)","v":0},{"$f":"IFERROR(VLOOKUP($A26,Filtro!$A$4:$AX$552,9,FALSE),0)","v":0},{"$f":"IFERROR(VLOOKUP($A26,Filtro!$A$4:$AX$552,10,FALSE),0)","v":0}]
["P7201300",null,"RIESGO BAJO",null,{"$f":"IFERROR(VLOOKUP($A27,Filtro!$A$4:$AX$552,2,FALSE),0)","v":6378},{"$f":"IFERROR(VLOOKUP($A27,Filtro!$A$4:$AX$552,3,FALSE),0)","v":3766},{"$f":"IFERROR(VLOOKUP($A27,Filtro!$A$4:$AX$552,4,FALSE),0)","v":1122},{"$f":"IFERROR(VLOOKUP($A27,Filtro!$A$4:$AX$552,5,FALSE),0)","v":910},{"$f":"IFERROR(VLOOKUP($A27,Filtro!$A$4:$AX$552,6,FALSE),0)","v":580},{"$f":"IFERROR(VLOOKUP($A27,Filtro!$A$4:$AX$552,7,FALSE),0)","v":0},{"$f":"IFERROR(VLOOKUP($A27,Filtro!$A$4:$AX$552,8,FALSE),0)","v":0},{"$f":"IFERROR(VLOOKUP($A27,Filtro!$A$4:$AX$552,9,FALSE),0)","v":0},{"$f":"IFERROR(VLOOKUP($A27,Filtro!$A$4:$AX$552,10,FALSE),0)","v":0}]
["P7201400",null,"RIESGO MEDIO",null,{"$f":"IFERROR(VLOOKUP($A28,Filtro!$A$4:$AX$552,2,FALSE),0)","v":1473},{"$f":"IFERROR(VLOOKUP($A28,Filtro!$A$4:$AX$552,3,FALSE),0)","v":787},{"$f":"IFERROR(VLOOKUP($A28,Filtro!$A$4:$AX$552,4,FALSE),0)","v":332},{"$f":"IFERROR(VLOOKUP($A28,Filtro!$A$4:$AX$552,5,FALSE),0)","v":265},{"$f":"IFERROR(VLOOKUP($A28,Filtro!$A$4:$AX$552,6,FALSE),0)","v":89},{"$f":"IFERROR(VLOOKUP($A28,Filtro!$A$4:$AX$552,7,FALSE),0)","v":0},{"$f":"IFERROR(VLOOKUP($A28,Filtro!$A$4:$AX$552,8,FALSE),0)","v":0},{"$f":"IFERROR(VLOOKUP($A28,Filtro!$A$4:$AX$552,9,FALSE),0)","v":0},{"$f":"IFERROR(VLOOKUP($A28,Filtro!$A$4:$AX$552,10,FALSE),0)","v":0}]
["P7201500",null,"RIESGO ALTO",null,{"$f":"IFERROR(VLOOKUP($A29,Filtro!$A$4:$AX$552,2,FALSE),0)","v":336},{"$f":"IFERROR(VLOOKUP($A29,Filtro!$A$4:$AX$552,3,FALSE),0)","v":221},{"$f":"IFERROR(VLOOKUP($A29,Filtro!$A$4:$AX$552,4,FALSE),0)","v":61},{"$f":"IFERROR(VLOOKUP($A29,Filtro!$A$4:$AX$552,5,FALSE),0)","v":21},{"$f":"IFERROR(VLOOKUP($A29,Filtro!$A$4:$AX$552,6,FALSE),0)","v":33},{"$f":"IFERROR(VLOOKUP($A29,Filtro!$A$4:$AX$552,7,FALSE),0)","v":0},{"$f":"IFERROR(VLOOKUP($A29,Filtro!$A$4:$AX$552,8,FALSE),0)","v":0},{"$f":"IFERROR(VLOOKUP($A29,Filtro!$A$4:$AX$552,9,FALSE),0)","v":0},{"$f":"IFERROR(VLOOKUP($A29,Filtro!$A$4:$AX$552,10,FALSE),0)","v":0}]
["P7200700","N° FAMILIAS EGRESADAS DE PLANES DE INTERVENCIÓN","TOTAL DE EGRESOS",null,{"$f":"IFERROR(VLOOKUP($A30,Filtro!$A$4:$AX$552,2,FALSE),0)","v":2406},{"$f":"IFERROR(VLOOKUP($A30,Filtro!$A$4:$AX$552,3,FALSE),0)","v":1271},{"$f":"IFERROR(VLOOKUP($A30,Filtro!$A$4:$AX$552,4,FALSE),0)","v":916},{"$f":"IFERROR(VLOOKUP($A30,Filtro!$A$4:$AX$552,5,FALSE),0)","v":218},{"$f":"IFERROR(VLOOKUP($A30,Filtro!$A$4:$AX$552,6,FALSE),0)","v":1},{"$f":"IFERROR(VLOOKUP($A30,Filtro!$A$4:$AX$552,7,FALSE),0)","v":0},{"$f":"IFERROR(VLOOKUP($A30,Filtro!$A$4:$AX$552,8,FALSE),0)","v":0},{"$f":"IFERROR(VLOOKUP($A30,Filtro!$A$4:$AX$552,9,FALSE),0)","v":0},{"$f":"IFERROR(VLOOKUP($A30,Filtro!$A$4:$AX$552,10,FALSE),0)","v":0}]
["P7200800",null,"ALTA POR CUMPLIR PLAN DE INTERVENCIÓN",null,{"$f":"IFERROR(VLOOKUP($A31,Filtro!$A$4:$AX$552,2,FALSE),0)","v":1541},{"$f":"IFERROR(VLOOKUP($A31,Filtro!$A$4:$AX$552,3,FALSE),0)","v":766},{"$f":"IFERROR(VLOOKUP($A31,Filtro!$A$4:$AX$552,4,FALSE),0)","v":633},{"$f":"IFERROR(VLOOKUP($A31,Filtro!$A$4:$AX$552,5,FALSE),0)","v":142},{"$f":"IFERROR(VLOOKUP($A31,Filtro!$A$4:$AX$552,6,FALSE),0)","v":0},{"$f":"IFERROR(VLOOKUP($A31,Filtro!$A$4:$AX$552,7,FALSE),0)","v":0},{"$f":"IFERROR(VLOOKUP($A31,Filtro!$A$4:$AX$552,8,FALSE),0)","v":0},{"$f":"IFERROR(VLOOKUP($A31,Filtro!$A$4:$AX$552,9,FALSE),0)","v":0},{"$f":"IFERROR(VLOOKUP($A31,Filtro!$A$4:$AX$552,10,FALSE),0)","v":0}]
["P7200900",null,"TRASLADO DE ESTABLECIMIENTO",null,{"$f":"IFERROR(VLOOKUP($A32,Filtro!$A$4:$AX$552,2,FALSE),0)","v":297},{"$f":"IFERROR(VLOOKUP($A32,Filtro!$A$4:$AX$552,3,FALSE),0)","v":175},{"$f":"IFERROR(VLOOKUP($A32,Filtro!$A$4:$AX$552,4,FALSE),0)","v":60},{"$f":"IFERROR(VLOOKUP($A32,Filtro!$A$4:$AX$552,5,FALSE),0)","v":61},{"$f":"IFERROR(VLOOKUP($A32,Filtro!$A$4:$AX$552,6,FALSE),0)","v":1},{"$f":"IFERROR(VLOOKUP($A32,Filtro!$A$4:$AX$552,7,FALSE),0)","v":0},{"$f":"IFERROR(VLOOKUP($A32,Filtro!$A$4:$AX$552,8,FALSE),0)","v":0},{"$f":"IFERROR(VLOOKUP($A32,Filtro!$A$4:$AX$552,9,FALSE),0)","v":0},{"$f":"IFERROR(VLOOKUP($A32,Filtro!$A$4:$AX$552,10,FALSE),0)","v":0}]
["P7201000",null,"DERIVACIÓN POR COMPLEJIDAD DEL CASO",null,{"$f":"IFERROR(VLOOKUP($A33,Filtro!$A$4:$AX$552,2,FALSE),0)","v":193},{"$f":"IFERROR(VLOOKUP($A33,Filtro!$A$4:$AX$552,3,FALSE),0)","v":112},{"$f":"IFERROR(VLOOKUP($A33,Filtro!$A$4:$AX$552,4,FALSE),0)","v":69},{"$f":"IFERROR(VLOOKUP($A33,Filtro!$A$4:$AX$552,5,FALSE),0)","v":12},{"$f":"IFERROR(VLOOKUP($A33,Filtro!$A$4:$AX$552,6,FALSE),0)","v":0},{"$f":"IFERROR(VLOOKUP($A33,Filtro!$A$4:$AX$552,7,FALSE),0)","v":0},{"$f":"IFERROR(VLOOKUP($A33,Filtro!$A$4:$AX$552,8,FALSE),0)","v":0},{"$f":"IFERROR(VLOOKUP($A33,Filtro!$A$4:$AX$552,9,FALSE),0)","v":0},{"$f":"IFERROR(VLOOKUP($A33,Filtro!$A$4:$AX$552,10,FALSE),0)","v":0}]
["P7201100",null,"POR ABANDONO",null,{"$f":"IFERROR(VLOOKUP($A34,Filtro!$A$4:$AX$552,2,FALSE),0)","v":430},{"$f":"IFERROR(VLOOKUP($A34,Filtro!$A$4:$AX$552,3,FALSE),0)","v":253},{"$f":"IFERROR(VLOOKUP($A34,Filtro!$A$4:$AX$552,4,FALSE),0)","v":172},{"$f":"IFERROR(VLOOKUP($A34,Filtro!$A$4:$AX$552,5,FALSE),0)","v":5},{"$f":"IFERROR(VLOOKUP($A34,Filtro!$A$4:$AX$552,6,FALSE),0)","v":0},{"$f":"IFERROR(VLOOKUP($A34,Filtro!$A$4:$AX$552,7,FALSE),0)","v":0},{"$f":"IFERROR(VLOOKUP($A34,Filtro!$A$4:$AX$552,8,FALSE),0)","v":0},{"$f":"IFERROR(VLOOKUP($A34,Filtro!$A$4:$AX$552,9,FALSE),0)","v":0},{"$f":"IFERROR(VLOOKUP($A34,Filtro!$A$4:$AX$552,10,FALSE),0)","v":0}]
{"$rows_empty":16}
[null,{"$f":"SUM(C10:K14,C18:K22,E25:M34)","v":532873},"datos"]
[null,{"$f":"SUM(0)","v":0},"errores"]
[]
[]
[]
[]
[]
[null,{"$f":"SUM(B8:K31)","v":531033}]

{"sheet":"P6","index":7,"n_rows":142,"n_cols":92,"rows_kept":142,"merged":[[6,1,6,21],[8,1,8,7],[8,8,8,9],[8,10,8,11],[8,12,8,13],[8,14,8,15],[8,16,8,17],[8,18,8,19],[8,20,8,21],[8,22,8,23],[8,24,8,25],[8,26,8,27],[8,28,8,29],[8,30,8,31],[8,32,8,33],[8,34,8,35],[8,36,8,37],[8,38,8,39],[9,1,11,2],[9,3,10,5],[9,6,9,39],[9,40,11,40],[9,41,11,41],[9,42,10,43],[9,44,10,45],[9,46,11,46],[10,6,10,7],[10,8,10,9],[10,10,10,11],[10,12,10,13],[10,14,10,15],[10,16,10,17],[10,18,10,19],[10,20,10,21],[10,22,10,23],[10,24,10,25],[10,26,10,27],[10,28,10,29],[10,30,10,31],[10,32,10,33],[10,34,10,35],[10,36,10,37],[10,38,10,39],[10,59,11,59],[10,60,11,60],[10,61,10,62],[10,63,10,64],[10,65,11,65],[10,79,11,79],[10,80,11,80],[10,85,11,85],[12,1,12,2],[13,1,13,2],[13,3,13,46],[14,1,15,1],[16,1,16,2],[17,1,18,1],[19,1,20,1],[21,1,21,2],[22,1,26,1],[27,1,29,1],[30,1,33,1],[34,1,39,1],[40,1,42,1],[43,1,43,2],[44,1,44,2],[45,1,45,2],[46,1,46,2],[47,1,47,2],[48,1,48,2],[50,1,50,2],[52,1,54,1],[52,2,54,2],[52,3,53,5],[52,6,52,39],[53,6,53,7],[53,8,53,9],[53,10,53,11],[53,12,53,13],[53,14,53,15],[53,16,53,17],[53,18,53,19],[53,20,53,21],[53,22,53,23],[53,24,53,25],[53,26,53,27],[53,28,53,29],[53,30,53,31],[53,32,53,33],[53,34,53,35],[53,36,53,37],[53,38,53,39],[58,1,60,2],[58,3,59,5],[58,6,58,15],[58,16,59,17],[59,6,59,7],[59,8,59,9],[59,10,59,11],[59,12,59,13],[59,14,59,15],[61,1,61,2],[62,1,62,15],[63,1,65,2],[63,3,64,5],[63,6,63,39],[63,40,65,40],[63,41,65,41],[63,42,64,43],[63,44,64,45],[63,46,65,46],[63,47,65,47],[64,6,64,7],[64,8,64,9],[64,10,64,11],[64,12,64,13],[64,14,64,15],[64,16,64,17],[64,18,64,19],[64,20,64,21],[64,22,64,23],[64,24,64,25],[64,26,64,27],[64,28,64,29],[64,30,64,31],[64,32,64,33],[64,34,64,35],[64,36,64,37],[64,38,64,39],[64,59,65,59],[64,60,65,60],[64,65,65,65],[64,79,65,79],[64,80,65,80],[64,85,65,85],[66,1,66,2],[67,1,67,2],[67,3,67,47],[68,1,69,1],[70,1,70,2],[71,1,72,1],[73,1,74,1],[75,1,75,2],[76,1,80,1],[81,1,83,1],[84,1,87,1],[88,1,93,1],[94,1,96,1],[97,1,97,2],[98,1,98,2],[99,1,99,2],[100,1,100,2],[101,1,101,2],[102,1,102,2],[104,1,104,2],[106,1,108,1],[106,2,108,2],[106,3,107,5],[106,6,106,39],[107,6,107,7],[107,8,107,9],[107,10,107,11],[107,12,107,13],[107,14,107,15],[107,16,107,17],[107,18,107,19],[107,20,107,21],[107,22,107,23],[107,24,107,25],[107,26,107,27],[107,28,107,29],[107,30,107,31],[107,32,107,33],[107,34,107,35],[107,36,107,37],[107,38,107,39]]}
[]
[]
[]
[]
[]
[]
[null,"REM-P6. POBLACIÓN EN CONTROL PROGRAMA DE SALUD MENTAL EN ATENCIÓN PRIMARIA Y ESPECIALIDAD"]
[null,"A. ATENCIÓN PRIMARIA"]
[null,"SECCION A.1: POBLACIÓN EN CONTROL EN APS AL CORTE"]
[null,"CONCEPTO",null,"T O T A L",null,null,"GRUPO DE EDAD (en años)",{"$nulls":33},"Gestantes","Madre de Hijo menor de 5 años ","Pueblos Originarios",null,"Población Migrantes",null,"Niños, Niñas, Adolescentes y Jóvenes de Población SENAME"]
[{"$nulls":6},"0 a 4 años",null,"5 a 9 años",null,"10 a 14 años",null,"15 a 19 años",null,"20 a 24 años",null,"25 a 29 años",null,"30 a 34 años",null,"35 a 39 años",null,"40 a 44 años",null,"45 a 49 años",null,"50 a 54 años",null,"55 a 59 años",null,"60 a 64 años",null,"65 a 69 años",null,"70 a 74 años",null,"75 a 79 años",null,"80 y más años",{"$nulls":20},"Gestantes","Madre de hijos","Pueblos originarios",null,"Poblacion Migrantes",null,"Niños y niñas SENAME","Gestantes","Madre de hojos","Niños y niñas SENAME","Pueblos originarios","Poblacion Migrantes",{"$nulls":8},"Gestantes","Madre de hijos","Pueblos originarios","Pueblos originarios","Poblacion Migrantes","Poblacion Migrantes","Niños y niñas SENAME","Gestantes","Madre de hojos","Niños y niñas SENAME","Pueblos originarios","Poblacion Migrantes"]
[{"$nulls":3},"Ambos\nsexos","Hombres","Mujeres","Hombres","Mujeres","Hombres","Mujeres","Hombres","Mujeres","Hombres","Mujeres","Hombres","Mujeres","Hombres","Mujeres","Hombres","Mujeres","Hombres","Mujeres","Hombres","Mujeres","Hombres","Mujeres","Hombres","Mujeres","Hombres","Mujeres","Hombres","Mujeres","Hombres ","Mujeres","Hombres ","Mujeres","Hombres ","Mujeres","Hombres","Mujeres",null,null,"Hombres","Mujeres","Hombres","Mujeres",{"$nulls":15},"Hombres","Mujeres","Hombres","Mujeres",null,"No Olvide","No Olvide","No Olvide","No Olvide","No Olvide",{"$nulls":10},"Hombres","Mujeres","Hombres","Mujeres",null,"No Olvide","No Olvide","No Olvide","No Olvide","No Olvide"]
["P6221000","NUMERO DE PERSONAS EN CONTROL EN EL PROGRAMA",null,{"$f":"IFERROR(VLOOKUP($A13,Filtro!$A$4:$AX$552,2,FALSE),0)","v":28478},{"$f":"IFERROR(VLOOKUP($A13,Filtro!$A$4:$AX$552,3,FALSE),0)","v":8670},{"$f":"IFERROR(VLOOKUP($A13,Filtro!$A$4:$AX$552,4,FALSE),0)","v":19808},{"$f":"IFERROR(VLOOKUP($A13,Filtro!$A$4:$AX$552,5,FALSE),0)","v":154},{"$f":"IFERROR(VLOOKUP($A13,Filtro!$A$4:$AX$552,6,FALSE),0)","v":92},{"$f":"IFERROR(VLOOKUP($A13,Filtro!$A$4:$AX$552,7,FALSE),0)","v":1480},{"$f":"IFERROR(VLOOKUP($A13,Filtro!$A$4:$AX$552,8,FALSE),0)","v":871},{"$f":"IFERROR(VLOOKUP($A13,Filtro!$A$4:$AX$552,9,FALSE),0)","v":1319},{"$f":"IFERROR(VLOOKUP($A13,Filtro!$A$4:$AX$552,10,FALSE),0)","v":1133},{"$f":"IFERROR(VLOOKUP($A13,Filtro!$A$4:$AX$552,11,FALSE),0)","v":898},{"$f":"IFERROR(VLOOKUP($A13,Filtro!$A$4:$AX$552,12,FALSE),0)","v":1559},{"$f":"IFERROR(VLOOKUP($A13,Filtro!$A$4:$AX$552,13,FALSE),0)","v":526},{"$f":"IFERROR(VLOOKUP($A13,Filtro!$A$4:$AX$552,14,FALSE),0)","v":1147},{"$f":"IFERROR(VLOOKUP($A13,Filtro!$A$4:$AX$552,15,FALSE),0)","v":402},{"$f":"IFERROR(VLOOKUP($A13,Filtro!$A$4:$AX$552,16,FALSE),0)","v":1229},{"$f":"IFERROR(VLOOKUP($A13,Filtro!$A$4:$AX$552,17,FALSE),0)","v":394},{"$f":"IFERROR(VLOOKUP($A13,Filtro!$A$4:$AX$552,18,FALSE),0)","v":1269},{"$f":"IFERROR(VLOOKUP($A13,Filtro!$A$4:$AX$552,19,FALSE),0)","v":437},{"$f":"IFERROR(VLOOKUP($A13,Filtro!$A$4:$AX$552,20,FALSE),0)","v":1271},{"$f":"IFERROR(VLOOKUP($A13,Filtro!$A$4:$AX$552,21,FALSE),0)","v":386},{"$f":"IFERROR(VLOOKUP($A13,Filtro!$A$4:$AX$552,22,FALSE),0)","v":1284},{"$f":"IFERROR(VLOOKUP($A13,Filtro!$A$4:$AX$552,23,FALSE),0)","v":381},{"$f":"IFERROR(VLOOKUP($A13,Filtro!$A$4:$AX$552,24,FALSE),0)","v":1425},{"$f":"IFERROR(VLOOKUP($A13,Filtro!$A$4:$AX$552,25,FALSE),0)","v":380},{"$f":"IFERROR(VLOOKUP($A13,Filtro!$A$4:$AX$552,26,FALSE),0)","v":1595},{"$f":"IFERROR(VLOOKUP($A13,Filtro!$A$4:$AX$552,27,FALSE),0)","v":385},{"$f":"IFERROR(VLOOKUP($A13,Filtro!$A$4:$AX$552,28,FALSE),0)","v":1468},{"$f":"IFERROR(VLOOKUP($A13,Filtro!$A$4:$AX$552,29,FALSE),0)","v":369},{"$f":"IFERROR(VLOOKUP($A13,Filtro!$A$4:$AX$552,30,FALSE),0)","v":1410},{"$f":"IFERROR(VLOOKUP($A13,Filtro!$A$4:$AX$552,31,FALSE),0)","v":342},{"$f":"IFERROR(VLOOKUP($A13,Filtro!$A$4:$AX$552,32,FALSE),0)","v":1330},{"$f":"IFERROR(VLOOKUP($A13,Filtro!$A$4:$AX$552,33,FALSE),0)","v":306},{"$f":"IFERROR(VLOOKUP($A13,Filtro!$A$4:$AX$552,34,FALSE),0)","v":1068},{"$f":"IFERROR(VLOOKUP($A13,Filtro!$A$4:$AX$552,35,FALSE),0)","v":240},{"$f":"IFERROR(VLOOKUP($A13,Filtro!$A$4:$AX$552,36,FALSE),0)","v":764},{"$f":"IFERROR(VLOOKUP($A13,Filtro!$A$4:$AX$552,37,FALSE),0)","v":271},{"$f":"IFERROR(VLOOKUP($A13,Filtro!$A$4:$AX$552,38,FALSE),0)","v":893},{"$f":"IFERROR(VLOOKUP($A13,Filtro!$A$4:$AX$552,39,FALSE),0)","v":224},{"$f":"IFERROR(VLOOKUP($A13,Filtro!$A$4:$AX$552,40,FALSE),0)","v":836},{"$f":"IFERROR(VLOOKUP($A13,Filtro!$A$4:$AX$552,41,FALSE),0)","v":38},{"$f":"IFERROR(VLOOKUP($A13,Filtro!$A$4:$AX$552,42,FALSE),0)","v":103},{"$f":"IFERROR(VLOOKUP($A13,Filtro!$A$4:$AX$552,43,FALSE),0)","v":20},{"$f":"IFERROR(VLOOKUP($A13,Filtro!$A$4:$AX$552,44,FALSE),0)","v":74},{"$f":"IFERROR(VLOOKUP($A13,Filtro!$A$4:$AX$552,45,FALSE),0)","v":584},{"$nulls":12},{"$f":"IF($AO13>$F13,\"* La celda 'Gestantes' debe ser menor o igual al Total de Mujeres en control. \",\"\")","v":""},{"$f":"IF($AP13>$F13,\"* La celda 'Madres de Hijos menor de 5 años' debe ser menor o igual al Total de Mujeres en control. \",\"\")","v":""},{"$f":"IF(($AQ13)>$E13,\"* La celda 'Pueblos Originarios / Hombres' debe ser menor o igual al Total de Hombres en control. \",\"\")","v":""},{"$f":"IF($AR13>$F13,\"* La celda 'Pueblos Originarios / Mujeres' debe ser menor o igual al Total de Mujeres en control. \",\"\")","v":""},{"$f":"IF(($AS13)>$E13,\"* La celda 'Población Migrantes / Hombres' debe ser menor o igual al Total de Hombres en control. \",\"\")","v":""},{"$f":"IF($AT13>$F13,\"* La celda 'Población Migrantes / Mujeres' debe ser menor o igual al Total de Mujeres en control. \",\"\")","v":""},{"$f":"IF($AU13>$D13,\"* La celda 'Niños, Niñas, Adolescentes y Jóvenes de Población SENAME' debe ser menor o igual al Total de Ambos Sexos. \",\"\")","v":""},{"$f":"IF(AND($D13<>0,$AO13=\"\"),\"* No olvide escribir en la celda de 'Gestantes' (Digite CERO si no tiene). \",\"\")","v":""},{"$f":"IF(AND($D13<>0,$AP13=\"\"),\"* No olvide escribir en la celda de 'Madres de Hijos menor de 5 años' (Digite CERO si no tiene). \",\"\")","v":""},{"$f":"IF(AND($D13<>0,$AU13=\"\"),\"* No olvide escribir en la celda de 'Niños, Niñas, Adolescentes y Jóvenes de Población SENAME' (Digite CERO si no tiene). \",\"\")","v":""},{"$f":"IF(AND($E13<>0,$AQ13=\"\"),\"* No olvide escribir en las celdas de 'Pueblos Originarios' (Digite CERO si no tiene). \",IF(AND($F13<>0,$AR13=\"\"),\"* No olvide escribir en las celdas de 'Pueblos Originarios' (Digite CERO si no tiene). \",\"\"))","v":""},{"$f":"IF(AND($E13<>0,$AS13=\"\"),\"* No olvide escribir en las celdas de 'Población Migrantes' (Digite CERO si no tiene). \",IF(AND($F13<>0,$AT13=\"\"),\"* No olvide escribir en las celdas de 'Población Migrantes' (Digite CERO si no tiene). \",\"\"))","v":""},{"$nulls":8},{"$f":"IF($AO13>$F13,1,0)","v":0},{"$f":"IF($AP13>$F13,1,0)","v":0},{"$f":"IF(($AQ13)>$E13,1,0)","v":0},{"$f":"IF($AR13>$F13,1,0)","v":0},{"$f":"IF(($AS13)>$E13,1,0)","v":0},{"$f":"IF($AT13>$F13,1,0)","v":0},{"$f":"IF($AU13>$D13,1,0)","v":0},{"$f":"IF(AND($D13<>0,$AO13=\"\"),1,0)","v":0},{"$f":"IF(AND($D13<>0,$AP13=\"\"),1,0)","v":0},{"$f":"IF(AND($D13<>0,$AU13=\"\"),1,0)","v":0},{"$f":"IF(AND($E13<>0,$AQ13=\"\"),1,IF(AND($F13<>0,$AR13=\"\"),1,0))","v":0},{"$f":"IF(AND($E13<>0,$AS13=\"\"),1,IF(AND($F13<>0,$AT13=\"\"),1,0))","v":0}]
[null,"FACTORES DE RIESGO Y CONDICIONANTES DE LA SALUD MENTAL"]
["P6221100","VIOLENCIA ","VICTIMA",{"$f":"IFERROR(VLOOKUP($A15,Filtro!$A$4:$AX$552,2,FALSE),0)","v":946},{"$f":"IFERROR(VLOOKUP($A15,Filtro!$A$4:$AX$552,3,FALSE),0)","v":169},{"$f":"IFERROR(VLOOKUP($A15,Filtro!$A$4:$AX$552,4,FALSE),0)","v":777},{"$f":"IFERROR(VLOOKUP($A15,Filtro!$A$4:$AX$552,5,FALSE),0)","v":4},{"$f":"IFERROR(VLOOKUP($A15,Filtro!$A$4:$AX$552,6,FALSE),0)","v":4},{"$f":"IFERROR(VLOOKUP($A15,Filtro!$A$4:$AX$552,7,FALSE),0)","v":44},{"$f":"IFERROR(VLOOKUP($A15,Filtro!$A$4:$AX$552,8,FALSE),0)","v":17},{"$f":"IFERROR(VLOOKUP($A15,Filtro!$A$4:$AX$552,9,FALSE),0)","v":40},{"$f":"IFERROR(VLOOKUP($A15,Filtro!$A$4:$AX$552,10,FALSE),0)","v":44},{"$f":"IFERROR(VLOOKUP($A15,Filtro!$A$4:$AX$552,11,FALSE),0)","v":35},{"$f":"IFERROR(VLOOKUP($A15,Filtro!$A$4:$AX$552,12,FALSE),0)","v":64},{"$f":"IFERROR(VLOOKUP($A15,Filtro!$A$4:$AX$552,13,FALSE),0)","v":7},{"$f":"IFERROR(VLOOKUP($A15,Filtro!$A$4:$AX$552,14,FALSE),0)","v":62},{"$f":"IFERROR(VLOOKUP($A15,Filtro!$A$4:$AX$552,15,FALSE),0)","v":2},{"$f":"IFERROR(VLOOKUP($A15,Filtro!$A$4:$AX$552,16,FALSE),0)","v":80},{"$f":"IFERROR(VLOOKUP($A15,Filtro!$A$4:$AX$552,17,FALSE),0)","v":4},{"$f":"IFERROR(VLOOKUP($A15,Filtro!$A$4:$AX$552,18,FALSE),0)","v":70},{"$f":"IFERROR(VLOOKUP($A15,Filtro!$A$4:$AX$552,19,FALSE),0)","v":3},{"$f":"IFERROR(VLOOKUP($A15,Filtro!$A$4:$AX$552,20,FALSE),0)","v":61},{"$f":"IFERROR(VLOOKUP($A15,Filtro!$A$4:$AX$552,21,FALSE),0)","v":9},{"$f":"IFERROR(VLOOKUP($A15,Filtro!$A$4:$AX$552,22,FALSE),0)","v":66},{"$f":"IFERROR(VLOOKUP($A15,Filtro!$A$4:$AX$552,23,FALSE),0)","v":2},{"$f":"IFERROR(VLOOKUP($A15,Filtro!$A$4:$AX$552,24,FALSE),0)","v":66},{"$f":"IFERROR(VLOOKUP($A15,Filtro!$A$4:$AX$552,25,FALSE),0)","v":5},{"$f":"IFERROR(VLOOKUP($A15,Filtro!$A$4:$AX$552,26,FALSE),0)","v":54},{"$f":"IFERROR(VLOOKUP($A15,Filtro!$A$4:$AX$552,27,FALSE),0)","v":6},{"$f":"IFERROR(VLOOKUP($A15,Filtro!$A$4:$AX$552,28,FALSE),0)","v":54},{"$f":"IFERROR(VLOOKUP($A15,Filtro!$A$4:$AX$552,29,FALSE),0)","v":3},{"$f":"IFERROR(VLOOKUP($A15,Filtro!$A$4:$AX$552,30,FALSE),0)","v":37},{"$f":"IFERROR(VLOOKUP($A15,Filtro!$A$4:$AX$552,31,FALSE),0)","v":2},{"$f":"IFERROR(VLOOKUP($A15,Filtro!$A$4:$AX$552,32,FALSE),0)","v":36},{"$f":"IFERROR(VLOOKUP($A15,Filtro!$A$4:$AX$552,33,FALSE),0)","v":1},{"$f":"IFERROR(VLOOKUP($A15,Filtro!$A$4:$AX$552,34,FALSE),0)","v":36},{"$f":"IFERROR(VLOOKUP($A15,Filtro!$A$4:$AX$552,35,FALSE),0)","v":1},{"$f":"IFERROR(VLOOKUP($A15,Filtro!$A$4:$AX$552,36,FALSE),0)","v":16},{"$f":"IFERROR(VLOOKUP($A15,Filtro!$A$4:$AX$552,37,FALSE),0)","v":1},{"$f":"IFERROR(VLOOKUP($A15,Filtro!$A$4:$AX$552,38,FALSE),0)","v":10},{"$f":"IFERROR(VLOOKUP($A15,Filtro!$A$4:$AX$552,39,FALSE),0)","v":6},{"$f":"IFERROR(VLOOKUP($A15,Filtro!$A$4:$AX$552,40,FALSE),0)","v":59},{"$f":"IFERROR(VLOOKUP($A15,Filtro!$A$4:$AX$552,41,FALSE),0)","v":0},{"$f":"IFERROR(VLOOKUP($A15,Filtro!$A$4:$AX$552,42,FALSE),0)","v":6},{"$f":"IFERROR(VLOOKUP($A15,Filtro!$A$4:$AX$552,43,FALSE),0)","v":0},{"$f":"IFERROR(VLOOKUP($A15,Filtro!$A$4:$AX$552,44,FALSE),0)","v":9},{"$f":"IFERROR(VLOOKUP($A15,Filtro!$A$4:$AX$552,45,FALSE),0)","v":55},{"$nulls":12},{"$f":"IF($AO15>$F15,\"* La celda 'Gestantes' debe ser menor o igual al Total de Mujeres en control. \",\"\")","v":""},{"$f":"IF($AP15>$F15,\"* La celda 'Madres de Hijos menor de 5 años' debe ser menor o igual al Total de Mujeres en control. \",\"\")","v":""},{"$f":"IF(($AQ15)>$E15,\"* La celda 'Pueblos Originarios / Hombres' debe ser menor o igual al Total de Hombres en control. \",\"\")","v":""},{"$f":"IF($AR15>$F15,\"* La celda 'Pueblos Originarios / Mujeres' debe ser menor o igual al Total de Mujeres en control. \",\"\")","v":""},{"$f":"IF(($AS15)>$E15,\"* La celda 'Población Migrantes / Hombres' debe ser menor o igual al Total de Hombres en control. \",\"\")","v":""},{"$f":"IF($AT15>$F15,\"* La celda 'Población Migrantes / Mujeres' debe ser menor o igual al Total de Mujeres en control. \",\"\")","v":""},{"$f":"IF($AU15>$D15,\"* La celda 'Niños, Niñas, Adolescentes y Jóvenes de Población SENAME' debe ser menor o igual al Total de Ambos Sexos. \",\"\")","v":""},{"$f":"IF(AND($D15<>0,$AO15=\"\"),\"* No olvide escribir en la celda de 'Gestantes' (Digite CERO si no tiene). \",\"\")","v":""},{"$f":"IF(AND($D15<>0,$AP15=\"\"),\"* No olvide escribir en la celda de 'Madres de Hijos menor de 5 años' (Digite CERO si no tiene). \",\"\")","v":""},{"$f":"IF(AND($D15<>0,$AU15=\"\"),\"* No olvide escribir en la celda de 'Niños, Niñas, Adolescentes y Jóvenes de Población SENAME' (Digite CERO si no tiene). \",\"\")","v":""},{"$f":"IF(AND($E15<>0,$AQ15=\"\"),\"* No olvide escribir en las celdas de 'Pueblos Originarios' (Digite CERO si no tiene). \",IF(AND($F15<>0,$AR15=\"\"),\"* No olvide escribir en las celdas de 'Pueblos Originarios' (Digite CERO si no tiene). \",\"\"))","v":""},{"$f":"IF(AND($E15<>0,$AS15=\"\"),\"* No olvide escribir en las celdas de 'Población Migrantes' (Digite CERO si no tiene). \",IF(AND($F15<>0,$AT15=\"\"),\"* No olvide escribir en las celdas de 'Población Migrantes' (Digite CERO si no tiene). \",\"\"))","v":""},{"$nulls":8},{"$f":"IF($AO15>$F15,1,0)","v":0},{"$f":"IF($AP15>$F15,1,0)","v":0},{"$f":"IF(($AQ15)>$E15,1,0)","v":0},{"$f":"IF($AR15>$F15,1,0)","v":0},{"$f":"IF(($AS15)>$E15,1,0)","v":0},{"$f":"IF($AT15>$F15,1,0)","v":0},{"$f":"IF($AU15>$D15,1,0)","v":0},{"$f":"IF(AND($D15<>0,$AO15=\"\"),1,0)","v":0},{"$f":"IF(AND($D15<>0,$AP15=\"\"),1,0)","v":0},{"$f":"IF(AND($D15<>0,$AU15=\"\"),1,0)","v":0},{"$f":"IF(AND($E15<>0,$AQ15=\"\"),1,IF(AND($F15<>0,$AR15=\"\"),1,0))","v":0},{"$f":"IF(AND($E15<>0,$AS15=\"\"),1,IF(AND($F15<>0,$AT15=\"\"),1,0))","v":0}]
["P6221200",null,"AGRESOR/A",{"$f":"IFERROR(VLOOKUP($A16,Filtro!$A$4:$AX$552,2,FALSE),0)","v":200},{"$f":"IFERROR(VLOOKUP($A16,Filtro!$A$4:$AX$552,3,FALSE),0)","v":147},{"$f":"IFERROR(VLOOKUP($A16,Filtro!$A$4:$AX$552,4,FALSE),0)","v":53},{"$f":"IFERROR(VLOOKUP($A16,Filtro!$A$4:$AX$552,5,FALSE),0)","v":0},{"$f":"IFERROR(VLOOKUP($A16,Filtro!$A$4:$AX$552,6,FALSE),0)","v":0},{"$f":"IFERROR(VLOOKUP($A16,Filtro!$A$4:$AX$552,7,FALSE),0)","v":0},{"$f":"IFERROR(VLOOKUP($A16,Filtro!$A$4:$AX$552,8,FALSE),0)","v":0},{"$f":"IFERROR(VLOOKUP($A16,Filtro!$A$4:$AX$552,9,FALSE),0)","v":1},{"$f":"IFERROR(VLOOKUP($A16,Filtro!$A$4:$AX$552,10,FALSE),0)","v":0},{"$f":"IFERROR(VLOOKUP($A16,Filtro!$A$4:$AX$552,11,FALSE),0)","v":4},{"$f":"IFERROR(VLOOKUP($A16,Filtro!$A$4:$AX$552,12,FALSE),0)","v":2},{"$f":"IFERROR(VLOOKUP($A16,Filtro!$A$4:$AX$552,13,FALSE),0)","v":9},{"$f":"IFERROR(VLOOKUP($A16,Filtro!$A$4:$AX$552,14,FALSE),0)","v":5},{"$f":"IFERROR(VLOOKUP($A16,Filtro!$A$4:$AX$552,15,FALSE),0)","v":17},{"$f":"IFERROR(VLOOKUP($A16,Filtro!$A$4:$AX$552,16,FALSE),0)","v":5},{"$f":"IFERROR(VLOOKUP($A16,Filtro!$A$4:$AX$552,17,FALSE),0)","v":19},{"$f":"IFERROR(VLOOKUP($A16,Filtro!$A$4:$AX$552,18,FALSE),0)","v":9},{"$f":"IFERROR(VLOOKUP($A16,Filtro!$A$4:$AX$552,19,FALSE),0)","v":24},{"$f":"IFERROR(VLOOKUP($A16,Filtro!$A$4:$AX$552,20,FALSE),0)","v":9},{"$f":"IFERROR(VLOOKUP($A16,Filtro!$A$4:$AX$552,21,FALSE),0)","v":22},{"$f":"IFERROR(VLOOKUP($A16,Filtro!$A$4:$AX$552,22,FALSE),0)","v":4},{"$f":"IFERROR(VLOOKUP($A16,Filtro!$A$4:$AX$552,23,FALSE),0)","v":11},{"$f":"IFERROR(VLOOKUP($A16,Filtro!$A$4:$AX$552,24,FALSE),0)","v":5},{"$f":"IFERROR(VLOOKUP($A16,Filtro!$A$4:$AX$552,25,FALSE),0)","v":11},{"$f":"IFERROR(VLOOKUP($A16,Filtro!$A$4:$AX$552,26,FALSE),0)","v":6},{"$f":"IFERROR(VLOOKUP($A16,Filtro!$A$4:$AX$552,27,FALSE),0)","v":14},{"$f":"IFERROR(VLOOKUP($A16,Filtro!$A$4:$AX$552,28,FALSE),0)","v":3},{"$f":"IFERROR(VLOOKUP($A16,Filtro!$A$4:$AX$552,29,FALSE),0)","v":6},{"$f":"IFERROR(VLOOKUP($A16,Filtro!$A$4:$AX$552,30,FALSE),0)","v":1},{"$f":"IFERROR(VLOOKUP($A16,Filtro!$A$4:$AX$552,31,FALSE),0)","v":3},{"$f":"IFERROR(VLOOKUP($A16,Filtro!$A$4:$AX$552,32,FALSE),0)","v":2},{"$f":"IFERROR(VLOOKUP($A16,Filtro!$A$4:$AX$552,33,FALSE),0)","v":3},{"$f":"IFERROR(VLOOKUP($A16,Filtro!$A$4:$AX$552,34,FALSE),0)","v":1},{"$f":"IFERROR(VLOOKUP($A16,Filtro!$A$4:$AX$552,35,FALSE),0)","v":2},{"$f":"IFERROR(VLOOKUP($A16,Filtro!$A$4:$AX$552,36,FALSE),0)","v":0},{"$f":"IFERROR(VLOOKUP($A16,Filtro!$A$4:$AX$552,37,FALSE),0)","v":1},{"$f":"IFERROR(VLOOKUP($A16,Filtro!$A$4:$AX$552,38,FALSE),0)","v":1},{"$f":"IFERROR(VLOOKUP($A16,Filtro!$A$4:$AX$552,39,FALSE),0)","v":0},{"$f":"IFERROR(VLOOKUP($A16,Filtro!$A$4:$AX$552,40,FALSE),0)","v":3},{"$f":"IFERROR(VLOOKUP($A16,Filtro!$A$4:$AX$552,41,FALSE),0)","v":0},{"$f":"IFERROR(VLOOKUP($A16,Filtro!$A$4:$AX$552,42,FALSE),0)","v":0},{"$f":"IFERROR(VLOOKUP($A16,Filtro!$A$4:$AX$552,43,FALSE),0)","v":0},{"$f":"IFERROR(VLOOKUP($A16,Filtro!$A$4:$AX$552,44,FALSE),0)","v":0},{"$f":"IFERROR(VLOOKUP($A16,Filtro!$A$4:$AX$552,45,FALSE),0)","v":2},{"$nulls":12},"","","","","","","","","","","","",{"$nulls":8},0,0,0,0,0,0,0,0,0,0,0,0]
["P6221500","ABUSO SEXUAL",null,{"$f":"IFERROR(VLOOKUP($A17,Filtro!$A$4:$AX$552,2,FALSE),0)","v":148},{"$f":"IFERROR(VLOOKUP($A17,Filtro!$A$4:$AX$552,3,FALSE),0)","v":28},{"$f":"IFERROR(VLOOKUP($A17,Filtro!$A$4:$AX$552,4,FALSE),0)","v":120},{"$f":"IFERROR(VLOOKUP($A17,Filtro!$A$4:$AX$552,5,FALSE),0)","v":0},{"$f":"IFERROR(VLOOKUP($A17,Filtro!$A$4:$AX$552,6,FALSE),0)","v":0},{"$f":"IFERROR(VLOOKUP($A17,Filtro!$A$4:$AX$552,7,FALSE),0)","v":5},{"$f":"IFERROR(VLOOKUP($A17,Filtro!$A$4:$AX$552,8,FALSE),0)","v":4},{"$f":"IFERROR(VLOOKUP($A17,Filtro!$A$4:$AX$552,9,FALSE),0)","v":4},{"$f":"IFERROR(VLOOKUP($A17,Filtro!$A$4:$AX$552,10,FALSE),0)","v":20},{"$f":"IFERROR(VLOOKUP($A17,Filtro!$A$4:$AX$552,11,FALSE),0)","v":4},{"$f":"IFERROR(VLOOKUP($A17,Filtro!$A$4:$AX$552,12,FALSE),0)","v":30},{"$f":"IFERROR(VLOOKUP($A17,Filtro!$A$4:$AX$552,13,FALSE),0)","v":2},{"$f":"IFERROR(VLOOKUP($A17,Filtro!$A$4:$AX$552,14,FALSE),0)","v":7},{"$f":"IFERROR(VLOOKUP($A17,Filtro!$A$4:$AX$552,15,FALSE),0)","v":1},{"$f":"IFERROR(VLOOKUP($A17,Filtro!$A$4:$AX$552,16,FALSE),0)","v":4},{"$f":"IFERROR(VLOOKUP($A17,Filtro!$A$4:$AX$552,17,FALSE),0)","v":1},{"$f":"IFERROR(VLOOKUP($A17,Filtro!$A$4:$AX$552,18,FALSE),0)","v":8},{"$f":"IFERROR(VLOOKUP($A17,Filtro!$A$4:$AX$552,19,FALSE),0)","v":2},{"$f":"IFERROR(VLOOKUP($A17,Filtro!$A$4:$AX$552,20,FALSE),0)","v":3},{"$f":"IFERROR(VLOOKUP($A17,Filtro!$A$4:$AX$552,21,FALSE),0)","v":0},{"$f":"IFERROR(VLOOKUP($A17,Filtro!$A$4:$AX$552,22,FALSE),0)","v":2},{"$f":"IFERROR(VLOOKUP($A17,Filtro!$A$4:$AX$552,23,FALSE),0)","v":0},{"$f":"IFERROR(VLOOKUP($A17,Filtro!$A$4:$AX$552,24,FALSE),0)","v":2},{"$f":"IFERROR(VLOOKUP($A17,Filtro!$A$4:$AX$552,25,FALSE),0)","v":0},{"$f":"IFERROR(VLOOKUP($A17,Filtro!$A$4:$AX$552,26,FALSE),0)","v":1},{"$f":"IFERROR(VLOOKUP($A17,Filtro!$A$4:$AX$552,27,FALSE),0)","v":0},{"$f":"IFERROR(VLOOKUP($A17,Filtro!$A$4:$AX$552,28,FALSE),0)","v":1},{"$f":"IFERROR(VLOOKUP($A17,Filtro!$A$4:$AX$552,29,FALSE),0)","v":0},{"$f":"IFERROR(VLOOKUP($A17,Filtro!$A$4:$AX$552,30,FALSE),0)","v":2},{"$f":"IFERROR(VLOOKUP($A17,Filtro!$A$4:$AX$552,31,FALSE),0)","v":2},{"$f":"IFERROR(VLOOKUP($A17,Filtro!$A$4:$AX$552,32,FALSE),0)","v":7},{"$f":"IFERROR(VLOOKUP($A17,Filtro!$A$4:$AX$552,33,FALSE),0)","v":7},{"$f":"IFERROR(VLOOKUP($A17,Filtro!$A$4:$AX$552,34,FALSE),0)","v":29},{"$f":"IFERROR(VLOOKUP($A17,Filtro!$A$4:$AX$552,35,FALSE),0)","v":0},{"$f":"IFERROR(VLOOKUP($A17,Filtro!$A$4:$AX$552,36,FALSE),0)","v":0},{"$f":"IFERROR(VLOOKUP($A17,Filtro!$A$4:$AX$552,37,FALSE),0)","v":0},{"$f":"IFERROR(VLOOKUP($A17,Filtro!$A$4:$AX$552,38,FALSE),0)","v":0},{"$f":"IFERROR(VLOOKUP($A17,Filtro!$A$4:$AX$552,39,FALSE),0)","v":4},{"$f":"IFERROR(VLOOKUP($A17,Filtro!$A$4:$AX$552,40,FALSE),0)","v":23},{"$f":"IFERROR(VLOOKUP($A17,Filtro!$A$4:$AX$552,41,FALSE),0)","v":0},{"$f":"IFERROR(VLOOKUP($A17,Filtro!$A$4:$AX$552,42,FALSE),0)","v":1},{"$f":"IFERROR(VLOOKUP($A17,Filtro!$A$4:$AX$552,43,FALSE),0)","v":1},{"$f":"IFERROR(VLOOKUP($A17,Filtro!$A$4:$AX$552,44,FALSE),0)","v":2},{"$f":"IFERROR(VLOOKUP($A17,Filtro!$A$4:$AX$552,45,FALSE),0)","v":15},{"$nulls":12},"","","","","","","","","","","","",{"$nulls":8},0,0,0,0,0,0,0,0,0,0,0,0]
["P6230600","PEORES FORMAS DE VIOLENCIA-TRATA DE PERSONAS","SOSPECHA",{"$f":"IFERROR(VLOOKUP($A18,Filtro!$A$4:$AX$552,2,FALSE),0)","v":0},{"$f":"IFERROR(VLOOKUP($A18,Filtro!$A$4:$AX$552,3,FALSE),0)","v":0},{"$f":"IFERROR(VLOOKUP($A18,Filtro!$A$4:$AX$552,4,FALSE),0)","v":0},{"$f":"IFERROR(VLOOKUP($A18,Filtro!$A$4:$AX$552,5,FALSE),0)","v":0},{"$f":"IFERROR(VLOOKUP($A18,Filtro!$A$4:$AX$552,6,FALSE),0)","v":0},{"$f":"IFERROR(VLOOKUP($A18,Filtro!$A$4:$AX$552,7,FALSE),0)","v":0},{"$f":"IFERROR(VLOOKUP($A18,Filtro!$A$4:$AX$552,8,FALSE),0)","v":0},{"$f":"IFERROR(VLOOKUP($A18,Filtro!$A$4:$AX$552,9,FALSE),0)","v":0},{"$f":"IFERROR(VLOOKUP($A18,Filtro!$A$4:$AX$552,10,FALSE),0)","v":0},{"$f":"IFERROR(VLOOKUP($A18,Filtro!$A$4:$AX$552,11,FALSE),0)","v":0},{"$f":"IFERROR(VLOOKUP($A18,Filtro!$A$4:$AX$552,12,FALSE),0)","v":0},{"$f":"IFERROR(VLOOKUP($A18,Filtro!$A$4:$AX$552,13,FALSE),0)","v":0},{"$f":"IFERROR(VLOOKUP($A18,Filtro!$A$4:$AX$552,14,FALSE),0)","v":0},{"$f":"IFERROR(VLOOKUP($A18,Filtro!$A$4:$AX$552,15,FALSE),0)","v":0},{"$f":"IFERROR(VLOOKUP($A18,Filtro!$A$4:$AX$552,16,FALSE),0)","v":0},{"$f":"IFERROR(VLOOKUP($A18,Filtro!$A$4:$AX$552,17,FALSE),0)","v":0},{"$f":"IFERROR(VLOOKUP($A18,Filtro!$A$4:$AX$552,18,FALSE),0)","v":0},{"$f":"IFERROR(VLOOKUP($A18,Filtro!$A$4:$AX$552,19,FALSE),0)","v":0},{"$f":"IFERROR(VLOOKUP($A18,Filtro!$A$4:$AX$552,20,FALSE),0)","v":0},{"$f":"IFERROR(VLOOKUP($A18,Filtro!$A$4:$AX$552,21,FALSE),0)","v":0},{"$f":"IFERROR(VLOOKUP($A18,Filtro!$A$4:$AX$552,22,FALSE),0)","v":0},{"$f":"IFERROR(VLOOKUP($A18,Filtro!$A$4:$AX$552,23,FALSE),0)","v":0},{"$f":"IFERROR(VLOOKUP($A18,Filtro!$A$4:$AX$552,24,FALSE),0)","v":0},{"$f":"IFERROR(VLOOKUP($A18,Filtro!$A$4:$AX$552,25,FALSE),0)","v":0},{"$f":"IFERROR(VLOOKUP($A18,Filtro!$A$4:$AX$552,26,FALSE),0)","v":0},{"$f":"IFERROR(VLOOKUP($A18,Filtro!$A$4:$AX$552,27,FALSE),0)","v":0},{"$f":"IFERROR(VLOOKUP($A18,Filtro!$A$4:$AX$552,28,FALSE),0)","v":0},{"$f":"IFERROR(VLOOKUP($A18,Filtro!$A$4:$AX$552,29,FALSE),0)","v":0},{"$f":"IFERROR(VLOOKUP($A18,Filtro!$A$4:$AX$552,30,FALSE),0)","v":0},{"$f":"IFERROR(VLOOKUP($A18,Filtro!$A$4:$AX$552,31,FALSE),0)","v":0},{"$f":"IFERROR(VLOOKUP($A18,Filtro!$A$4:$AX$552,32,FALSE),0)","v":0},{"$f":"IFERROR(VLOOKUP($A18,Filtro!$A$4:$AX$552,33,FALSE),0)","v":0},{"$f":"IFERROR(VLOOKUP($A18,Filtro!$A$4:$AX$552,34,FALSE),0)","v":0},{"$f":"IFERROR(VLOOKUP($A18,Filtro!$A$4:$AX$552,35,FALSE),0)","v":0},{"$f":"IFERROR(VLOOKUP($A18,Filtro!$A$4:$AX$552,36,FALSE),0)","v":0},{"$f":"IFERROR(VLOOKUP($A18,Filtro!$A$4:$AX$552,37,FALSE),0)","v":0},{"$f":"IFERROR(VLOOKUP($A18,Filtro!$A$4:$AX$552,38,FALSE),0)","v":0},{"$f":"IFERROR(VLOOKUP($A18,Filtro!$A$4:$AX$552,39,FALSE),0)","v":0},{"$f":"IFERROR(VLOOKUP($A18,Filtro!$A$4:$AX$552,40,FALSE),0)","v":0},{"$f":"IFERROR(VLOOKUP($A18,Filtro!$A$4:$AX$552,41,FALSE),0)","v":0},{"$f":"IFERROR(VLOOKUP($A18,Filtro!$A$4:$AX$552,42,FALSE),0)","v":0},{"$f":"IFERROR(VLOOKUP($A18,Filtro!$A$4:$AX$552,43,FALSE),0)","v":0},{"$f":"IFERROR(VLOOKUP($A18,Filtro!$A$4:$AX$552,44,FALSE),0)","v":0},{"$f":"IFERROR(VLOOKUP($A18,Filtro!$A$4:$AX$552,45,FALSE),0)","v":0}]
["P6230700",null,"CONFIRMACIÓN DIAGNÓSTICA",{"$f":"IFERROR(VLOOKUP($A19,Filtro!$A$4:$AX$552,2,FALSE),0)","v":0},{"$f":"IFERROR(VLOOKUP($A19,Filtro!$A$4:$AX$552,3,FALSE),0)","v":0},{"$f":"IFERROR(VLOOKUP($A19,Filtro!$A$4:$AX$552,4,FALSE),0)","v":0},{"$f":"IFERROR(VLOOKUP($A19,Filtro!$A$4:$AX$552,5,FALSE),0)","v":0},{"$f":"IFERROR(VLOOKUP($A19,Filtro!$A$4:$AX$552,6,FALSE),0)","v":0},{"$f":"IFERROR(VLOOKUP($A19,Filtro!$A$4:$AX$552,7,FALSE),0)","v":0},{"$f":"IFERROR(VLOOKUP($A19,Filtro!$A$4:$AX$552,8,FALSE),0)","v":0},{"$f":"IFERROR(VLOOKUP($A19,Filtro!$A$4:$AX$552,9,FALSE),0)","v":0},{"$f":"IFERROR(VLOOKUP($A19,Filtro!$A$4:$AX$552,10,FALSE),0)","v":0},{"$f":"IFERROR(VLOOKUP($A19,Filtro!$A$4:$AX$552,11,FALSE),0)","v":0},{"$f":"IFERROR(VLOOKUP($A19,Filtro!$A$4:$AX$552,12,FALSE),0)","v":0},{"$f":"IFERROR(VLOOKUP($A19,Filtro!$A$4:$AX$552,13,FALSE),0)","v":0},{"$f":"IFERROR(VLOOKUP($A19,Filtro!$A$4:$AX$552,14,FALSE),0)","v":0},{"$f":"IFERROR(VLOOKUP($A19,Filtro!$A$4:$AX$552,15,FALSE),0)","v":0},{"$f":"IFERROR(VLOOKUP($A19,Filtro!$A$4:$AX$552,16,FALSE),0)","v":0},{"$f":"IFERROR(VLOOKUP($A19,Filtro!$A$4:$AX$552,17,FALSE),0)","v":0},{"$f":"IFERROR(VLOOKUP($A19,Filtro!$A$4:$AX$552,18,FALSE),0)","v":0},{"$f":"IFERROR(VLOOKUP($A19,Filtro!$A$4:$AX$552,19,FALSE),0)","v":0},{"$f":"IFERROR(VLOOKUP($A19,Filtro!$A$4:$AX$552,20,FALSE),0)","v":0},{"$f":"IFERROR(VLOOKUP($A19,Filtro!$A$4:$AX$552,21,FALSE),0)","v":0},{"$f":"IFERROR(VLOOKUP($A19,Filtro!$A$4:$AX$552,22,FALSE),0)","v":0},{"$f":"IFERROR(VLOOKUP($A19,Filtro!$A$4:$AX$552,23,FALSE),0)","v":0},{"$f":"IFERROR(VLOOKUP($A19,Filtro!$A$4:$AX$552,24,FALSE),0)","v":0},{"$f":"IFERROR(VLOOKUP($A19,Filtro!$A$4:$AX$552,25,FALSE),0)","v":0},{"$f":"IFERROR(VLOOKUP($A19,Filtro!$A$4:$AX$552,26,FALSE),0)","v":0},{"$f":"IFERROR(VLOOKUP($A19,Filtro!$A$4:$AX$552,27,FALSE),0)","v":0},{"$f":"IFERROR(VLOOKUP($A19,Filtro!$A$4:$AX$552,28,FALSE),0)","v":0},{"$f":"IFERROR(VLOOKUP($A19,Filtro!$A$4:$AX$552,29,FALSE),0)","v":0},{"$f":"IFERROR(VLOOKUP($A19,Filtro!$A$4:$AX$552,30,FALSE),0)","v":0},{"$f":"IFERROR(VLOOKUP($A19,Filtro!$A$4:$AX$552,31,FALSE),0)","v":0},{"$f":"IFERROR(VLOOKUP($A19,Filtro!$A$4:$AX$552,32,FALSE),0)","v":0},{"$f":"IFERROR(VLOOKUP($A19,Filtro!$A$4:$AX$552,33,FALSE),0)","v":0},{"$f":"IFERROR(VLOOKUP($A19,Filtro!$A$4:$AX$552,34,FALSE),0)","v":0},{"$f":"IFERROR(VLOOKUP($A19,Filtro!$A$4:$AX$552,35,FALSE),0)","v":0},{"$f":"IFERROR(VLOOKUP($A19,Filtro!$A$4:$AX$552,36,FALSE),0)","v":0},{"$f":"IFERROR(VLOOKUP($A19,Filtro!$A$4:$AX$552,37,FALSE),0)","v":0},{"$f":"IFERROR(VLOOKUP($A19,Filtro!$A$4:$AX$552,38,FALSE),0)","v":0},{"$f":"IFERROR(VLOOKUP($A19,Filtro!$A$4:$AX$552,39,FALSE),0)","v":0},{"$f":"IFERROR(VLOOKUP($A19,Filtro!$A$4:$AX$552,40,FALSE),0)","v":0},{"$f":"IFERROR(VLOOKUP($A19,Filtro!$A$4:$AX$552,41,FALSE),0)","v":0},{"$f":"IFERROR(VLOOKUP($A19,Filtro!$A$4:$AX$552,42,FALSE),0)","v":0},{"$f":"IFERROR(VLOOKUP($A19,Filtro!$A$4:$AX$552,43,FALSE),0)","v":0},{"$f":"IFERROR(VLOOKUP($A19,Filtro!$A$4:$AX$552,44,FALSE),0)","v":0},{"$f":"IFERROR(VLOOKUP($A19,Filtro!$A$4:$AX$552,45,FALSE),0)","v":0}]
["P6230800","SUICIDIO","IDEACIÓN",{"$f":"IFERROR(VLOOKUP($A20,Filtro!$A$4:$AX$552,2,FALSE),0)","v":309},{"$f":"IFERROR(VLOOKUP($A20,Filtro!$A$4:$AX$552,3,FALSE),0)","v":81},{"$f":"IFERROR(VLOOKUP($A20,Filtro!$A$4:$AX$552,4,FALSE),0)","v":228},{"$f":"IFERROR(VLOOKUP($A20,Filtro!$A$4:$AX$552,5,FALSE),0)","v":0},{"$f":"IFERROR(VLOOKUP($A20,Filtro!$A$4:$AX$552,6,FALSE),0)","v":0},{"$f":"IFERROR(VLOOKUP($A20,Filtro!$A$4:$AX$552,7,FALSE),0)","v":2},{"$f":"IFERROR(VLOOKUP($A20,Filtro!$A$4:$AX$552,8,FALSE),0)","v":1},{"$f":"IFERROR(VLOOKUP($A20,Filtro!$A$4:$AX$552,9,FALSE),0)","v":7},{"$f":"IFERROR(VLOOKUP($A20,Filtro!$A$4:$AX$552,10,FALSE),0)","v":25},{"$f":"IFERROR(VLOOKUP($A20,Filtro!$A$4:$AX$552,11,FALSE),0)","v":17},{"$f":"IFERROR(VLOOKUP($A20,Filtro!$A$4:$AX$552,12,FALSE),0)","v":33},{"$f":"IFERROR(VLOOKUP($A20,Filtro!$A$4:$AX$552,13,FALSE),0)","v":8},{"$f":"IFERROR(VLOOKUP($A20,Filtro!$A$4:$AX$552,14,FALSE),0)","v":17},{"$f":"IFERROR(VLOOKUP($A20,Filtro!$A$4:$AX$552,15,FALSE),0)","v":4},{"$f":"IFERROR(VLOOKUP($A20,Filtro!$A$4:$AX$552,16,FALSE),0)","v":19},{"$f":"IFERROR(VLOOKUP($A20,Filtro!$A$4:$AX$552,17,FALSE),0)","v":3},{"$f":"IFERROR(VLOOKUP($A20,Filtro!$A$4:$AX$552,18,FALSE),0)","v":12},{"$f":"IFERROR(VLOOKUP($A20,Filtro!$A$4:$AX$552,19,FALSE),0)","v":6},{"$f":"IFERROR(VLOOKUP($A20,Filtro!$A$4:$AX$552,20,FALSE),0)","v":24},{"$f":"IFERROR(VLOOKUP($A20,Filtro!$A$4:$AX$552,21,FALSE),0)","v":8},{"$f":"IFERROR(VLOOKUP($A20,Filtro!$A$4:$AX$552,22,FALSE),0)","v":17},{"$f":"IFERROR(VLOOKUP($A20,Filtro!$A$4:$AX$552,23,FALSE),0)","v":2},{"$f":"IFERROR(VLOOKUP($A20,Filtro!$A$4:$AX$552,24,FALSE),0)","v":11},{"$f":"IFERROR(VLOOKUP($A20,Filtro!$A$4:$AX$552,25,FALSE),0)","v":5},{"$f":"IFERROR(VLOOKUP($A20,Filtro!$A$4:$AX$552,26,FALSE),0)","v":15},{"$f":"IFERROR(VLOOKUP($A20,Filtro!$A$4:$AX$552,27,FALSE),0)","v":5},{"$f":"IFERROR(VLOOKUP($A20,Filtro!$A$4:$AX$552,28,FALSE),0)","v":14},{"$f":"IFERROR(VLOOKUP($A20,Filtro!$A$4:$AX$552,29,FALSE),0)","v":7},{"$f":"IFERROR(VLOOKUP($A20,Filtro!$A$4:$AX$552,30,FALSE),0)","v":9},{"$f":"IFERROR(VLOOKUP($A20,Filtro!$A$4:$AX$552,31,FALSE),0)","v":4},{"$f":"IFERROR(VLOOKUP($A20,Filtro!$A$4:$AX$552,32,FALSE),0)","v":12},{"$f":"IFERROR(VLOOKUP($A20,Filtro!$A$4:$AX$552,33,FALSE),0)","v":3},{"$f":"IFERROR(VLOOKUP($A20,Filtro!$A$4:$AX$552,34,FALSE),0)","v":16},{"$f":"IFERROR(VLOOKUP($A20,Filtro!$A$4:$AX$552,35,FALSE),0)","v":0},{"$f":"IFERROR(VLOOKUP($A20,Filtro!$A$4:$AX$552,36,FALSE),0)","v":2},{"$f":"IFERROR(VLOOKUP($A20,Filtro!$A$4:$AX$552,37,FALSE),0)","v":0},{"$f":"IFERROR(VLOOKUP($A20,Filtro!$A$4:$AX$552,38,FALSE),0)","v":1},{"$f":"IFERROR(VLOOKUP($A20,Filtro!$A$4:$AX$552,39,FALSE),0)","v":0},{"$f":"IFERROR(VLOOKUP($A20,Filtro!$A$4:$AX$552,40,FALSE),0)","v":5},{"$f":"IFERROR(VLOOKUP($A20,Filtro!$A$4:$AX$552,41,FALSE),0)","v":1},{"$f":"IFERROR(VLOOKUP($A20,Filtro!$A$4:$AX$552,42,FALSE),0)","v":2},{"$f":"IFERROR(VLOOKUP($A20,Filtro!$A$4:$AX$552,43,FALSE),0)","v":0},{"$f":"IFERROR(VLOOKUP($A20,Filtro!$A$4:$AX$552,44,FALSE),0)","v":0},{"$f":"IFERROR(VLOOKUP($A20,Filtro!$A$4:$AX$552,45,FALSE),0)","v":6},{"$nulls":12},"","","","","","","","","","","","",{"$nulls":8},0,0,0,0,0,0,0,0,0,0,0,0]
["P6230900",null,"INTENTO",{"$f":"IFERROR(VLOOKUP($A21,Filtro!$A$4:$AX$552,2,FALSE),0)","v":242},{"$f":"IFERROR(VLOOKUP($A21,Filtro!$A$4:$AX$552,3,FALSE),0)","v":77},{"$f":"IFERROR(VLOOKUP($A21,Filtro!$A$4:$AX$552,4,FALSE),0)","v":165},{"$f":"IFERROR(VLOOKUP($A21,Filtro!$A$4:$AX$552,5,FALSE),0)","v":0},{"$f":"IFERROR(VLOOKUP($A21,Filtro!$A$4:$AX$552,6,FALSE),0)","v":0},{"$f":"IFERROR(VLOOKUP($A21,Filtro!$A$4:$AX$552,7,FALSE),0)","v":3},{"$f":"IFERROR(VLOOKUP($A21,Filtro!$A$4:$AX$552,8,FALSE),0)","v":1},{"$f":"IFERROR(VLOOKUP($A21,Filtro!$A$4:$AX$552,9,FALSE),0)","v":3},{"$f":"IFERROR(VLOOKUP($A21,Filtro!$A$4:$AX$552,10,FALSE),0)","v":11},{"$f":"IFERROR(VLOOKUP($A21,Filtro!$A$4:$AX$552,11,FALSE),0)","v":14},{"$f":"IFERROR(VLOOKUP($A21,Filtro!$A$4:$AX$552,12,FALSE),0)","v":48},{"$f":"IFERROR(VLOOKUP($A21,Filtro!$A$4:$AX$552,13,FALSE),0)","v":12},{"$f":"IFERROR(VLOOKUP($A21,Filtro!$A$4:$AX$552,14,FALSE),0)","v":21},{"$f":"IFERROR(VLOOKUP($A21,Filtro!$A$4:$AX$552,15,FALSE),0)","v":5},{"$f":"IFERROR(VLOOKUP($A21,Filtro!$A$4:$AX$552,16,FALSE),0)","v":7},{"$f":"IFERROR(VLOOKUP($A21,Filtro!$A$4:$AX$552,17,FALSE),0)","v":4},{"$f":"IFERROR(VLOOKUP($A21,Filtro!$A$4:$AX$552,18,FALSE),0)","v":7},{"$f":"IFERROR(VLOOKUP($A21,Filtro!$A$4:$AX$552,19,FALSE),0)","v":6},{"$f":"IFERROR(VLOOKUP($A21,Filtro!$A$4:$AX$552,20,FALSE),0)","v":13},{"$f":"IFERROR(VLOOKUP($A21,Filtro!$A$4:$AX$552,21,FALSE),0)","v":4},{"$f":"IFERROR(VLOOKUP($A21,Filtro!$A$4:$AX$552,22,FALSE),0)","v":8},{"$f":"IFERROR(VLOOKUP($A21,Filtro!$A$4:$AX$552,23,FALSE),0)","v":4},{"$f":"IFERROR(VLOOKUP($A21,Filtro!$A$4:$AX$552,24,FALSE),0)","v":17},{"$f":"IFERROR(VLOOKUP($A21,Filtro!$A$4:$AX$552,25,FALSE),0)","v":6},{"$f":"IFERROR(VLOOKUP($A21,Filtro!$A$4:$AX$552,26,FALSE),0)","v":9},{"$f":"IFERROR(VLOOKUP($A21,Filtro!$A$4:$AX$552,27,FALSE),0)","v":3},{"$f":"IFERROR(VLOOKUP($A21,Filtro!$A$4:$AX$552,28,FALSE),0)","v":7},{"$f":"IFERROR(VLOOKUP($A21,Filtro!$A$4:$AX$552,29,FALSE),0)","v":3},{"$f":"IFERROR(VLOOKUP($A21,Filtro!$A$4:$AX$552,30,FALSE),0)","v":3},{"$f":"IFERROR(VLOOKUP($A21,Filtro!$A$4:$AX$552,31,FALSE),0)","v":1},{"$f":"IFERROR(VLOOKUP($A21,Filtro!$A$4:$AX$552,32,FALSE),0)","v":3},{"$f":"IFERROR(VLOOKUP($A21,Filtro!$A$4:$AX$552,33,FALSE),0)","v":7},{"$f":"IFERROR(VLOOKUP($A21,Filtro!$A$4:$AX$552,34,FALSE),0)","v":9},{"$f":"IFERROR(VLOOKUP($A21,Filtro!$A$4:$AX$552,35,FALSE),0)","v":1},{"$f":"IFERROR(VLOOKUP($A21,Filtro!$A$4:$AX$552,36,FALSE),0)","v":1},{"$f":"IFERROR(VLOOKUP($A21,Filtro!$A$4:$AX$552,37,FALSE),0)","v":1},{"$f":"IFERROR(VLOOKUP($A21,Filtro!$A$4:$AX$552,38,FALSE),0)","v":0},{"$f":"IFERROR(VLOOKUP($A21,Filtro!$A$4:$AX$552,39,FALSE),0)","v":0},{"$f":"IFERROR(VLOOKUP($A21,Filtro!$A$4:$AX$552,40,FALSE),0)","v":3},{"$f":"IFERROR(VLOOKUP($A21,Filtro!$A$4:$AX$552,41,FALSE),0)","v":0},{"$f":"IFERROR(VLOOKUP($A21,Filtro!$A$4:$AX$552,42,FALSE),0)","v":1},{"$f":"IFERROR(VLOOKUP($A21,Filtro!$A$4:$AX$552,43,FALSE),0)","v":0},{"$f":"IFERROR(VLOOKUP($A21,Filtro!$A$4:$AX$552,44,FALSE),0)","v":0},{"$f":"IFERROR(VLOOKUP($A21,Filtro!$A$4:$AX$552,45,FALSE),0)","v":7},{"$nulls":12},"","","","","","","","","","","","",{"$nulls":8},0,0,0,0,0,0,0,0,0,0,0,0]
["P6227601","PERSONAS CON DIAGNOSTICOS DE TRASTORNOS MENTALES ",null,{"$f":"IFERROR(VLOOKUP($A22,Filtro!$A$4:$AX$552,2,FALSE),0)","v":27643},{"$f":"IFERROR(VLOOKUP($A22,Filtro!$A$4:$AX$552,3,FALSE),0)","v":8361},{"$f":"IFERROR(VLOOKUP($A22,Filtro!$A$4:$AX$552,4,FALSE),0)","v":19282},{"$f":"IFERROR(VLOOKUP($A22,Filtro!$A$4:$AX$552,5,FALSE),0)","v":147},{"$f":"IFERROR(VLOOKUP($A22,Filtro!$A$4:$AX$552,6,FALSE),0)","v":91},{"$f":"IFERROR(VLOOKUP($A22,Filtro!$A$4:$AX$552,7,FALSE),0)","v":1446},{"$f":"IFERROR(VLOOKUP($A22,Filtro!$A$4:$AX$552,8,FALSE),0)","v":847},{"$f":"IFERROR(VLOOKUP($A22,Filtro!$A$4:$AX$552,9,FALSE),0)","v":1293},{"$f":"IFERROR(VLOOKUP($A22,Filtro!$A$4:$AX$552,10,FALSE),0)","v":1101},{"$f":"IFERROR(VLOOKUP($A22,Filtro!$A$4:$AX$552,11,FALSE),0)","v":867},{"$f":"IFERROR(VLOOKUP($A22,Filtro!$A$4:$AX$552,12,FALSE),0)","v":1514},{"$f":"IFERROR(VLOOKUP($A22,Filtro!$A$4:$AX$552,13,FALSE),0)","v":496},{"$f":"IFERROR(VLOOKUP($A22,Filtro!$A$4:$AX$552,14,FALSE),0)","v":1108},{"$f":"IFERROR(VLOOKUP($A22,Filtro!$A$4:$AX$552,15,FALSE),0)","v":388},{"$f":"IFERROR(VLOOKUP($A22,Filtro!$A$4:$AX$552,16,FALSE),0)","v":1220},{"$f":"IFERROR(VLOOKUP($A22,Filtro!$A$4:$AX$552,17,FALSE),0)","v":379},{"$f":"IFERROR(VLOOKUP($A22,Filtro!$A$4:$AX$552,18,FALSE),0)","v":1230},{"$f":"IFERROR(VLOOKUP($A22,Filtro!$A$4:$AX$552,19,FALSE),0)","v":413},{"$f":"IFERROR(VLOOKUP($A22,Filtro!$A$4:$AX$552,20,FALSE),0)","v":1222},{"$f":"IFERROR(VLOOKUP($A22,Filtro!$A$4:$AX$552,21,FALSE),0)","v":361},{"$f":"IFERROR(VLOOKUP($A22,Filtro!$A$4:$AX$552,22,FALSE),0)","v":1240},{"$f":"IFERROR(VLOOKUP($A22,Filtro!$A$4:$AX$552,23,FALSE),0)","v":364},{"$f":"IFERROR(VLOOKUP($A22,Filtro!$A$4:$AX$552,24,FALSE),0)","v":1381},{"$f":"IFERROR(VLOOKUP($A22,Filtro!$A$4:$AX$552,25,FALSE),0)","v":354},{"$f":"IFERROR(VLOOKUP($A22,Filtro!$A$4:$AX$552,26,FALSE),0)","v":1559},{"$f":"IFERROR(VLOOKUP($A22,Filtro!$A$4:$AX$552,27,FALSE),0)","v":370},{"$f":"IFERROR(VLOOKUP($A22,Filtro!$A$4:$AX$552,28,FALSE),0)","v":1433},{"$f":"IFERROR(VLOOKUP($A22,Filtro!$A$4:$AX$552,29,FALSE),0)","v":357},{"$f":"IFERROR(VLOOKUP($A22,Filtro!$A$4:$AX$552,30,FALSE),0)","v":1377},{"$f":"IFERROR(VLOOKUP($A22,Filtro!$A$4:$AX$552,31,FALSE),0)","v":329},{"$f":"IFERROR(VLOOKUP($A22,Filtro!$A$4:$AX$552,32,FALSE),0)","v":1303},{"$f":"IFERROR(VLOOKUP($A22,Filtro!$A$4:$AX$552,33,FALSE),0)","v":299},{"$f":"IFERROR(VLOOKUP($A22,Filtro!$A$4:$AX$552,34,FALSE),0)","v":1038},{"$f":"IFERROR(VLOOKUP($A22,Filtro!$A$4:$AX$552,35,FALSE),0)","v":234},{"$f":"IFERROR(VLOOKUP($A22,Filtro!$A$4:$AX$552,36,FALSE),0)","v":748},{"$f":"IFERROR(VLOOKUP($A22,Filtro!$A$4:$AX$552,37,FALSE),0)","v":264},{"$f":"IFERROR(VLOOKUP($A22,Filtro!$A$4:$AX$552,38,FALSE),0)","v":870},{"$f":"IFERROR(VLOOKUP($A22,Filtro!$A$4:$AX$552,39,FALSE),0)","v":225},{"$f":"IFERROR(VLOOKUP($A22,Filtro!$A$4:$AX$552,40,FALSE),0)","v":805},{"$f":"IFERROR(VLOOKUP($A22,Filtro!$A$4:$AX$552,41,FALSE),0)","v":31},{"$f":"IFERROR(VLOOKUP($A22,Filtro!$A$4:$AX$552,42,FALSE),0)","v":91},{"$f":"IFERROR(VLOOKUP($A22,Filtro!$A$4:$AX$552,43,FALSE),0)","v":20},{"$f":"IFERROR(VLOOKUP($A22,Filtro!$A$4:$AX$552,44,FALSE),0)","v":71},{"$f":"IFERROR(VLOOKUP($A22,Filtro!$A$4:$AX$552,45,FALSE),0)","v":524},{"$nulls":12},"","","","","","","","","","","","",{"$nulls":8},0,0,0,0,0,0,0,0,0,0,0,0]
["P6221600","TRASTORNOS DEL HUMOR\n(AFECTIVOS)","DEPRESIÓN LEVE",{"$f":"IFERROR(VLOOKUP($A23,Filtro!$A$4:$AX$552,2,FALSE),0)","v":2279},{"$f":"IFERROR(VLOOKUP($A23,Filtro!$A$4:$AX$552,3,FALSE),0)","v":367},{"$f":"IFERROR(VLOOKUP($A23,Filtro!$A$4:$AX$552,4,FALSE),0)","v":1912},{"$f":"IFERROR(VLOOKUP($A23,Filtro!$A$4:$AX$552,5,FALSE),0)","v":0},{"$f":"IFERROR(VLOOKUP($A23,Filtro!$A$4:$AX$552,6,FALSE),0)","v":1},{"$f":"IFERROR(VLOOKUP($A23,Filtro!$A$4:$AX$552,7,FALSE),0)","v":10},{"$f":"IFERROR(VLOOKUP($A23,Filtro!$A$4:$AX$552,8,FALSE),0)","v":9},{"$f":"IFERROR(VLOOKUP($A23,Filtro!$A$4:$AX$552,9,FALSE),0)","v":20},{"$f":"IFERROR(VLOOKUP($A23,Filtro!$A$4:$AX$552,10,FALSE),0)","v":47},{"$f":"IFERROR(VLOOKUP($A23,Filtro!$A$4:$AX$552,11,FALSE),0)","v":55},{"$f":"IFERROR(VLOOKUP($A23,Filtro!$A$4:$AX$552,12,FALSE),0)","v":122},{"$f":"IFERROR(VLOOKUP($A23,Filtro!$A$4:$AX$552,13,FALSE),0)","v":25},{"$f":"IFERROR(VLOOKUP($A23,Filtro!$A$4:$AX$552,14,FALSE),0)","v":133},{"$f":"IFERROR(VLOOKUP($A23,Filtro!$A$4:$AX$552,15,FALSE),0)","v":18},{"$f":"IFERROR(VLOOKUP($A23,Filtro!$A$4:$AX$552,16,FALSE),0)","v":107},{"$f":"IFERROR(VLOOKUP($A23,Filtro!$A$4:$AX$552,17,FALSE),0)","v":12},{"$f":"IFERROR(VLOOKUP($A23,Filtro!$A$4:$AX$552,18,FALSE),0)","v":94},{"$f":"IFERROR(VLOOKUP($A23,Filtro!$A$4:$AX$552,19,FALSE),0)","v":16},{"$f":"IFERROR(VLOOKUP($A23,Filtro!$A$4:$AX$552,20,FALSE),0)","v":103},{"$f":"IFERROR(VLOOKUP($A23,Filtro!$A$4:$AX$552,21,FALSE),0)","v":13},{"$f":"IFERROR(VLOOKUP($A23,Filtro!$A$4:$AX$552,22,FALSE),0)","v":106},{"$f":"IFERROR(VLOOKUP($A23,Filtro!$A$4:$AX$552,23,FALSE),0)","v":10},{"$f":"IFERROR(VLOOKUP($A23,Filtro!$A$4:$AX$552,24,FALSE),0)","v":139},{"$f":"IFERROR(VLOOKUP($A23,Filtro!$A$4:$AX$552,25,FALSE),0)","v":24},{"$f":"IFERROR(VLOOKUP($A23,Filtro!$A$4:$AX$552,26,FALSE),0)","v":164},{"$f":"IFERROR(VLOOKUP($A23,Filtro!$A$4:$AX$552,27,FALSE),0)","v":24},{"$f":"IFERROR(VLOOKUP($A23,Filtro!$A$4:$AX$552,28,FALSE),0)","v":155},{"$f":"IFERROR(VLOOKUP($A23,Filtro!$A$4:$AX$552,29,FALSE),0)","v":24},{"$f":"IFERROR(VLOOKUP($A23,Filtro!$A$4:$AX$552,30,FALSE),0)","v":167},{"$f":"IFERROR(VLOOKUP($A23,Filtro!$A$4:$AX$552,31,FALSE),0)","v":25},{"$f":"IFERROR(VLOOKUP($A23,Filtro!$A$4:$AX$552,32,FALSE),0)","v":191},{"$f":"IFERROR(VLOOKUP($A23,Filtro!$A$4:$AX$552,33,FALSE),0)","v":30},{"$f":"IFERROR(VLOOKUP($A23,Filtro!$A$4:$AX$552,34,FALSE),0)","v":148},{"$f":"IFERROR(VLOOKUP($A23,Filtro!$A$4:$AX$552,35,FALSE),0)","v":31},{"$f":"IFERROR(VLOOKUP($A23,Filtro!$A$4:$AX$552,36,FALSE),0)","v":109},{"$f":"IFERROR(VLOOKUP($A23,Filtro!$A$4:$AX$552,37,FALSE),0)","v":30},{"$f":"IFERROR(VLOOKUP($A23,Filtro!$A$4:$AX$552,38,FALSE),0)","v":117},{"$f":"IFERROR(VLOOKUP($A23,Filtro!$A$4:$AX$552,39,FALSE),0)","v":33},{"$f":"IFERROR(VLOOKUP($A23,Filtro!$A$4:$AX$552,40,FALSE),0)","v":68},{"$f":"IFERROR(VLOOKUP($A23,Filtro!$A$4:$AX$552,41,FALSE),0)","v":2},{"$f":"IFERROR(VLOOKUP($A23,Filtro!$A$4:$AX$552,42,FALSE),0)","v":8},{"$f":"IFERROR(VLOOKUP($A23,Filtro!$A$4:$AX$552,43,FALSE),0)","v":3},{"$f":"IFERROR(VLOOKUP($A23,Filtro!$A$4:$AX$552,44,FALSE),0)","v":9},{"$f":"IFERROR(VLOOKUP($A23,Filtro!$A$4:$AX$552,45,FALSE),0)","v":12},{"$nulls":12},"","","","","","","","","","","","",{"$nulls":8},0,0,0,0,0,0,0,0,0,0,0,0]
["P6227500",null,"DEPRESIÓN MODERADA",{"$f":"IFERROR(VLOOKUP($A24,Filtro!$A$4:$AX$552,2,FALSE),0)","v":5053},{"$f":"IFERROR(VLOOKUP($A24,Filtro!$A$4:$AX$552,3,FALSE),0)","v":788},{"$f":"IFERROR(VLOOKUP($A24,Filtro!$A$4:$AX$552,4,FALSE),0)","v":4265},{"$f":"IFERROR(VLOOKUP($A24,Filtro!$A$4:$AX$552,5,FALSE),0)","v":0},{"$f":"IFERROR(VLOOKUP($A24,Filtro!$A$4:$AX$552,6,FALSE),0)","v":0},{"$f":"IFERROR(VLOOKUP($A24,Filtro!$A$4:$AX$552,7,FALSE),0)","v":3},{"$f":"IFERROR(VLOOKUP($A24,Filtro!$A$4:$AX$552,8,FALSE),0)","v":5},{"$f":"IFERROR(VLOOKUP($A24,Filtro!$A$4:$AX$552,9,FALSE),0)","v":38},{"$f":"IFERROR(VLOOKUP($A24,Filtro!$A$4:$AX$552,10,FALSE),0)","v":58},{"$f":"IFERROR(VLOOKUP($A24,Filtro!$A$4:$AX$552,11,FALSE),0)","v":75},{"$f":"IFERROR(VLOOKUP($A24,Filtro!$A$4:$AX$552,12,FALSE),0)","v":213},{"$f":"IFERROR(VLOOKUP($A24,Filtro!$A$4:$AX$552,13,FALSE),0)","v":64},{"$f":"IFERROR(VLOOKUP($A24,Filtro!$A$4:$AX$552,14,FALSE),0)","v":152},{"$f":"IFERROR(VLOOKUP($A24,Filtro!$A$4:$AX$552,15,FALSE),0)","v":43},{"$f":"IFERROR(VLOOKUP($A24,Filtro!$A$4:$AX$552,16,FALSE),0)","v":195},{"$f":"IFERROR(VLOOKUP($A24,Filtro!$A$4:$AX$552,17,FALSE),0)","v":41},{"$f":"IFERROR(VLOOKUP($A24,Filtro!$A$4:$AX$552,18,FALSE),0)","v":227},{"$f":"IFERROR(VLOOKUP($A24,Filtro!$A$4:$AX$552,19,FALSE),0)","v":35},{"$f":"IFERROR(VLOOKUP($A24,Filtro!$A$4:$AX$552,20,FALSE),0)","v":239},{"$f":"IFERROR(VLOOKUP($A24,Filtro!$A$4:$AX$552,21,FALSE),0)","v":39},{"$f":"IFERROR(VLOOKUP($A24,Filtro!$A$4:$AX$552,22,FALSE),0)","v":276},{"$f":"IFERROR(VLOOKUP($A24,Filtro!$A$4:$AX$552,23,FALSE),0)","v":38},{"$f":"IFERROR(VLOOKUP($A24,Filtro!$A$4:$AX$552,24,FALSE),0)","v":328},{"$f":"IFERROR(VLOOKUP($A24,Filtro!$A$4:$AX$552,25,FALSE),0)","v":51},{"$f":"IFERROR(VLOOKUP($A24,Filtro!$A$4:$AX$552,26,FALSE),0)","v":457},{"$f":"IFERROR(VLOOKUP($A24,Filtro!$A$4:$AX$552,27,FALSE),0)","v":65},{"$f":"IFERROR(VLOOKUP($A24,Filtro!$A$4:$AX$552,28,FALSE),0)","v":500},{"$f":"IFERROR(VLOOKUP($A24,Filtro!$A$4:$AX$552,29,FALSE),0)","v":75},{"$f":"IFERROR(VLOOKUP($A24,Filtro!$A$4:$AX$552,30,FALSE),0)","v":485},{"$f":"IFERROR(VLOOKUP($A24,Filtro!$A$4:$AX$552,31,FALSE),0)","v":72},{"$f":"IFERROR(VLOOKUP($A24,Filtro!$A$4:$AX$552,32,FALSE),0)","v":379},{"$f":"IFERROR(VLOOKUP($A24,Filtro!$A$4:$AX$552,33,FALSE),0)","v":68},{"$f":"IFERROR(VLOOKUP($A24,Filtro!$A$4:$AX$552,34,FALSE),0)","v":309},{"$f":"IFERROR(VLOOKUP($A24,Filtro!$A$4:$AX$552,35,FALSE),0)","v":37},{"$f":"IFERROR(VLOOKUP($A24,Filtro!$A$4:$AX$552,36,FALSE),0)","v":222},{"$f":"IFERROR(VLOOKUP($A24,Filtro!$A$4:$AX$552,37,FALSE),0)","v":44},{"$f":"IFERROR(VLOOKUP($A24,Filtro!$A$4:$AX$552,38,FALSE),0)","v":220},{"$f":"IFERROR(VLOOKUP($A24,Filtro!$A$4:$AX$552,39,FALSE),0)","v":30},{"$f":"IFERROR(VLOOKUP($A24,Filtro!$A$4:$AX$552,40,FALSE),0)","v":119},{"$f":"IFERROR(VLOOKUP($A24,Filtro!$A$4:$AX$552,41,FALSE),0)","v":1},{"$f":"IFERROR(VLOOKUP($A24,Filtro!$A$4:$AX$552,42,FALSE),0)","v":27},{"$f":"IFERROR(VLOOKUP($A24,Filtro!$A$4:$AX$552,43,FALSE),0)","v":3},{"$f":"IFERROR(VLOOKUP($A24,Filtro!$A$4:$AX$552,44,FALSE),0)","v":11},{"$f":"IFERROR(VLOOKUP($A24,Filtro!$A$4:$AX$552,45,FALSE),0)","v":27},{"$nulls":12},"","","","","","","","","","","","",{"$nulls":8},0,0,0,0,0,0,0,0,0,0,0,0]
["P6227600",null,"DEPRESIÓN GRAVE",{"$f":"IFERROR(VLOOKUP($A25,Filtro!$A$4:$AX$552,2,FALSE),0)","v":790},{"$f":"IFERROR(VLOOKUP($A25,Filtro!$A$4:$AX$552,3,FALSE),0)","v":205},{"$f":"IFERROR(VLOOKUP($A25,Filtro!$A$4:$AX$552,4,FALSE),0)","v":585},{"$f":"IFERROR(VLOOKUP($A25,Filtro!$A$4:$AX$552,5,FALSE),0)","v":0},{"$f":"IFERROR(VLOOKUP($A25,Filtro!$A$4:$AX$552,6,FALSE),0)","v":0},{"$f":"IFERROR(VLOOKUP($A25,Filtro!$A$4:$AX$552,7,FALSE),0)","v":1},{"$f":"IFERROR(VLOOKUP($A25,Filtro!$A$4:$AX$552,8,FALSE),0)","v":4},{"$f":"IFERROR(VLOOKUP($A25,Filtro!$A$4:$AX$552,9,FALSE),0)","v":8},{"$f":"IFERROR(VLOOKUP($A25,Filtro!$A$4:$AX$552,10,FALSE),0)","v":31},{"$f":"IFERROR(VLOOKUP($A25,Filtro!$A$4:$AX$552,11,FALSE),0)","v":28},{"$f":"IFERROR(VLOOKUP($A25,Filtro!$A$4:$AX$552,12,FALSE),0)","v":55},{"$f":"IFERROR(VLOOKUP($A25,Filtro!$A$4:$AX$552,13,FALSE),0)","v":20},{"$f":"IFERROR(VLOOKUP($A25,Filtro!$A$4:$AX$552,14,FALSE),0)","v":25},{"$f":"IFERROR(VLOOKUP($A25,Filtro!$A$4:$AX$552,15,FALSE),0)","v":13},{"$f":"IFERROR(VLOOKUP($A25,Filtro!$A$4:$AX$552,16,FALSE),0)","v":41},{"$f":"IFERROR(VLOOKUP($A25,Filtro!$A$4:$AX$552,17,FALSE),0)","v":7},{"$f":"IFERROR(VLOOKUP($A25,Filtro!$A$4:$AX$552,18,FALSE),0)","v":44},{"$f":"IFERROR(VLOOKUP($A25,Filtro!$A$4:$AX$552,19,FALSE),0)","v":20},{"$f":"IFERROR(VLOOKUP($A25,Filtro!$A$4:$AX$552,20,FALSE),0)","v":43},{"$f":"IFERROR(VLOOKUP($A25,Filtro!$A$4:$AX$552,21,FALSE),0)","v":19},{"$f":"IFERROR(VLOOKUP($A25,Filtro!$A$4:$AX$552,22,FALSE),0)","v":40},{"$f":"IFERROR(VLOOKUP($A25,Filtro!$A$4:$AX$552,23,FALSE),0)","v":17},{"$f":"IFERROR(VLOOKUP($A25,Filtro!$A$4:$AX$552,24,FALSE),0)","v":51},{"$f":"IFERROR(VLOOKUP($A25,Filtro!$A$4:$AX$552,25,FALSE),0)","v":17},{"$f":"IFERROR(VLOOKUP($A25,Filtro!$A$4:$AX$552,26,FALSE),0)","v":63},{"$f":"IFERROR(VLOOKUP($A25,Filtro!$A$4:$AX$552,27,FALSE),0)","v":12},{"$f":"IFERROR(VLOOKUP($A25,Filtro!$A$4:$AX$552,28,FALSE),0)","v":65},{"$f":"IFERROR(VLOOKUP($A25,Filtro!$A$4:$AX$552,29,FALSE),0)","v":16},{"$f":"IFERROR(VLOOKUP($A25,Filtro!$A$4:$AX$552,30,FALSE),0)","v":47},{"$f":"IFERROR(VLOOKUP($A25,Filtro!$A$4:$AX$552,31,FALSE),0)","v":11},{"$f":"IFERROR(VLOOKUP($A25,Filtro!$A$4:$AX$552,32,FALSE),0)","v":30},{"$f":"IFERROR(VLOOKUP($A25,Filtro!$A$4:$AX$552,33,FALSE),0)","v":9},{"$f":"IFERROR(VLOOKUP($A25,Filtro!$A$4:$AX$552,34,FALSE),0)","v":24},{"$f":"IFERROR(VLOOKUP($A25,Filtro!$A$4:$AX$552,35,FALSE),0)","v":4},{"$f":"IFERROR(VLOOKUP($A25,Filtro!$A$4:$AX$552,36,FALSE),0)","v":13},{"$f":"IFERROR(VLOOKUP($A25,Filtro!$A$4:$AX$552,37,FALSE),0)","v":3},{"$f":"IFERROR(VLOOKUP($A25,Filtro!$A$4:$AX$552,38,FALSE),0)","v":9},{"$f":"IFERROR(VLOOKUP($A25,Filtro!$A$4:$AX$552,39,FALSE),0)","v":4},{"$f":"IFERROR(VLOOKUP($A25,Filtro!$A$4:$AX$552,40,FALSE),0)","v":16},{"$f":"IFERROR(VLOOKUP($A25,Filtro!$A$4:$AX$552,41,FALSE),0)","v":0},{"$f":"IFERROR(VLOOKUP($A25,Filtro!$A$4:$AX$552,42,FALSE),0)","v":2},{"$f":"IFERROR(VLOOKUP($A25,Filtro!$A$4:$AX$552,43,FALSE),0)","v":0},{"$f":"IFERROR(VLOOKUP($A25,Filtro!$A$4:$AX$552,44,FALSE),0)","v":1},{"$f":"IFERROR(VLOOKUP($A25,Filtro!$A$4:$AX$552,45,FALSE),0)","v":9},{"$nulls":12},"","","","","","","","","","","","",{"$nulls":8},0,0,0,0,0,0,0,0,0,0,0,0]
["P6221700",null,"DEPRESIÓN POST PARTO",{"$f":"IFERROR(VLOOKUP($A26,Filtro!$A$4:$AX$552,2,FALSE),0)","v":94},{"$f":"IFERROR(VLOOKUP($A26,Filtro!$A$4:$AX$552,3,FALSE),0)","v":0},{"$f":"IFERROR(VLOOKUP($A26,Filtro!$A$4:$AX$552,4,FALSE),0)","v":94},{"$f":"IFERROR(VLOOKUP($A26,Filtro!$A$4:$AX$552,5,FALSE),0)","v":0},{"$f":"IFERROR(VLOOKUP($A26,Filtro!$A$4:$AX$552,6,FALSE),0)","v":0},{"$f":"IFERROR(VLOOKUP($A26,Filtro!$A$4:$AX$552,7,FALSE),0)","v":0},{"$f":"IFERROR(VLOOKUP($A26,Filtro!$A$4:$AX$552,8,FALSE),0)","v":0},{"$f":"IFERROR(VLOOKUP($A26,Filtro!$A$4:$AX$552,9,FALSE),0)","v":0},{"$f":"IFERROR(VLOOKUP($A26,Filtro!$A$4:$AX$552,10,FALSE),0)","v":1},{"$f":"IFERROR(VLOOKUP($A26,Filtro!$A$4:$AX$552,11,FALSE),0)","v":0},{"$f":"IFERROR(VLOOKUP($A26,Filtro!$A$4:$AX$552,12,FALSE),0)","v":5},{"$f":"IFERROR(VLOOKUP($A26,Filtro!$A$4:$AX$552,13,FALSE),0)","v":0},{"$f":"IFERROR(VLOOKUP($A26,Filtro!$A$4:$AX$552,14,FALSE),0)","v":9},{"$f":"IFERROR(VLOOKUP($A26,Filtro!$A$4:$AX$552,15,FALSE),0)","v":0},{"$f":"IFERROR(VLOOKUP($A26,Filtro!$A$4:$AX$552,16,FALSE),0)","v":26},{"$f":"IFERROR(VLOOKUP($A26,Filtro!$A$4:$AX$552,17,FALSE),0)","v":0},{"$f":"IFERROR(VLOOKUP($A26,Filtro!$A$4:$AX$552,18,FALSE),0)","v":19},{"$f":"IFERROR(VLOOKUP($A26,Filtro!$A$4:$AX$552,19,FALSE),0)","v":0},{"$f":"IFERROR(VLOOKUP($A26,Filtro!$A$4:$AX$552,20,FALSE),0)","v":26},{"$f":"IFERROR(VLOOKUP($A26,Filtro!$A$4:$AX$552,21,FALSE),0)","v":0},{"$f":"IFERROR(VLOOKUP($A26,Filtro!$A$4:$AX$552,22,FALSE),0)","v":8},{"$f":"IFERROR(VLOOKUP($A26,Filtro!$A$4:$AX$552,23,FALSE),0)","v":0},{"$f":"IFERROR(VLOOKUP($A26,Filtro!$A$4:$AX$552,24,FALSE),0)","v":0},{"$f":"IFERROR(VLOOKUP($A26,Filtro!$A$4:$AX$552,25,FALSE),0)","v":0},{"$f":"IFERROR(VLOOKUP($A26,Filtro!$A$4:$AX$552,26,FALSE),0)","v":0},{"$f":"IFERROR(VLOOKUP($A26,Filtro!$A$4:$AX$552,27,FALSE),0)","v":0},{"$f":"IFERROR(VLOOKUP($A26,Filtro!$A$4:$AX$552,28,FALSE),0)","v":0},{"$f":"IFERROR(VLOOKUP($A26,Filtro!$A$4:$AX$552,29,FALSE),0)","v":0},{"$f":"IFERROR(VLOOKUP($A26,Filtro!$A$4:$AX$552,30,FALSE),0)","v":0},{"$f":"IFERROR(VLOOKUP($A26,Filtro!$A$4:$AX$552,31,FALSE),0)","v":0},{"$f":"IFERROR(VLOOKUP($A26,Filtro!$A$4:$AX$552,32,FALSE),0)","v":0},{"$f":"IFERROR(VLOOKUP($A26,Filtro!$A$4:$AX$552,33,FALSE),0)","v":0},{"$f":"IFERROR(VLOOKUP($A26,Filtro!$A$4:$AX$552,34,FALSE),0)","v":0},{"$f":"IFERROR(VLOOKUP($A26,Filtro!$A$4:$AX$552,35,FALSE),0)","v":0},{"$f":"IFERROR(VLOOKUP($A26,Filtro!$A$4:$AX$552,36,FALSE),0)","v":0},{"$f":"IFERROR(VLOOKUP($A26,Filtro!$A$4:$AX$552,37,FALSE),0)","v":0},{"$f":"IFERROR(VLOOKUP($A26,Filtro!$A$4:$AX$552,38,FALSE),0)","v":0},{"$f":"IFERROR(VLOOKUP($A26,Filtro!$A$4:$AX$552,39,FALSE),0)","v":0},{"$f":"IFERROR(VLOOKUP($A26,Filtro!$A$4:$AX$552,40,FALSE),0)","v":43},{"$f":"IFERROR(VLOOKUP($A26,Filtro!$A$4:$AX$552,41,FALSE),0)","v":0},{"$f":"IFERROR(VLOOKUP($A26,Filtro!$A$4:$AX$552,42,FALSE),0)","v":1},{"$f":"IFERROR(VLOOKUP($A26,Filtro!$A$4:$AX$552,43,FALSE),0)","v":0},{"$f":"IFERROR(VLOOKUP($A26,Filtro!$A$4:$AX$552,44,FALSE),0)","v":2},{"$f":"IFERROR(VLOOKUP($A26,Filtro!$A$4:$AX$552,45,FALSE),0)","v":1},{"$nulls":13},"",null,"",null,"","",null,{"$f":"IF(AND($D26<>0,$AP26=\"\"),\"* No olvide escribir en la celda de 'Madres de Hijos menor de 5 años' (Digite CERO si no tiene). \",\"\")","v":""},{"$f":"IF(AND($D26<>0,$AU26=\"\"),\"* No olvide escribir en la celda de 'Niños, Niñas, Adolescentes y Jóvenes de Población SENAME' (Digite CERO si no tiene). \",\"\")","v":""},{"$f":"IF(AND($F26<>0,$AR26=\"\"),\"* No olvide escribir en las celdas de 'Pueblos Originarios / Mujeres' (Digite CERO si no tiene). \",\"\")","v":""},{"$f":"IF(AND($F26<>0,$AT26=\"\"),\"* No olvide escribir en las celdas de ''Población Migrantes / Mujeres' (Digite CERO si no tiene). \",\"\")","v":""},{"$nulls":9},0,null,0,null,0,0,null,0,0,{"$f":"IF(AND($F26<>0,$AR26=\"\"),1,0)","v":0},{"$f":"IF(AND($F26<>0,$AT26=\"\"),1,0)","v":0}]
["P6221800",null,"TRASTORNO BIPOLAR",{"$f":"IFERROR(VLOOKUP($A27,Filtro!$A$4:$AX$552,2,FALSE),0)","v":291},{"$f":"IFERROR(VLOOKUP($A27,Filtro!$A$4:$AX$552,3,FALSE),0)","v":50},{"$f":"IFERROR(VLOOKUP($A27,Filtro!$A$4:$AX$552,4,FALSE),0)","v":241},{"$f":"IFERROR(VLOOKUP($A27,Filtro!$A$4:$AX$552,5,FALSE),0)","v":0},{"$f":"IFERROR(VLOOKUP($A27,Filtro!$A$4:$AX$552,6,FALSE),0)","v":0},{"$f":"IFERROR(VLOOKUP($A27,Filtro!$A$4:$AX$552,7,FALSE),0)","v":0},{"$f":"IFERROR(VLOOKUP($A27,Filtro!$A$4:$AX$552,8,FALSE),0)","v":0},{"$f":"IFERROR(VLOOKUP($A27,Filtro!$A$4:$AX$552,9,FALSE),0)","v":5},{"$f":"IFERROR(VLOOKUP($A27,Filtro!$A$4:$AX$552,10,FALSE),0)","v":2},{"$f":"IFERROR(VLOOKUP($A27,Filtro!$A$4:$AX$552,11,FALSE),0)","v":6},{"$f":"IFERROR(VLOOKUP($A27,Filtro!$A$4:$AX$552,12,FALSE),0)","v":12},{"$f":"IFERROR(VLOOKUP($A27,Filtro!$A$4:$AX$552,13,FALSE),0)","v":2},{"$f":"IFERROR(VLOOKUP($A27,Filtro!$A$4:$AX$552,14,FALSE),0)","v":25},{"$f":"IFERROR(VLOOKUP($A27,Filtro!$A$4:$AX$552,15,FALSE),0)","v":5},{"$f":"IFERROR(VLOOKUP($A27,Filtro!$A$4:$AX$552,16,FALSE),0)","v":14},{"$f":"IFERROR(VLOOKUP($A27,Filtro!$A$4:$AX$552,17,FALSE),0)","v":5},{"$f":"IFERROR(VLOOKUP($A27,Filtro!$A$4:$AX$552,18,FALSE),0)","v":20},{"$f":"IFERROR(VLOOKUP($A27,Filtro!$A$4:$AX$552,19,FALSE),0)","v":4},{"$f":"IFERROR(VLOOKUP($A27,Filtro!$A$4:$AX$552,20,FALSE),0)","v":32},{"$f":"IFERROR(VLOOKUP($A27,Filtro!$A$4:$AX$552,21,FALSE),0)","v":3},{"$f":"IFERROR(VLOOKUP($A27,Filtro!$A$4:$AX$552,22,FALSE),0)","v":19},{"$f":"IFERROR(VLOOKUP($A27,Filtro!$A$4:$AX$552,23,FALSE),0)","v":4},{"$f":"IFERROR(VLOOKUP($A27,Filtro!$A$4:$AX$552,24,FALSE),0)","v":30},{"$f":"IFERROR(VLOOKUP($A27,Filtro!$A$4:$AX$552,25,FALSE),0)","v":6},{"$f":"IFERROR(VLOOKUP($A27,Filtro!$A$4:$AX$552,26,FALSE),0)","v":20},{"$f":"IFERROR(VLOOKUP($A27,Filtro!$A$4:$AX$552,27,FALSE),0)","v":5},{"$f":"IFERROR(VLOOKUP($A27,Filtro!$A$4:$AX$552,28,FALSE),0)","v":25},{"$f":"IFERROR(VLOOKUP($A27,Filtro!$A$4:$AX$552,29,FALSE),0)","v":1},{"$f":"IFERROR(VLOOKUP($A27,Filtro!$A$4:$AX$552,30,FALSE),0)","v":25},{"$f":"IFERROR(VLOOKUP($A27,Filtro!$A$4:$AX$552,31,FALSE),0)","v":0},{"$f":"IFERROR(VLOOKUP($A27,Filtro!$A$4:$AX$552,32,FALSE),0)","v":8},{"$f":"IFERROR(VLOOKUP($A27,Filtro!$A$4:$AX$552,33,FALSE),0)","v":2},{"$f":"IFERROR(VLOOKUP($A27,Filtro!$A$4:$AX$552,34,FALSE),0)","v":2},{"$f":"IFERROR(VLOOKUP($A27,Filtro!$A$4:$AX$552,35,FALSE),0)","v":2},{"$f":"IFERROR(VLOOKUP($A27,Filtro!$A$4:$AX$552,36,FALSE),0)","v":1},{"$f":"IFERROR(VLOOKUP($A27,Filtro!$A$4:$AX$552,37,FALSE),0)","v":0},{"$f":"IFERROR(VLOOKUP($A27,Filtro!$A$4:$AX$552,38,FALSE),0)","v":6},{"$f":"IFERROR(VLOOKUP($A27,Filtro!$A$4:$AX$552,39,FALSE),0)","v":3},{"$f":"IFERROR(VLOOKUP($A27,Filtro!$A$4:$AX$552,40,FALSE),0)","v":6},{"$f":"IFERROR(VLOOKUP($A27,Filtro!$A$4:$AX$552,41,FALSE),0)","v":0},{"$f":"IFERROR(VLOOKUP($A27,Filtro!$A$4:$AX$552,42,FALSE),0)","v":0},{"$f":"IFERROR(VLOOKUP($A27,Filtro!$A$4:$AX$552,43,FALSE),0)","v":0},{"$f":"IFERROR(VLOOKUP($A27,Filtro!$A$4:$AX$552,44,FALSE),0)","v":0},{"$f":"IFERROR(VLOOKUP($A27,Filtro!$A$4:$AX$552,45,FALSE),0)","v":2},{"$nulls":12},{"$f":"IF($AO27>$F27,\"* La celda 'Gestantes' debe ser menor o igual al Total de Mujeres en control. \",\"\")","v":""},{"$f":"IF($AP27>$F27,\"* La celda 'Madres de Hijos menor de 5 años' debe ser menor o igual al Total de Mujeres en control. \",\"\")","v":""},{"$f":"IF(($AQ27)>$E27,\"* La celda 'Pueblos Originarios / Hombres' debe ser menor o igual al Total de Hombres en control. \",\"\")","v":""},{"$f":"IF($AR27>$F27,\"* La celda 'Pueblos Originarios / Mujeres' debe ser menor o igual al Total de Mujeres en control. \",\"\")","v":""},{"$f":"IF(($AS27)>$E27,\"* La celda 'Población Migrantes / Hombres' debe ser menor o igual al Total de Hombres en control. \",\"\")","v":""},{"$f":"IF($AT27>$F27,\"* La celda 'Población Migrantes / Mujeres' debe ser menor o igual al Total de Mujeres en control. \",\"\")","v":""},{"$f":"IF($AU27>$D27,\"* La celda 'Niños, Niñas, Adolescentes y Jóvenes de Población SENAME' debe ser menor o igual al Total de Ambos Sexos. \",\"\")","v":""},{"$f":"IF(AND($D27<>0,$AO27=\"\"),\"* No olvide escribir en la celda de 'Gestantes' (Digite CERO si no tiene). \",\"\")","v":""},{"$f":"IF(AND($D27<>0,$AP27=\"\"),\"* No olvide escribir en la celda de 'Madres de Hijos menor de 5 años' (Digite CERO si no tiene). \",\"\")","v":""},{"$f":"IF(AND($D27<>0,$AU27=\"\"),\"* No olvide escribir en la celda de 'Niños, Niñas, Adolescentes y Jóvenes de Población SENAME' (Digite CERO si no tiene). \",\"\")","v":""},{"$f":"IF(AND($E27<>0,$AQ27=\"\"),\"* No olvide escribir en las celdas de 'Pueblos Originarios' (Digite CERO si no tiene). \",IF(AND($F27<>0,$AR27=\"\"),\"* No olvide escribir en las celdas de 'Pueblos Originarios' (Digite CERO si no tiene). \",\"\"))","v":""},{"$f":"IF(AND($E27<>0,$AS27=\"\"),\"* No olvide escribir en las celdas de 'Población Migrantes' (Digite CERO si no tiene). \",IF(AND($F27<>0,$AT27=\"\"),\"* No olvide escribir en las celdas de 'Población Migrantes' (Digite CERO si no tiene). \",\"\"))","v":""},{"$nulls":8},{"$f":"IF($AO27>$F27,1,0)","v":0},0,{"$f":"IF(($AQ27)>$E27,1,0)","v":0},0,{"$f":"IF(($AS27)>$E27,1,0)","v":0},0,0,{"$f":"IF(AND($D27<>0,$AO27=\"\"),1,0)","v":0},0,0,{"$f":"IF(AND($E27<>0,$AQ27=\"\"),1,IF(AND($F27<>0,$AR27=\"\"),1,0))","v":0},{"$f":"IF(AND($E27<>0,$AS27=\"\"),1,IF(AND($F27<>0,$AT27=\"\"),1,0))","v":0}]
["P6221900","TRASTORNOS MENTALES Y DEL COMPORTAMIENTO DEBIDO A CONSUMO SUSTANCIAS PSICOTROPICAS","CONSUMO PERJUDICIAL O DEPENDENCIA DE ALCOHOL \n",{"$f":"IFERROR(VLOOKUP($A28,Filtro!$A$4:$AX$552,2,FALSE),0)","v":510},{"$f":"IFERROR(VLOOKUP($A28,Filtro!$A$4:$AX$552,3,FALSE),0)","v":400},{"$f":"IFERROR(VLOOKUP($A28,Filtro!$A$4:$AX$552,4,FALSE),0)","v":110},{"$f":"IFERROR(VLOOKUP($A28,Filtro!$A$4:$AX$552,5,FALSE),0)","v":0},{"$f":"IFERROR(VLOOKUP($A28,Filtro!$A$4:$AX$552,6,FALSE),0)","v":0},{"$f":"IFERROR(VLOOKUP($A28,Filtro!$A$4:$AX$552,7,FALSE),0)","v":0},{"$f":"IFERROR(VLOOKUP($A28,Filtro!$A$4:$AX$552,8,FALSE),0)","v":0},{"$f":"IFERROR(VLOOKUP($A28,Filtro!$A$4:$AX$552,9,FALSE),0)","v":1},{"$f":"IFERROR(VLOOKUP($A28,Filtro!$A$4:$AX$552,10,FALSE),0)","v":0},{"$f":"IFERROR(VLOOKUP($A28,Filtro!$A$4:$AX$552,11,FALSE),0)","v":7},{"$f":"IFERROR(VLOOKUP($A28,Filtro!$A$4:$AX$552,12,FALSE),0)","v":2},{"$f":"IFERROR(VLOOKUP($A28,Filtro!$A$4:$AX$552,13,FALSE),0)","v":13},{"$f":"IFERROR(VLOOKUP($A28,Filtro!$A$4:$AX$552,14,FALSE),0)","v":4},{"$f":"IFERROR(VLOOKUP($A28,Filtro!$A$4:$AX$552,15,FALSE),0)","v":25},{"$f":"IFERROR(VLOOKUP($A28,Filtro!$A$4:$AX$552,16,FALSE),0)","v":11},{"$f":"IFERROR(VLOOKUP($A28,Filtro!$A$4:$AX$552,17,FALSE),0)","v":35},{"$f":"IFERROR(VLOOKUP($A28,Filtro!$A$4:$AX$552,18,FALSE),0)","v":15},{"$f":"IFERROR(VLOOKUP($A28,Filtro!$A$4:$AX$552,19,FALSE),0)","v":51},{"$f":"IFERROR(VLOOKUP($A28,Filtro!$A$4:$AX$552,20,FALSE),0)","v":9},{"$f":"IFERROR(VLOOKUP($A28,Filtro!$A$4:$AX$552,21,FALSE),0)","v":46},{"$f":"IFERROR(VLOOKUP($A28,Filtro!$A$4:$AX$552,22,FALSE),0)","v":17},{"$f":"IFERROR(VLOOKUP($A28,Filtro!$A$4:$AX$552,23,FALSE),0)","v":58},{"$f":"IFERROR(VLOOKUP($A28,Filtro!$A$4:$AX$552,24,FALSE),0)","v":18},{"$f":"IFERROR(VLOOKUP($A28,Filtro!$A$4:$AX$552,25,FALSE),0)","v":58},{"$f":"IFERROR(VLOOKUP($A28,Filtro!$A$4:$AX$552,26,FALSE),0)","v":9},{"$f":"IFERROR(VLOOKUP($A28,Filtro!$A$4:$AX$552,27,FALSE),0)","v":37},{"$f":"IFERROR(VLOOKUP($A28,Filtro!$A$4:$AX$552,28,FALSE),0)","v":8},{"$f":"IFERROR(VLOOKUP($A28,Filtro!$A$4:$AX$552,29,FALSE),0)","v":33},{"$f":"IFERROR(VLOOKUP($A28,Filtro!$A$4:$AX$552,30,FALSE),0)","v":4},{"$f":"IFERROR(VLOOKUP($A28,Filtro!$A$4:$AX$552,31,FALSE),0)","v":20},{"$f":"IFERROR(VLOOKUP($A28,Filtro!$A$4:$AX$552,32,FALSE),0)","v":4},{"$f":"IFERROR(VLOOKUP($A28,Filtro!$A$4:$AX$552,33,FALSE),0)","v":8},{"$f":"IFERROR(VLOOKUP($A28,Filtro!$A$4:$AX$552,34,FALSE),0)","v":5},{"$f":"IFERROR(VLOOKUP($A28,Filtro!$A$4:$AX$552,35,FALSE),0)","v":7},{"$f":"IFERROR(VLOOKUP($A28,Filtro!$A$4:$AX$552,36,FALSE),0)","v":3},{"$f":"IFERROR(VLOOKUP($A28,Filtro!$A$4:$AX$552,37,FALSE),0)","v":1},{"$f":"IFERROR(VLOOKUP($A28,Filtro!$A$4:$AX$552,38,FALSE),0)","v":1},{"$f":"IFERROR(VLOOKUP($A28,Filtro!$A$4:$AX$552,39,FALSE),0)","v":2},{"$f":"IFERROR(VLOOKUP($A28,Filtro!$A$4:$AX$552,40,FALSE),0)","v":4},{"$f":"IFERROR(VLOOKUP($A28,Filtro!$A$4:$AX$552,41,FALSE),0)","v":0},{"$f":"IFERROR(VLOOKUP($A28,Filtro!$A$4:$AX$552,42,FALSE),0)","v":0},{"$f":"IFERROR(VLOOKUP($A28,Filtro!$A$4:$AX$552,43,FALSE),0)","v":0},{"$f":"IFERROR(VLOOKUP($A28,Filtro!$A$4:$AX$552,44,FALSE),0)","v":0},{"$f":"IFERROR(VLOOKUP($A28,Filtro!$A$4:$AX$552,45,FALSE),0)","v":1},{"$nulls":12},"","","","","","","","","","","","",{"$nulls":8},{"$f":"IF($AO28>$F28,1,0)","v":0},0,0,0,0,0,0,{"$f":"IF(AND($D28<>0,$AO28=\"\"),1,0)","v":0},0,0,0,0]
["P6222000",null,"CONSUMO PERJUDICIAL O DEPENDENCIA COMO DROGA PRINCIPAL",{"$f":"IFERROR(VLOOKUP($A29,Filtro!$A$4:$AX$552,2,FALSE),0)","v":432},{"$f":"IFERROR(VLOOKUP($A29,Filtro!$A$4:$AX$552,3,FALSE),0)","v":256},{"$f":"IFERROR(VLOOKUP($A29,Filtro!$A$4:$AX$552,4,FALSE),0)","v":176},{"$f":"IFERROR(VLOOKUP($A29,Filtro!$A$4:$AX$552,5,FALSE),0)","v":0},{"$f":"IFERROR(VLOOKUP($A29,Filtro!$A$4:$AX$552,6,FALSE),0)","v":0},{"$f":"IFERROR(VLOOKUP($A29,Filtro!$A$4:$AX$552,7,FALSE),0)","v":0},{"$f":"IFERROR(VLOOKUP($A29,Filtro!$A$4:$AX$552,8,FALSE),0)","v":0},{"$f":"IFERROR(VLOOKUP($A29,Filtro!$A$4:$AX$552,9,FALSE),0)","v":2},{"$f":"IFERROR(VLOOKUP($A29,Filtro!$A$4:$AX$552,10,FALSE),0)","v":0},{"$f":"IFERROR(VLOOKUP($A29,Filtro!$A$4:$AX$552,11,FALSE),0)","v":45},{"$f":"IFERROR(VLOOKUP($A29,Filtro!$A$4:$AX$552,12,FALSE),0)","v":10},{"$f":"IFERROR(VLOOKUP($A29,Filtro!$A$4:$AX$552,13,FALSE),0)","v":34},{"$f":"IFERROR(VLOOKUP($A29,Filtro!$A$4:$AX$552,14,FALSE),0)","v":15},{"$f":"IFERROR(VLOOKUP($A29,Filtro!$A$4:$AX$552,15,FALSE),0)","v":34},{"$f":"IFERROR(VLOOKUP($A29,Filtro!$A$4:$AX$552,16,FALSE),0)","v":21},{"$f":"IFERROR(VLOOKUP($A29,Filtro!$A$4:$AX$552,17,FALSE),0)","v":21},{"$f":"IFERROR(VLOOKUP($A29,Filtro!$A$4:$AX$552,18,FALSE),0)","v":13},{"$f":"IFERROR(VLOOKUP($A29,Filtro!$A$4:$AX$552,19,FALSE),0)","v":28},{"$f":"IFERROR(VLOOKUP($A29,Filtro!$A$4:$AX$552,20,FALSE),0)","v":18},{"$f":"IFERROR(VLOOKUP($A29,Filtro!$A$4:$AX$552,21,FALSE),0)","v":26},{"$f":"IFERROR(VLOOKUP($A29,Filtro!$A$4:$AX$552,22,FALSE),0)","v":12},{"$f":"IFERROR(VLOOKUP($A29,Filtro!$A$4:$AX$552,23,FALSE),0)","v":22},{"$f":"IFERROR(VLOOKUP($A29,Filtro!$A$4:$AX$552,24,FALSE),0)","v":16},{"$f":"IFERROR(VLOOKUP($A29,Filtro!$A$4:$AX$552,25,FALSE),0)","v":11},{"$f":"IFERROR(VLOOKUP($A29,Filtro!$A$4:$AX$552,26,FALSE),0)","v":12},{"$f":"IFERROR(VLOOKUP($A29,Filtro!$A$4:$AX$552,27,FALSE),0)","v":5},{"$f":"IFERROR(VLOOKUP($A29,Filtro!$A$4:$AX$552,28,FALSE),0)","v":13},{"$f":"IFERROR(VLOOKUP($A29,Filtro!$A$4:$AX$552,29,FALSE),0)","v":13},{"$f":"IFERROR(VLOOKUP($A29,Filtro!$A$4:$AX$552,30,FALSE),0)","v":5},{"$f":"IFERROR(VLOOKUP($A29,Filtro!$A$4:$AX$552,31,FALSE),0)","v":5},{"$f":"IFERROR(VLOOKUP($A29,Filtro!$A$4:$AX$552,32,FALSE),0)","v":10},{"$f":"IFERROR(VLOOKUP($A29,Filtro!$A$4:$AX$552,33,FALSE),0)","v":4},{"$f":"IFERROR(VLOOKUP($A29,Filtro!$A$4:$AX$552,34,FALSE),0)","v":17},{"$f":"IFERROR(VLOOKUP($A29,Filtro!$A$4:$AX$552,35,FALSE),0)","v":2},{"$f":"IFERROR(VLOOKUP($A29,Filtro!$A$4:$AX$552,36,FALSE),0)","v":9},{"$f":"IFERROR(VLOOKUP($A29,Filtro!$A$4:$AX$552,37,FALSE),0)","v":4},{"$f":"IFERROR(VLOOKUP($A29,Filtro!$A$4:$AX$552,38,FALSE),0)","v":5},{"$f":"IFERROR(VLOOKUP($A29,Filtro!$A$4:$AX$552,39,FALSE),0)","v":6},{"$f":"IFERROR(VLOOKUP($A29,Filtro!$A$4:$AX$552,40,FALSE),0)","v":5},{"$f":"IFERROR(VLOOKUP($A29,Filtro!$A$4:$AX$552,41,FALSE),0)","v":0},{"$f":"IFERROR(VLOOKUP($A29,Filtro!$A$4:$AX$552,42,FALSE),0)","v":1},{"$f":"IFERROR(VLOOKUP($A29,Filtro!$A$4:$AX$552,43,FALSE),0)","v":1},{"$f":"IFERROR(VLOOKUP($A29,Filtro!$A$4:$AX$552,44,FALSE),0)","v":0},{"$f":"IFERROR(VLOOKUP($A29,Filtro!$A$4:$AX$552,45,FALSE),0)","v":5},{"$nulls":12},"","","","","","","","","","","","",{"$nulls":8},{"$f":"IF($AO29>$F29,1,0)","v":0},0,0,0,0,0,0,{"$f":"IF(AND($D29<>0,$AO29=\"\"),1,0)","v":0},0,0,0,0]
["P6222100",null,"POLICONSUMO",{"$f":"IFERROR(VLOOKUP($A30,Filtro!$A$4:$AX$552,2,FALSE),0)","v":356},{"$f":"IFERROR(VLOOKUP($A30,Filtro!$A$4:$AX$552,3,FALSE),0)","v":248},{"$f":"IFERROR(VLOOKUP($A30,Filtro!$A$4:$AX$552,4,FALSE),0)","v":108},{"$f":"IFERROR(VLOOKUP($A30,Filtro!$A$4:$AX$552,5,FALSE),0)","v":0},{"$f":"IFERROR(VLOOKUP($A30,Filtro!$A$4:$AX$552,6,FALSE),0)","v":0},{"$f":"IFERROR(VLOOKUP($A30,Filtro!$A$4:$AX$552,7,FALSE),0)","v":0},{"$f":"IFERROR(VLOOKUP($A30,Filtro!$A$4:$AX$552,8,FALSE),0)","v":0},{"$f":"IFERROR(VLOOKUP($A30,Filtro!$A$4:$AX$552,9,FALSE),0)","v":2},{"$f":"IFERROR(VLOOKUP($A30,Filtro!$A$4:$AX$552,10,FALSE),0)","v":2},{"$f":"IFERROR(VLOOKUP($A30,Filtro!$A$4:$AX$552,11,FALSE),0)","v":20},{"$f":"IFERROR(VLOOKUP($A30,Filtro!$A$4:$AX$552,12,FALSE),0)","v":16},{"$f":"IFERROR(VLOOKUP($A30,Filtro!$A$4:$AX$552,13,FALSE),0)","v":30},{"$f":"IFERROR(VLOOKUP($A30,Filtro!$A$4:$AX$552,14,FALSE),0)","v":9},{"$f":"IFERROR(VLOOKUP($A30,Filtro!$A$4:$AX$552,15,FALSE),0)","v":30},{"$f":"IFERROR(VLOOKUP($A30,Filtro!$A$4:$AX$552,16,FALSE),0)","v":14},{"$f":"IFERROR(VLOOKUP($A30,Filtro!$A$4:$AX$552,17,FALSE),0)","v":50},{"$f":"IFERROR(VLOOKUP($A30,Filtro!$A$4:$AX$552,18,FALSE),0)","v":14},{"$f":"IFERROR(VLOOKUP($A30,Filtro!$A$4:$AX$552,19,FALSE),0)","v":38},{"$f":"IFERROR(VLOOKUP($A30,Filtro!$A$4:$AX$552,20,FALSE),0)","v":16},{"$f":"IFERROR(VLOOKUP($A30,Filtro!$A$4:$AX$552,21,FALSE),0)","v":20},{"$f":"IFERROR(VLOOKUP($A30,Filtro!$A$4:$AX$552,22,FALSE),0)","v":10},{"$f":"IFERROR(VLOOKUP($A30,Filtro!$A$4:$AX$552,23,FALSE),0)","v":20},{"$f":"IFERROR(VLOOKUP($A30,Filtro!$A$4:$AX$552,24,FALSE),0)","v":9},{"$f":"IFERROR(VLOOKUP($A30,Filtro!$A$4:$AX$552,25,FALSE),0)","v":19},{"$f":"IFERROR(VLOOKUP($A30,Filtro!$A$4:$AX$552,26,FALSE),0)","v":4},{"$f":"IFERROR(VLOOKUP($A30,Filtro!$A$4:$AX$552,27,FALSE),0)","v":6},{"$f":"IFERROR(VLOOKUP($A30,Filtro!$A$4:$AX$552,28,FALSE),0)","v":3},{"$f":"IFERROR(VLOOKUP($A30,Filtro!$A$4:$AX$552,29,FALSE),0)","v":4},{"$f":"IFERROR(VLOOKUP($A30,Filtro!$A$4:$AX$552,30,FALSE),0)","v":4},{"$f":"IFERROR(VLOOKUP($A30,Filtro!$A$4:$AX$552,31,FALSE),0)","v":7},{"$f":"IFERROR(VLOOKUP($A30,Filtro!$A$4:$AX$552,32,FALSE),0)","v":5},{"$f":"IFERROR(VLOOKUP($A30,Filtro!$A$4:$AX$552,33,FALSE),0)","v":0},{"$f":"IFERROR(VLOOKUP($A30,Filtro!$A$4:$AX$552,34,FALSE),0)","v":0},{"$f":"IFERROR(VLOOKUP($A30,Filtro!$A$4:$AX$552,35,FALSE),0)","v":2},{"$f":"IFERROR(VLOOKUP($A30,Filtro!$A$4:$AX$552,36,FALSE),0)","v":0},{"$f":"IFERROR(VLOOKUP($A30,Filtro!$A$4:$AX$552,37,FALSE),0)","v":0},{"$f":"IFERROR(VLOOKUP($A30,Filtro!$A$4:$AX$552,38,FALSE),0)","v":2},{"$f":"IFERROR(VLOOKUP($A30,Filtro!$A$4:$AX$552,39,FALSE),0)","v":2},{"$f":"IFERROR(VLOOKUP($A30,Filtro!$A$4:$AX$552,40,FALSE),0)","v":4},{"$f":"IFERROR(VLOOKUP($A30,Filtro!$A$4:$AX$552,41,FALSE),0)","v":2},{"$f":"IFERROR(VLOOKUP($A30,Filtro!$A$4:$AX$552,42,FALSE),0)","v":0},{"$f":"IFERROR(VLOOKUP($A30,Filtro!$A$4:$AX$552,43,FALSE),0)","v":0},{"$f":"IFERROR(VLOOKUP($A30,Filtro!$A$4:$AX$552,44,FALSE),0)","v":0},{"$f":"IFERROR(VLOOKUP($A30,Filtro!$A$4:$AX$552,45,FALSE),0)","v":15},{"$nulls":12},"","","","","","","","","","","","",{"$nulls":8},{"$f":"IF($AO30>$F30,1,0)","v":0},0,0,0,0,0,0,{"$f":"IF(AND($D30<>0,$AO30=\"\"),1,0)","v":0},0,0,0,0]
["P6222600","TRASTORNOS DEL COMPORTAMIENTO Y DE LAS EMOCIONES DE COMIENZO HABITUAL EN LA INFANCIA Y ADOLESCENCIA","TRASTORNO HIPERCINÉTICO",{"$f":"IFERROR(VLOOKUP($A31,Filtro!$A$4:$AX$552,2,FALSE),0)","v":1382},{"$f":"IFERROR(VLOOKUP($A31,Filtro!$A$4:$AX$552,3,FALSE),0)","v":1057},{"$f":"IFERROR(VLOOKUP($A31,Filtro!$A$4:$AX$552,4,FALSE),0)","v":325},{"$f":"IFERROR(VLOOKUP($A31,Filtro!$A$4:$AX$552,5,FALSE),0)","v":14},{"$f":"IFERROR(VLOOKUP($A31,Filtro!$A$4:$AX$552,6,FALSE),0)","v":5},{"$f":"IFERROR(VLOOKUP($A31,Filtro!$A$4:$AX$552,7,FALSE),0)","v":475},{"$f":"IFERROR(VLOOKUP($A31,Filtro!$A$4:$AX$552,8,FALSE),0)","v":136},{"$f":"IFERROR(VLOOKUP($A31,Filtro!$A$4:$AX$552,9,FALSE),0)","v":434},{"$f":"IFERROR(VLOOKUP($A31,Filtro!$A$4:$AX$552,10,FALSE),0)","v":137},{"$f":"IFERROR(VLOOKUP($A31,Filtro!$A$4:$AX$552,11,FALSE),0)","v":115},{"$f":"IFERROR(VLOOKUP($A31,Filtro!$A$4:$AX$552,12,FALSE),0)","v":40},{"$f":"IFERROR(VLOOKUP($A31,Filtro!$A$4:$AX$552,13,FALSE),0)","v":16},{"$f":"IFERROR(VLOOKUP($A31,Filtro!$A$4:$AX$552,14,FALSE),0)","v":5},{"$f":"IFERROR(VLOOKUP($A31,Filtro!$A$4:$AX$552,15,FALSE),0)","v":2},{"$f":"IFERROR(VLOOKUP($A31,Filtro!$A$4:$AX$552,16,FALSE),0)","v":0},{"$f":"IFERROR(VLOOKUP($A31,Filtro!$A$4:$AX$552,17,FALSE),0)","v":0},{"$f":"IFERROR(VLOOKUP($A31,Filtro!$A$4:$AX$552,18,FALSE),0)","v":1},{"$f":"IFERROR(VLOOKUP($A31,Filtro!$A$4:$AX$552,19,FALSE),0)","v":1},{"$f":"IFERROR(VLOOKUP($A31,Filtro!$A$4:$AX$552,20,FALSE),0)","v":0},{"$f":"IFERROR(VLOOKUP($A31,Filtro!$A$4:$AX$552,21,FALSE),0)","v":0},{"$f":"IFERROR(VLOOKUP($A31,Filtro!$A$4:$AX$552,22,FALSE),0)","v":1},{"$f":"IFERROR(VLOOKUP($A31,Filtro!$A$4:$AX$552,23,FALSE),0)","v":0},{"$f":"IFERROR(VLOOKUP($A31,Filtro!$A$4:$AX$552,24,FALSE),0)","v":0},{"$f":"IFERROR(VLOOKUP($A31,Filtro!$A$4:$AX$552,25,FALSE),0)","v":0},{"$f":"IFERROR(VLOOKUP($A31,Filtro!$A$4:$AX$552,26,FALSE),0)","v":0},{"$f":"IFERROR(VLOOKUP($A31,Filtro!$A$4:$AX$552,27,FALSE),0)","v":0},{"$f":"IFERROR(VLOOKUP($A31,Filtro!$A$4:$AX$552,28,FALSE),0)","v":0},{"$f":"IFERROR(VLOOKUP($A31,Filtro!$A$4:$AX$552,29,FALSE),0)","v":0},{"$f":"IFERROR(VLOOKUP($A31,Filtro!$A$4:$AX$552,30,FALSE),0)","v":0},{"$f":"IFERROR(VLOOKUP($A31,Filtro!$A$4:$AX$552,31,FALSE),0)","v":0},{"$f":"IFERROR(VLOOKUP($A31,Filtro!$A$4:$AX$552,32,FALSE),0)","v":0},{"$f":"IFERROR(VLOOKUP($A31,Filtro!$A$4:$AX$552,33,FALSE),0)","v":0},{"$f":"IFERROR(VLOOKUP($A31,Filtro!$A$4:$AX$552,34,FALSE),0)","v":0},{"$f":"IFERROR(VLOOKUP($A31,Filtro!$A$4:$AX$552,35,FALSE),0)","v":0},{"$f":"IFERROR(VLOOKUP($A31,Filtro!$A$4:$AX$552,36,FALSE),0)","v":0},{"$f":"IFERROR(VLOOKUP($A31,Filtro!$A$4:$AX$552,37,FALSE),0)","v":0},{"$f":"IFERROR(VLOOKUP($A31,Filtro!$A$4:$AX$552,38,FALSE),0)","v":0},{"$f":"IFERROR(VLOOKUP($A31,Filtro!$A$4:$AX$552,39,FALSE),0)","v":1},{"$f":"IFERROR(VLOOKUP($A31,Filtro!$A$4:$AX$552,40,FALSE),0)","v":0},{"$f":"IFERROR(VLOOKUP($A31,Filtro!$A$4:$AX$552,41,FALSE),0)","v":3},{"$f":"IFERROR(VLOOKUP($A31,Filtro!$A$4:$AX$552,42,FALSE),0)","v":0},{"$f":"IFERROR(VLOOKUP($A31,Filtro!$A$4:$AX$552,43,FALSE),0)","v":0},{"$f":"IFERROR(VLOOKUP($A31,Filtro!$A$4:$AX$552,44,FALSE),0)","v":1},{"$f":"IFERROR(VLOOKUP($A31,Filtro!$A$4:$AX$552,45,FALSE),0)","v":64},{"$nulls":14},"","","","","",null,null,"","","",{"$nulls":10},0,0,0,0,0,null,null,0,0,0]
["P6223060",null,"TRASTORNO DISOCIAL DESAFIANTE Y OPOSICIONISTA",{"$f":"IFERROR(VLOOKUP($A32,Filtro!$A$4:$AX$552,2,FALSE),0)","v":221},{"$f":"IFERROR(VLOOKUP($A32,Filtro!$A$4:$AX$552,3,FALSE),0)","v":147},{"$f":"IFERROR(VLOOKUP($A32,Filtro!$A$4:$AX$552,4,FALSE),0)","v":74},{"$f":"IFERROR(VLOOKUP($A32,Filtro!$A$4:$AX$552,5,FALSE),0)","v":7},{"$f":"IFERROR(VLOOKUP($A32,Filtro!$A$4:$AX$552,6,FALSE),0)","v":1},{"$f":"IFERROR(VLOOKUP($A32,Filtro!$A$4:$AX$552,7,FALSE),0)","v":65},{"$f":"IFERROR(VLOOKUP($A32,Filtro!$A$4:$AX$552,8,FALSE),0)","v":25},{"$f":"IFERROR(VLOOKUP($A32,Filtro!$A$4:$AX$552,9,FALSE),0)","v":47},{"$f":"IFERROR(VLOOKUP($A32,Filtro!$A$4:$AX$552,10,FALSE),0)","v":35},{"$f":"IFERROR(VLOOKUP($A32,Filtro!$A$4:$AX$552,11,FALSE),0)","v":27},{"$f":"IFERROR(VLOOKUP($A32,Filtro!$A$4:$AX$552,12,FALSE),0)","v":11},{"$f":"IFERROR(VLOOKUP($A32,Filtro!$A$4:$AX$552,13,FALSE),0)","v":1},{"$f":"IFERROR(VLOOKUP($A32,Filtro!$A$4:$AX$552,14,FALSE),0)","v":1},{"$f":"IFERROR(VLOOKUP($A32,Filtro!$A$4:$AX$552,15,FALSE),0)","v":0},{"$f":"IFERROR(VLOOKUP($A32,Filtro!$A$4:$AX$552,16,FALSE),0)","v":0},{"$f":"IFERROR(VLOOKUP($A32,Filtro!$A$4:$AX$552,17,FALSE),0)","v":0},{"$f":"IFERROR(VLOOKUP($A32,Filtro!$A$4:$AX$552,18,FALSE),0)","v":0},{"$f":"IFERROR(VLOOKUP($A32,Filtro!$A$4:$AX$552,19,FALSE),0)","v":0},{"$f":"IFERROR(VLOOKUP($A32,Filtro!$A$4:$AX$552,20,FALSE),0)","v":0},{"$f":"IFERROR(VLOOKUP($A32,Filtro!$A$4:$AX$552,21,FALSE),0)","v":0},{"$f":"IFERROR(VLOOKUP($A32,Filtro!$A$4:$AX$552,22,FALSE),0)","v":0},{"$f":"IFERROR(VLOOKUP($A32,Filtro!$A$4:$AX$552,23,FALSE),0)","v":0},{"$f":"IFERROR(VLOOKUP($A32,Filtro!$A$4:$AX$552,24,FALSE),0)","v":0},{"$f":"IFERROR(VLOOKUP($A32,Filtro!$A$4:$AX$552,25,FALSE),0)","v":0},{"$f":"IFERROR(VLOOKUP($A32,Filtro!$A$4:$AX$552,26,FALSE),0)","v":0},{"$f":"IFERROR(VLOOKUP($A32,Filtro!$A$4:$AX$552,27,FALSE),0)","v":0},{"$f":"IFERROR(VLOOKUP($A32,Filtro!$A$4:$AX$552,28,FALSE),0)","v":0},{"$f":"IFERROR(VLOOKUP($A32,Filtro!$A$4:$AX$552,29,FALSE),0)","v":0},{"$f":"IFERROR(VLOOKUP($A32,Filtro!$A$4:$AX$552,30,FALSE),0)","v":0},{"$f":"IFERROR(VLOOKUP($A32,Filtro!$A$4:$AX$552,31,FALSE),0)","v":0},{"$f":"IFERROR(VLOOKUP($A32,Filtro!$A$4:$AX$552,32,FALSE),0)","v":1},{"$f":"IFERROR(VLOOKUP($A32,Filtro!$A$4:$AX$552,33,FALSE),0)","v":0},{"$f":"IFERROR(VLOOKUP($A32,Filtro!$A$4:$AX$552,34,FALSE),0)","v":0},{"$f":"IFERROR(VLOOKUP($A32,Filtro!$A$4:$AX$552,35,FALSE),0)","v":0},{"$f":"IFERROR(VLOOKUP($A32,Filtro!$A$4:$AX$552,36,FALSE),0)","v":0},{"$f":"IFERROR(VLOOKUP($A32,Filtro!$A$4:$AX$552,37,FALSE),0)","v":0},{"$f":"IFERROR(VLOOKUP($A32,Filtro!$A$4:$AX$552,38,FALSE),0)","v":0},{"$f":"IFERROR(VLOOKUP($A32,Filtro!$A$4:$AX$552,39,FALSE),0)","v":0},{"$f":"IFERROR(VLOOKUP($A32,Filtro!$A$4:$AX$552,40,FALSE),0)","v":0},{"$f":"IFERROR(VLOOKUP($A32,Filtro!$A$4:$AX$552,41,FALSE),0)","v":0},{"$f":"IFERROR(VLOOKUP($A32,Filtro!$A$4:$AX$552,42,FALSE),0)","v":0},{"$f":"IFERROR(VLOOKUP($A32,Filtro!$A$4:$AX$552,43,FALSE),0)","v":1},{"$f":"IFERROR(VLOOKUP($A32,Filtro!$A$4:$AX$552,44,FALSE),0)","v":1},{"$f":"IFERROR(VLOOKUP($A32,Filtro!$A$4:$AX$552,45,FALSE),0)","v":27},{"$nulls":14},"","","","","",null,null,"","","",{"$nulls":10},0,0,0,0,0,null,null,0,0,0]
["P6223070",null,"TRASTORNO DE ANSIEDAD DE SEPARACIÓN EN LA INFANCIA",{"$f":"IFERROR(VLOOKUP($A33,Filtro!$A$4:$AX$552,2,FALSE),0)","v":116},{"$f":"IFERROR(VLOOKUP($A33,Filtro!$A$4:$AX$552,3,FALSE),0)","v":67},{"$f":"IFERROR(VLOOKUP($A33,Filtro!$A$4:$AX$552,4,FALSE),0)","v":49},{"$f":"IFERROR(VLOOKUP($A33,Filtro!$A$4:$AX$552,5,FALSE),0)","v":10},{"$f":"IFERROR(VLOOKUP($A33,Filtro!$A$4:$AX$552,6,FALSE),0)","v":10},{"$f":"IFERROR(VLOOKUP($A33,Filtro!$A$4:$AX$552,7,FALSE),0)","v":39},{"$f":"IFERROR(VLOOKUP($A33,Filtro!$A$4:$AX$552,8,FALSE),0)","v":27},{"$f":"IFERROR(VLOOKUP($A33,Filtro!$A$4:$AX$552,9,FALSE),0)","v":18},{"$f":"IFERROR(VLOOKUP($A33,Filtro!$A$4:$AX$552,10,FALSE),0)","v":12},{"$f":"IFERROR(VLOOKUP($A33,Filtro!$A$4:$AX$552,11,FALSE),0)","v":0},{"$f":"IFERROR(VLOOKUP($A33,Filtro!$A$4:$AX$552,12,FALSE),0)","v":0},{"$f":"IFERROR(VLOOKUP($A33,Filtro!$A$4:$AX$552,13,FALSE),0)","v":0},{"$f":"IFERROR(VLOOKUP($A33,Filtro!$A$4:$AX$552,14,FALSE),0)","v":0},{"$f":"IFERROR(VLOOKUP($A33,Filtro!$A$4:$AX$552,15,FALSE),0)","v":0},{"$f":"IFERROR(VLOOKUP($A33,Filtro!$A$4:$AX$552,16,FALSE),0)","v":0},{"$f":"IFERROR(VLOOKUP($A33,Filtro!$A$4:$AX$552,17,FALSE),0)","v":0},{"$f":"IFERROR(VLOOKUP($A33,Filtro!$A$4:$AX$552,18,FALSE),0)","v":0},{"$f":"IFERROR(VLOOKUP($A33,Filtro!$A$4:$AX$552,19,FALSE),0)","v":0},{"$f":"IFERROR(VLOOKUP($A33,Filtro!$A$4:$AX$552,20,FALSE),0)","v":0},{"$f":"IFERROR(VLOOKUP($A33,Filtro!$A$4:$AX$552,21,FALSE),0)","v":0},{"$f":"IFERROR(VLOOKUP($A33,Filtro!$A$4:$AX$552,22,FALSE),0)","v":0},{"$f":"IFERROR(VLOOKUP($A33,Filtro!$A$4:$AX$552,23,FALSE),0)","v":0},{"$f":"IFERROR(VLOOKUP($A33,Filtro!$A$4:$AX$552,24,FALSE),0)","v":0},{"$f":"IFERROR(VLOOKUP($A33,Filtro!$A$4:$AX$552,25,FALSE),0)","v":0},{"$f":"IFERROR(VLOOKUP($A33,Filtro!$A$4:$AX$552,26,FALSE),0)","v":0},{"$f":"IFERROR(VLOOKUP($A33,Filtro!$A$4:$AX$552,27,FALSE),0)","v":0},{"$f":"IFERROR(VLOOKUP($A33,Filtro!$A$4:$AX$552,28,FALSE),0)","v":0},{"$f":"IFERROR(VLOOKUP($A33,Filtro!$A$4:$AX$552,29,FALSE),0)","v":0},{"$f":"IFERROR(VLOOKUP($A33,Filtro!$A$4:$AX$552,30,FALSE),0)","v":0},{"$f":"IFERROR(VLOOKUP($A33,Filtro!$A$4:$AX$552,31,FALSE),0)","v":0},{"$f":"IFERROR(VLOOKUP($A33,Filtro!$A$4:$AX$552,32,FALSE),0)","v":0},{"$f":"IFERROR(VLOOKUP($A33,Filtro!$A$4:$AX$552,33,FALSE),0)","v":0},{"$f":"IFERROR(VLOOKUP($A33,Filtro!$A$4:$AX$552,34,FALSE),0)","v":0},{"$f":"IFERROR(VLOOKUP($A33,Filtro!$A$4:$AX$552,35,FALSE),0)","v":0},{"$f":"IFERROR(VLOOKUP($A33,Filtro!$A$4:$AX$552,36,FALSE),0)","v":0},{"$f":"IFERROR(VLOOKUP($A33,Filtro!$A$4:$AX$552,37,FALSE),0)","v":0},{"$f":"IFERROR(VLOOKUP($A33,Filtro!$A$4:$AX$552,38,FALSE),0)","v":0},{"$f":"IFERROR(VLOOKUP($A33,Filtro!$A$4:$AX$552,39,FALSE),0)","v":0},{"$f":"IFERROR(VLOOKUP($A33,Filtro!$A$4:$AX$552,40,FALSE),0)","v":0},{"$f":"IFERROR(VLOOKUP($A33,Filtro!$A$4:$AX$552,41,FALSE),0)","v":0},{"$f":"IFERROR(VLOOKUP($A33,Filtro!$A$4:$AX$552,42,FALSE),0)","v":0},{"$f":"IFERROR(VLOOKUP($A33,Filtro!$A$4:$AX$552,43,FALSE),0)","v":0},{"$f":"IFERROR(VLOOKUP($A33,Filtro!$A$4:$AX$552,44,FALSE),0)","v":0},{"$f":"IFERROR(VLOOKUP($A33,Filtro!$A$4:$AX$552,45,FALSE),0)","v":1},{"$nulls":14},"","","","","",null,null,"","","",{"$nulls":10},0,0,0,0,0,null,null,0,0,0]
["P6223080",null,"OTROS TRASTORNOS DEL COMPORTAMIENTO Y DE LAS EMOCIONES DE COMIENZO HABITUAL EN LA INFANCIA Y ADOLESCENCIA",{"$f":"IFERROR(VLOOKUP($A34,Filtro!$A$4:$AX$552,2,FALSE),0)","v":2517},{"$f":"IFERROR(VLOOKUP($A34,Filtro!$A$4:$AX$552,3,FALSE),0)","v":1329},{"$f":"IFERROR(VLOOKUP($A34,Filtro!$A$4:$AX$552,4,FALSE),0)","v":1188},{"$f":"IFERROR(VLOOKUP($A34,Filtro!$A$4:$AX$552,5,FALSE),0)","v":48},{"$f":"IFERROR(VLOOKUP($A34,Filtro!$A$4:$AX$552,6,FALSE),0)","v":34},{"$f":"IFERROR(VLOOKUP($A34,Filtro!$A$4:$AX$552,7,FALSE),0)","v":606},{"$f":"IFERROR(VLOOKUP($A34,Filtro!$A$4:$AX$552,8,FALSE),0)","v":413},{"$f":"IFERROR(VLOOKUP($A34,Filtro!$A$4:$AX$552,9,FALSE),0)","v":484},{"$f":"IFERROR(VLOOKUP($A34,Filtro!$A$4:$AX$552,10,FALSE),0)","v":441},{"$f":"IFERROR(VLOOKUP($A34,Filtro!$A$4:$AX$552,11,FALSE),0)","v":176},{"$f":"IFERROR(VLOOKUP($A34,Filtro!$A$4:$AX$552,12,FALSE),0)","v":275},{"$f":"IFERROR(VLOOKUP($A34,Filtro!$A$4:$AX$552,13,FALSE),0)","v":14},{"$f":"IFERROR(VLOOKUP($A34,Filtro!$A$4:$AX$552,14,FALSE),0)","v":25},{"$f":"IFERROR(VLOOKUP($A34,Filtro!$A$4:$AX$552,15,FALSE),0)","v":0},{"$f":"IFERROR(VLOOKUP($A34,Filtro!$A$4:$AX$552,16,FALSE),0)","v":0},{"$f":"IFERROR(VLOOKUP($A34,Filtro!$A$4:$AX$552,17,FALSE),0)","v":0},{"$f":"IFERROR(VLOOKUP($A34,Filtro!$A$4:$AX$552,18,FALSE),0)","v":0},{"$f":"IFERROR(VLOOKUP($A34,Filtro!$A$4:$AX$552,19,FALSE),0)","v":0},{"$f":"IFERROR(VLOOKUP($A34,Filtro!$A$4:$AX$552,20,FALSE),0)","v":0},{"$f":"IFERROR(VLOOKUP($A34,Filtro!$A$4:$AX$552,21,FALSE),0)","v":0},{"$f":"IFERROR(VLOOKUP($A34,Filtro!$A$4:$AX$552,22,FALSE),0)","v":0},{"$f":"IFERROR(VLOOKUP($A34,Filtro!$A$4:$AX$552,23,FALSE),0)","v":0},{"$f":"IFERROR(VLOOKUP($A34,Filtro!$A$4:$AX$552,24,FALSE),0)","v":0},{"$f":"IFERROR(VLOOKUP($A34,Filtro!$A$4:$AX$552,25,FALSE),0)","v":0},{"$f":"IFERROR(VLOOKUP($A34,Filtro!$A$4:$AX$552,26,FALSE),0)","v":0},{"$f":"IFERROR(VLOOKUP($A34,Filtro!$A$4:$AX$552,27,FALSE),0)","v":0},{"$f":"IFERROR(VLOOKUP($A34,Filtro!$A$4:$AX$552,28,FALSE),0)","v":0},{"$f":"IFERROR(VLOOKUP($A34,Filtro!$A$4:$AX$552,29,FALSE),0)","v":0},{"$f":"IFERROR(VLOOKUP($A34,Filtro!$A$4:$AX$552,30,FALSE),0)","v":0},{"$f":"IFERROR(VLOOKUP($A34,Filtro!$A$4:$AX$552,31,FALSE),0)","v":0},{"$f":"IFERROR(VLOOKUP($A34,Filtro!$A$4:$AX$552,32,FALSE),0)","v":0},{"$f":"IFERROR(VLOOKUP($A34,Filtro!$A$4:$AX$552,33,FALSE),0)","v":0},{"$f":"IFERROR(VLOOKUP($A34,Filtro!$A$4:$AX$552,34,FALSE),0)","v":0},{"$f":"IFERROR(VLOOKUP($A34,Filtro!$A$4:$AX$552,35,FALSE),0)","v":0},{"$f":"IFERROR(VLOOKUP($A34,Filtro!$A$4:$AX$552,36,FALSE),0)","v":0},{"$f":"IFERROR(VLOOKUP($A34,Filtro!$A$4:$AX$552,37,FALSE),0)","v":0},{"$f":"IFERROR(VLOOKUP($A34,Filtro!$A$4:$AX$552,38,FALSE),0)","v":0},{"$f":"IFERROR(VLOOKUP($A34,Filtro!$A$4:$AX$552,39,FALSE),0)","v":5},{"$f":"IFERROR(VLOOKUP($A34,Filtro!$A$4:$AX$552,40,FALSE),0)","v":0},{"$f":"IFERROR(VLOOKUP($A34,Filtro!$A$4:$AX$552,41,FALSE),0)","v":7},{"$f":"IFERROR(VLOOKUP($A34,Filtro!$A$4:$AX$552,42,FALSE),0)","v":6},{"$f":"IFERROR(VLOOKUP($A34,Filtro!$A$4:$AX$552,43,FALSE),0)","v":2},{"$f":"IFERROR(VLOOKUP($A34,Filtro!$A$4:$AX$552,44,FALSE),0)","v":4},{"$f":"IFERROR(VLOOKUP($A34,Filtro!$A$4:$AX$552,45,FALSE),0)","v":222},{"$nulls":14},"","","","","",null,null,"","","",{"$nulls":10},0,0,0,0,0,null,null,0,0,0]
["P6231000","TRASTORNOS DE ANSIEDAD","TRASTORNO DE ESTRÉS POST TRAUMATICO",{"$f":"IFERROR(VLOOKUP($A35,Filtro!$A$4:$AX$552,2,FALSE),0)","v":273},{"$f":"IFERROR(VLOOKUP($A35,Filtro!$A$4:$AX$552,3,FALSE),0)","v":65},{"$f":"IFERROR(VLOOKUP($A35,Filtro!$A$4:$AX$552,4,FALSE),0)","v":208},{"$f":"IFERROR(VLOOKUP($A35,Filtro!$A$4:$AX$552,5,FALSE),0)","v":1},{"$f":"IFERROR(VLOOKUP($A35,Filtro!$A$4:$AX$552,6,FALSE),0)","v":2},{"$f":"IFERROR(VLOOKUP($A35,Filtro!$A$4:$AX$552,7,FALSE),0)","v":6},{"$f":"IFERROR(VLOOKUP($A35,Filtro!$A$4:$AX$552,8,FALSE),0)","v":5},{"$f":"IFERROR(VLOOKUP($A35,Filtro!$A$4:$AX$552,9,FALSE),0)","v":5},{"$f":"IFERROR(VLOOKUP($A35,Filtro!$A$4:$AX$552,10,FALSE),0)","v":21},{"$f":"IFERROR(VLOOKUP($A35,Filtro!$A$4:$AX$552,11,FALSE),0)","v":12},{"$f":"IFERROR(VLOOKUP($A35,Filtro!$A$4:$AX$552,12,FALSE),0)","v":29},{"$f":"IFERROR(VLOOKUP($A35,Filtro!$A$4:$AX$552,13,FALSE),0)","v":1},{"$f":"IFERROR(VLOOKUP($A35,Filtro!$A$4:$AX$552,14,FALSE),0)","v":19},{"$f":"IFERROR(VLOOKUP($A35,Filtro!$A$4:$AX$552,15,FALSE),0)","v":7},{"$f":"IFERROR(VLOOKUP($A35,Filtro!$A$4:$AX$552,16,FALSE),0)","v":14},{"$f":"IFERROR(VLOOKUP($A35,Filtro!$A$4:$AX$552,17,FALSE),0)","v":6},{"$f":"IFERROR(VLOOKUP($A35,Filtro!$A$4:$AX$552,18,FALSE),0)","v":14},{"$f":"IFERROR(VLOOKUP($A35,Filtro!$A$4:$AX$552,19,FALSE),0)","v":2},{"$f":"IFERROR(VLOOKUP($A35,Filtro!$A$4:$AX$552,20,FALSE),0)","v":11},{"$f":"IFERROR(VLOOKUP($A35,Filtro!$A$4:$AX$552,21,FALSE),0)","v":0},{"$f":"IFERROR(VLOOKUP($A35,Filtro!$A$4:$AX$552,22,FALSE),0)","v":13},{"$f":"IFERROR(VLOOKUP($A35,Filtro!$A$4:$AX$552,23,FALSE),0)","v":1},{"$f":"IFERROR(VLOOKUP($A35,Filtro!$A$4:$AX$552,24,FALSE),0)","v":11},{"$f":"IFERROR(VLOOKUP($A35,Filtro!$A$4:$AX$552,25,FALSE),0)","v":1},{"$f":"IFERROR(VLOOKUP($A35,Filtro!$A$4:$AX$552,26,FALSE),0)","v":16},{"$f":"IFERROR(VLOOKUP($A35,Filtro!$A$4:$AX$552,27,FALSE),0)","v":8},{"$f":"IFERROR(VLOOKUP($A35,Filtro!$A$4:$AX$552,28,FALSE),0)","v":17},{"$f":"IFERROR(VLOOKUP($A35,Filtro!$A$4:$AX$552,29,FALSE),0)","v":5},{"$f":"IFERROR(VLOOKUP($A35,Filtro!$A$4:$AX$552,30,FALSE),0)","v":11},{"$f":"IFERROR(VLOOKUP($A35,Filtro!$A$4:$AX$552,31,FALSE),0)","v":3},{"$f":"IFERROR(VLOOKUP($A35,Filtro!$A$4:$AX$552,32,FALSE),0)","v":10},{"$f":"IFERROR(VLOOKUP($A35,Filtro!$A$4:$AX$552,33,FALSE),0)","v":4},{"$f":"IFERROR(VLOOKUP($A35,Filtro!$A$4:$AX$552,34,FALSE),0)","v":5},{"$f":"IFERROR(VLOOKUP($A35,Filtro!$A$4:$AX$552,35,FALSE),0)","v":2},{"$f":"IFERROR(VLOOKUP($A35,Filtro!$A$4:$AX$552,36,FALSE),0)","v":8},{"$f":"IFERROR(VLOOKUP($A35,Filtro!$A$4:$AX$552,37,FALSE),0)","v":1},{"$f":"IFERROR(VLOOKUP($A35,Filtro!$A$4:$AX$552,38,FALSE),0)","v":2},{"$f":"IFERROR(VLOOKUP($A35,Filtro!$A$4:$AX$552,39,FALSE),0)","v":0},{"$f":"IFERROR(VLOOKUP($A35,Filtro!$A$4:$AX$552,40,FALSE),0)","v":5},{"$f":"IFERROR(VLOOKUP($A35,Filtro!$A$4:$AX$552,41,FALSE),0)","v":0},{"$f":"IFERROR(VLOOKUP($A35,Filtro!$A$4:$AX$552,42,FALSE),0)","v":1},{"$f":"IFERROR(VLOOKUP($A35,Filtro!$A$4:$AX$552,43,FALSE),0)","v":0},{"$f":"IFERROR(VLOOKUP($A35,Filtro!$A$4:$AX$552,44,FALSE),0)","v":2},{"$f":"IFERROR(VLOOKUP($A35,Filtro!$A$4:$AX$552,45,FALSE),0)","v":11},{"$nulls":12},{"$f":"IF($AO35>$F35,\"* La celda 'Gestantes' debe ser menor o igual al Total de Mujeres en control. \",\"\")","v":""},{"$f":"IF($AP35>$F35,\"* La celda 'Madres de Hijos menor de 5 años' debe ser menor o igual al Total de Mujeres en control. \",\"\")","v":""},"","","","","",{"$f":"IF(AND($D35<>0,$AO35=\"\"),\"* No olvide escribir en la celda de 'Gestantes' (Digite CERO si no tiene). \",\"\")","v":""},{"$f":"IF(AND($D35<>0,$AP35=\"\"),\"* No olvide escribir en la celda de 'Madres de Hijos menor de 5 años' (Digite CERO si no tiene). \",\"\")","v":""},"","","",{"$nulls":8},{"$f":"IF($AO35>$F35,1,0)","v":0},{"$f":"IF($AP35>$F35,1,0)","v":0},0,0,0,0,0,{"$f":"IF(AND($D35<>0,$AO35=\"\"),1,0)","v":0},{"$f":"IF(AND($D35<>0,$AP35=\"\"),1,0)","v":0},0,0,0]
["P6231100",null,"TRASTORNO DE PANICO CON AGOROFOBIA ",{"$f":"IFERROR(VLOOKUP($A36,Filtro!$A$4:$AX$552,2,FALSE),0)","v":151},{"$f":"IFERROR(VLOOKUP($A36,Filtro!$A$4:$AX$552,3,FALSE),0)","v":38},{"$f":"IFERROR(VLOOKUP($A36,Filtro!$A$4:$AX$552,4,FALSE),0)","v":113},{"$f":"IFERROR(VLOOKUP($A36,Filtro!$A$4:$AX$552,5,FALSE),0)","v":0},{"$f":"IFERROR(VLOOKUP($A36,Filtro!$A$4:$AX$552,6,FALSE),0)","v":0},{"$f":"IFERROR(VLOOKUP($A36,Filtro!$A$4:$AX$552,7,FALSE),0)","v":0},{"$f":"IFERROR(VLOOKUP($A36,Filtro!$A$4:$AX$552,8,FALSE),0)","v":0},{"$f":"IFERROR(VLOOKUP($A36,Filtro!$A$4:$AX$552,9,FALSE),0)","v":1},{"$f":"IFERROR(VLOOKUP($A36,Filtro!$A$4:$AX$552,10,FALSE),0)","v":6},{"$f":"IFERROR(VLOOKUP($A36,Filtro!$A$4:$AX$552,11,FALSE),0)","v":10},{"$f":"IFERROR(VLOOKUP($A36,Filtro!$A$4:$AX$552,12,FALSE),0)","v":14},{"$f":"IFERROR(VLOOKUP($A36,Filtro!$A$4:$AX$552,13,FALSE),0)","v":4},{"$f":"IFERROR(VLOOKUP($A36,Filtro!$A$4:$AX$552,14,FALSE),0)","v":5},{"$f":"IFERROR(VLOOKUP($A36,Filtro!$A$4:$AX$552,15,FALSE),0)","v":4},{"$f":"IFERROR(VLOOKUP($A36,Filtro!$A$4:$AX$552,16,FALSE),0)","v":15},{"$f":"IFERROR(VLOOKUP($A36,Filtro!$A$4:$AX$552,17,FALSE),0)","v":4},{"$f":"IFERROR(VLOOKUP($A36,Filtro!$A$4:$AX$552,18,FALSE),0)","v":5},{"$f":"IFERROR(VLOOKUP($A36,Filtro!$A$4:$AX$552,19,FALSE),0)","v":3},{"$f":"IFERROR(VLOOKUP($A36,Filtro!$A$4:$AX$552,20,FALSE),0)","v":9},{"$f":"IFERROR(VLOOKUP($A36,Filtro!$A$4:$AX$552,21,FALSE),0)","v":3},{"$f":"IFERROR(VLOOKUP($A36,Filtro!$A$4:$AX$552,22,FALSE),0)","v":10},{"$f":"IFERROR(VLOOKUP($A36,Filtro!$A$4:$AX$552,23,FALSE),0)","v":3},{"$f":"IFERROR(VLOOKUP($A36,Filtro!$A$4:$AX$552,24,FALSE),0)","v":7},{"$f":"IFERROR(VLOOKUP($A36,Filtro!$A$4:$AX$552,25,FALSE),0)","v":0},{"$f":"IFERROR(VLOOKUP($A36,Filtro!$A$4:$AX$552,26,FALSE),0)","v":12},{"$f":"IFERROR(VLOOKUP($A36,Filtro!$A$4:$AX$552,27,FALSE),0)","v":2},{"$f":"IFERROR(VLOOKUP($A36,Filtro!$A$4:$AX$552,28,FALSE),0)","v":8},{"$f":"IFERROR(VLOOKUP($A36,Filtro!$A$4:$AX$552,29,FALSE),0)","v":1},{"$f":"IFERROR(VLOOKUP($A36,Filtro!$A$4:$AX$552,30,FALSE),0)","v":7},{"$f":"IFERROR(VLOOKUP($A36,Filtro!$A$4:$AX$552,31,FALSE),0)","v":2},{"$f":"IFERROR(VLOOKUP($A36,Filtro!$A$4:$AX$552,32,FALSE),0)","v":5},{"$f":"IFERROR(VLOOKUP($A36,Filtro!$A$4:$AX$552,33,FALSE),0)","v":1},{"$f":"IFERROR(VLOOKUP($A36,Filtro!$A$4:$AX$552,34,FALSE),0)","v":3},{"$f":"IFERROR(VLOOKUP($A36,Filtro!$A$4:$AX$552,35,FALSE),0)","v":0},{"$f":"IFERROR(VLOOKUP($A36,Filtro!$A$4:$AX$552,36,FALSE),0)","v":5},{"$f":"IFERROR(VLOOKUP($A36,Filtro!$A$4:$AX$552,37,FALSE),0)","v":0},{"$f":"IFERROR(VLOOKUP($A36,Filtro!$A$4:$AX$552,38,FALSE),0)","v":2},{"$f":"IFERROR(VLOOKUP($A36,Filtro!$A$4:$AX$552,39,FALSE),0)","v":5},{"$f":"IFERROR(VLOOKUP($A36,Filtro!$A$4:$AX$552,40,FALSE),0)","v":3},{"$f":"IFERROR(VLOOKUP($A36,Filtro!$A$4:$AX$552,41,FALSE),0)","v":0},{"$f":"IFERROR(VLOOKUP($A36,Filtro!$A$4:$AX$552,42,FALSE),0)","v":1},{"$f":"IFERROR(VLOOKUP($A36,Filtro!$A$4:$AX$552,43,FALSE),0)","v":0},{"$f":"IFERROR(VLOOKUP($A36,Filtro!$A$4:$AX$552,44,FALSE),0)","v":0},{"$f":"IFERROR(VLOOKUP($A36,Filtro!$A$4:$AX$552,45,FALSE),0)","v":1},{"$nulls":12},"","","","","","","","","","","","",{"$nulls":8},0,0,0,0,0,0,0,0,0,0,0,0]
["P6231200",null,"TRASTORNO DE PANICO SIN AGOROFOBIA ",{"$f":"IFERROR(VLOOKUP($A37,Filtro!$A$4:$AX$552,2,FALSE),0)","v":880},{"$f":"IFERROR(VLOOKUP($A37,Filtro!$A$4:$AX$552,3,FALSE),0)","v":191},{"$f":"IFERROR(VLOOKUP($A37,Filtro!$A$4:$AX$552,4,FALSE),0)","v":689},{"$f":"IFERROR(VLOOKUP($A37,Filtro!$A$4:$AX$552,5,FALSE),0)","v":0},{"$f":"IFERROR(VLOOKUP($A37,Filtro!$A$4:$AX$552,6,FALSE),0)","v":0},{"$f":"IFERROR(VLOOKUP($A37,Filtro!$A$4:$AX$552,7,FALSE),0)","v":1},{"$f":"IFERROR(VLOOKUP($A37,Filtro!$A$4:$AX$552,8,FALSE),0)","v":4},{"$f":"IFERROR(VLOOKUP($A37,Filtro!$A$4:$AX$552,9,FALSE),0)","v":6},{"$f":"IFERROR(VLOOKUP($A37,Filtro!$A$4:$AX$552,10,FALSE),0)","v":15},{"$f":"IFERROR(VLOOKUP($A37,Filtro!$A$4:$AX$552,11,FALSE),0)","v":23},{"$f":"IFERROR(VLOOKUP($A37,Filtro!$A$4:$AX$552,12,FALSE),0)","v":54},{"$f":"IFERROR(VLOOKUP($A37,Filtro!$A$4:$AX$552,13,FALSE),0)","v":25},{"$f":"IFERROR(VLOOKUP($A37,Filtro!$A$4:$AX$552,14,FALSE),0)","v":52},{"$f":"IFERROR(VLOOKUP($A37,Filtro!$A$4:$AX$552,15,FALSE),0)","v":21},{"$f":"IFERROR(VLOOKUP($A37,Filtro!$A$4:$AX$552,16,FALSE),0)","v":62},{"$f":"IFERROR(VLOOKUP($A37,Filtro!$A$4:$AX$552,17,FALSE),0)","v":18},{"$f":"IFERROR(VLOOKUP($A37,Filtro!$A$4:$AX$552,18,FALSE),0)","v":80},{"$f":"IFERROR(VLOOKUP($A37,Filtro!$A$4:$AX$552,19,FALSE),0)","v":18},{"$f":"IFERROR(VLOOKUP($A37,Filtro!$A$4:$AX$552,20,FALSE),0)","v":58},{"$f":"IFERROR(VLOOKUP($A37,Filtro!$A$4:$AX$552,21,FALSE),0)","v":16},{"$f":"IFERROR(VLOOKUP($A37,Filtro!$A$4:$AX$552,22,FALSE),0)","v":65},{"$f":"IFERROR(VLOOKUP($A37,Filtro!$A$4:$AX$552,23,FALSE),0)","v":8},{"$f":"IFERROR(VLOOKUP($A37,Filtro!$A$4:$AX$552,24,FALSE),0)","v":56},{"$f":"IFERROR(VLOOKUP($A37,Filtro!$A$4:$AX$552,25,FALSE),0)","v":20},{"$f":"IFERROR(VLOOKUP($A37,Filtro!$A$4:$AX$552,26,FALSE),0)","v":66},{"$f":"IFERROR(VLOOKUP($A37,Filtro!$A$4:$AX$552,27,FALSE),0)","v":13},{"$f":"IFERROR(VLOOKUP($A37,Filtro!$A$4:$AX$552,28,FALSE),0)","v":51},{"$f":"IFERROR(VLOOKUP($A37,Filtro!$A$4:$AX$552,29,FALSE),0)","v":6},{"$f":"IFERROR(VLOOKUP($A37,Filtro!$A$4:$AX$552,30,FALSE),0)","v":39},{"$f":"IFERROR(VLOOKUP($A37,Filtro!$A$4:$AX$552,31,FALSE),0)","v":6},{"$f":"IFERROR(VLOOKUP($A37,Filtro!$A$4:$AX$552,32,FALSE),0)","v":36},{"$f":"IFERROR(VLOOKUP($A37,Filtro!$A$4:$AX$552,33,FALSE),0)","v":4},{"$f":"IFERROR(VLOOKUP($A37,Filtro!$A$4:$AX$552,34,FALSE),0)","v":27},{"$f":"IFERROR(VLOOKUP($A37,Filtro!$A$4:$AX$552,35,FALSE),0)","v":4},{"$f":"IFERROR(VLOOKUP($A37,Filtro!$A$4:$AX$552,36,FALSE),0)","v":14},{"$f":"IFERROR(VLOOKUP($A37,Filtro!$A$4:$AX$552,37,FALSE),0)","v":2},{"$f":"IFERROR(VLOOKUP($A37,Filtro!$A$4:$AX$552,38,FALSE),0)","v":10},{"$f":"IFERROR(VLOOKUP($A37,Filtro!$A$4:$AX$552,39,FALSE),0)","v":7},{"$f":"IFERROR(VLOOKUP($A37,Filtro!$A$4:$AX$552,40,FALSE),0)","v":31},{"$f":"IFERROR(VLOOKUP($A37,Filtro!$A$4:$AX$552,41,FALSE),0)","v":0},{"$f":"IFERROR(VLOOKUP($A37,Filtro!$A$4:$AX$552,42,FALSE),0)","v":2},{"$f":"IFERROR(VLOOKUP($A37,Filtro!$A$4:$AX$552,43,FALSE),0)","v":0},{"$f":"IFERROR(VLOOKUP($A37,Filtro!$A$4:$AX$552,44,FALSE),0)","v":3},{"$f":"IFERROR(VLOOKUP($A37,Filtro!$A$4:$AX$552,45,FALSE),0)","v":4},{"$nulls":12},"","","","","","","","","","","","",{"$nulls":8},0,0,0,0,0,0,0,0,0,0,0,0]
["P6231300",null,"FOBIAS SOCIALES",{"$f":"IFERROR(VLOOKUP($A38,Filtro!$A$4:$AX$552,2,FALSE),0)","v":60},{"$f":"IFERROR(VLOOKUP($A38,Filtro!$A$4:$AX$552,3,FALSE),0)","v":28},{"$f":"IFERROR(VLOOKUP($A38,Filtro!$A$4:$AX$552,4,FALSE),0)","v":32},{"$f":"IFERROR(VLOOKUP($A38,Filtro!$A$4:$AX$552,5,FALSE),0)","v":0},{"$f":"IFERROR(VLOOKUP($A38,Filtro!$A$4:$AX$552,6,FALSE),0)","v":0},{"$f":"IFERROR(VLOOKUP($A38,Filtro!$A$4:$AX$552,7,FALSE),0)","v":2},{"$f":"IFERROR(VLOOKUP($A38,Filtro!$A$4:$AX$552,8,FALSE),0)","v":0},{"$f":"IFERROR(VLOOKUP($A38,Filtro!$A$4:$AX$552,9,FALSE),0)","v":1},{"$f":"IFERROR(VLOOKUP($A38,Filtro!$A$4:$AX$552,10,FALSE),0)","v":2},{"$f":"IFERROR(VLOOKUP($A38,Filtro!$A$4:$AX$552,11,FALSE),0)","v":4},{"$f":"IFERROR(VLOOKUP($A38,Filtro!$A$4:$AX$552,12,FALSE),0)","v":9},{"$f":"IFERROR(VLOOKUP($A38,Filtro!$A$4:$AX$552,13,FALSE),0)","v":5},{"$f":"IFERROR(VLOOKUP($A38,Filtro!$A$4:$AX$552,14,FALSE),0)","v":2},{"$f":"IFERROR(VLOOKUP($A38,Filtro!$A$4:$AX$552,15,FALSE),0)","v":2},{"$f":"IFERROR(VLOOKUP($A38,Filtro!$A$4:$AX$552,16,FALSE),0)","v":0},{"$f":"IFERROR(VLOOKUP($A38,Filtro!$A$4:$AX$552,17,FALSE),0)","v":9},{"$f":"IFERROR(VLOOKUP($A38,Filtro!$A$4:$AX$552,18,FALSE),0)","v":8},{"$f":"IFERROR(VLOOKUP($A38,Filtro!$A$4:$AX$552,19,FALSE),0)","v":1},{"$f":"IFERROR(VLOOKUP($A38,Filtro!$A$4:$AX$552,20,FALSE),0)","v":1},{"$f":"IFERROR(VLOOKUP($A38,Filtro!$A$4:$AX$552,21,FALSE),0)","v":1},{"$f":"IFERROR(VLOOKUP($A38,Filtro!$A$4:$AX$552,22,FALSE),0)","v":3},{"$f":"IFERROR(VLOOKUP($A38,Filtro!$A$4:$AX$552,23,FALSE),0)","v":1},{"$f":"IFERROR(VLOOKUP($A38,Filtro!$A$4:$AX$552,24,FALSE),0)","v":1},{"$f":"IFERROR(VLOOKUP($A38,Filtro!$A$4:$AX$552,25,FALSE),0)","v":1},{"$f":"IFERROR(VLOOKUP($A38,Filtro!$A$4:$AX$552,26,FALSE),0)","v":2},{"$f":"IFERROR(VLOOKUP($A38,Filtro!$A$4:$AX$552,27,FALSE),0)","v":0},{"$f":"IFERROR(VLOOKUP($A38,Filtro!$A$4:$AX$552,28,FALSE),0)","v":1},{"$f":"IFERROR(VLOOKUP($A38,Filtro!$A$4:$AX$552,29,FALSE),0)","v":0},{"$f":"IFERROR(VLOOKUP($A38,Filtro!$A$4:$AX$552,30,FALSE),0)","v":1},{"$f":"IFERROR(VLOOKUP($A38,Filtro!$A$4:$AX$552,31,FALSE),0)","v":1},{"$f":"IFERROR(VLOOKUP($A38,Filtro!$A$4:$AX$552,32,FALSE),0)","v":1},{"$f":"IFERROR(VLOOKUP($A38,Filtro!$A$4:$AX$552,33,FALSE),0)","v":0},{"$f":"IFERROR(VLOOKUP($A38,Filtro!$A$4:$AX$552,34,FALSE),0)","v":0},{"$f":"IFERROR(VLOOKUP($A38,Filtro!$A$4:$AX$552,35,FALSE),0)","v":0},{"$f":"IFERROR(VLOOKUP($A38,Filtro!$A$4:$AX$552,36,FALSE),0)","v":0},{"$f":"IFERROR(VLOOKUP($A38,Filtro!$A$4:$AX$552,37,FALSE),0)","v":0},{"$f":"IFERROR(VLOOKUP($A38,Filtro!$A$4:$AX$552,38,FALSE),0)","v":1},{"$f":"IFERROR(VLOOKUP($A38,Filtro!$A$4:$AX$552,39,FALSE),0)","v":0},{"$f":"IFERROR(VLOOKUP($A38,Filtro!$A$4:$AX$552,40,FALSE),0)","v":1},{"$f":"IFERROR(VLOOKUP($A38,Filtro!$A$4:$AX$552,41,FALSE),0)","v":0},{"$f":"IFERROR(VLOOKUP($A38,Filtro!$A$4:$AX$552,42,FALSE),0)","v":0},{"$f":"IFERROR(VLOOKUP($A38,Filtro!$A$4:$AX$552,43,FALSE),0)","v":0},{"$f":"IFERROR(VLOOKUP($A38,Filtro!$A$4:$AX$552,44,FALSE),0)","v":0},{"$f":"IFERROR(VLOOKUP($A38,Filtro!$A$4:$AX$552,45,FALSE),0)","v":0},{"$nulls":12},"","","","","","","","","","","","",{"$nulls":8},0,0,0,0,0,0,0,0,0,0,0,0]
["P6231400",null,"TRASTORNOS DE ANSIEDAD GENERALIZADA",{"$f":"IFERROR(VLOOKUP($A39,Filtro!$A$4:$AX$552,2,FALSE),0)","v":2022},{"$f":"IFERROR(VLOOKUP($A39,Filtro!$A$4:$AX$552,3,FALSE),0)","v":422},{"$f":"IFERROR(VLOOKUP($A39,Filtro!$A$4:$AX$552,4,FALSE),0)","v":1600},{"$f":"IFERROR(VLOOKUP($A39,Filtro!$A$4:$AX$552,5,FALSE),0)","v":1},{"$f":"IFERROR(VLOOKUP($A39,Filtro!$A$4:$AX$552,6,FALSE),0)","v":1},{"$f":"IFERROR(VLOOKUP($A39,Filtro!$A$4:$AX$552,7,FALSE),0)","v":4},{"$f":"IFERROR(VLOOKUP($A39,Filtro!$A$4:$AX$552,8,FALSE),0)","v":10},{"$f":"IFERROR(VLOOKUP($A39,Filtro!$A$4:$AX$552,9,FALSE),0)","v":26},{"$f":"IFERROR(VLOOKUP($A39,Filtro!$A$4:$AX$552,10,FALSE),0)","v":30},{"$f":"IFERROR(VLOOKUP($A39,Filtro!$A$4:$AX$552,11,FALSE),0)","v":43},{"$f":"IFERROR(VLOOKUP($A39,Filtro!$A$4:$AX$552,12,FALSE),0)","v":90},{"$f":"IFERROR(VLOOKUP($A39,Filtro!$A$4:$AX$552,13,FALSE),0)","v":42},{"$f":"IFERROR(VLOOKUP($A39,Filtro!$A$4:$AX$552,14,FALSE),0)","v":77},{"$f":"IFERROR(VLOOKUP($A39,Filtro!$A$4:$AX$552,15,FALSE),0)","v":22},{"$f":"IFERROR(VLOOKUP($A39,Filtro!$A$4:$AX$552,16,FALSE),0)","v":91},{"$f":"IFERROR(VLOOKUP($A39,Filtro!$A$4:$AX$552,17,FALSE),0)","v":27},{"$f":"IFERROR(VLOOKUP($A39,Filtro!$A$4:$AX$552,18,FALSE),0)","v":168},{"$f":"IFERROR(VLOOKUP($A39,Filtro!$A$4:$AX$552,19,FALSE),0)","v":28},{"$f":"IFERROR(VLOOKUP($A39,Filtro!$A$4:$AX$552,20,FALSE),0)","v":111},{"$f":"IFERROR(VLOOKUP($A39,Filtro!$A$4:$AX$552,21,FALSE),0)","v":27},{"$f":"IFERROR(VLOOKUP($A39,Filtro!$A$4:$AX$552,22,FALSE),0)","v":109},{"$f":"IFERROR(VLOOKUP($A39,Filtro!$A$4:$AX$552,23,FALSE),0)","v":32},{"$f":"IFERROR(VLOOKUP($A39,Filtro!$A$4:$AX$552,24,FALSE),0)","v":150},{"$f":"IFERROR(VLOOKUP($A39,Filtro!$A$4:$AX$552,25,FALSE),0)","v":30},{"$f":"IFERROR(VLOOKUP($A39,Filtro!$A$4:$AX$552,26,FALSE),0)","v":153},{"$f":"IFERROR(VLOOKUP($A39,Filtro!$A$4:$AX$552,27,FALSE),0)","v":27},{"$f":"IFERROR(VLOOKUP($A39,Filtro!$A$4:$AX$552,28,FALSE),0)","v":119},{"$f":"IFERROR(VLOOKUP($A39,Filtro!$A$4:$AX$552,29,FALSE),0)","v":27},{"$f":"IFERROR(VLOOKUP($A39,Filtro!$A$4:$AX$552,30,FALSE),0)","v":110},{"$f":"IFERROR(VLOOKUP($A39,Filtro!$A$4:$AX$552,31,FALSE),0)","v":28},{"$f":"IFERROR(VLOOKUP($A39,Filtro!$A$4:$AX$552,32,FALSE),0)","v":126},{"$f":"IFERROR(VLOOKUP($A39,Filtro!$A$4:$AX$552,33,FALSE),0)","v":21},{"$f":"IFERROR(VLOOKUP($A39,Filtro!$A$4:$AX$552,34,FALSE),0)","v":123},{"$f":"IFERROR(VLOOKUP($A39,Filtro!$A$4:$AX$552,35,FALSE),0)","v":17},{"$f":"IFERROR(VLOOKUP($A39,Filtro!$A$4:$AX$552,36,FALSE),0)","v":75},{"$f":"IFERROR(VLOOKUP($A39,Filtro!$A$4:$AX$552,37,FALSE),0)","v":20},{"$f":"IFERROR(VLOOKUP($A39,Filtro!$A$4:$AX$552,38,FALSE),0)","v":57},{"$f":"IFERROR(VLOOKUP($A39,Filtro!$A$4:$AX$552,39,FALSE),0)","v":4},{"$f":"IFERROR(VLOOKUP($A39,Filtro!$A$4:$AX$552,40,FALSE),0)","v":52},{"$f":"IFERROR(VLOOKUP($A39,Filtro!$A$4:$AX$552,41,FALSE),0)","v":2},{"$f":"IFERROR(VLOOKUP($A39,Filtro!$A$4:$AX$552,42,FALSE),0)","v":11},{"$f":"IFERROR(VLOOKUP($A39,Filtro!$A$4:$AX$552,43,FALSE),0)","v":0},{"$f":"IFERROR(VLOOKUP($A39,Filtro!$A$4:$AX$552,44,FALSE),0)","v":5},{"$f":"IFERROR(VLOOKUP($A39,Filtro!$A$4:$AX$552,45,FALSE),0)","v":14},{"$nulls":12},"","","","","","","","","","","","",{"$nulls":8},0,0,0,0,0,0,0,0,0,0,0,0]
["P6231500",null,"OTROS TRASTORNOS DE ANSIEDAD",{"$f":"IFERROR(VLOOKUP($A40,Filtro!$A$4:$AX$552,2,FALSE),0)","v":6645},{"$f":"IFERROR(VLOOKUP($A40,Filtro!$A$4:$AX$552,3,FALSE),0)","v":1493},{"$f":"IFERROR(VLOOKUP($A40,Filtro!$A$4:$AX$552,4,FALSE),0)","v":5152},{"$f":"IFERROR(VLOOKUP($A40,Filtro!$A$4:$AX$552,5,FALSE),0)","v":6},{"$f":"IFERROR(VLOOKUP($A40,Filtro!$A$4:$AX$552,6,FALSE),0)","v":2},{"$f":"IFERROR(VLOOKUP($A40,Filtro!$A$4:$AX$552,7,FALSE),0)","v":79},{"$f":"IFERROR(VLOOKUP($A40,Filtro!$A$4:$AX$552,8,FALSE),0)","v":98},{"$f":"IFERROR(VLOOKUP($A40,Filtro!$A$4:$AX$552,9,FALSE),0)","v":123},{"$f":"IFERROR(VLOOKUP($A40,Filtro!$A$4:$AX$552,10,FALSE),0)","v":156},{"$f":"IFERROR(VLOOKUP($A40,Filtro!$A$4:$AX$552,11,FALSE),0)","v":145},{"$f":"IFERROR(VLOOKUP($A40,Filtro!$A$4:$AX$552,12,FALSE),0)","v":349},{"$f":"IFERROR(VLOOKUP($A40,Filtro!$A$4:$AX$552,13,FALSE),0)","v":113},{"$f":"IFERROR(VLOOKUP($A40,Filtro!$A$4:$AX$552,14,FALSE),0)","v":346},{"$f":"IFERROR(VLOOKUP($A40,Filtro!$A$4:$AX$552,15,FALSE),0)","v":93},{"$f":"IFERROR(VLOOKUP($A40,Filtro!$A$4:$AX$552,16,FALSE),0)","v":398},{"$f":"IFERROR(VLOOKUP($A40,Filtro!$A$4:$AX$552,17,FALSE),0)","v":74},{"$f":"IFERROR(VLOOKUP($A40,Filtro!$A$4:$AX$552,18,FALSE),0)","v":355},{"$f":"IFERROR(VLOOKUP($A40,Filtro!$A$4:$AX$552,19,FALSE),0)","v":97},{"$f":"IFERROR(VLOOKUP($A40,Filtro!$A$4:$AX$552,20,FALSE),0)","v":378},{"$f":"IFERROR(VLOOKUP($A40,Filtro!$A$4:$AX$552,21,FALSE),0)","v":94},{"$f":"IFERROR(VLOOKUP($A40,Filtro!$A$4:$AX$552,22,FALSE),0)","v":400},{"$f":"IFERROR(VLOOKUP($A40,Filtro!$A$4:$AX$552,23,FALSE),0)","v":80},{"$f":"IFERROR(VLOOKUP($A40,Filtro!$A$4:$AX$552,24,FALSE),0)","v":406},{"$f":"IFERROR(VLOOKUP($A40,Filtro!$A$4:$AX$552,25,FALSE),0)","v":76},{"$f":"IFERROR(VLOOKUP($A40,Filtro!$A$4:$AX$552,26,FALSE),0)","v":410},{"$f":"IFERROR(VLOOKUP($A40,Filtro!$A$4:$AX$552,27,FALSE),0)","v":98},{"$f":"IFERROR(VLOOKUP($A40,Filtro!$A$4:$AX$552,28,FALSE),0)","v":360},{"$f":"IFERROR(VLOOKUP($A40,Filtro!$A$4:$AX$552,29,FALSE),0)","v":98},{"$f":"IFERROR(VLOOKUP($A40,Filtro!$A$4:$AX$552,30,FALSE),0)","v":422},{"$f":"IFERROR(VLOOKUP($A40,Filtro!$A$4:$AX$552,31,FALSE),0)","v":109},{"$f":"IFERROR(VLOOKUP($A40,Filtro!$A$4:$AX$552,32,FALSE),0)","v":408},{"$f":"IFERROR(VLOOKUP($A40,Filtro!$A$4:$AX$552,33,FALSE),0)","v":88},{"$f":"IFERROR(VLOOKUP($A40,Filtro!$A$4:$AX$552,34,FALSE),0)","v":299},{"$f":"IFERROR(VLOOKUP($A40,Filtro!$A$4:$AX$552,35,FALSE),0)","v":73},{"$f":"IFERROR(VLOOKUP($A40,Filtro!$A$4:$AX$552,36,FALSE),0)","v":203},{"$f":"IFERROR(VLOOKUP($A40,Filtro!$A$4:$AX$552,37,FALSE),0)","v":47},{"$f":"IFERROR(VLOOKUP($A40,Filtro!$A$4:$AX$552,38,FALSE),0)","v":162},{"$f":"IFERROR(VLOOKUP($A40,Filtro!$A$4:$AX$552,39,FALSE),0)","v":90},{"$f":"IFERROR(VLOOKUP($A40,Filtro!$A$4:$AX$552,40,FALSE),0)","v":284},{"$f":"IFERROR(VLOOKUP($A40,Filtro!$A$4:$AX$552,41,FALSE),0)","v":9},{"$f":"IFERROR(VLOOKUP($A40,Filtro!$A$4:$AX$552,42,FALSE),0)","v":40},{"$f":"IFERROR(VLOOKUP($A40,Filtro!$A$4:$AX$552,43,FALSE),0)","v":4},{"$f":"IFERROR(VLOOKUP($A40,Filtro!$A$4:$AX$552,44,FALSE),0)","v":19},{"$f":"IFERROR(VLOOKUP($A40,Filtro!$A$4:$AX$552,45,FALSE),0)","v":41},{"$nulls":12},"","","","","","","","","","","","",{"$nulls":8},0,0,0,0,0,0,0,0,0,0,0,0]
["P6222300","DEMENCIAS (INCLUYE ALZHEIMER)","LEVE",{"$f":"IFERROR(VLOOKUP($A41,Filtro!$A$4:$AX$552,2,FALSE),0)","v":272},{"$f":"IFERROR(VLOOKUP($A41,Filtro!$A$4:$AX$552,3,FALSE),0)","v":90},{"$f":"IFERROR(VLOOKUP($A41,Filtro!$A$4:$AX$552,4,FALSE),0)","v":182},{"$f":"IFERROR(VLOOKUP($A41,Filtro!$A$4:$AX$552,5,FALSE),0)","v":0},{"$f":"IFERROR(VLOOKUP($A41,Filtro!$A$4:$AX$552,6,FALSE),0)","v":0},{"$f":"IFERROR(VLOOKUP($A41,Filtro!$A$4:$AX$552,7,FALSE),0)","v":0},{"$f":"IFERROR(VLOOKUP($A41,Filtro!$A$4:$AX$552,8,FALSE),0)","v":0},{"$f":"IFERROR(VLOOKUP($A41,Filtro!$A$4:$AX$552,9,FALSE),0)","v":0},{"$f":"IFERROR(VLOOKUP($A41,Filtro!$A$4:$AX$552,10,FALSE),0)","v":0},{"$f":"IFERROR(VLOOKUP($A41,Filtro!$A$4:$AX$552,11,FALSE),0)","v":1},{"$f":"IFERROR(VLOOKUP($A41,Filtro!$A$4:$AX$552,12,FALSE),0)","v":0},{"$f":"IFERROR(VLOOKUP($A41,Filtro!$A$4:$AX$552,13,FALSE),0)","v":0},{"$f":"IFERROR(VLOOKUP($A41,Filtro!$A$4:$AX$552,14,FALSE),0)","v":1},{"$f":"IFERROR(VLOOKUP($A41,Filtro!$A$4:$AX$552,15,FALSE),0)","v":0},{"$f":"IFERROR(VLOOKUP($A41,Filtro!$A$4:$AX$552,16,FALSE),0)","v":1},{"$f":"IFERROR(VLOOKUP($A41,Filtro!$A$4:$AX$552,17,FALSE),0)","v":9},{"$f":"IFERROR(VLOOKUP($A41,Filtro!$A$4:$AX$552,18,FALSE),0)","v":17},{"$f":"IFERROR(VLOOKUP($A41,Filtro!$A$4:$AX$552,19,FALSE),0)","v":4},{"$f":"IFERROR(VLOOKUP($A41,Filtro!$A$4:$AX$552,20,FALSE),0)","v":3},{"$f":"IFERROR(VLOOKUP($A41,Filtro!$A$4:$AX$552,21,FALSE),0)","v":5},{"$f":"IFERROR(VLOOKUP($A41,Filtro!$A$4:$AX$552,22,FALSE),0)","v":9},{"$f":"IFERROR(VLOOKUP($A41,Filtro!$A$4:$AX$552,23,FALSE),0)","v":4},{"$f":"IFERROR(VLOOKUP($A41,Filtro!$A$4:$AX$552,24,FALSE),0)","v":31},{"$f":"IFERROR(VLOOKUP($A41,Filtro!$A$4:$AX$552,25,FALSE),0)","v":0},{"$f":"IFERROR(VLOOKUP($A41,Filtro!$A$4:$AX$552,26,FALSE),0)","v":2},{"$f":"IFERROR(VLOOKUP($A41,Filtro!$A$4:$AX$552,27,FALSE),0)","v":4},{"$f":"IFERROR(VLOOKUP($A41,Filtro!$A$4:$AX$552,28,FALSE),0)","v":2},{"$f":"IFERROR(VLOOKUP($A41,Filtro!$A$4:$AX$552,29,FALSE),0)","v":3},{"$f":"IFERROR(VLOOKUP($A41,Filtro!$A$4:$AX$552,30,FALSE),0)","v":4},{"$f":"IFERROR(VLOOKUP($A41,Filtro!$A$4:$AX$552,31,FALSE),0)","v":9},{"$f":"IFERROR(VLOOKUP($A41,Filtro!$A$4:$AX$552,32,FALSE),0)","v":10},{"$f":"IFERROR(VLOOKUP($A41,Filtro!$A$4:$AX$552,33,FALSE),0)","v":7},{"$f":"IFERROR(VLOOKUP($A41,Filtro!$A$4:$AX$552,34,FALSE),0)","v":13},{"$f":"IFERROR(VLOOKUP($A41,Filtro!$A$4:$AX$552,35,FALSE),0)","v":17},{"$f":"IFERROR(VLOOKUP($A41,Filtro!$A$4:$AX$552,36,FALSE),0)","v":23},{"$f":"IFERROR(VLOOKUP($A41,Filtro!$A$4:$AX$552,37,FALSE),0)","v":27},{"$f":"IFERROR(VLOOKUP($A41,Filtro!$A$4:$AX$552,38,FALSE),0)","v":66},{"$f":"IFERROR(VLOOKUP($A41,Filtro!$A$4:$AX$552,39,FALSE),0)","v":0},{"$f":"IFERROR(VLOOKUP($A41,Filtro!$A$4:$AX$552,40,FALSE),0)","v":0},{"$f":"IFERROR(VLOOKUP($A41,Filtro!$A$4:$AX$552,41,FALSE),0)","v":0},{"$f":"IFERROR(VLOOKUP($A41,Filtro!$A$4:$AX$552,42,FALSE),0)","v":0},{"$f":"IFERROR(VLOOKUP($A41,Filtro!$A$4:$AX$552,43,FALSE),0)","v":0},{"$f":"IFERROR(VLOOKUP($A41,Filtro!$A$4:$AX$552,44,FALSE),0)","v":1},{"$f":"IFERROR(VLOOKUP($A41,Filtro!$A$4:$AX$552,45,FALSE),0)","v":0},{"$nulls":12},"","","","","","","","","","","","",{"$nulls":8},0,0,0,0,0,0,0,0,0,0,0,0]
["P6230100",null,"MODERADO",{"$f":"IFERROR(VLOOKUP($A42,Filtro!$A$4:$AX$552,2,FALSE),0)","v":217},{"$f":"IFERROR(VLOOKUP($A42,Filtro!$A$4:$AX$552,3,FALSE),0)","v":72},{"$f":"IFERROR(VLOOKUP($A42,Filtro!$A$4:$AX$552,4,FALSE),0)","v":145},{"$f":"IFERROR(VLOOKUP($A42,Filtro!$A$4:$AX$552,5,FALSE),0)","v":0},{"$f":"IFERROR(VLOOKUP($A42,Filtro!$A$4:$AX$552,6,FALSE),0)","v":0},{"$f":"IFERROR(VLOOKUP($A42,Filtro!$A$4:$AX$552,7,FALSE),0)","v":0},{"$f":"IFERROR(VLOOKUP($A42,Filtro!$A$4:$AX$552,8,FALSE),0)","v":0},{"$f":"IFERROR(VLOOKUP($A42,Filtro!$A$4:$AX$552,9,FALSE),0)","v":0},{"$f":"IFERROR(VLOOKUP($A42,Filtro!$A$4:$AX$552,10,FALSE),0)","v":0},{"$f":"IFERROR(VLOOKUP($A42,Filtro!$A$4:$AX$552,11,FALSE),0)","v":0},{"$f":"IFERROR(VLOOKUP($A42,Filtro!$A$4:$AX$552,12,FALSE),0)","v":0},{"$f":"IFERROR(VLOOKUP($A42,Filtro!$A$4:$AX$552,13,FALSE),0)","v":0},{"$f":"IFERROR(VLOOKUP($A42,Filtro!$A$4:$AX$552,14,FALSE),0)","v":0},{"$f":"IFERROR(VLOOKUP($A42,Filtro!$A$4:$AX$552,15,FALSE),0)","v":0},{"$f":"IFERROR(VLOOKUP($A42,Filtro!$A$4:$AX$552,16,FALSE),0)","v":0},{"$f":"IFERROR(VLOOKUP($A42,Filtro!$A$4:$AX$552,17,FALSE),0)","v":0},{"$f":"IFERROR(VLOOKUP($A42,Filtro!$A$4:$AX$552,18,FALSE),0)","v":1},{"$f":"IFERROR(VLOOKUP($A42,Filtro!$A$4:$AX$552,19,FALSE),0)","v":0},{"$f":"IFERROR(VLOOKUP($A42,Filtro!$A$4:$AX$552,20,FALSE),0)","v":0},{"$f":"IFERROR(VLOOKUP($A42,Filtro!$A$4:$AX$552,21,FALSE),0)","v":0},{"$f":"IFERROR(VLOOKUP($A42,Filtro!$A$4:$AX$552,22,FALSE),0)","v":0},{"$f":"IFERROR(VLOOKUP($A42,Filtro!$A$4:$AX$552,23,FALSE),0)","v":0},{"$f":"IFERROR(VLOOKUP($A42,Filtro!$A$4:$AX$552,24,FALSE),0)","v":0},{"$f":"IFERROR(VLOOKUP($A42,Filtro!$A$4:$AX$552,25,FALSE),0)","v":0},{"$f":"IFERROR(VLOOKUP($A42,Filtro!$A$4:$AX$552,26,FALSE),0)","v":2},{"$f":"IFERROR(VLOOKUP($A42,Filtro!$A$4:$AX$552,27,FALSE),0)","v":1},{"$f":"IFERROR(VLOOKUP($A42,Filtro!$A$4:$AX$552,28,FALSE),0)","v":1},{"$f":"IFERROR(VLOOKUP($A42,Filtro!$A$4:$AX$552,29,FALSE),0)","v":1},{"$f":"IFERROR(VLOOKUP($A42,Filtro!$A$4:$AX$552,30,FALSE),0)","v":4},{"$f":"IFERROR(VLOOKUP($A42,Filtro!$A$4:$AX$552,31,FALSE),0)","v":5},{"$f":"IFERROR(VLOOKUP($A42,Filtro!$A$4:$AX$552,32,FALSE),0)","v":9},{"$f":"IFERROR(VLOOKUP($A42,Filtro!$A$4:$AX$552,33,FALSE),0)","v":13},{"$f":"IFERROR(VLOOKUP($A42,Filtro!$A$4:$AX$552,34,FALSE),0)","v":14},{"$f":"IFERROR(VLOOKUP($A42,Filtro!$A$4:$AX$552,35,FALSE),0)","v":15},{"$f":"IFERROR(VLOOKUP($A42,Filtro!$A$4:$AX$552,36,FALSE),0)","v":11},{"$f":"IFERROR(VLOOKUP($A42,Filtro!$A$4:$AX$552,37,FALSE),0)","v":37},{"$f":"IFERROR(VLOOKUP($A42,Filtro!$A$4:$AX$552,38,FALSE),0)","v":103},{"$f":"IFERROR(VLOOKUP($A42,Filtro!$A$4:$AX$552,39,FALSE),0)","v":0},{"$f":"IFERROR(VLOOKUP($A42,Filtro!$A$4:$AX$552,40,FALSE),0)","v":0},{"$f":"IFERROR(VLOOKUP($A42,Filtro!$A$4:$AX$552,41,FALSE),0)","v":0},{"$f":"IFERROR(VLOOKUP($A42,Filtro!$A$4:$AX$552,42,FALSE),0)","v":0},{"$f":"IFERROR(VLOOKUP($A42,Filtro!$A$4:$AX$552,43,FALSE),0)","v":0},{"$f":"IFERROR(VLOOKUP($A42,Filtro!$A$4:$AX$552,44,FALSE),0)","v":0},{"$f":"IFERROR(VLOOKUP($A42,Filtro!$A$4:$AX$552,45,FALSE),0)","v":0},{"$nulls":12},"","","","","","","","","","","","",{"$nulls":8},0,0,0,0,0,0,0,0,0,0,0,0]
["P6230200",null,"AVANZADO",{"$f":"IFERROR(VLOOKUP($A43,Filtro!$A$4:$AX$552,2,FALSE),0)","v":70},{"$f":"IFERROR(VLOOKUP($A43,Filtro!$A$4:$AX$552,3,FALSE),0)","v":23},{"$f":"IFERROR(VLOOKUP($A43,Filtro!$A$4:$AX$552,4,FALSE),0)","v":47},{"$f":"IFERROR(VLOOKUP($A43,Filtro!$A$4:$AX$552,5,FALSE),0)","v":0},{"$f":"IFERROR(VLOOKUP($A43,Filtro!$A$4:$AX$552,6,FALSE),0)","v":0},{"$f":"IFERROR(VLOOKUP($A43,Filtro!$A$4:$AX$552,7,FALSE),0)","v":0},{"$f":"IFERROR(VLOOKUP($A43,Filtro!$A$4:$AX$552,8,FALSE),0)","v":0},{"$f":"IFERROR(VLOOKUP($A43,Filtro!$A$4:$AX$552,9,FALSE),0)","v":0},{"$f":"IFERROR(VLOOKUP($A43,Filtro!$A$4:$AX$552,10,FALSE),0)","v":0},{"$f":"IFERROR(VLOOKUP($A43,Filtro!$A$4:$AX$552,11,FALSE),0)","v":0},{"$f":"IFERROR(VLOOKUP($A43,Filtro!$A$4:$AX$552,12,FALSE),0)","v":0},{"$f":"IFERROR(VLOOKUP($A43,Filtro!$A$4:$AX$552,13,FALSE),0)","v":0},{"$f":"IFERROR(VLOOKUP($A43,Filtro!$A$4:$AX$552,14,FALSE),0)","v":0},{"$f":"IFERROR(VLOOKUP($A43,Filtro!$A$4:$AX$552,15,FALSE),0)","v":1},{"$f":"IFERROR(VLOOKUP($A43,Filtro!$A$4:$AX$552,16,FALSE),0)","v":1},{"$f":"IFERROR(VLOOKUP($A43,Filtro!$A$4:$AX$552,17,FALSE),0)","v":0},{"$f":"IFERROR(VLOOKUP($A43,Filtro!$A$4:$AX$552,18,FALSE),0)","v":1},{"$f":"IFERROR(VLOOKUP($A43,Filtro!$A$4:$AX$552,19,FALSE),0)","v":0},{"$f":"IFERROR(VLOOKUP($A43,Filtro!$A$4:$AX$552,20,FALSE),0)","v":0},{"$f":"IFERROR(VLOOKUP($A43,Filtro!$A$4:$AX$552,21,FALSE),0)","v":3},{"$f":"IFERROR(VLOOKUP($A43,Filtro!$A$4:$AX$552,22,FALSE),0)","v":0},{"$f":"IFERROR(VLOOKUP($A43,Filtro!$A$4:$AX$552,23,FALSE),0)","v":0},{"$f":"IFERROR(VLOOKUP($A43,Filtro!$A$4:$AX$552,24,FALSE),0)","v":0},{"$f":"IFERROR(VLOOKUP($A43,Filtro!$A$4:$AX$552,25,FALSE),0)","v":1},{"$f":"IFERROR(VLOOKUP($A43,Filtro!$A$4:$AX$552,26,FALSE),0)","v":0},{"$f":"IFERROR(VLOOKUP($A43,Filtro!$A$4:$AX$552,27,FALSE),0)","v":0},{"$f":"IFERROR(VLOOKUP($A43,Filtro!$A$4:$AX$552,28,FALSE),0)","v":1},{"$f":"IFERROR(VLOOKUP($A43,Filtro!$A$4:$AX$552,29,FALSE),0)","v":0},{"$f":"IFERROR(VLOOKUP($A43,Filtro!$A$4:$AX$552,30,FALSE),0)","v":1},{"$f":"IFERROR(VLOOKUP($A43,Filtro!$A$4:$AX$552,31,FALSE),0)","v":1},{"$f":"IFERROR(VLOOKUP($A43,Filtro!$A$4:$AX$552,32,FALSE),0)","v":1},{"$f":"IFERROR(VLOOKUP($A43,Filtro!$A$4:$AX$552,33,FALSE),0)","v":3},{"$f":"IFERROR(VLOOKUP($A43,Filtro!$A$4:$AX$552,34,FALSE),0)","v":2},{"$f":"IFERROR(VLOOKUP($A43,Filtro!$A$4:$AX$552,35,FALSE),0)","v":3},{"$f":"IFERROR(VLOOKUP($A43,Filtro!$A$4:$AX$552,36,FALSE),0)","v":6},{"$f":"IFERROR(VLOOKUP($A43,Filtro!$A$4:$AX$552,37,FALSE),0)","v":11},{"$f":"IFERROR(VLOOKUP($A43,Filtro!$A$4:$AX$552,38,FALSE),0)","v":34},{"$f":"IFERROR(VLOOKUP($A43,Filtro!$A$4:$AX$552,39,FALSE),0)","v":0},{"$f":"IFERROR(VLOOKUP($A43,Filtro!$A$4:$AX$552,40,FALSE),0)","v":0},{"$f":"IFERROR(VLOOKUP($A43,Filtro!$A$4:$AX$552,41,FALSE),0)","v":0},{"$f":"IFERROR(VLOOKUP($A43,Filtro!$A$4:$AX$552,42,FALSE),0)","v":0},{"$f":"IFERROR(VLOOKUP($A43,Filtro!$A$4:$AX$552,43,FALSE),0)","v":0},{"$f":"IFERROR(VLOOKUP($A43,Filtro!$A$4:$AX$552,44,FALSE),0)","v":0},{"$f":"IFERROR(VLOOKUP($A43,Filtro!$A$4:$AX$552,45,FALSE),0)","v":1},{"$nulls":12},"","","","","","","","","","","","",{"$nulls":8},0,0,0,0,0,0,0,0,0,0,0,0]
["P6222400","ESQUIZOFRENIA",null,{"$f":"IFERROR(VLOOKUP($A44,Filtro!$A$4:$AX$552,2,FALSE),0)","v":387},{"$f":"IFERROR(VLOOKUP($A44,Filtro!$A$4:$AX$552,3,FALSE),0)","v":215},{"$f":"IFERROR(VLOOKUP($A44,Filtro!$A$4:$AX$552,4,FALSE),0)","v":172},{"$f":"IFERROR(VLOOKUP($A44,Filtro!$A$4:$AX$552,5,FALSE),0)","v":0},{"$f":"IFERROR(VLOOKUP($A44,Filtro!$A$4:$AX$552,6,FALSE),0)","v":0},{"$f":"IFERROR(VLOOKUP($A44,Filtro!$A$4:$AX$552,7,FALSE),0)","v":0},{"$f":"IFERROR(VLOOKUP($A44,Filtro!$A$4:$AX$552,8,FALSE),0)","v":0},{"$f":"IFERROR(VLOOKUP($A44,Filtro!$A$4:$AX$552,9,FALSE),0)","v":2},{"$f":"IFERROR(VLOOKUP($A44,Filtro!$A$4:$AX$552,10,FALSE),0)","v":1},{"$f":"IFERROR(VLOOKUP($A44,Filtro!$A$4:$AX$552,11,FALSE),0)","v":12},{"$f":"IFERROR(VLOOKUP($A44,Filtro!$A$4:$AX$552,12,FALSE),0)","v":9},{"$f":"IFERROR(VLOOKUP($A44,Filtro!$A$4:$AX$552,13,FALSE),0)","v":27},{"$f":"IFERROR(VLOOKUP($A44,Filtro!$A$4:$AX$552,14,FALSE),0)","v":3},{"$f":"IFERROR(VLOOKUP($A44,Filtro!$A$4:$AX$552,15,FALSE),0)","v":23},{"$f":"IFERROR(VLOOKUP($A44,Filtro!$A$4:$AX$552,16,FALSE),0)","v":7},{"$f":"IFERROR(VLOOKUP($A44,Filtro!$A$4:$AX$552,17,FALSE),0)","v":25},{"$f":"IFERROR(VLOOKUP($A44,Filtro!$A$4:$AX$552,18,FALSE),0)","v":7},{"$f":"IFERROR(VLOOKUP($A44,Filtro!$A$4:$AX$552,19,FALSE),0)","v":11},{"$f":"IFERROR(VLOOKUP($A44,Filtro!$A$4:$AX$552,20,FALSE),0)","v":9},{"$f":"IFERROR(VLOOKUP($A44,Filtro!$A$4:$AX$552,21,FALSE),0)","v":18},{"$f":"IFERROR(VLOOKUP($A44,Filtro!$A$4:$AX$552,22,FALSE),0)","v":20},{"$f":"IFERROR(VLOOKUP($A44,Filtro!$A$4:$AX$552,23,FALSE),0)","v":21},{"$f":"IFERROR(VLOOKUP($A44,Filtro!$A$4:$AX$552,24,FALSE),0)","v":22},{"$f":"IFERROR(VLOOKUP($A44,Filtro!$A$4:$AX$552,25,FALSE),0)","v":16},{"$f":"IFERROR(VLOOKUP($A44,Filtro!$A$4:$AX$552,26,FALSE),0)","v":21},{"$f":"IFERROR(VLOOKUP($A44,Filtro!$A$4:$AX$552,27,FALSE),0)","v":21},{"$f":"IFERROR(VLOOKUP($A44,Filtro!$A$4:$AX$552,28,FALSE),0)","v":20},{"$f":"IFERROR(VLOOKUP($A44,Filtro!$A$4:$AX$552,29,FALSE),0)","v":16},{"$f":"IFERROR(VLOOKUP($A44,Filtro!$A$4:$AX$552,30,FALSE),0)","v":24},{"$f":"IFERROR(VLOOKUP($A44,Filtro!$A$4:$AX$552,31,FALSE),0)","v":11},{"$f":"IFERROR(VLOOKUP($A44,Filtro!$A$4:$AX$552,32,FALSE),0)","v":13},{"$f":"IFERROR(VLOOKUP($A44,Filtro!$A$4:$AX$552,33,FALSE),0)","v":6},{"$f":"IFERROR(VLOOKUP($A44,Filtro!$A$4:$AX$552,34,FALSE),0)","v":8},{"$f":"IFERROR(VLOOKUP($A44,Filtro!$A$4:$AX$552,35,FALSE),0)","v":4},{"$f":"IFERROR(VLOOKUP($A44,Filtro!$A$4:$AX$552,36,FALSE),0)","v":5},{"$f":"IFERROR(VLOOKUP($A44,Filtro!$A$4:$AX$552,37,FALSE),0)","v":2},{"$f":"IFERROR(VLOOKUP($A44,Filtro!$A$4:$AX$552,38,FALSE),0)","v":3},{"$f":"IFERROR(VLOOKUP($A44,Filtro!$A$4:$AX$552,39,FALSE),0)","v":0},{"$f":"IFERROR(VLOOKUP($A44,Filtro!$A$4:$AX$552,40,FALSE),0)","v":0},{"$f":"IFERROR(VLOOKUP($A44,Filtro!$A$4:$AX$552,41,FALSE),0)","v":1},{"$f":"IFERROR(VLOOKUP($A44,Filtro!$A$4:$AX$552,42,FALSE),0)","v":0},{"$f":"IFERROR(VLOOKUP($A44,Filtro!$A$4:$AX$552,43,FALSE),0)","v":0},{"$f":"IFERROR(VLOOKUP($A44,Filtro!$A$4:$AX$552,44,FALSE),0)","v":0},{"$f":"IFERROR(VLOOKUP($A44,Filtro!$A$4:$AX$552,45,FALSE),0)","v":1},{"$nulls":12},"","","","","","","","","","","","",{"$nulls":8},0,0,0,0,0,0,0,0,0,0,0,0]
["P6227400","PRIMER EPISODIO ESQUIZOFRENIA CON OCUPACION REGULAR",null,{"$f":"IFERROR(VLOOKUP($A45,Filtro!$A$4:$AX$552,2,FALSE),0)","v":12},{"$f":"IFERROR(VLOOKUP($A45,Filtro!$A$4:$AX$552,3,FALSE),0)","v":8},{"$f":"IFERROR(VLOOKUP($A45,Filtro!$A$4:$AX$552,4,FALSE),0)","v":4},{"$f":"IFERROR(VLOOKUP($A45,Filtro!$A$4:$AX$552,5,FALSE),0)","v":0},{"$f":"IFERROR(VLOOKUP($A45,Filtro!$A$4:$AX$552,6,FALSE),0)","v":0},{"$f":"IFERROR(VLOOKUP($A45,Filtro!$A$4:$AX$552,7,FALSE),0)","v":0},{"$f":"IFERROR(VLOOKUP($A45,Filtro!$A$4:$AX$552,8,FALSE),0)","v":0},{"$f":"IFERROR(VLOOKUP($A45,Filtro!$A$4:$AX$552,9,FALSE),0)","v":0},{"$f":"IFERROR(VLOOKUP($A45,Filtro!$A$4:$AX$552,10,FALSE),0)","v":1},{"$f":"IFERROR(VLOOKUP($A45,Filtro!$A$4:$AX$552,11,FALSE),0)","v":0},{"$f":"IFERROR(VLOOKUP($A45,Filtro!$A$4:$AX$552,12,FALSE),0)","v":0},{"$f":"IFERROR(VLOOKUP($A45,Filtro!$A$4:$AX$552,13,FALSE),0)","v":2},{"$f":"IFERROR(VLOOKUP($A45,Filtro!$A$4:$AX$552,14,FALSE),0)","v":1},{"$f":"IFERROR(VLOOKUP($A45,Filtro!$A$4:$AX$552,15,FALSE),0)","v":1},{"$f":"IFERROR(VLOOKUP($A45,Filtro!$A$4:$AX$552,16,FALSE),0)","v":1},{"$f":"IFERROR(VLOOKUP($A45,Filtro!$A$4:$AX$552,17,FALSE),0)","v":1},{"$f":"IFERROR(VLOOKUP($A45,Filtro!$A$4:$AX$552,18,FALSE),0)","v":1},{"$f":"IFERROR(VLOOKUP($A45,Filtro!$A$4:$AX$552,19,FALSE),0)","v":0},{"$f":"IFERROR(VLOOKUP($A45,Filtro!$A$4:$AX$552,20,FALSE),0)","v":0},{"$f":"IFERROR(VLOOKUP($A45,Filtro!$A$4:$AX$552,21,FALSE),0)","v":1},{"$f":"IFERROR(VLOOKUP($A45,Filtro!$A$4:$AX$552,22,FALSE),0)","v":0},{"$f":"IFERROR(VLOOKUP($A45,Filtro!$A$4:$AX$552,23,FALSE),0)","v":0},{"$f":"IFERROR(VLOOKUP($A45,Filtro!$A$4:$AX$552,24,FALSE),0)","v":0},{"$f":"IFERROR(VLOOKUP($A45,Filtro!$A$4:$AX$552,25,FALSE),0)","v":2},{"$f":"IFERROR(VLOOKUP($A45,Filtro!$A$4:$AX$552,26,FALSE),0)","v":0},{"$f":"IFERROR(VLOOKUP($A45,Filtro!$A$4:$AX$552,27,FALSE),0)","v":0},{"$f":"IFERROR(VLOOKUP($A45,Filtro!$A$4:$AX$552,28,FALSE),0)","v":0},{"$f":"IFERROR(VLOOKUP($A45,Filtro!$A$4:$AX$552,29,FALSE),0)","v":0},{"$f":"IFERROR(VLOOKUP($A45,Filtro!$A$4:$AX$552,30,FALSE),0)","v":0},{"$f":"IFERROR(VLOOKUP($A45,Filtro!$A$4:$AX$552,31,FALSE),0)","v":1},{"$f":"IFERROR(VLOOKUP($A45,Filtro!$A$4:$AX$552,32,FALSE),0)","v":0},{"$f":"IFERROR(VLOOKUP($A45,Filtro!$A$4:$AX$552,33,FALSE),0)","v":0},{"$f":"IFERROR(VLOOKUP($A45,Filtro!$A$4:$AX$552,34,FALSE),0)","v":0},{"$f":"IFERROR(VLOOKUP($A45,Filtro!$A$4:$AX$552,35,FALSE),0)","v":0},{"$f":"IFERROR(VLOOKUP($A45,Filtro!$A$4:$AX$552,36,FALSE),0)","v":0},{"$f":"IFERROR(VLOOKUP($A45,Filtro!$A$4:$AX$552,37,FALSE),0)","v":0},{"$f":"IFERROR(VLOOKUP($A45,Filtro!$A$4:$AX$552,38,FALSE),0)","v":0},{"$f":"IFERROR(VLOOKUP($A45,Filtro!$A$4:$AX$552,39,FALSE),0)","v":0},{"$f":"IFERROR(VLOOKUP($A45,Filtro!$A$4:$AX$552,40,FALSE),0)","v":0},{"$f":"IFERROR(VLOOKUP($A45,Filtro!$A$4:$AX$552,41,FALSE),0)","v":0},{"$f":"IFERROR(VLOOKUP($A45,Filtro!$A$4:$AX$552,42,FALSE),0)","v":0},{"$f":"IFERROR(VLOOKUP($A45,Filtro!$A$4:$AX$552,43,FALSE),0)","v":0},{"$f":"IFERROR(VLOOKUP($A45,Filtro!$A$4:$AX$552,44,FALSE),0)","v":0},{"$f":"IFERROR(VLOOKUP($A45,Filtro!$A$4:$AX$552,45,FALSE),0)","v":0},{"$nulls":12},"","","","","","","","","","","","",{"$nulls":8},0,0,0,0,0,0,0,0,0,0,0,0]
["P6222500","TRASTORNOS DE LA CONDUCTA ALIMENTARIA",null,{"$f":"IFERROR(VLOOKUP($A46,Filtro!$A$4:$AX$552,2,FALSE),0)","v":123},{"$f":"IFERROR(VLOOKUP($A46,Filtro!$A$4:$AX$552,3,FALSE),0)","v":21},{"$f":"IFERROR(VLOOKUP($A46,Filtro!$A$4:$AX$552,4,FALSE),0)","v":102},{"$f":"IFERROR(VLOOKUP($A46,Filtro!$A$4:$AX$552,5,FALSE),0)","v":1},{"$f":"IFERROR(VLOOKUP($A46,Filtro!$A$4:$AX$552,6,FALSE),0)","v":0},{"$f":"IFERROR(VLOOKUP($A46,Filtro!$A$4:$AX$552,7,FALSE),0)","v":4},{"$f":"IFERROR(VLOOKUP($A46,Filtro!$A$4:$AX$552,8,FALSE),0)","v":3},{"$f":"IFERROR(VLOOKUP($A46,Filtro!$A$4:$AX$552,9,FALSE),0)","v":5},{"$f":"IFERROR(VLOOKUP($A46,Filtro!$A$4:$AX$552,10,FALSE),0)","v":17},{"$f":"IFERROR(VLOOKUP($A46,Filtro!$A$4:$AX$552,11,FALSE),0)","v":4},{"$f":"IFERROR(VLOOKUP($A46,Filtro!$A$4:$AX$552,12,FALSE),0)","v":23},{"$f":"IFERROR(VLOOKUP($A46,Filtro!$A$4:$AX$552,13,FALSE),0)","v":2},{"$f":"IFERROR(VLOOKUP($A46,Filtro!$A$4:$AX$552,14,FALSE),0)","v":18},{"$f":"IFERROR(VLOOKUP($A46,Filtro!$A$4:$AX$552,15,FALSE),0)","v":1},{"$f":"IFERROR(VLOOKUP($A46,Filtro!$A$4:$AX$552,16,FALSE),0)","v":9},{"$f":"IFERROR(VLOOKUP($A46,Filtro!$A$4:$AX$552,17,FALSE),0)","v":3},{"$f":"IFERROR(VLOOKUP($A46,Filtro!$A$4:$AX$552,18,FALSE),0)","v":7},{"$f":"IFERROR(VLOOKUP($A46,Filtro!$A$4:$AX$552,19,FALSE),0)","v":0},{"$f":"IFERROR(VLOOKUP($A46,Filtro!$A$4:$AX$552,20,FALSE),0)","v":10},{"$f":"IFERROR(VLOOKUP($A46,Filtro!$A$4:$AX$552,21,FALSE),0)","v":0},{"$f":"IFERROR(VLOOKUP($A46,Filtro!$A$4:$AX$552,22,FALSE),0)","v":7},{"$f":"IFERROR(VLOOKUP($A46,Filtro!$A$4:$AX$552,23,FALSE),0)","v":0},{"$f":"IFERROR(VLOOKUP($A46,Filtro!$A$4:$AX$552,24,FALSE),0)","v":2},{"$f":"IFERROR(VLOOKUP($A46,Filtro!$A$4:$AX$552,25,FALSE),0)","v":0},{"$f":"IFERROR(VLOOKUP($A46,Filtro!$A$4:$AX$552,26,FALSE),0)","v":4},{"$f":"IFERROR(VLOOKUP($A46,Filtro!$A$4:$AX$552,27,FALSE),0)","v":0},{"$f":"IFERROR(VLOOKUP($A46,Filtro!$A$4:$AX$552,28,FALSE),0)","v":2},{"$f":"IFERROR(VLOOKUP($A46,Filtro!$A$4:$AX$552,29,FALSE),0)","v":0},{"$f":"IFERROR(VLOOKUP($A46,Filtro!$A$4:$AX$552,30,FALSE),0)","v":0},{"$f":"IFERROR(VLOOKUP($A46,Filtro!$A$4:$AX$552,31,FALSE),0)","v":1},{"$f":"IFERROR(VLOOKUP($A46,Filtro!$A$4:$AX$552,32,FALSE),0)","v":0},{"$f":"IFERROR(VLOOKUP($A46,Filtro!$A$4:$AX$552,33,FALSE),0)","v":0},{"$f":"IFERROR(VLOOKUP($A46,Filtro!$A$4:$AX$552,34,FALSE),0)","v":0},{"$f":"IFERROR(VLOOKUP($A46,Filtro!$A$4:$AX$552,35,FALSE),0)","v":0},{"$f":"IFERROR(VLOOKUP($A46,Filtro!$A$4:$AX$552,36,FALSE),0)","v":0},{"$f":"IFERROR(VLOOKUP($A46,Filtro!$A$4:$AX$552,37,FALSE),0)","v":0},{"$f":"IFERROR(VLOOKUP($A46,Filtro!$A$4:$AX$552,38,FALSE),0)","v":0},{"$f":"IFERROR(VLOOKUP($A46,Filtro!$A$4:$AX$552,39,FALSE),0)","v":1},{"$f":"IFERROR(VLOOKUP($A46,Filtro!$A$4:$AX$552,40,FALSE),0)","v":3},{"$f":"IFERROR(VLOOKUP($A46,Filtro!$A$4:$AX$552,41,FALSE),0)","v":0},{"$f":"IFERROR(VLOOKUP($A46,Filtro!$A$4:$AX$552,42,FALSE),0)","v":1},{"$f":"IFERROR(VLOOKUP($A46,Filtro!$A$4:$AX$552,43,FALSE),0)","v":0},{"$f":"IFERROR(VLOOKUP($A46,Filtro!$A$4:$AX$552,44,FALSE),0)","v":0},{"$f":"IFERROR(VLOOKUP($A46,Filtro!$A$4:$AX$552,45,FALSE),0)","v":1},{"$nulls":12},"","","","","","","","","","","","",{"$nulls":8},0,0,0,0,0,0,0,0,0,0,0,0]
["P6222800","RETRASO MENTAL",null,{"$f":"IFERROR(VLOOKUP($A47,Filtro!$A$4:$AX$552,2,FALSE),0)","v":320},{"$f":"IFERROR(VLOOKUP($A47,Filtro!$A$4:$AX$552,3,FALSE),0)","v":159},{"$f":"IFERROR(VLOOKUP($A47,Filtro!$A$4:$AX$552,4,FALSE),0)","v":161},{"$f":"IFERROR(VLOOKUP($A47,Filtro!$A$4:$AX$552,5,FALSE),0)","v":0},{"$f":"IFERROR(VLOOKUP($A47,Filtro!$A$4:$AX$552,6,FALSE),0)","v":0},{"$f":"IFERROR(VLOOKUP($A47,Filtro!$A$4:$AX$552,7,FALSE),0)","v":8},{"$f":"IFERROR(VLOOKUP($A47,Filtro!$A$4:$AX$552,8,FALSE),0)","v":5},{"$f":"IFERROR(VLOOKUP($A47,Filtro!$A$4:$AX$552,9,FALSE),0)","v":24},{"$f":"IFERROR(VLOOKUP($A47,Filtro!$A$4:$AX$552,10,FALSE),0)","v":15},{"$f":"IFERROR(VLOOKUP($A47,Filtro!$A$4:$AX$552,11,FALSE),0)","v":16},{"$f":"IFERROR(VLOOKUP($A47,Filtro!$A$4:$AX$552,12,FALSE),0)","v":7},{"$f":"IFERROR(VLOOKUP($A47,Filtro!$A$4:$AX$552,13,FALSE),0)","v":21},{"$f":"IFERROR(VLOOKUP($A47,Filtro!$A$4:$AX$552,14,FALSE),0)","v":13},{"$f":"IFERROR(VLOOKUP($A47,Filtro!$A$4:$AX$552,15,FALSE),0)","v":10},{"$f":"IFERROR(VLOOKUP($A47,Filtro!$A$4:$AX$552,16,FALSE),0)","v":22},{"$f":"IFERROR(VLOOKUP($A47,Filtro!$A$4:$AX$552,17,FALSE),0)","v":11},{"$f":"IFERROR(VLOOKUP($A47,Filtro!$A$4:$AX$552,18,FALSE),0)","v":11},{"$f":"IFERROR(VLOOKUP($A47,Filtro!$A$4:$AX$552,19,FALSE),0)","v":16},{"$f":"IFERROR(VLOOKUP($A47,Filtro!$A$4:$AX$552,20,FALSE),0)","v":14},{"$f":"IFERROR(VLOOKUP($A47,Filtro!$A$4:$AX$552,21,FALSE),0)","v":13},{"$f":"IFERROR(VLOOKUP($A47,Filtro!$A$4:$AX$552,22,FALSE),0)","v":17},{"$f":"IFERROR(VLOOKUP($A47,Filtro!$A$4:$AX$552,23,FALSE),0)","v":12},{"$f":"IFERROR(VLOOKUP($A47,Filtro!$A$4:$AX$552,24,FALSE),0)","v":15},{"$f":"IFERROR(VLOOKUP($A47,Filtro!$A$4:$AX$552,25,FALSE),0)","v":7},{"$f":"IFERROR(VLOOKUP($A47,Filtro!$A$4:$AX$552,26,FALSE),0)","v":18},{"$f":"IFERROR(VLOOKUP($A47,Filtro!$A$4:$AX$552,27,FALSE),0)","v":9},{"$f":"IFERROR(VLOOKUP($A47,Filtro!$A$4:$AX$552,28,FALSE),0)","v":10},{"$f":"IFERROR(VLOOKUP($A47,Filtro!$A$4:$AX$552,29,FALSE),0)","v":8},{"$f":"IFERROR(VLOOKUP($A47,Filtro!$A$4:$AX$552,30,FALSE),0)","v":4},{"$f":"IFERROR(VLOOKUP($A47,Filtro!$A$4:$AX$552,31,FALSE),0)","v":4},{"$f":"IFERROR(VLOOKUP($A47,Filtro!$A$4:$AX$552,32,FALSE),0)","v":3},{"$f":"IFERROR(VLOOKUP($A47,Filtro!$A$4:$AX$552,33,FALSE),0)","v":0},{"$f":"IFERROR(VLOOKUP($A47,Filtro!$A$4:$AX$552,34,FALSE),0)","v":4},{"$f":"IFERROR(VLOOKUP($A47,Filtro!$A$4:$AX$552,35,FALSE),0)","v":0},{"$f":"IFERROR(VLOOKUP($A47,Filtro!$A$4:$AX$552,36,FALSE),0)","v":2},{"$f":"IFERROR(VLOOKUP($A47,Filtro!$A$4:$AX$552,37,FALSE),0)","v":0},{"$f":"IFERROR(VLOOKUP($A47,Filtro!$A$4:$AX$552,38,FALSE),0)","v":1},{"$f":"IFERROR(VLOOKUP($A47,Filtro!$A$4:$AX$552,39,FALSE),0)","v":0},{"$f":"IFERROR(VLOOKUP($A47,Filtro!$A$4:$AX$552,40,FALSE),0)","v":4},{"$f":"IFERROR(VLOOKUP($A47,Filtro!$A$4:$AX$552,41,FALSE),0)","v":1},{"$f":"IFERROR(VLOOKUP($A47,Filtro!$A$4:$AX$552,42,FALSE),0)","v":1},{"$f":"IFERROR(VLOOKUP($A47,Filtro!$A$4:$AX$552,43,FALSE),0)","v":0},{"$f":"IFERROR(VLOOKUP($A47,Filtro!$A$4:$AX$552,44,FALSE),0)","v":0},{"$f":"IFERROR(VLOOKUP($A47,Filtro!$A$4:$AX$552,45,FALSE),0)","v":5},{"$nulls":12},"","","","","","","","","","","","",{"$nulls":8},0,0,0,0,0,0,0,0,0,0,0,0]
["P6222900","TRASTORNO DE PERSONALIDAD",null,{"$f":"IFERROR(VLOOKUP($A48,Filtro!$A$4:$AX$552,2,FALSE),0)","v":1399},{"$f":"IFERROR(VLOOKUP($A48,Filtro!$A$4:$AX$552,3,FALSE),0)","v":310},{"$f":"IFERROR(VLOOKUP($A48,Filtro!$A$4:$AX$552,4,FALSE),0)","v":1089},{"$f":"IFERROR(VLOOKUP($A48,Filtro!$A$4:$AX$552,5,FALSE),0)","v":0},{"$f":"IFERROR(VLOOKUP($A48,Filtro!$A$4:$AX$552,6,FALSE),0)","v":0},{"$f":"IFERROR(VLOOKUP($A48,Filtro!$A$4:$AX$552,7,FALSE),0)","v":4},{"$f":"IFERROR(VLOOKUP($A48,Filtro!$A$4:$AX$552,8,FALSE),0)","v":1},{"$f":"IFERROR(VLOOKUP($A48,Filtro!$A$4:$AX$552,9,FALSE),0)","v":8},{"$f":"IFERROR(VLOOKUP($A48,Filtro!$A$4:$AX$552,10,FALSE),0)","v":11},{"$f":"IFERROR(VLOOKUP($A48,Filtro!$A$4:$AX$552,11,FALSE),0)","v":35},{"$f":"IFERROR(VLOOKUP($A48,Filtro!$A$4:$AX$552,12,FALSE),0)","v":60},{"$f":"IFERROR(VLOOKUP($A48,Filtro!$A$4:$AX$552,13,FALSE),0)","v":48},{"$f":"IFERROR(VLOOKUP($A48,Filtro!$A$4:$AX$552,14,FALSE),0)","v":71},{"$f":"IFERROR(VLOOKUP($A48,Filtro!$A$4:$AX$552,15,FALSE),0)","v":27},{"$f":"IFERROR(VLOOKUP($A48,Filtro!$A$4:$AX$552,16,FALSE),0)","v":71},{"$f":"IFERROR(VLOOKUP($A48,Filtro!$A$4:$AX$552,17,FALSE),0)","v":29},{"$f":"IFERROR(VLOOKUP($A48,Filtro!$A$4:$AX$552,18,FALSE),0)","v":90},{"$f":"IFERROR(VLOOKUP($A48,Filtro!$A$4:$AX$552,19,FALSE),0)","v":21},{"$f":"IFERROR(VLOOKUP($A48,Filtro!$A$4:$AX$552,20,FALSE),0)","v":87},{"$f":"IFERROR(VLOOKUP($A48,Filtro!$A$4:$AX$552,21,FALSE),0)","v":16},{"$f":"IFERROR(VLOOKUP($A48,Filtro!$A$4:$AX$552,22,FALSE),0)","v":99},{"$f":"IFERROR(VLOOKUP($A48,Filtro!$A$4:$AX$552,23,FALSE),0)","v":33},{"$f":"IFERROR(VLOOKUP($A48,Filtro!$A$4:$AX$552,24,FALSE),0)","v":123},{"$f":"IFERROR(VLOOKUP($A48,Filtro!$A$4:$AX$552,25,FALSE),0)","v":18},{"$f":"IFERROR(VLOOKUP($A48,Filtro!$A$4:$AX$552,26,FALSE),0)","v":109},{"$f":"IFERROR(VLOOKUP($A48,Filtro!$A$4:$AX$552,27,FALSE),0)","v":22},{"$f":"IFERROR(VLOOKUP($A48,Filtro!$A$4:$AX$552,28,FALSE),0)","v":109},{"$f":"IFERROR(VLOOKUP($A48,Filtro!$A$4:$AX$552,29,FALSE),0)","v":25},{"$f":"IFERROR(VLOOKUP($A48,Filtro!$A$4:$AX$552,30,FALSE),0)","v":85},{"$f":"IFERROR(VLOOKUP($A48,Filtro!$A$4:$AX$552,31,FALSE),0)","v":13},{"$f":"IFERROR(VLOOKUP($A48,Filtro!$A$4:$AX$552,32,FALSE),0)","v":71},{"$f":"IFERROR(VLOOKUP($A48,Filtro!$A$4:$AX$552,33,FALSE),0)","v":10},{"$f":"IFERROR(VLOOKUP($A48,Filtro!$A$4:$AX$552,34,FALSE),0)","v":49},{"$f":"IFERROR(VLOOKUP($A48,Filtro!$A$4:$AX$552,35,FALSE),0)","v":0},{"$f":"IFERROR(VLOOKUP($A48,Filtro!$A$4:$AX$552,36,FALSE),0)","v":35},{"$f":"IFERROR(VLOOKUP($A48,Filtro!$A$4:$AX$552,37,FALSE),0)","v":1},{"$f":"IFERROR(VLOOKUP($A48,Filtro!$A$4:$AX$552,38,FALSE),0)","v":18},{"$f":"IFERROR(VLOOKUP($A48,Filtro!$A$4:$AX$552,39,FALSE),0)","v":3},{"$f":"IFERROR(VLOOKUP($A48,Filtro!$A$4:$AX$552,40,FALSE),0)","v":32},{"$f":"IFERROR(VLOOKUP($A48,Filtro!$A$4:$AX$552,41,FALSE),0)","v":0},{"$f":"IFERROR(VLOOKUP($A48,Filtro!$A$4:$AX$552,42,FALSE),0)","v":6},{"$f":"IFERROR(VLOOKUP($A48,Filtro!$A$4:$AX$552,43,FALSE),0)","v":2},{"$f":"IFERROR(VLOOKUP($A48,Filtro!$A$4:$AX$552,44,FALSE),0)","v":0},{"$f":"IFERROR(VLOOKUP($A48,Filtro!$A$4:$AX$552,45,FALSE),0)","v":37},{"$nulls":12},"","","","","","","","","","","","",{"$nulls":8},0,0,0,0,0,0,0,0,0,0,0,0]
["P6223000","TRASTORNO GENERALIZADOS DEL DESARROLLO",null,{"$f":"IFERROR(VLOOKUP($A49,Filtro!$A$4:$AX$552,2,FALSE),0)","v":294},{"$f":"IFERROR(VLOOKUP($A49,Filtro!$A$4:$AX$552,3,FALSE),0)","v":226},{"$f":"IFERROR(VLOOKUP($A49,Filtro!$A$4:$AX$552,4,FALSE),0)","v":68},{"$f":"IFERROR(VLOOKUP($A49,Filtro!$A$4:$AX$552,5,FALSE),0)","v":13},{"$f":"IFERROR(VLOOKUP($A49,Filtro!$A$4:$AX$552,6,FALSE),0)","v":2},{"$f":"IFERROR(VLOOKUP($A49,Filtro!$A$4:$AX$552,7,FALSE),0)","v":97},{"$f":"IFERROR(VLOOKUP($A49,Filtro!$A$4:$AX$552,8,FALSE),0)","v":24},{"$f":"IFERROR(VLOOKUP($A49,Filtro!$A$4:$AX$552,9,FALSE),0)","v":58},{"$f":"IFERROR(VLOOKUP($A49,Filtro!$A$4:$AX$552,10,FALSE),0)","v":11},{"$f":"IFERROR(VLOOKUP($A49,Filtro!$A$4:$AX$552,11,FALSE),0)","v":28},{"$f":"IFERROR(VLOOKUP($A49,Filtro!$A$4:$AX$552,12,FALSE),0)","v":17},{"$f":"IFERROR(VLOOKUP($A49,Filtro!$A$4:$AX$552,13,FALSE),0)","v":10},{"$f":"IFERROR(VLOOKUP($A49,Filtro!$A$4:$AX$552,14,FALSE),0)","v":6},{"$f":"IFERROR(VLOOKUP($A49,Filtro!$A$4:$AX$552,15,FALSE),0)","v":8},{"$f":"IFERROR(VLOOKUP($A49,Filtro!$A$4:$AX$552,16,FALSE),0)","v":2},{"$f":"IFERROR(VLOOKUP($A49,Filtro!$A$4:$AX$552,17,FALSE),0)","v":3},{"$f":"IFERROR(VLOOKUP($A49,Filtro!$A$4:$AX$552,18,FALSE),0)","v":2},{"$f":"IFERROR(VLOOKUP($A49,Filtro!$A$4:$AX$552,19,FALSE),0)","v":1},{"$f":"IFERROR(VLOOKUP($A49,Filtro!$A$4:$AX$552,20,FALSE),0)","v":0},{"$f":"IFERROR(VLOOKUP($A49,Filtro!$A$4:$AX$552,21,FALSE),0)","v":0},{"$f":"IFERROR(VLOOKUP($A49,Filtro!$A$4:$AX$552,22,FALSE),0)","v":0},{"$f":"IFERROR(VLOOKUP($A49,Filtro!$A$4:$AX$552,23,FALSE),0)","v":2},{"$f":"IFERROR(VLOOKUP($A49,Filtro!$A$4:$AX$552,24,FALSE),0)","v":3},{"$f":"IFERROR(VLOOKUP($A49,Filtro!$A$4:$AX$552,25,FALSE),0)","v":0},{"$f":"IFERROR(VLOOKUP($A49,Filtro!$A$4:$AX$552,26,FALSE),0)","v":0},{"$f":"IFERROR(VLOOKUP($A49,Filtro!$A$4:$AX$552,27,FALSE),0)","v":1},{"$f":"IFERROR(VLOOKUP($A49,Filtro!$A$4:$AX$552,28,FALSE),0)","v":1},{"$f":"IFERROR(VLOOKUP($A49,Filtro!$A$4:$AX$552,29,FALSE),0)","v":1},{"$f":"IFERROR(VLOOKUP($A49,Filtro!$A$4:$AX$552,30,FALSE),0)","v":0},{"$f":"IFERROR(VLOOKUP($A49,Filtro!$A$4:$AX$552,31,FALSE),0)","v":1},{"$f":"IFERROR(VLOOKUP($A49,Filtro!$A$4:$AX$552,32,FALSE),0)","v":0},{"$f":"IFERROR(VLOOKUP($A49,Filtro!$A$4:$AX$552,33,FALSE),0)","v":0},{"$f":"IFERROR(VLOOKUP($A49,Filtro!$A$4:$AX$552,34,FALSE),0)","v":0},{"$f":"IFERROR(VLOOKUP($A49,Filtro!$A$4:$AX$552,35,FALSE),0)","v":3},{"$f":"IFERROR(VLOOKUP($A49,Filtro!$A$4:$AX$552,36,FALSE),0)","v":0},{"$f":"IFERROR(VLOOKUP($A49,Filtro!$A$4:$AX$552,37,FALSE),0)","v":0},{"$f":"IFERROR(VLOOKUP($A49,Filtro!$A$4:$AX$552,38,FALSE),0)","v":0},{"$f":"IFERROR(VLOOKUP($A49,Filtro!$A$4:$AX$552,39,FALSE),0)","v":0},{"$f":"IFERROR(VLOOKUP($A49,Filtro!$A$4:$AX$552,40,FALSE),0)","v":2},{"$f":"IFERROR(VLOOKUP($A49,Filtro!$A$4:$AX$552,41,FALSE),0)","v":3},{"$f":"IFERROR(VLOOKUP($A49,Filtro!$A$4:$AX$552,42,FALSE),0)","v":2},{"$f":"IFERROR(VLOOKUP($A49,Filtro!$A$4:$AX$552,43,FALSE),0)","v":2},{"$f":"IFERROR(VLOOKUP($A49,Filtro!$A$4:$AX$552,44,FALSE),0)","v":0},{"$f":"IFERROR(VLOOKUP($A49,Filtro!$A$4:$AX$552,45,FALSE),0)","v":9},{"$nulls":12},"","","","","","","","","","","","",{"$nulls":8},0,0,0,0,0,0,0,0,0,0,0,0]
["P6231600","EPILEPSIA",null,{"$f":"IFERROR(VLOOKUP($A50,Filtro!$A$4:$AX$552,2,FALSE),0)","v":159},{"$f":"IFERROR(VLOOKUP($A50,Filtro!$A$4:$AX$552,3,FALSE),0)","v":72},{"$f":"IFERROR(VLOOKUP($A50,Filtro!$A$4:$AX$552,4,FALSE),0)","v":87},{"$f":"IFERROR(VLOOKUP($A50,Filtro!$A$4:$AX$552,5,FALSE),0)","v":0},{"$f":"IFERROR(VLOOKUP($A50,Filtro!$A$4:$AX$552,6,FALSE),0)","v":1},{"$f":"IFERROR(VLOOKUP($A50,Filtro!$A$4:$AX$552,7,FALSE),0)","v":5},{"$f":"IFERROR(VLOOKUP($A50,Filtro!$A$4:$AX$552,8,FALSE),0)","v":2},{"$f":"IFERROR(VLOOKUP($A50,Filtro!$A$4:$AX$552,9,FALSE),0)","v":5},{"$f":"IFERROR(VLOOKUP($A50,Filtro!$A$4:$AX$552,10,FALSE),0)","v":3},{"$f":"IFERROR(VLOOKUP($A50,Filtro!$A$4:$AX$552,11,FALSE),0)","v":5},{"$f":"IFERROR(VLOOKUP($A50,Filtro!$A$4:$AX$552,12,FALSE),0)","v":7},{"$f":"IFERROR(VLOOKUP($A50,Filtro!$A$4:$AX$552,13,FALSE),0)","v":6},{"$f":"IFERROR(VLOOKUP($A50,Filtro!$A$4:$AX$552,14,FALSE),0)","v":2},{"$f":"IFERROR(VLOOKUP($A50,Filtro!$A$4:$AX$552,15,FALSE),0)","v":5},{"$f":"IFERROR(VLOOKUP($A50,Filtro!$A$4:$AX$552,16,FALSE),0)","v":10},{"$f":"IFERROR(VLOOKUP($A50,Filtro!$A$4:$AX$552,17,FALSE),0)","v":5},{"$f":"IFERROR(VLOOKUP($A50,Filtro!$A$4:$AX$552,18,FALSE),0)","v":7},{"$f":"IFERROR(VLOOKUP($A50,Filtro!$A$4:$AX$552,19,FALSE),0)","v":6},{"$f":"IFERROR(VLOOKUP($A50,Filtro!$A$4:$AX$552,20,FALSE),0)","v":5},{"$f":"IFERROR(VLOOKUP($A50,Filtro!$A$4:$AX$552,21,FALSE),0)","v":6},{"$f":"IFERROR(VLOOKUP($A50,Filtro!$A$4:$AX$552,22,FALSE),0)","v":5},{"$f":"IFERROR(VLOOKUP($A50,Filtro!$A$4:$AX$552,23,FALSE),0)","v":4},{"$f":"IFERROR(VLOOKUP($A50,Filtro!$A$4:$AX$552,24,FALSE),0)","v":14},{"$f":"IFERROR(VLOOKUP($A50,Filtro!$A$4:$AX$552,25,FALSE),0)","v":9},{"$f":"IFERROR(VLOOKUP($A50,Filtro!$A$4:$AX$552,26,FALSE),0)","v":8},{"$f":"IFERROR(VLOOKUP($A50,Filtro!$A$4:$AX$552,27,FALSE),0)","v":9},{"$f":"IFERROR(VLOOKUP($A50,Filtro!$A$4:$AX$552,28,FALSE),0)","v":10},{"$f":"IFERROR(VLOOKUP($A50,Filtro!$A$4:$AX$552,29,FALSE),0)","v":2},{"$f":"IFERROR(VLOOKUP($A50,Filtro!$A$4:$AX$552,30,FALSE),0)","v":3},{"$f":"IFERROR(VLOOKUP($A50,Filtro!$A$4:$AX$552,31,FALSE),0)","v":1},{"$f":"IFERROR(VLOOKUP($A50,Filtro!$A$4:$AX$552,32,FALSE),0)","v":4},{"$f":"IFERROR(VLOOKUP($A50,Filtro!$A$4:$AX$552,33,FALSE),0)","v":1},{"$f":"IFERROR(VLOOKUP($A50,Filtro!$A$4:$AX$552,34,FALSE),0)","v":4},{"$f":"IFERROR(VLOOKUP($A50,Filtro!$A$4:$AX$552,35,FALSE),0)","v":1},{"$f":"IFERROR(VLOOKUP($A50,Filtro!$A$4:$AX$552,36,FALSE),0)","v":1},{"$f":"IFERROR(VLOOKUP($A50,Filtro!$A$4:$AX$552,37,FALSE),0)","v":2},{"$f":"IFERROR(VLOOKUP($A50,Filtro!$A$4:$AX$552,38,FALSE),0)","v":1},{"$f":"IFERROR(VLOOKUP($A50,Filtro!$A$4:$AX$552,39,FALSE),0)","v":0},{"$f":"IFERROR(VLOOKUP($A50,Filtro!$A$4:$AX$552,40,FALSE),0)","v":0},{"$f":"IFERROR(VLOOKUP($A50,Filtro!$A$4:$AX$552,41,FALSE),0)","v":1},{"$f":"IFERROR(VLOOKUP($A50,Filtro!$A$4:$AX$552,42,FALSE),0)","v":0},{"$f":"IFERROR(VLOOKUP($A50,Filtro!$A$4:$AX$552,43,FALSE),0)","v":1},{"$f":"IFERROR(VLOOKUP($A50,Filtro!$A$4:$AX$552,44,FALSE),0)","v":0},{"$f":"IFERROR(VLOOKUP($A50,Filtro!$A$4:$AX$552,45,FALSE),0)","v":1},{"$nulls":12},"","","","","","","","","","","","",{"$nulls":8},0,0,0,0,0,0,0,0,0,0,0,0]
["P6227602","OTRAS ",null,{"$f":"IFERROR(VLOOKUP($A51,Filtro!$A$4:$AX$552,2,FALSE),0)","v":3606},{"$f":"IFERROR(VLOOKUP($A51,Filtro!$A$4:$AX$552,3,FALSE),0)","v":1100},{"$f":"IFERROR(VLOOKUP($A51,Filtro!$A$4:$AX$552,4,FALSE),0)","v":2506},{"$f":"IFERROR(VLOOKUP($A51,Filtro!$A$4:$AX$552,5,FALSE),0)","v":57},{"$f":"IFERROR(VLOOKUP($A51,Filtro!$A$4:$AX$552,6,FALSE),0)","v":35},{"$f":"IFERROR(VLOOKUP($A51,Filtro!$A$4:$AX$552,7,FALSE),0)","v":157},{"$f":"IFERROR(VLOOKUP($A51,Filtro!$A$4:$AX$552,8,FALSE),0)","v":134},{"$f":"IFERROR(VLOOKUP($A51,Filtro!$A$4:$AX$552,9,FALSE),0)","v":123},{"$f":"IFERROR(VLOOKUP($A51,Filtro!$A$4:$AX$552,10,FALSE),0)","v":155},{"$f":"IFERROR(VLOOKUP($A51,Filtro!$A$4:$AX$552,11,FALSE),0)","v":103},{"$f":"IFERROR(VLOOKUP($A51,Filtro!$A$4:$AX$552,12,FALSE),0)","v":199},{"$f":"IFERROR(VLOOKUP($A51,Filtro!$A$4:$AX$552,13,FALSE),0)","v":66},{"$f":"IFERROR(VLOOKUP($A51,Filtro!$A$4:$AX$552,14,FALSE),0)","v":184},{"$f":"IFERROR(VLOOKUP($A51,Filtro!$A$4:$AX$552,15,FALSE),0)","v":53},{"$f":"IFERROR(VLOOKUP($A51,Filtro!$A$4:$AX$552,16,FALSE),0)","v":184},{"$f":"IFERROR(VLOOKUP($A51,Filtro!$A$4:$AX$552,17,FALSE),0)","v":47},{"$f":"IFERROR(VLOOKUP($A51,Filtro!$A$4:$AX$552,18,FALSE),0)","v":166},{"$f":"IFERROR(VLOOKUP($A51,Filtro!$A$4:$AX$552,19,FALSE),0)","v":51},{"$f":"IFERROR(VLOOKUP($A51,Filtro!$A$4:$AX$552,20,FALSE),0)","v":153},{"$f":"IFERROR(VLOOKUP($A51,Filtro!$A$4:$AX$552,21,FALSE),0)","v":43},{"$f":"IFERROR(VLOOKUP($A51,Filtro!$A$4:$AX$552,22,FALSE),0)","v":130},{"$f":"IFERROR(VLOOKUP($A51,Filtro!$A$4:$AX$552,23,FALSE),0)","v":50},{"$f":"IFERROR(VLOOKUP($A51,Filtro!$A$4:$AX$552,24,FALSE),0)","v":148},{"$f":"IFERROR(VLOOKUP($A51,Filtro!$A$4:$AX$552,25,FALSE),0)","v":41},{"$f":"IFERROR(VLOOKUP($A51,Filtro!$A$4:$AX$552,26,FALSE),0)","v":173},{"$f":"IFERROR(VLOOKUP($A51,Filtro!$A$4:$AX$552,27,FALSE),0)","v":47},{"$f":"IFERROR(VLOOKUP($A51,Filtro!$A$4:$AX$552,28,FALSE),0)","v":145},{"$f":"IFERROR(VLOOKUP($A51,Filtro!$A$4:$AX$552,29,FALSE),0)","v":53},{"$f":"IFERROR(VLOOKUP($A51,Filtro!$A$4:$AX$552,30,FALSE),0)","v":161},{"$f":"IFERROR(VLOOKUP($A51,Filtro!$A$4:$AX$552,31,FALSE),0)","v":58},{"$f":"IFERROR(VLOOKUP($A51,Filtro!$A$4:$AX$552,32,FALSE),0)","v":159},{"$f":"IFERROR(VLOOKUP($A51,Filtro!$A$4:$AX$552,33,FALSE),0)","v":47},{"$f":"IFERROR(VLOOKUP($A51,Filtro!$A$4:$AX$552,34,FALSE),0)","v":124},{"$f":"IFERROR(VLOOKUP($A51,Filtro!$A$4:$AX$552,35,FALSE),0)","v":42},{"$f":"IFERROR(VLOOKUP($A51,Filtro!$A$4:$AX$552,36,FALSE),0)","v":98},{"$f":"IFERROR(VLOOKUP($A51,Filtro!$A$4:$AX$552,37,FALSE),0)","v":62},{"$f":"IFERROR(VLOOKUP($A51,Filtro!$A$4:$AX$552,38,FALSE),0)","v":158},{"$f":"IFERROR(VLOOKUP($A51,Filtro!$A$4:$AX$552,39,FALSE),0)","v":76},{"$f":"IFERROR(VLOOKUP($A51,Filtro!$A$4:$AX$552,40,FALSE),0)","v":200},{"$f":"IFERROR(VLOOKUP($A51,Filtro!$A$4:$AX$552,41,FALSE),0)","v":12},{"$f":"IFERROR(VLOOKUP($A51,Filtro!$A$4:$AX$552,42,FALSE),0)","v":6},{"$f":"IFERROR(VLOOKUP($A51,Filtro!$A$4:$AX$552,43,FALSE),0)","v":1},{"$f":"IFERROR(VLOOKUP($A51,Filtro!$A$4:$AX$552,44,FALSE),0)","v":17},{"$f":"IFERROR(VLOOKUP($A51,Filtro!$A$4:$AX$552,45,FALSE),0)","v":76},{"$nulls":14},"","","","","",null,null,"","","",{"$nulls":10},0,0,0,0,0,null,null,0,0,0]
[null,"SECCION A.2: PROGRAMA DE REHABILITACIÓN EN ATENCION PRIMARIA (PERSONAS CON TRANSTORNOS PSIQUIÁTRICO)."]
[null,"TIPO","RUBRO","T O T A L",null,null,"GRUPO DE EDAD (en años)"]
[{"$nulls":6},"0 a 4 años",null,"5 a 9 años",null,"10 a 14 años",null,"15 a 19 años",null,"20 a 24 años",null,"25 a 29 años",null,"30 a 34 años",null,"35 a 39 años",null,"40 a 44 años",null,"45 a 49 años",null,"50 a 54 años",null,"55 a 59 años",null,"60 a 64 años",null,"65 a 69 años",null,"70 a 74 años",null,"75 a 79 años",null,"80 y más años"]
[{"$nulls":3},"Ambos\nsexos","Hombres","Mujeres","Hombres","Mujeres","Hombres","Mujeres","Hombres","Mujeres","Hombres","Mujeres","Hombres","Mujeres","Hombres","Mujeres","Hombres","Mujeres","Hombres","Mujeres","Hombres","Mujeres","Hombres","Mujeres","Hombres","Mujeres","Hombres","Mujeres","Hombres","Mujeres","Hombres","Mujeres","Hombres","Mujeres","Hombres","Mujeres","Hombres","Mujeres"]
["P6223040","PROGRAMA DE REHABILITACIÓN TIPO I","NÚMERO DE PERSONAS EN CONTROL EN EL PROGRAMA",{"$f":"IFERROR(VLOOKUP($A56,Filtro!$A$4:$AX$552,2,FALSE),0)","v":16},{"$f":"IFERROR(VLOOKUP($A56,Filtro!$A$4:$AX$552,3,FALSE),0)","v":16},{"$f":"IFERROR(VLOOKUP($A56,Filtro!$A$4:$AX$552,4,FALSE),0)","v":0},{"$f":"IFERROR(VLOOKUP($A56,Filtro!$A$4:$AX$552,5,FALSE),0)","v":0},{"$f":"IFERROR(VLOOKUP($A56,Filtro!$A$4:$AX$552,6,FALSE),0)","v":0},{"$f":"IFERROR(VLOOKUP($A56,Filtro!$A$4:$AX$552,7,FALSE),0)","v":0},{"$f":"IFERROR(VLOOKUP($A56,Filtro!$A$4:$AX$552,8,FALSE),0)","v":0},{"$f":"IFERROR(VLOOKUP($A56,Filtro!$A$4:$AX$552,9,FALSE),0)","v":0},{"$f":"IFERROR(VLOOKUP($A56,Filtro!$A$4:$AX$552,10,FALSE),0)","v":0},{"$f":"IFERROR(VLOOKUP($A56,Filtro!$A$4:$AX$552,11,FALSE),0)","v":0},{"$f":"IFERROR(VLOOKUP($A56,Filtro!$A$4:$AX$552,12,FALSE),0)","v":0},{"$f":"IFERROR(VLOOKUP($A56,Filtro!$A$4:$AX$552,13,FALSE),0)","v":0},{"$f":"IFERROR(VLOOKUP($A56,Filtro!$A$4:$AX$552,14,FALSE),0)","v":0},{"$f":"IFERROR(VLOOKUP($A56,Filtro!$A$4:$AX$552,15,FALSE),0)","v":2},{"$f":"IFERROR(VLOOKUP($A56,Filtro!$A$4:$AX$552,16,FALSE),0)","v":0},{"$f":"IFERROR(VLOOKUP($A56,Filtro!$A$4:$AX$552,17,FALSE),0)","v":5},{"$f":"IFERROR(VLOOKUP($A56,Filtro!$A$4:$AX$552,18,FALSE),0)","v":0},{"$f":"IFERROR(VLOOKUP($A56,Filtro!$A$4:$AX$552,19,FALSE),0)","v":2},{"$f":"IFERROR(VLOOKUP($A56,Filtro!$A$4:$AX$552,20,FALSE),0)","v":0},{"$f":"IFERROR(VLOOKUP($A56,Filtro!$A$4:$AX$552,21,FALSE),0)","v":3},{"$f":"IFERROR(VLOOKUP($A56,Filtro!$A$4:$AX$552,22,FALSE),0)","v":0},{"$f":"IFERROR(VLOOKUP($A56,Filtro!$A$4:$AX$552,23,FALSE),0)","v":1},{"$f":"IFERROR(VLOOKUP($A56,Filtro!$A$4:$AX$552,24,FALSE),0)","v":0},{"$f":"IFERROR(VLOOKUP($A56,Filtro!$A$4:$AX$552,25,FALSE),0)","v":2},{"$f":"IFERROR(VLOOKUP($A56,Filtro!$A$4:$AX$552,26,FALSE),0)","v":0},{"$f":"IFERROR(VLOOKUP($A56,Filtro!$A$4:$AX$552,27,FALSE),0)","v":0},{"$f":"IFERROR(VLOOKUP($A56,Filtro!$A$4:$AX$552,28,FALSE),0)","v":0},{"$f":"IFERROR(VLOOKUP($A56,Filtro!$A$4:$AX$552,29,FALSE),0)","v":0},{"$f":"IFERROR(VLOOKUP($A56,Filtro!$A$4:$AX$552,30,FALSE),0)","v":0},{"$f":"IFERROR(VLOOKUP($A56,Filtro!$A$4:$AX$552,31,FALSE),0)","v":1},{"$f":"IFERROR(VLOOKUP($A56,Filtro!$A$4:$AX$552,32,FALSE),0)","v":0},{"$f":"IFERROR(VLOOKUP($A56,Filtro!$A$4:$AX$552,33,FALSE),0)","v":0},{"$f":"IFERROR(VLOOKUP($A56,Filtro!$A$4:$AX$552,34,FALSE),0)","v":0},{"$f":"IFERROR(VLOOKUP($A56,Filtro!$A$4:$AX$552,35,FALSE),0)","v":0},{"$f":"IFERROR(VLOOKUP($A56,Filtro!$A$4:$AX$552,36,FALSE),0)","v":0},{"$f":"IFERROR(VLOOKUP($A56,Filtro!$A$4:$AX$552,37,FALSE),0)","v":0},{"$f":"IFERROR(VLOOKUP($A56,Filtro!$A$4:$AX$552,38,FALSE),0)","v":0}]
["P6223050","PROGRAMA DE REHABILITACIÓN TIPO II","NÚMERO DE PERSONAS EN CONTROL EN EL PROGRAMA",{"$f":"IFERROR(VLOOKUP($A57,Filtro!$A$4:$AX$552,2,FALSE),0)","v":0},{"$f":"IFERROR(VLOOKUP($A57,Filtro!$A$4:$AX$552,3,FALSE),0)","v":0},{"$f":"IFERROR(VLOOKUP($A57,Filtro!$A$4:$AX$552,4,FALSE),0)","v":0},{"$f":"IFERROR(VLOOKUP($A57,Filtro!$A$4:$AX$552,5,FALSE),0)","v":0},{"$f":"IFERROR(VLOOKUP($A57,Filtro!$A$4:$AX$552,6,FALSE),0)","v":0},{"$f":"IFERROR(VLOOKUP($A57,Filtro!$A$4:$AX$552,7,FALSE),0)","v":0},{"$f":"IFERROR(VLOOKUP($A57,Filtro!$A$4:$AX$552,8,FALSE),0)","v":0},{"$f":"IFERROR(VLOOKUP($A57,Filtro!$A$4:$AX$552,9,FALSE),0)","v":0},{"$f":"IFERROR(VLOOKUP($A57,Filtro!$A$4:$AX$552,10,FALSE),0)","v":0},{"$f":"IFERROR(VLOOKUP($A57,Filtro!$A$4:$AX$552,11,FALSE),0)","v":0},{"$f":"IFERROR(VLOOKUP($A57,Filtro!$A$4:$AX$552,12,FALSE),0)","v":0},{"$f":"IFERROR(VLOOKUP($A57,Filtro!$A$4:$AX$552,13,FALSE),0)","v":0},{"$f":"IFERROR(VLOOKUP($A57,Filtro!$A$4:$AX$552,14,FALSE),0)","v":0},{"$f":"IFERROR(VLOOKUP($A57,Filtro!$A$4:$AX$552,15,FALSE),0)","v":0},{"$f":"IFERROR(VLOOKUP($A57,Filtro!$A$4:$AX$552,16,FALSE),0)","v":0},{"$f":"IFERROR(VLOOKUP($A57,Filtro!$A$4:$AX$552,17,FALSE),0)","v":0},{"$f":"IFERROR(VLOOKUP($A57,Filtro!$A$4:$AX$552,18,FALSE),0)","v":0},{"$f":"IFERROR(VLOOKUP($A57,Filtro!$A$4:$AX$552,19,FALSE),0)","v":0},{"$f":"IFERROR(VLOOKUP($A57,Filtro!$A$4:$AX$552,20,FALSE),0)","v":0},{"$f":"IFERROR(VLOOKUP($A57,Filtro!$A$4:$AX$552,21,FALSE),0)","v":0},{"$f":"IFERROR(VLOOKUP($A57,Filtro!$A$4:$AX$552,22,FALSE),0)","v":0},{"$f":"IFERROR(VLOOKUP($A57,Filtro!$A$4:$AX$552,23,FALSE),0)","v":0},{"$f":"IFERROR(VLOOKUP($A57,Filtro!$A$4:$AX$552,24,FALSE),0)","v":0},{"$f":"IFERROR(VLOOKUP($A57,Filtro!$A$4:$AX$552,25,FALSE),0)","v":0},{"$f":"IFERROR(VLOOKUP($A57,Filtro!$A$4:$AX$552,26,FALSE),0)","v":0},{"$f":"IFERROR(VLOOKUP($A57,Filtro!$A$4:$AX$552,27,FALSE),0)","v":0},{"$f":"IFERROR(VLOOKUP($A57,Filtro!$A$4:$AX$552,28,FALSE),0)","v":0},{"$f":"IFERROR(VLOOKUP($A57,Filtro!$A$4:$AX$552,29,FALSE),0)","v":0},{"$f":"IFERROR(VLOOKUP($A57,Filtro!$A$4:$AX$552,30,FALSE),0)","v":0},{"$f":"IFERROR(VLOOKUP($A57,Filtro!$A$4:$AX$552,31,FALSE),0)","v":0},{"$f":"IFERROR(VLOOKUP($A57,Filtro!$A$4:$AX$552,32,FALSE),0)","v":0},{"$f":"IFERROR(VLOOKUP($A57,Filtro!$A$4:$AX$552,33,FALSE),0)","v":0},{"$f":"IFERROR(VLOOKUP($A57,Filtro!$A$4:$AX$552,34,FALSE),0)","v":0},{"$f":"IFERROR(VLOOKUP($A57,Filtro!$A$4:$AX$552,35,FALSE),0)","v":0},{"$f":"IFERROR(VLOOKUP($A57,Filtro!$A$4:$AX$552,36,FALSE),0)","v":0},{"$f":"IFERROR(VLOOKUP($A57,Filtro!$A$4:$AX$552,37,FALSE),0)","v":0},{"$f":"IFERROR(VLOOKUP($A57,Filtro!$A$4:$AX$552,38,FALSE),0)","v":0}]
[null,"SECCION A.3: PROGRAMA DE ACOMPAÑAMIENTO PSICOSOCIAL EN LA ATENCION PRIMARIA"]
[null,"CONCEPTO",null,"TOTAL",null,null,"GRUPOS DE EDAD (en años)",{"$nulls":9},"Población Migrantes"]
[{"$nulls":6},"0 a 4 años",null,"5 a 9 años",null,"10 a 14 años",null,"15 a 19 años",null,"20 a 24 años"]
[{"$nulls":3},"Ambos Sexos","Hombres","Mujeres","Hombres","Mujeres","Hombres","Mujeres","Hombres","Mujeres","Hombres","Mujeres","Hombres","Mujeres","Hombres","Mujeres"]
["P6230300","N° DE PERSONAS EN CONTROL EN PROGRAMA DE ACOMPAÑAMIENTO PSICOSOCIAL",null,{"$f":"IFERROR(VLOOKUP($A62,Filtro!$A$4:$AX$552,2,FALSE),0)","v":893},{"$f":"IFERROR(VLOOKUP($A62,Filtro!$A$4:$AX$552,3,FALSE),0)","v":377},{"$f":"IFERROR(VLOOKUP($A62,Filtro!$A$4:$AX$552,4,FALSE),0)","v":516},{"$f":"IFERROR(VLOOKUP($A62,Filtro!$A$4:$AX$552,5,FALSE),0)","v":72},{"$f":"IFERROR(VLOOKUP($A62,Filtro!$A$4:$AX$552,6,FALSE),0)","v":80},{"$f":"IFERROR(VLOOKUP($A62,Filtro!$A$4:$AX$552,7,FALSE),0)","v":104},{"$f":"IFERROR(VLOOKUP($A62,Filtro!$A$4:$AX$552,8,FALSE),0)","v":79},{"$f":"IFERROR(VLOOKUP($A62,Filtro!$A$4:$AX$552,9,FALSE),0)","v":111},{"$f":"IFERROR(VLOOKUP($A62,Filtro!$A$4:$AX$552,10,FALSE),0)","v":121},{"$f":"IFERROR(VLOOKUP($A62,Filtro!$A$4:$AX$552,11,FALSE),0)","v":74},{"$f":"IFERROR(VLOOKUP($A62,Filtro!$A$4:$AX$552,12,FALSE),0)","v":166},{"$f":"IFERROR(VLOOKUP($A62,Filtro!$A$4:$AX$552,13,FALSE),0)","v":16},{"$f":"IFERROR(VLOOKUP($A62,Filtro!$A$4:$AX$552,14,FALSE),0)","v":70},{"$f":"IFERROR(VLOOKUP($A62,Filtro!$A$4:$AX$552,15,FALSE),0)","v":10},{"$f":"IFERROR(VLOOKUP($A62,Filtro!$A$4:$AX$552,16,FALSE),0)","v":23}]
[null,"B. ATENCIÓN DE ESPECIALIDADES\nSECCION B.1: POBLACIÓN EN CONTROL EN ESPECIALIDAD AL CORTE"]
[null,"CONCEPTO",null,"T O T A L",null,null,"GRUPO DE EDAD (en años)",{"$nulls":33},"Gestantes","Madre de Hijo menor de 5 años ","Pueblos Originarios",null,"Población Migrantes",null,"Niños, Niñas, Adolescentes y Jóvenes de Población SENAME","Plan Cuidado Integral Elaborado"]
[{"$nulls":6},"0 a 4 años",null,"5 a 9 años",null,"10 a 14 años",null,"15 a 19 años",null,"20 a 24 años",null,"25 a 29 años",null,"30 a 34 años",null,"35 a 39 años",null,"40 a 44 años",null,"45 a 49 años",null,"50 a 54 años",null,"55 a 59 años",null,"60 a 64 años",null,"65 a 69 años",null,"70 a 74 años",null,"75 a 79 años",null,"80 y más años",{"$nulls":20},"Gestantes","Madre de hijos","Pueblos originarios","Pueblos originarios","Poblacion Migrantes","Poblacion Migrantes","Población SENAME","Gestantes","Madre de hijos",null,"Pueblos originarios","Poblacion Migrantes","Población SENAME",{"$nulls":7},"Gestantes","Madre de hojos","Pueblos originarios","Pueblos originarios","Poblacion Migrantes","Poblacion Migrantes","Poblacion SENAME","Gestantes","Madre de hijos",null,"Pueblos originarios","Poblacion Migrantes","Poblacion SENAME"]
[{"$nulls":3},"Ambos\nsexos","Hombres","Mujeres","Hombres","Mujeres","Hombres","Mujeres","Hombres","Mujeres","Hombres","Mujeres","Hombres","Mujeres","Hombres","Mujeres","Hombres","Mujeres","Hombres","Mujeres","Hombres","Mujeres","Hombres","Mujeres","Hombres","Mujeres","Hombres","Mujeres","Hombres","Mujeres","Hombres ","Mujeres","Hombres ","Mujeres","Hombres ","Mujeres","Hombres","Mujeres",null,null,"Hombres","Mujeres","Hombres","Mujeres",{"$nulls":15},"Hombres","Mujeres","Hombres","Mujeres",null,"No Olvide","No Olvide",null,"No Olvide","No Olvide","No Olvide",{"$nulls":9},"Hombres","Mujeres","Hombres","Mujeres",null,"No Olvide","No Olvide",null,"No Olvide","No Olvide","No Olvide"]
["P6223090","NUMERO DE PERSONAS EN CONTROL EN EL PROGRAMA",null,{"$f":"IFERROR(VLOOKUP($A67,Filtro!$A$4:$AX$552,2,FALSE),0)","v":3566},{"$f":"IFERROR(VLOOKUP($A67,Filtro!$A$4:$AX$552,3,FALSE),0)","v":1593},{"$f":"IFERROR(VLOOKUP($A67,Filtro!$A$4:$AX$552,4,FALSE),0)","v":1973},{"$f":"IFERROR(VLOOKUP($A67,Filtro!$A$4:$AX$552,5,FALSE),0)","v":14},{"$f":"IFERROR(VLOOKUP($A67,Filtro!$A$4:$AX$552,6,FALSE),0)","v":6},{"$f":"IFERROR(VLOOKUP($A67,Filtro!$A$4:$AX$552,7,FALSE),0)","v":146},{"$f":"IFERROR(VLOOKUP($A67,Filtro!$A$4:$AX$552,8,FALSE),0)","v":55},{"$f":"IFERROR(VLOOKUP($A67,Filtro!$A$4:$AX$552,9,FALSE),0)","v":254},{"$f":"IFERROR(VLOOKUP($A67,Filtro!$A$4:$AX$552,10,FALSE),0)","v":165},{"$f":"IFERROR(VLOOKUP($A67,Filtro!$A$4:$AX$552,11,FALSE),0)","v":300},{"$f":"IFERROR(VLOOKUP($A67,Filtro!$A$4:$AX$552,12,FALSE),0)","v":310},{"$f":"IFERROR(VLOOKUP($A67,Filtro!$A$4:$AX$552,13,FALSE),0)","v":132},{"$f":"IFERROR(VLOOKUP($A67,Filtro!$A$4:$AX$552,14,FALSE),0)","v":119},{"$f":"IFERROR(VLOOKUP($A67,Filtro!$A$4:$AX$552,15,FALSE),0)","v":130},{"$f":"IFERROR(VLOOKUP($A67,Filtro!$A$4:$AX$552,16,FALSE),0)","v":97},{"$f":"IFERROR(VLOOKUP($A67,Filtro!$A$4:$AX$552,17,FALSE),0)","v":105},{"$f":"IFERROR(VLOOKUP($A67,Filtro!$A$4:$AX$552,18,FALSE),0)","v":111},{"$f":"IFERROR(VLOOKUP($A67,Filtro!$A$4:$AX$552,19,FALSE),0)","v":78},{"$f":"IFERROR(VLOOKUP($A67,Filtro!$A$4:$AX$552,20,FALSE),0)","v":124},{"$f":"IFERROR(VLOOKUP($A67,Filtro!$A$4:$AX$552,21,FALSE),0)","v":75},{"$f":"IFERROR(VLOOKUP($A67,Filtro!$A$4:$AX$552,22,FALSE),0)","v":129},{"$f":"IFERROR(VLOOKUP($A67,Filtro!$A$4:$AX$552,23,FALSE),0)","v":101},{"$f":"IFERROR(VLOOKUP($A67,Filtro!$A$4:$AX$552,24,FALSE),0)","v":173},{"$f":"IFERROR(VLOOKUP($A67,Filtro!$A$4:$AX$552,25,FALSE),0)","v":77},{"$f":"IFERROR(VLOOKUP($A67,Filtro!$A$4:$AX$552,26,FALSE),0)","v":157},{"$f":"IFERROR(VLOOKUP($A67,Filtro!$A$4:$AX$552,27,FALSE),0)","v":77},{"$f":"IFERROR(VLOOKUP($A67,Filtro!$A$4:$AX$552,28,FALSE),0)","v":173},{"$f":"IFERROR(VLOOKUP($A67,Filtro!$A$4:$AX$552,29,FALSE),0)","v":40},{"$f":"IFERROR(VLOOKUP($A67,Filtro!$A$4:$AX$552,30,FALSE),0)","v":138},{"$f":"IFERROR(VLOOKUP($A67,Filtro!$A$4:$AX$552,31,FALSE),0)","v":28},{"$f":"IFERROR(VLOOKUP($A67,Filtro!$A$4:$AX$552,32,FALSE),0)","v":89},{"$f":"IFERROR(VLOOKUP($A67,Filtro!$A$4:$AX$552,33,FALSE),0)","v":13},{"$f":"IFERROR(VLOOKUP($A67,Filtro!$A$4:$AX$552,34,FALSE),0)","v":58},{"$f":"IFERROR(VLOOKUP($A67,Filtro!$A$4:$AX$552,35,FALSE),0)","v":13},{"$f":"IFERROR(VLOOKUP($A67,Filtro!$A$4:$AX$552,36,FALSE),0)","v":28},{"$f":"IFERROR(VLOOKUP($A67,Filtro!$A$4:$AX$552,37,FALSE),0)","v":10},{"$f":"IFERROR(VLOOKUP($A67,Filtro!$A$4:$AX$552,38,FALSE),0)","v":41},{"$f":"IFERROR(VLOOKUP($A67,Filtro!$A$4:$AX$552,39,FALSE),0)","v":16},{"$f":"IFERROR(VLOOKUP($A67,Filtro!$A$4:$AX$552,40,FALSE),0)","v":37},{"$f":"IFERROR(VLOOKUP($A67,Filtro!$A$4:$AX$552,41,FALSE),0)","v":1},{"$f":"IFERROR(VLOOKUP($A67,Filtro!$A$4:$AX$552,42,FALSE),0)","v":16},{"$f":"IFERROR(VLOOKUP($A67,Filtro!$A$4:$AX$552,43,FALSE),0)","v":11},{"$f":"IFERROR(VLOOKUP($A67,Filtro!$A$4:$AX$552,44,FALSE),0)","v":8},{"$f":"IFERROR(VLOOKUP($A67,Filtro!$A$4:$AX$552,45,FALSE),0)","v":254},{"$f":"IFERROR(VLOOKUP($A67,Filtro!$A$4:$AX$552,46,FALSE),0)","v":572},{"$nulls":11},{"$f":"IF($AO67>$F67,\"* La celda 'Gestantes' debe ser menor o igual al Total de Mujeres en control. \",\"\")","v":""},{"$f":"IF($AP67>$F67,\"* La celda 'Madres de Hijos menor de 5 años' debe ser menor o igual al Total de Mujeres en control. \",\"\")","v":""},{"$f":"IF(($AQ67)>$E67,\"* La celda 'Pueblos Originarios / Hombres' debe ser menor o igual al Total de Hombres en control. \",\"\")","v":""},{"$f":"IF($AR67>$F67,\"* La celda 'Pueblos Originarios / Mujeres' debe ser menor o igual al Total de Mujeres en control. \",\"\")","v":""},{"$f":"IF(($AS67)>$E67,\"* La celda 'Población Migrantes / Hombres' debe ser menor o igual al Total de Hombres en control. \",\"\")","v":""},{"$f":"IF($AT67>$F67,\"* La celda 'Población Migrantes / Mujeres' debe ser menor o igual al Total de Mujeres en control. \",\"\")","v":""},{"$f":"IF($AU67>$D67,\"* La celda 'Población SENAME' debe ser menor o igual al Total de Personas en control. \",\"\")","v":""},{"$f":"IF(AND($D67<>0,$AO67=\"\"),\"* No olvide escribir en la celda de 'Gestantes' (Digite CERO si no tiene). \",\"\")","v":""},{"$f":"IF(AND($D67<>0,$AP67=\"\"),\"* No olvide escribir en la celda de 'Madres de Hijos menor de 5 años' (Digite CERO si no tiene). \",\"\")","v":""},null,{"$f":"IF(AND($E67<>0,$AQ67=\"\"),\"* No olvide escribir en las celdas de 'Pueblos Originarios' (Digite CERO si no tiene). \",IF(AND($F67<>0,$AR67=\"\"),\"* No olvide escribir en las celdas de 'Pueblos Originarios' (Digite CERO si no tiene). \",\"\"))","v":""},{"$f":"IF(AND($E67<>0,$AS67=\"\"),\"* No olvide escribir en las celdas de 'Población Migrantes' (Digite CERO si no tiene). \",IF(AND($F67<>0,$AT67=\"\"),\"* No olvide escribir en las celdas de 'Población Migrantes' (Digite CERO si no tiene). \",\"\"))","v":""},{"$f":"IF(AND($D67<>0,$AU67=\"\"),\"* No olvide escribir en las celdas de 'Población SENAME' (Digite CERO si no tiene). \",\"\")","v":""},{"$nulls":7},{"$f":"IF($AO67>$F67,1,0)","v":0},{"$f":"IF($AP67>$F67,1,0)","v":0},{"$f":"IF(($AQ67)>$E67,1,0)","v":0},{"$f":"IF($AR67>$F67,1,0)","v":0},{"$f":"IF(($AS67)>$E67,1,0)","v":0},{"$f":"IF($AT67>$F67,1,0)","v":0},{"$f":"IF($AU67>$D67,1,0)","v":0},{"$f":"IF(AND($D67<>0,$AO67=\"\"),1,0)","v":0},{"$f":"IF(AND($D67<>0,$AP67=\"\"),1,0)","v":0},null,{"$f":"IF(AND($E67<>0,$AQ67=\"\"),1,IF(AND($F67<>0,$AR67=\"\"),1,0))","v":0},{"$f":"IF(AND($E67<>0,$AS67=\"\"),1,IF(AND($F67<>0,$AT67=\"\"),1,0))","v":0},{"$f":"IF(AND($E67<>0,$AU67=\"\"),1,0)","v":0}]
[null,"FACTORES DE RIESGO Y CONDICIONANTES DE LA SALUD MENTAL"]
["P6223100","VIOLENCIA ","VICTIMA",{"$f":"IFERROR(VLOOKUP($A69,Filtro!$A$4:$AX$552,2,FALSE),0)","v":86},{"$f":"IFERROR(VLOOKUP($A69,Filtro!$A$4:$AX$552,3,FALSE),0)","v":29},{"$f":"IFERROR(VLOOKUP($A69,Filtro!$A$4:$AX$552,4,FALSE),0)","v":57},{"$f":"IFERROR(VLOOKUP($A69,Filtro!$A$4:$AX$552,5,FALSE),0)","v":0},{"$f":"IFERROR(VLOOKUP($A69,Filtro!$A$4:$AX$552,6,FALSE),0)","v":0},{"$f":"IFERROR(VLOOKUP($A69,Filtro!$A$4:$AX$552,7,FALSE),0)","v":4},{"$f":"IFERROR(VLOOKUP($A69,Filtro!$A$4:$AX$552,8,FALSE),0)","v":4},{"$f":"IFERROR(VLOOKUP($A69,Filtro!$A$4:$AX$552,9,FALSE),0)","v":11},{"$f":"IFERROR(VLOOKUP($A69,Filtro!$A$4:$AX$552,10,FALSE),0)","v":6},{"$f":"IFERROR(VLOOKUP($A69,Filtro!$A$4:$AX$552,11,FALSE),0)","v":11},{"$f":"IFERROR(VLOOKUP($A69,Filtro!$A$4:$AX$552,12,FALSE),0)","v":14},{"$f":"IFERROR(VLOOKUP($A69,Filtro!$A$4:$AX$552,13,FALSE),0)","v":0},{"$f":"IFERROR(VLOOKUP($A69,Filtro!$A$4:$AX$552,14,FALSE),0)","v":0},{"$f":"IFERROR(VLOOKUP($A69,Filtro!$A$4:$AX$552,15,FALSE),0)","v":0},{"$f":"IFERROR(VLOOKUP($A69,Filtro!$A$4:$AX$552,16,FALSE),0)","v":0},{"$f":"IFERROR(VLOOKUP($A69,Filtro!$A$4:$AX$552,17,FALSE),0)","v":0},{"$f":"IFERROR(VLOOKUP($A69,Filtro!$A$4:$AX$552,18,FALSE),0)","v":3},{"$f":"IFERROR(VLOOKUP($A69,Filtro!$A$4:$AX$552,19,FALSE),0)","v":0},{"$f":"IFERROR(VLOOKUP($A69,Filtro!$A$4:$AX$552,20,FALSE),0)","v":2},{"$f":"IFERROR(VLOOKUP($A69,Filtro!$A$4:$AX$552,21,FALSE),0)","v":1},{"$f":"IFERROR(VLOOKUP($A69,Filtro!$A$4:$AX$552,22,FALSE),0)","v":4},{"$f":"IFERROR(VLOOKUP($A69,Filtro!$A$4:$AX$552,23,FALSE),0)","v":0},{"$f":"IFERROR(VLOOKUP($A69,Filtro!$A$4:$AX$552,24,FALSE),0)","v":4},{"$f":"IFERROR(VLOOKUP($A69,Filtro!$A$4:$AX$552,25,FALSE),0)","v":0},{"$f":"IFERROR(VLOOKUP($A69,Filtro!$A$4:$AX$552,26,FALSE),0)","v":8},{"$f":"IFERROR(VLOOKUP($A69,Filtro!$A$4:$AX$552,27,FALSE),0)","v":1},{"$f":"IFERROR(VLOOKUP($A69,Filtro!$A$4:$AX$552,28,FALSE),0)","v":4},{"$f":"IFERROR(VLOOKUP($A69,Filtro!$A$4:$AX$552,29,FALSE),0)","v":0},{"$f":"IFERROR(VLOOKUP($A69,Filtro!$A$4:$AX$552,30,FALSE),0)","v":4},{"$f":"IFERROR(VLOOKUP($A69,Filtro!$A$4:$AX$552,31,FALSE),0)","v":0},{"$f":"IFERROR(VLOOKUP($A69,Filtro!$A$4:$AX$552,32,FALSE),0)","v":2},{"$f":"IFERROR(VLOOKUP($A69,Filtro!$A$4:$AX$552,33,FALSE),0)","v":0},{"$f":"IFERROR(VLOOKUP($A69,Filtro!$A$4:$AX$552,34,FALSE),0)","v":1},{"$f":"IFERROR(VLOOKUP($A69,Filtro!$A$4:$AX$552,35,FALSE),0)","v":1},{"$f":"IFERROR(VLOOKUP($A69,Filtro!$A$4:$AX$552,36,FALSE),0)","v":1},{"$f":"IFERROR(VLOOKUP($A69,Filtro!$A$4:$AX$552,37,FALSE),0)","v":0},{"$f":"IFERROR(VLOOKUP($A69,Filtro!$A$4:$AX$552,38,FALSE),0)","v":0},{"$f":"IFERROR(VLOOKUP($A69,Filtro!$A$4:$AX$552,39,FALSE),0)","v":0},{"$f":"IFERROR(VLOOKUP($A69,Filtro!$A$4:$AX$552,40,FALSE),0)","v":4},{"$f":"IFERROR(VLOOKUP($A69,Filtro!$A$4:$AX$552,41,FALSE),0)","v":0},{"$f":"IFERROR(VLOOKUP($A69,Filtro!$A$4:$AX$552,42,FALSE),0)","v":0},{"$f":"IFERROR(VLOOKUP($A69,Filtro!$A$4:$AX$552,43,FALSE),0)","v":1},{"$f":"IFERROR(VLOOKUP($A69,Filtro!$A$4:$AX$552,44,FALSE),0)","v":1},{"$f":"IFERROR(VLOOKUP($A69,Filtro!$A$4:$AX$552,45,FALSE),0)","v":42},{"$f":"IFERROR(VLOOKUP($A69,Filtro!$A$4:$AX$552,46,FALSE),0)","v":23},{"$nulls":11},{"$f":"IF($AO69>$F69,\"* La celda 'Gestantes' debe ser menor o igual al Total de Mujeres en control. \",\"\")","v":""},{"$f":"IF($AP69>$F69,\"* La celda 'Madres de Hijos menor de 5 años' debe ser menor o igual al Total de Mujeres en control. \",\"\")","v":""},{"$f":"IF(($AQ69)>$E69,\"* La celda 'Pueblos Originarios / Hombres' debe ser menor o igual al Total de Hombres en control. \",\"\")","v":""},{"$f":"IF($AR69>$F69,\"* La celda 'Pueblos Originarios / Mujeres' debe ser menor o igual al Total de Mujeres en control. \",\"\")","v":""},{"$f":"IF(($AS69)>$E69,\"* La celda 'Población Migrantes / Hombres' debe ser menor o igual al Total de Hombres en control. \",\"\")","v":""},{"$f":"IF($AT69>$F69,\"* La celda 'Población Migrantes / Mujeres' debe ser menor o igual al Total de Mujeres en control. \",\"\")","v":""},{"$f":"IF($AU69>$D69,\"* La celda 'Población SENAME' debe ser menor o igual al Total de Personas en control. \",\"\")","v":""},{"$f":"IF(AND($D69<>0,$AO69=\"\"),\"* No olvide escribir en la celda de 'Gestantes' (Digite CERO si no tiene). \",\"\")","v":""},{"$f":"IF(AND($D69<>0,$AP69=\"\"),\"* No olvide escribir en la celda de 'Madres de Hijos menor de 5 años' (Digite CERO si no tiene). \",\"\")","v":""},null,{"$f":"IF(AND($E69<>0,$AQ69=\"\"),\"* No olvide escribir en las celdas de 'Pueblos Originarios' (Digite CERO si no tiene). \",IF(AND($F69<>0,$AR69=\"\"),\"* No olvide escribir en las celdas de 'Pueblos Originarios' (Digite CERO si no tiene). \",\"\"))","v":""},{"$f":"IF(AND($E69<>0,$AS69=\"\"),\"* No olvide escribir en las celdas de 'Población Migrantes' (Digite CERO si no tiene). \",IF(AND($F69<>0,$AT69=\"\"),\"* No olvide escribir en las celdas de 'Población Migrantes' (Digite CERO si no tiene). \",\"\"))","v":""},{"$f":"IF(AND($D69<>0,$AU69=\"\"),\"* No olvide escribir en las celdas de 'Población SENAME' (Digite CERO si no tiene). \",\"\")","v":""},{"$nulls":7},{"$f":"IF($AO69>$F69,1,0)","v":0},{"$f":"IF($AP69>$F69,1,0)","v":0},{"$f":"IF(($AQ69)>$E69,1,0)","v":0},{"$f":"IF($AR69>$F69,1,0)","v":0},{"$f":"IF(($AS69)>$E69,1,0)","v":0},{"$f":"IF($AT69>$F69,1,0)","v":0},{"$f":"IF($AU69>$D69,1,0)","v":0},{"$f":"IF(AND($D69<>0,$AO69=\"\"),1,0)","v":0},{"$f":"IF(AND($D69<>0,$AP69=\"\"),1,0)","v":0},null,{"$f":"IF(AND($E69<>0,$AQ69=\"\"),1,IF(AND($F69<>0,$AR69=\"\"),1,0))","v":0},{"$f":"IF(AND($E69<>0,$AS69=\"\"),1,IF(AND($F69<>0,$AT69=\"\"),1,0))","v":0},{"$f":"IF(AND($E69<>0,$AU69=\"\"),1,0)","v":0}]
["P6223110",null,"AGRESOR/A",{"$f":"IFERROR(VLOOKUP($A70,Filtro!$A$4:$AX$552,2,FALSE),0)","v":14},{"$f":"IFERROR(VLOOKUP($A70,Filtro!$A$4:$AX$552,3,FALSE),0)","v":9},{"$f":"IFERROR(VLOOKUP($A70,Filtro!$A$4:$AX$552,4,FALSE),0)","v":5},{"$f":"IFERROR(VLOOKUP($A70,Filtro!$A$4:$AX$552,5,FALSE),0)","v":0},{"$f":"IFERROR(VLOOKUP($A70,Filtro!$A$4:$AX$552,6,FALSE),0)","v":0},{"$f":"IFERROR(VLOOKUP($A70,Filtro!$A$4:$AX$552,7,FALSE),0)","v":0},{"$f":"IFERROR(VLOOKUP($A70,Filtro!$A$4:$AX$552,8,FALSE),0)","v":0},{"$f":"IFERROR(VLOOKUP($A70,Filtro!$A$4:$AX$552,9,FALSE),0)","v":0},{"$f":"IFERROR(VLOOKUP($A70,Filtro!$A$4:$AX$552,10,FALSE),0)","v":0},{"$f":"IFERROR(VLOOKUP($A70,Filtro!$A$4:$AX$552,11,FALSE),0)","v":4},{"$f":"IFERROR(VLOOKUP($A70,Filtro!$A$4:$AX$552,12,FALSE),0)","v":0},{"$f":"IFERROR(VLOOKUP($A70,Filtro!$A$4:$AX$552,13,FALSE),0)","v":1},{"$f":"IFERROR(VLOOKUP($A70,Filtro!$A$4:$AX$552,14,FALSE),0)","v":0},{"$f":"IFERROR(VLOOKUP($A70,Filtro!$A$4:$AX$552,15,FALSE),0)","v":0},{"$f":"IFERROR(VLOOKUP($A70,Filtro!$A$4:$AX$552,16,FALSE),0)","v":0},{"$f":"IFERROR(VLOOKUP($A70,Filtro!$A$4:$AX$552,17,FALSE),0)","v":0},{"$f":"IFERROR(VLOOKUP($A70,Filtro!$A$4:$AX$552,18,FALSE),0)","v":0},{"$f":"IFERROR(VLOOKUP($A70,Filtro!$A$4:$AX$552,19,FALSE),0)","v":0},{"$f":"IFERROR(VLOOKUP($A70,Filtro!$A$4:$AX$552,20,FALSE),0)","v":1},{"$f":"IFERROR(VLOOKUP($A70,Filtro!$A$4:$AX$552,21,FALSE),0)","v":0},{"$f":"IFERROR(VLOOKUP($A70,Filtro!$A$4:$AX$552,22,FALSE),0)","v":2},{"$f":"IFERROR(VLOOKUP($A70,Filtro!$A$4:$AX$552,23,FALSE),0)","v":0},{"$f":"IFERROR(VLOOKUP($A70,Filtro!$A$4:$AX$552,24,FALSE),0)","v":0},{"$f":"IFERROR(VLOOKUP($A70,Filtro!$A$4:$AX$552,25,FALSE),0)","v":0},{"$f":"IFERROR(VLOOKUP($A70,Filtro!$A$4:$AX$552,26,FALSE),0)","v":0},{"$f":"IFERROR(VLOOKUP($A70,Filtro!$A$4:$AX$552,27,FALSE),0)","v":1},{"$f":"IFERROR(VLOOKUP($A70,Filtro!$A$4:$AX$552,28,FALSE),0)","v":0},{"$f":"IFERROR(VLOOKUP($A70,Filtro!$A$4:$AX$552,29,FALSE),0)","v":1},{"$f":"IFERROR(VLOOKUP($A70,Filtro!$A$4:$AX$552,30,FALSE),0)","v":2},{"$f":"IFERROR(VLOOKUP($A70,Filtro!$A$4:$AX$552,31,FALSE),0)","v":0},{"$f":"IFERROR(VLOOKUP($A70,Filtro!$A$4:$AX$552,32,FALSE),0)","v":0},{"$f":"IFERROR(VLOOKUP($A70,Filtro!$A$4:$AX$552,33,FALSE),0)","v":1},{"$f":"IFERROR(VLOOKUP($A70,Filtro!$A$4:$AX$552,34,FALSE),0)","v":0},{"$f":"IFERROR(VLOOKUP($A70,Filtro!$A$4:$AX$552,35,FALSE),0)","v":1},{"$f":"IFERROR(VLOOKUP($A70,Filtro!$A$4:$AX$552,36,FALSE),0)","v":0},{"$f":"IFERROR(VLOOKUP($A70,Filtro!$A$4:$AX$552,37,FALSE),0)","v":0},{"$f":"IFERROR(VLOOKUP($A70,Filtro!$A$4:$AX$552,38,FALSE),0)","v":0},{"$f":"IFERROR(VLOOKUP($A70,Filtro!$A$4:$AX$552,39,FALSE),0)","v":0},{"$f":"IFERROR(VLOOKUP($A70,Filtro!$A$4:$AX$552,40,FALSE),0)","v":1},{"$f":"IFERROR(VLOOKUP($A70,Filtro!$A$4:$AX$552,41,FALSE),0)","v":0},{"$f":"IFERROR(VLOOKUP($A70,Filtro!$A$4:$AX$552,42,FALSE),0)","v":0},{"$f":"IFERROR(VLOOKUP($A70,Filtro!$A$4:$AX$552,43,FALSE),0)","v":0},{"$f":"IFERROR(VLOOKUP($A70,Filtro!$A$4:$AX$552,44,FALSE),0)","v":0},{"$f":"IFERROR(VLOOKUP($A70,Filtro!$A$4:$AX$552,45,FALSE),0)","v":4},{"$f":"IFERROR(VLOOKUP($A70,Filtro!$A$4:$AX$552,46,FALSE),0)","v":9},{"$nulls":11},{"$f":"IF($AO70>$F70,\"* La celda 'Gestantes' debe ser menor o igual al Total de Mujeres en control. \",\"\")","v":""},{"$f":"IF($AP70>$F70,\"* La celda 'Madres de Hijos menor de 5 años' debe ser menor o igual al Total de Mujeres en control. \",\"\")","v":""},{"$f":"IF(($AQ70)>$E70,\"* La celda 'Pueblos Originarios / Hombres' debe ser menor o igual al Total de Hombres en control. \",\"\")","v":""},{"$f":"IF($AR70>$F70,\"* La celda 'Pueblos Originarios / Mujeres' debe ser menor o igual al Total de Mujeres en control. \",\"\")","v":""},{"$f":"IF(($AS70)>$E70,\"* La celda 'Población Migrantes / Hombres' debe ser menor o igual al Total de Hombres en control. \",\"\")","v":""},{"$f":"IF($AT70>$F70,\"* La celda 'Población Migrantes / Mujeres' debe ser menor o igual al Total de Mujeres en control. \",\"\")","v":""},"",{"$f":"IF(AND($D70<>0,$AO70=\"\"),\"* No olvide escribir en la celda de 'Gestantes' (Digite CERO si no tiene). \",\"\")","v":""},{"$f":"IF(AND($D70<>0,$AP70=\"\"),\"* No olvide escribir en la celda de 'Madres de Hijos menor de 5 años' (Digite CERO si no tiene). \",\"\")","v":""},null,{"$f":"IF(AND($E70<>0,$AQ70=\"\"),\"* No olvide escribir en las celdas de 'Pueblos Originarios' (Digite CERO si no tiene). \",IF(AND($F70<>0,$AR70=\"\"),\"* No olvide escribir en las celdas de 'Pueblos Originarios' (Digite CERO si no tiene). \",\"\"))","v":""},{"$f":"IF(AND($E70<>0,$AS70=\"\"),\"* No olvide escribir en las celdas de 'Población Migrantes' (Digite CERO si no tiene). \",IF(AND($F70<>0,$AT70=\"\"),\"* No olvide escribir en las celdas de 'Población Migrantes' (Digite CERO si no tiene). \",\"\"))","v":""},"",{"$nulls":7},{"$f":"IF($AO70>$F70,1,0)","v":0},{"$f":"IF($AP70>$F70,1,0)","v":0},{"$f":"IF(($AQ70)>$E70,1,0)","v":0},{"$f":"IF($AR70>$F70,1,0)","v":0},{"$f":"IF(($AS70)>$E70,1,0)","v":0},{"$f":"IF($AT70>$F70,1,0)","v":0},0,{"$f":"IF(AND($D70<>0,$AO70=\"\"),1,0)","v":0},{"$f":"IF(AND($D70<>0,$AP70=\"\"),1,0)","v":0},null,{"$f":"IF(AND($E70<>0,$AQ70=\"\"),1,IF(AND($F70<>0,$AR70=\"\"),1,0))","v":0},{"$f":"IF(AND($E70<>0,$AS70=\"\"),1,IF(AND($F70<>0,$AT70=\"\"),1,0))","v":0},0]
["P6223140","ABUSO SEXUAL",null,{"$f":"IFERROR(VLOOKUP($A71,Filtro!$A$4:$AX$552,2,FALSE),0)","v":46},{"$f":"IFERROR(VLOOKUP($A71,Filtro!$A$4:$AX$552,3,FALSE),0)","v":10},{"$f":"IFERROR(VLOOKUP($A71,Filtro!$A$4:$AX$552,4,FALSE),0)","v":36},{"$f":"IFERROR(VLOOKUP($A71,Filtro!$A$4:$AX$552,5,FALSE),0)","v":0},{"$f":"IFERROR(VLOOKUP($A71,Filtro!$A$4:$AX$552,6,FALSE),0)","v":0},{"$f":"IFERROR(VLOOKUP($A71,Filtro!$A$4:$AX$552,7,FALSE),0)","v":3},{"$f":"IFERROR(VLOOKUP($A71,Filtro!$A$4:$AX$552,8,FALSE),0)","v":0},{"$f":"IFERROR(VLOOKUP($A71,Filtro!$A$4:$AX$552,9,FALSE),0)","v":2},{"$f":"IFERROR(VLOOKUP($A71,Filtro!$A$4:$AX$552,10,FALSE),0)","v":2},{"$f":"IFERROR(VLOOKUP($A71,Filtro!$A$4:$AX$552,11,FALSE),0)","v":5},{"$f":"IFERROR(VLOOKUP($A71,Filtro!$A$4:$AX$552,12,FALSE),0)","v":15},{"$f":"IFERROR(VLOOKUP($A71,Filtro!$A$4:$AX$552,13,FALSE),0)","v":0},{"$f":"IFERROR(VLOOKUP($A71,Filtro!$A$4:$AX$552,14,FALSE),0)","v":4},{"$f":"IFERROR(VLOOKUP($A71,Filtro!$A$4:$AX$552,15,FALSE),0)","v":0},{"$f":"IFERROR(VLOOKUP($A71,Filtro!$A$4:$AX$552,16,FALSE),0)","v":0},{"$f":"IFERROR(VLOOKUP($A71,Filtro!$A$4:$AX$552,17,FALSE),0)","v":0},{"$f":"IFERROR(VLOOKUP($A71,Filtro!$A$4:$AX$552,18,FALSE),0)","v":3},{"$f":"IFERROR(VLOOKUP($A71,Filtro!$A$4:$AX$552,19,FALSE),0)","v":0},{"$f":"IFERROR(VLOOKUP($A71,Filtro!$A$4:$AX$552,20,FALSE),0)","v":4},{"$f":"IFERROR(VLOOKUP($A71,Filtro!$A$4:$AX$552,21,FALSE),0)","v":0},{"$f":"IFERROR(VLOOKUP($A71,Filtro!$A$4:$AX$552,22,FALSE),0)","v":2},{"$f":"IFERROR(VLOOKUP($A71,Filtro!$A$4:$AX$552,23,FALSE),0)","v":0},{"$f":"IFERROR(VLOOKUP($A71,Filtro!$A$4:$AX$552,24,FALSE),0)","v":4},{"$f":"IFERROR(VLOOKUP($A71,Filtro!$A$4:$AX$552,25,FALSE),0)","v":0},{"$f":"IFERROR(VLOOKUP($A71,Filtro!$A$4:$AX$552,26,FALSE),0)","v":2},{"$f":"IFERROR(VLOOKUP($A71,Filtro!$A$4:$AX$552,27,FALSE),0)","v":0},{"$f":"IFERROR(VLOOKUP($A71,Filtro!$A$4:$AX$552,28,FALSE),0)","v":0},{"$f":"IFERROR(VLOOKUP($A71,Filtro!$A$4:$AX$552,29,FALSE),0)","v":0},{"$f":"IFERROR(VLOOKUP($A71,Filtro!$A$4:$AX$552,30,FALSE),0)","v":0},{"$f":"IFERROR(VLOOKUP($A71,Filtro!$A$4:$AX$552,31,FALSE),0)","v":0},{"$f":"IFERROR(VLOOKUP($A71,Filtro!$A$4:$AX$552,32,FALSE),0)","v":0},{"$f":"IFERROR(VLOOKUP($A71,Filtro!$A$4:$AX$552,33,FALSE),0)","v":0},{"$f":"IFERROR(VLOOKUP($A71,Filtro!$A$4:$AX$552,34,FALSE),0)","v":0},{"$f":"IFERROR(VLOOKUP($A71,Filtro!$A$4:$AX$552,35,FALSE),0)","v":0},{"$f":"IFERROR(VLOOKUP($A71,Filtro!$A$4:$AX$552,36,FALSE),0)","v":0},{"$f":"IFERROR(VLOOKUP($A71,Filtro!$A$4:$AX$552,37,FALSE),0)","v":0},{"$f":"IFERROR(VLOOKUP($A71,Filtro!$A$4:$AX$552,38,FALSE),0)","v":0},{"$f":"IFERROR(VLOOKUP($A71,Filtro!$A$4:$AX$552,39,FALSE),0)","v":1},{"$f":"IFERROR(VLOOKUP($A71,Filtro!$A$4:$AX$552,40,FALSE),0)","v":5},{"$f":"IFERROR(VLOOKUP($A71,Filtro!$A$4:$AX$552,41,FALSE),0)","v":0},{"$f":"IFERROR(VLOOKUP($A71,Filtro!$A$4:$AX$552,42,FALSE),0)","v":0},{"$f":"IFERROR(VLOOKUP($A71,Filtro!$A$4:$AX$552,43,FALSE),0)","v":0},{"$f":"IFERROR(VLOOKUP($A71,Filtro!$A$4:$AX$552,44,FALSE),0)","v":0},{"$f":"IFERROR(VLOOKUP($A71,Filtro!$A$4:$AX$552,45,FALSE),0)","v":18},{"$f":"IFERROR(VLOOKUP($A71,Filtro!$A$4:$AX$552,46,FALSE),0)","v":18},{"$nulls":11},{"$f":"IF($AO71>$F71,\"* La celda 'Gestantes' debe ser menor o igual al Total de Mujeres en control. \",\"\")","v":""},{"$f":"IF($AP71>$F71,\"* La celda 'Madres de Hijos menor de 5 años' debe ser menor o igual al Total de Mujeres en control. \",\"\")","v":""},{"$f":"IF(($AQ71)>$E71,\"* La celda 'Pueblos Originarios / Hombres' debe ser menor o igual al Total de Hombres en control. \",\"\")","v":""},{"$f":"IF($AR71>$F71,\"* La celda 'Pueblos Originarios / Mujeres' debe ser menor o igual al Total de Mujeres en control. \",\"\")","v":""},{"$f":"IF(($AS71)>$E71,\"* La celda 'Población Migrantes / Hombres' debe ser menor o igual al Total de Hombres en control. \",\"\")","v":""},{"$f":"IF($AT71>$F71,\"* La celda 'Población Migrantes / Mujeres' debe ser menor o igual al Total de Mujeres en control. \",\"\")","v":""},"",{"$f":"IF(AND($D71<>0,$AO71=\"\"),\"* No olvide escribir en la celda de 'Gestantes' (Digite CERO si no tiene). \",\"\")","v":""},{"$f":"IF(AND($D71<>0,$AP71=\"\"),\"* No olvide escribir en la celda de 'Madres de Hijos menor de 5 años' (Digite CERO si no tiene). \",\"\")","v":""},null,{"$f":"IF(AND($E71<>0,$AQ71=\"\"),\"* No olvide escribir en las celdas de 'Pueblos Originarios' (Digite CERO si no tiene). \",IF(AND($F71<>0,$AR71=\"\"),\"* No olvide escribir en las celdas de 'Pueblos Originarios' (Digite CERO si no tiene). \",\"\"))","v":""},{"$f":"IF(AND($E71<>0,$AS71=\"\"),\"* No olvide escribir en las celdas de 'Población Migrantes' (Digite CERO si no tiene). \",IF(AND($F71<>0,$AT71=\"\"),\"* No olvide escribir en las celdas de 'Población Migrantes' (Digite CERO si no tiene). \",\"\"))","v":""},"",{"$nulls":7},{"$f":"IF($AO71>$F71,1,0)","v":0},{"$f":"IF($AP71>$F71,1,0)","v":0},{"$f":"IF(($AQ71)>$E71,1,0)","v":0},{"$f":"IF($AR71>$F71,1,0)","v":0},{"$f":"IF(($AS71)>$E71,1,0)","v":0},{"$f":"IF($AT71>$F71,1,0)","v":0},0,{"$f":"IF(AND($D71<>0,$AO71=\"\"),1,0)","v":0},{"$f":"IF(AND($D71<>0,$AP71=\"\"),1,0)","v":0},null,{"$f":"IF(AND($E71<>0,$AQ71=\"\"),1,IF(AND($F71<>0,$AR71=\"\"),1,0))","v":0},{"$f":"IF(AND($E71<>0,$AS71=\"\"),1,IF(AND($F71<>0,$AT71=\"\"),1,0))","v":0},0]
["P6231700","PEORES FORMAS DE VIOLENCIA-TRATA DE PERSONAS","SOSPECHA",{"$f":"IFERROR(VLOOKUP($A72,Filtro!$A$4:$AX$552,2,FALSE),0)","v":0},{"$f":"IFERROR(VLOOKUP($A72,Filtro!$A$4:$AX$552,3,FALSE),0)","v":0},{"$f":"IFERROR(VLOOKUP($A72,Filtro!$A$4:$AX$552,4,FALSE),0)","v":0},{"$f":"IFERROR(VLOOKUP($A72,Filtro!$A$4:$AX$552,5,FALSE),0)","v":0},{"$f":"IFERROR(VLOOKUP($A72,Filtro!$A$4:$AX$552,6,FALSE),0)","v":0},{"$f":"IFERROR(VLOOKUP($A72,Filtro!$A$4:$AX$552,7,FALSE),0)","v":0},{"$f":"IFERROR(VLOOKUP($A72,Filtro!$A$4:$AX$552,8,FALSE),0)","v":0},{"$f":"IFERROR(VLOOKUP($A72,Filtro!$A$4:$AX$552,9,FALSE),0)","v":0},{"$f":"IFERROR(VLOOKUP($A72,Filtro!$A$4:$AX$552,10,FALSE),0)","v":0},{"$f":"IFERROR(VLOOKUP($A72,Filtro!$A$4:$AX$552,11,FALSE),0)","v":0},{"$f":"IFERROR(VLOOKUP($A72,Filtro!$A$4:$AX$552,12,FALSE),0)","v":0},{"$f":"IFERROR(VLOOKUP($A72,Filtro!$A$4:$AX$552,13,FALSE),0)","v":0},{"$f":"IFERROR(VLOOKUP($A72,Filtro!$A$4:$AX$552,14,FALSE),0)","v":0},{"$f":"IFERROR(VLOOKUP($A72,Filtro!$A$4:$AX$552,15,FALSE),0)","v":0},{"$f":"IFERROR(VLOOKUP($A72,Filtro!$A$4:$AX$552,16,FALSE),0)","v":0},{"$f":"IFERROR(VLOOKUP($A72,Filtro!$A$4:$AX$552,17,FALSE),0)","v":0},{"$f":"IFERROR(VLOOKUP($A72,Filtro!$A$4:$AX$552,18,FALSE),0)","v":0},{"$f":"IFERROR(VLOOKUP($A72,Filtro!$A$4:$AX$552,19,FALSE),0)","v":0},{"$f":"IFERROR(VLOOKUP($A72,Filtro!$A$4:$AX$552,20,FALSE),0)","v":0},{"$f":"IFERROR(VLOOKUP($A72,Filtro!$A$4:$AX$552,21,FALSE),0)","v":0},{"$f":"IFERROR(VLOOKUP($A72,Filtro!$A$4:$AX$552,22,FALSE),0)","v":0},{"$f":"IFERROR(VLOOKUP($A72,Filtro!$A$4:$AX$552,23,FALSE),0)","v":0},{"$f":"IFERROR(VLOOKUP($A72,Filtro!$A$4:$AX$552,24,FALSE),0)","v":0},{"$f":"IFERROR(VLOOKUP($A72,Filtro!$A$4:$AX$552,25,FALSE),0)","v":0},{"$f":"IFERROR(VLOOKUP($A72,Filtro!$A$4:$AX$552,26,FALSE),0)","v":0},{"$f":"IFERROR(VLOOKUP($A72,Filtro!$A$4:$AX$552,27,FALSE),0)","v":0},{"$f":"IFERROR(VLOOKUP($A72,Filtro!$A$4:$AX$552,28,FALSE),0)","v":0},{"$f":"IFERROR(VLOOKUP($A72,Filtro!$A$4:$AX$552,29,FALSE),0)","v":0},{"$f":"IFERROR(VLOOKUP($A72,Filtro!$A$4:$AX$552,30,FALSE),0)","v":0},{"$f":"IFERROR(VLOOKUP($A72,Filtro!$A$4:$AX$552,31,FALSE),0)","v":0},{"$f":"IFERROR(VLOOKUP($A72,Filtro!$A$4:$AX$552,32,FALSE),0)","v":0},{"$f":"IFERROR(VLOOKUP($A72,Filtro!$A$4:$AX$552,33,FALSE),0)","v":0},{"$f":"IFERROR(VLOOKUP($A72,Filtro!$A$4:$AX$552,34,FALSE),0)","v":0},{"$f":"IFERROR(VLOOKUP($A72,Filtro!$A$4:$AX$552,35,FALSE),0)","v":0},{"$f":"IFERROR(VLOOKUP($A72,Filtro!$A$4:$AX$552,36,FALSE),0)","v":0},{"$f":"IFERROR(VLOOKUP($A72,Filtro!$A$4:$AX$552,37,FALSE),0)","v":0},{"$f":"IFERROR(VLOOKUP($A72,Filtro!$A$4:$AX$552,38,FALSE),0)","v":0},{"$f":"IFERROR(VLOOKUP($A72,Filtro!$A$4:$AX$552,39,FALSE),0)","v":0},{"$f":"IFERROR(VLOOKUP($A72,Filtro!$A$4:$AX$552,40,FALSE),0)","v":0},{"$f":"IFERROR(VLOOKUP($A72,Filtro!$A$4:$AX$552,41,FALSE),0)","v":0},{"$f":"IFERROR(VLOOKUP($A72,Filtro!$A$4:$AX$552,42,FALSE),0)","v":0},{"$f":"IFERROR(VLOOKUP($A72,Filtro!$A$4:$AX$552,43,FALSE),0)","v":0},{"$f":"IFERROR(VLOOKUP($A72,Filtro!$A$4:$AX$552,44,FALSE),0)","v":0},{"$f":"IFERROR(VLOOKUP($A72,Filtro!$A$4:$AX$552,45,FALSE),0)","v":0},{"$f":"IFERROR(VLOOKUP($A72,Filtro!$A$4:$AX$552,46,FALSE),0)","v":0},{"$nulls":17},{"$f":"IF($AU74>$D74,\"* La celda 'Población SENAME' debe ser menor o igual al Total de Personas en control. \",\"\")","v":""},{"$nulls":5},{"$f":"IF(AND($D74<>0,$AU74=\"\"),\"* No olvide escribir en las celdas de 'Población SENAME' (Digite CERO si no tiene). \",\"\")","v":""},{"$nulls":13},{"$f":"IF($AU74>$D74,1,0)","v":0},{"$nulls":5},{"$f":"IF(AND($E74<>0,$AU74=\"\"),1,0)","v":0}]
["P6231800",null,"CONFIRMACIÓN DIAGNÓSTICA",{"$f":"IFERROR(VLOOKUP($A73,Filtro!$A$4:$AX$552,2,FALSE),0)","v":0},{"$f":"IFERROR(VLOOKUP($A73,Filtro!$A$4:$AX$552,3,FALSE),0)","v":0},{"$f":"IFERROR(VLOOKUP($A73,Filtro!$A$4:$AX$552,4,FALSE),0)","v":0},{"$f":"IFERROR(VLOOKUP($A73,Filtro!$A$4:$AX$552,5,FALSE),0)","v":0},{"$f":"IFERROR(VLOOKUP($A73,Filtro!$A$4:$AX$552,6,FALSE),0)","v":0},{"$f":"IFERROR(VLOOKUP($A73,Filtro!$A$4:$AX$552,7,FALSE),0)","v":0},{"$f":"IFERROR(VLOOKUP($A73,Filtro!$A$4:$AX$552,8,FALSE),0)","v":0},{"$f":"IFERROR(VLOOKUP($A73,Filtro!$A$4:$AX$552,9,FALSE),0)","v":0},{"$f":"IFERROR(VLOOKUP($A73,Filtro!$A$4:$AX$552,10,FALSE),0)","v":0},{"$f":"IFERROR(VLOOKUP($A73,Filtro!$A$4:$AX$552,11,FALSE),0)","v":0},{"$f":"IFERROR(VLOOKUP($A73,Filtro!$A$4:$AX$552,12,FALSE),0)","v":0},{"$f":"IFERROR(VLOOKUP($A73,Filtro!$A$4:$AX$552,13,FALSE),0)","v":0},{"$f":"IFERROR(VLOOKUP($A73,Filtro!$A$4:$AX$552,14,FALSE),0)","v":0},{"$f":"IFERROR(VLOOKUP($A73,Filtro!$A$4:$AX$552,15,FALSE),0)","v":0},{"$f":"IFERROR(VLOOKUP($A73,Filtro!$A$4:$AX$552,16,FALSE),0)","v":0},{"$f":"IFERROR(VLOOKUP($A73,Filtro!$A$4:$AX$552,17,FALSE),0)","v":0},{"$f":"IFERROR(VLOOKUP($A73,Filtro!$A$4:$AX$552,18,FALSE),0)","v":0},{"$f":"IFERROR(VLOOKUP($A73,Filtro!$A$4:$AX$552,19,FALSE),0)","v":0},{"$f":"IFERROR(VLOOKUP($A73,Filtro!$A$4:$AX$552,20,FALSE),0)","v":0},{"$f":"IFERROR(VLOOKUP($A73,Filtro!$A$4:$AX$552,21,FALSE),0)","v":0},{"$f":"IFERROR(VLOOKUP($A73,Filtro!$A$4:$AX$552,22,FALSE),0)","v":0},{"$f":"IFERROR(VLOOKUP($A73,Filtro!$A$4:$AX$552,23,FALSE),0)","v":0},{"$f":"IFERROR(VLOOKUP($A73,Filtro!$A$4:$AX$552,24,FALSE),0)","v":0},{"$f":"IFERROR(VLOOKUP($A73,Filtro!$A$4:$AX$552,25,FALSE),0)","v":0},{"$f":"IFERROR(VLOOKUP($A73,Filtro!$A$4:$AX$552,26,FALSE),0)","v":0},{"$f":"IFERROR(VLOOKUP($A73,Filtro!$A$4:$AX$552,27,FALSE),0)","v":0},{"$f":"IFERROR(VLOOKUP($A73,Filtro!$A$4:$AX$552,28,FALSE),0)","v":0},{"$f":"IFERROR(VLOOKUP($A73,Filtro!$A$4:$AX$552,29,FALSE),0)","v":0},{"$f":"IFERROR(VLOOKUP($A73,Filtro!$A$4:$AX$552,30,FALSE),0)","v":0},{"$f":"IFERROR(VLOOKUP($A73,Filtro!$A$4:$AX$552,31,FALSE),0)","v":0},{"$f":"IFERROR(VLOOKUP($A73,Filtro!$A$4:$AX$552,32,FALSE),0)","v":0},{"$f":"IFERROR(VLOOKUP($A73,Filtro!$A$4:$AX$552,33,FALSE),0)","v":0},{"$f":"IFERROR(VLOOKUP($A73,Filtro!$A$4:$AX$552,34,FALSE),0)","v":0},{"$f":"IFERROR(VLOOKUP($A73,Filtro!$A$4:$AX$552,35,FALSE),0)","v":0},{"$f":"IFERROR(VLOOKUP($A73,Filtro!$A$4:$AX$552,36,FALSE),0)","v":0},{"$f":"IFERROR(VLOOKUP($A73,Filtro!$A$4:$AX$552,37,FALSE),0)","v":0},{"$f":"IFERROR(VLOOKUP($A73,Filtro!$A$4:$AX$552,38,FALSE),0)","v":0},{"$f":"IFERROR(VLOOKUP($A73,Filtro!$A$4:$AX$552,39,FALSE),0)","v":0},{"$f":"IFERROR(VLOOKUP($A73,Filtro!$A$4:$AX$552,40,FALSE),0)","v":0},{"$f":"IFERROR(VLOOKUP($A73,Filtro!$A$4:$AX$552,41,FALSE),0)","v":0},{"$f":"IFERROR(VLOOKUP($A73,Filtro!$A$4:$AX$552,42,FALSE),0)","v":0},{"$f":"IFERROR(VLOOKUP($A73,Filtro!$A$4:$AX$552,43,FALSE),0)","v":0},{"$f":"IFERROR(VLOOKUP($A73,Filtro!$A$4:$AX$552,44,FALSE),0)","v":0},{"$f":"IFERROR(VLOOKUP($A73,Filtro!$A$4:$AX$552,45,FALSE),0)","v":0},{"$f":"IFERROR(VLOOKUP($A73,Filtro!$A$4:$AX$552,46,FALSE),0)","v":0},{"$nulls":17},"",{"$nulls":5},"",{"$nulls":13},0,{"$nulls":5},0]
["P6231900","SUICIDIO","IDEACIÓN",{"$f":"IFERROR(VLOOKUP($A74,Filtro!$A$4:$AX$552,2,FALSE),0)","v":58},{"$f":"IFERROR(VLOOKUP($A74,Filtro!$A$4:$AX$552,3,FALSE),0)","v":17},{"$f":"IFERROR(VLOOKUP($A74,Filtro!$A$4:$AX$552,4,FALSE),0)","v":41},{"$f":"IFERROR(VLOOKUP($A74,Filtro!$A$4:$AX$552,5,FALSE),0)","v":0},{"$f":"IFERROR(VLOOKUP($A74,Filtro!$A$4:$AX$552,6,FALSE),0)","v":0},{"$f":"IFERROR(VLOOKUP($A74,Filtro!$A$4:$AX$552,7,FALSE),0)","v":1},{"$f":"IFERROR(VLOOKUP($A74,Filtro!$A$4:$AX$552,8,FALSE),0)","v":1},{"$f":"IFERROR(VLOOKUP($A74,Filtro!$A$4:$AX$552,9,FALSE),0)","v":4},{"$f":"IFERROR(VLOOKUP($A74,Filtro!$A$4:$AX$552,10,FALSE),0)","v":2},{"$f":"IFERROR(VLOOKUP($A74,Filtro!$A$4:$AX$552,11,FALSE),0)","v":10},{"$f":"IFERROR(VLOOKUP($A74,Filtro!$A$4:$AX$552,12,FALSE),0)","v":19},{"$f":"IFERROR(VLOOKUP($A74,Filtro!$A$4:$AX$552,13,FALSE),0)","v":0},{"$f":"IFERROR(VLOOKUP($A74,Filtro!$A$4:$AX$552,14,FALSE),0)","v":1},{"$f":"IFERROR(VLOOKUP($A74,Filtro!$A$4:$AX$552,15,FALSE),0)","v":0},{"$f":"IFERROR(VLOOKUP($A74,Filtro!$A$4:$AX$552,16,FALSE),0)","v":2},{"$f":"IFERROR(VLOOKUP($A74,Filtro!$A$4:$AX$552,17,FALSE),0)","v":0},{"$f":"IFERROR(VLOOKUP($A74,Filtro!$A$4:$AX$552,18,FALSE),0)","v":0},{"$f":"IFERROR(VLOOKUP($A74,Filtro!$A$4:$AX$552,19,FALSE),0)","v":0},{"$f":"IFERROR(VLOOKUP($A74,Filtro!$A$4:$AX$552,20,FALSE),0)","v":3},{"$f":"IFERROR(VLOOKUP($A74,Filtro!$A$4:$AX$552,21,FALSE),0)","v":0},{"$f":"IFERROR(VLOOKUP($A74,Filtro!$A$4:$AX$552,22,FALSE),0)","v":4},{"$f":"IFERROR(VLOOKUP($A74,Filtro!$A$4:$AX$552,23,FALSE),0)","v":0},{"$f":"IFERROR(VLOOKUP($A74,Filtro!$A$4:$AX$552,24,FALSE),0)","v":4},{"$f":"IFERROR(VLOOKUP($A74,Filtro!$A$4:$AX$552,25,FALSE),0)","v":0},{"$f":"IFERROR(VLOOKUP($A74,Filtro!$A$4:$AX$552,26,FALSE),0)","v":2},{"$f":"IFERROR(VLOOKUP($A74,Filtro!$A$4:$AX$552,27,FALSE),0)","v":1},{"$f":"IFERROR(VLOOKUP($A74,Filtro!$A$4:$AX$552,28,FALSE),0)","v":0},{"$f":"IFERROR(VLOOKUP($A74,Filtro!$A$4:$AX$552,29,FALSE),0)","v":1},{"$f":"IFERROR(VLOOKUP($A74,Filtro!$A$4:$AX$552,30,FALSE),0)","v":3},{"$f":"IFERROR(VLOOKUP($A74,Filtro!$A$4:$AX$552,31,FALSE),0)","v":0},{"$f":"IFERROR(VLOOKUP($A74,Filtro!$A$4:$AX$552,32,FALSE),0)","v":0},{"$f":"IFERROR(VLOOKUP($A74,Filtro!$A$4:$AX$552,33,FALSE),0)","v":0},{"$f":"IFERROR(VLOOKUP($A74,Filtro!$A$4:$AX$552,34,FALSE),0)","v":0},{"$f":"IFERROR(VLOOKUP($A74,Filtro!$A$4:$AX$552,35,FALSE),0)","v":0},{"$f":"IFERROR(VLOOKUP($A74,Filtro!$A$4:$AX$552,36,FALSE),0)","v":0},{"$f":"IFERROR(VLOOKUP($A74,Filtro!$A$4:$AX$552,37,FALSE),0)","v":0},{"$f":"IFERROR(VLOOKUP($A74,Filtro!$A$4:$AX$552,38,FALSE),0)","v":0},{"$f":"IFERROR(VLOOKUP($A74,Filtro!$A$4:$AX$552,39,FALSE),0)","v":0},{"$f":"IFERROR(VLOOKUP($A74,Filtro!$A$4:$AX$552,40,FALSE),0)","v":3},{"$f":"IFERROR(VLOOKUP($A74,Filtro!$A$4:$AX$552,41,FALSE),0)","v":0},{"$f":"IFERROR(VLOOKUP($A74,Filtro!$A$4:$AX$552,42,FALSE),0)","v":0},{"$f":"IFERROR(VLOOKUP($A74,Filtro!$A$4:$AX$552,43,FALSE),0)","v":0},{"$f":"IFERROR(VLOOKUP($A74,Filtro!$A$4:$AX$552,44,FALSE),0)","v":0},{"$f":"IFERROR(VLOOKUP($A74,Filtro!$A$4:$AX$552,45,FALSE),0)","v":14},{"$f":"IFERROR(VLOOKUP($A74,Filtro!$A$4:$AX$552,46,FALSE),0)","v":14},{"$nulls":11},{"$f":"IF($AO76>$F76,\"* La celda 'Gestantes' debe ser menor o igual al Total de Mujeres en control. \",\"\")","v":""},{"$f":"IF($AP76>$F76,\"* La celda 'Madres de Hijos menor de 5 años' debe ser menor o igual al Total de Mujeres en control. \",\"\")","v":""},{"$f":"IF(($AQ76)>$E76,\"* La celda 'Pueblos Originarios / Hombres' debe ser menor o igual al Total de Hombres en control. \",\"\")","v":""},{"$f":"IF($AR76>$F76,\"* La celda 'Pueblos Originarios / Mujeres' debe ser menor o igual al Total de Mujeres en control. \",\"\")","v":""},{"$f":"IF(($AS76)>$E76,\"* La celda 'Población Migrantes / Hombres' debe ser menor o igual al Total de Hombres en control. \",\"\")","v":""},{"$f":"IF($AT76>$F76,\"* La celda 'Población Migrantes / Mujeres' debe ser menor o igual al Total de Mujeres en control. \",\"\")","v":""},"",{"$f":"IF(AND($D76<>0,$AO76=\"\"),\"* No olvide escribir en la celda de 'Gestantes' (Digite CERO si no tiene). \",\"\")","v":""},{"$f":"IF(AND($D76<>0,$AP76=\"\"),\"* No olvide escribir en la celda de 'Madres de Hijos menor de 5 años' (Digite CERO si no tiene). \",\"\")","v":""},null,{"$f":"IF(AND($E76<>0,$AQ76=\"\"),\"* No olvide escribir en las celdas de 'Pueblos Originarios' (Digite CERO si no tiene). \",IF(AND($F76<>0,$AR76=\"\"),\"* No olvide escribir en las celdas de 'Pueblos Originarios' (Digite CERO si no tiene). \",\"\"))","v":""},{"$f":"IF(AND($E76<>0,$AS76=\"\"),\"* No olvide escribir en las celdas de 'Población Migrantes' (Digite CERO si no tiene). \",IF(AND($F76<>0,$AT76=\"\"),\"* No olvide escribir en las celdas de 'Población Migrantes' (Digite CERO si no tiene). \",\"\"))","v":""},"",{"$nulls":7},{"$f":"IF($AO76>$F76,1,0)","v":0},{"$f":"IF($AP76>$F76,1,0)","v":0},{"$f":"IF(($AQ76)>$E76,1,0)","v":0},{"$f":"IF($AR76>$F76,1,0)","v":0},{"$f":"IF(($AS76)>$E76,1,0)","v":0},{"$f":"IF($AT76>$F76,1,0)","v":0},0,{"$f":"IF(AND($D76<>0,$AO76=\"\"),1,0)","v":0},{"$f":"IF(AND($D76<>0,$AP76=\"\"),1,0)","v":0},null,{"$f":"IF(AND($E76<>0,$AQ76=\"\"),1,IF(AND($F76<>0,$AR76=\"\"),1,0))","v":0},{"$f":"IF(AND($E76<>0,$AS76=\"\"),1,IF(AND($F76<>0,$AT76=\"\"),1,0))","v":0},0]
["P6232000",null,"INTENTO",{"$f":"IFERROR(VLOOKUP($A75,Filtro!$A$4:$AX$552,2,FALSE),0)","v":57},{"$f":"IFERROR(VLOOKUP($A75,Filtro!$A$4:$AX$552,3,FALSE),0)","v":23},{"$f":"IFERROR(VLOOKUP($A75,Filtro!$A$4:$AX$552,4,FALSE),0)","v":34},{"$f":"IFERROR(VLOOKUP($A75,Filtro!$A$4:$AX$552,5,FALSE),0)","v":0},{"$f":"IFERROR(VLOOKUP($A75,Filtro!$A$4:$AX$552,6,FALSE),0)","v":0},{"$f":"IFERROR(VLOOKUP($A75,Filtro!$A$4:$AX$552,7,FALSE),0)","v":0},{"$f":"IFERROR(VLOOKUP($A75,Filtro!$A$4:$AX$552,8,FALSE),0)","v":0},{"$f":"IFERROR(VLOOKUP($A75,Filtro!$A$4:$AX$552,9,FALSE),0)","v":2},{"$f":"IFERROR(VLOOKUP($A75,Filtro!$A$4:$AX$552,10,FALSE),0)","v":5},{"$f":"IFERROR(VLOOKUP($A75,Filtro!$A$4:$AX$552,11,FALSE),0)","v":13},{"$f":"IFERROR(VLOOKUP($A75,Filtro!$A$4:$AX$552,12,FALSE),0)","v":16},{"$f":"IFERROR(VLOOKUP($A75,Filtro!$A$4:$AX$552,13,FALSE),0)","v":0},{"$f":"IFERROR(VLOOKUP($A75,Filtro!$A$4:$AX$552,14,FALSE),0)","v":7},{"$f":"IFERROR(VLOOKUP($A75,Filtro!$A$4:$AX$552,15,FALSE),0)","v":2},{"$f":"IFERROR(VLOOKUP($A75,Filtro!$A$4:$AX$552,16,FALSE),0)","v":0},{"$f":"IFERROR(VLOOKUP($A75,Filtro!$A$4:$AX$552,17,FALSE),0)","v":1},{"$f":"IFERROR(VLOOKUP($A75,Filtro!$A$4:$AX$552,18,FALSE),0)","v":1},{"$f":"IFERROR(VLOOKUP($A75,Filtro!$A$4:$AX$552,19,FALSE),0)","v":2},{"$f":"IFERROR(VLOOKUP($A75,Filtro!$A$4:$AX$552,20,FALSE),0)","v":0},{"$f":"IFERROR(VLOOKUP($A75,Filtro!$A$4:$AX$552,21,FALSE),0)","v":3},{"$f":"IFERROR(VLOOKUP($A75,Filtro!$A$4:$AX$552,22,FALSE),0)","v":0},{"$f":"IFERROR(VLOOKUP($A75,Filtro!$A$4:$AX$552,23,FALSE),0)","v":0},{"$f":"IFERROR(VLOOKUP($A75,Filtro!$A$4:$AX$552,24,FALSE),0)","v":2},{"$f":"IFERROR(VLOOKUP($A75,Filtro!$A$4:$AX$552,25,FALSE),0)","v":0},{"$f":"IFERROR(VLOOKUP($A75,Filtro!$A$4:$AX$552,26,FALSE),0)","v":1},{"$f":"IFERROR(VLOOKUP($A75,Filtro!$A$4:$AX$552,27,FALSE),0)","v":0},{"$f":"IFERROR(VLOOKUP($A75,Filtro!$A$4:$AX$552,28,FALSE),0)","v":2},{"$f":"IFERROR(VLOOKUP($A75,Filtro!$A$4:$AX$552,29,FALSE),0)","v":0},{"$f":"IFERROR(VLOOKUP($A75,Filtro!$A$4:$AX$552,30,FALSE),0)","v":0},{"$f":"IFERROR(VLOOKUP($A75,Filtro!$A$4:$AX$552,31,FALSE),0)","v":0},{"$f":"IFERROR(VLOOKUP($A75,Filtro!$A$4:$AX$552,32,FALSE),0)","v":0},{"$f":"IFERROR(VLOOKUP($A75,Filtro!$A$4:$AX$552,33,FALSE),0)","v":0},{"$f":"IFERROR(VLOOKUP($A75,Filtro!$A$4:$AX$552,34,FALSE),0)","v":0},{"$f":"IFERROR(VLOOKUP($A75,Filtro!$A$4:$AX$552,35,FALSE),0)","v":0},{"$f":"IFERROR(VLOOKUP($A75,Filtro!$A$4:$AX$552,36,FALSE),0)","v":0},{"$f":"IFERROR(VLOOKUP($A75,Filtro!$A$4:$AX$552,37,FALSE),0)","v":0},{"$f":"IFERROR(VLOOKUP($A75,Filtro!$A$4:$AX$552,38,FALSE),0)","v":0},{"$f":"IFERROR(VLOOKUP($A75,Filtro!$A$4:$AX$552,39,FALSE),0)","v":0},{"$f":"IFERROR(VLOOKUP($A75,Filtro!$A$4:$AX$552,40,FALSE),0)","v":0},{"$f":"IFERROR(VLOOKUP($A75,Filtro!$A$4:$AX$552,41,FALSE),0)","v":0},{"$f":"IFERROR(VLOOKUP($A75,Filtro!$A$4:$AX$552,42,FALSE),0)","v":0},{"$f":"IFERROR(VLOOKUP($A75,Filtro!$A$4:$AX$552,43,FALSE),0)","v":0},{"$f":"IFERROR(VLOOKUP($A75,Filtro!$A$4:$AX$552,44,FALSE),0)","v":0},{"$f":"IFERROR(VLOOKUP($A75,Filtro!$A$4:$AX$552,45,FALSE),0)","v":19},{"$f":"IFERROR(VLOOKUP($A75,Filtro!$A$4:$AX$552,46,FALSE),0)","v":16},{"$nulls":11},{"$f":"IF($AO77>$F77,\"* La celda 'Gestantes' debe ser menor o igual al Total de Mujeres en control. \",\"\")","v":""},"",{"$f":"IF(($AQ77)>$E77,\"* La celda 'Pueblos Originarios / Hombres' debe ser menor o igual al Total de Hombres en control. \",\"\")","v":""},"",{"$f":"IF(($AS77)>$E77,\"* La celda 'Población Migrantes / Hombres' debe ser menor o igual al Total de Hombres en control. \",\"\")","v":""},"","",{"$f":"IF(AND($D77<>0,$AO77=\"\"),\"* No olvide escribir en la celda de 'Gestantes' (Digite CERO si no tiene). \",\"\")","v":""},"",null,{"$f":"IF(AND($E77<>0,$AQ77=\"\"),\"* No olvide escribir en las celdas de 'Pueblos Originarios' (Digite CERO si no tiene). \",IF(AND($F77<>0,$AR77=\"\"),\"* No olvide escribir en las celdas de 'Pueblos Originarios' (Digite CERO si no tiene). \",\"\"))","v":""},{"$f":"IF(AND($E77<>0,$AS77=\"\"),\"* No olvide escribir en las celdas de 'Población Migrantes' (Digite CERO si no tiene). \",IF(AND($F77<>0,$AT77=\"\"),\"* No olvide escribir en las celdas de 'Población Migrantes' (Digite CERO si no tiene). \",\"\"))","v":""},"",{"$nulls":7},{"$f":"IF($AO77>$F77,1,0)","v":0},0,{"$f":"IF(($AQ77)>$E77,1,0)","v":0},0,{"$f":"IF(($AS77)>$E77,1,0)","v":0},0,0,{"$f":"IF(AND($D77<>0,$AO77=\"\"),1,0)","v":0},{"$f":"IF(AND($D77<>0,$AP77=\"\"),1,0)","v":0},null,{"$f":"IF(AND($E77<>0,$AQ77=\"\"),1,IF(AND($F77<>0,$AR77=\"\"),1,0))","v":0},{"$f":"IF(AND($E77<>0,$AS77=\"\"),1,IF(AND($F77<>0,$AT77=\"\"),1,0))","v":0},0]
["P6223170","PERSONAS CON DIAGNOSTICOS DE TRASTORNOS MENTALES ",null,{"$f":"IFERROR(VLOOKUP($A76,Filtro!$A$4:$AX$552,2,FALSE),0)","v":3294},{"$f":"IFERROR(VLOOKUP($A76,Filtro!$A$4:$AX$552,3,FALSE),0)","v":1395},{"$f":"IFERROR(VLOOKUP($A76,Filtro!$A$4:$AX$552,4,FALSE),0)","v":1899},{"$f":"IFERROR(VLOOKUP($A76,Filtro!$A$4:$AX$552,5,FALSE),0)","v":9},{"$f":"IFERROR(VLOOKUP($A76,Filtro!$A$4:$AX$552,6,FALSE),0)","v":4},{"$f":"IFERROR(VLOOKUP($A76,Filtro!$A$4:$AX$552,7,FALSE),0)","v":111},{"$f":"IFERROR(VLOOKUP($A76,Filtro!$A$4:$AX$552,8,FALSE),0)","v":46},{"$f":"IFERROR(VLOOKUP($A76,Filtro!$A$4:$AX$552,9,FALSE),0)","v":205},{"$f":"IFERROR(VLOOKUP($A76,Filtro!$A$4:$AX$552,10,FALSE),0)","v":132},{"$f":"IFERROR(VLOOKUP($A76,Filtro!$A$4:$AX$552,11,FALSE),0)","v":233},{"$f":"IFERROR(VLOOKUP($A76,Filtro!$A$4:$AX$552,12,FALSE),0)","v":254},{"$f":"IFERROR(VLOOKUP($A76,Filtro!$A$4:$AX$552,13,FALSE),0)","v":119},{"$f":"IFERROR(VLOOKUP($A76,Filtro!$A$4:$AX$552,14,FALSE),0)","v":120},{"$f":"IFERROR(VLOOKUP($A76,Filtro!$A$4:$AX$552,15,FALSE),0)","v":123},{"$f":"IFERROR(VLOOKUP($A76,Filtro!$A$4:$AX$552,16,FALSE),0)","v":98},{"$f":"IFERROR(VLOOKUP($A76,Filtro!$A$4:$AX$552,17,FALSE),0)","v":106},{"$f":"IFERROR(VLOOKUP($A76,Filtro!$A$4:$AX$552,18,FALSE),0)","v":111},{"$f":"IFERROR(VLOOKUP($A76,Filtro!$A$4:$AX$552,19,FALSE),0)","v":69},{"$f":"IFERROR(VLOOKUP($A76,Filtro!$A$4:$AX$552,20,FALSE),0)","v":124},{"$f":"IFERROR(VLOOKUP($A76,Filtro!$A$4:$AX$552,21,FALSE),0)","v":71},{"$f":"IFERROR(VLOOKUP($A76,Filtro!$A$4:$AX$552,22,FALSE),0)","v":123},{"$f":"IFERROR(VLOOKUP($A76,Filtro!$A$4:$AX$552,23,FALSE),0)","v":94},{"$f":"IFERROR(VLOOKUP($A76,Filtro!$A$4:$AX$552,24,FALSE),0)","v":169},{"$f":"IFERROR(VLOOKUP($A76,Filtro!$A$4:$AX$552,25,FALSE),0)","v":83},{"$f":"IFERROR(VLOOKUP($A76,Filtro!$A$4:$AX$552,26,FALSE),0)","v":152},{"$f":"IFERROR(VLOOKUP($A76,Filtro!$A$4:$AX$552,27,FALSE),0)","v":67},{"$f":"IFERROR(VLOOKUP($A76,Filtro!$A$4:$AX$552,28,FALSE),0)","v":183},{"$f":"IFERROR(VLOOKUP($A76,Filtro!$A$4:$AX$552,29,FALSE),0)","v":34},{"$f":"IFERROR(VLOOKUP($A76,Filtro!$A$4:$AX$552,30,FALSE),0)","v":154},{"$f":"IFERROR(VLOOKUP($A76,Filtro!$A$4:$AX$552,31,FALSE),0)","v":29},{"$f":"IFERROR(VLOOKUP($A76,Filtro!$A$4:$AX$552,32,FALSE),0)","v":101},{"$f":"IFERROR(VLOOKUP($A76,Filtro!$A$4:$AX$552,33,FALSE),0)","v":16},{"$f":"IFERROR(VLOOKUP($A76,Filtro!$A$4:$AX$552,34,FALSE),0)","v":69},{"$f":"IFERROR(VLOOKUP($A76,Filtro!$A$4:$AX$552,35,FALSE),0)","v":15},{"$f":"IFERROR(VLOOKUP($A76,Filtro!$A$4:$AX$552,36,FALSE),0)","v":22},{"$f":"IFERROR(VLOOKUP($A76,Filtro!$A$4:$AX$552,37,FALSE),0)","v":11},{"$f":"IFERROR(VLOOKUP($A76,Filtro!$A$4:$AX$552,38,FALSE),0)","v":37},{"$f":"IFERROR(VLOOKUP($A76,Filtro!$A$4:$AX$552,39,FALSE),0)","v":12},{"$f":"IFERROR(VLOOKUP($A76,Filtro!$A$4:$AX$552,40,FALSE),0)","v":21},{"$f":"IFERROR(VLOOKUP($A76,Filtro!$A$4:$AX$552,41,FALSE),0)","v":1},{"$f":"IFERROR(VLOOKUP($A76,Filtro!$A$4:$AX$552,42,FALSE),0)","v":0},{"$f":"IFERROR(VLOOKUP($A76,Filtro!$A$4:$AX$552,43,FALSE),0)","v":9},{"$f":"IFERROR(VLOOKUP($A76,Filtro!$A$4:$AX$552,44,FALSE),0)","v":3},{"$f":"IFERROR(VLOOKUP($A76,Filtro!$A$4:$AX$552,45,FALSE),0)","v":210},{"$f":"IFERROR(VLOOKUP($A76,Filtro!$A$4:$AX$552,46,FALSE),0)","v":164},{"$nulls":11},{"$f":"IF($AO78>$F78,\"* La celda 'Gestantes' debe ser menor o igual al Total de Mujeres en control. \",\"\")","v":""},"",{"$f":"IF(($AQ78)>$E78,\"* La celda 'Pueblos Originarios / Hombres' debe ser menor o igual al Total de Hombres en control. \",\"\")","v":""},"",{"$f":"IF(($AS78)>$E78,\"* La celda 'Población Migrantes / Hombres' debe ser menor o igual al Total de Hombres en control. \",\"\")","v":""},"","",{"$f":"IF(AND($D78<>0,$AO78=\"\"),\"* No olvide escribir en la celda de 'Gestantes' (Digite CERO si no tiene). \",\"\")","v":""},"",null,{"$f":"IF(AND($E78<>0,$AQ78=\"\"),\"* No olvide escribir en las celdas de 'Pueblos Originarios' (Digite CERO si no tiene). \",IF(AND($F78<>0,$AR78=\"\"),\"* No olvide escribir en las celdas de 'Pueblos Originarios' (Digite CERO si no tiene). \",\"\"))","v":""},{"$f":"IF(AND($E78<>0,$AS78=\"\"),\"* No olvide escribir en las celdas de 'Población Migrantes' (Digite CERO si no tiene). \",IF(AND($F78<>0,$AT78=\"\"),\"* No olvide escribir en las celdas de 'Población Migrantes' (Digite CERO si no tiene). \",\"\"))","v":""},"",{"$nulls":7},{"$f":"IF($AO78>$F78,1,0)","v":0},0,{"$f":"IF(($AQ78)>$E78,1,0)","v":0},0,{"$f":"IF(($AS78)>$E78,1,0)","v":0},0,0,{"$f":"IF(AND($D78<>0,$AO78=\"\"),1,0)","v":0},{"$f":"IF(AND($D78<>0,$AP78=\"\"),1,0)","v":0},null,{"$f":"IF(AND($E78<>0,$AQ78=\"\"),1,IF(AND($F78<>0,$AR78=\"\"),1,0))","v":0},{"$f":"IF(AND($E78<>0,$AS78=\"\"),1,IF(AND($F78<>0,$AT78=\"\"),1,0))","v":0},0]
["P6223180","TRASTORNOS DEL HUMOR\n(AFECTIVOS)","DEPRESIÓN REFRACTARIA",{"$f":"IFERROR(VLOOKUP($A77,Filtro!$A$4:$AX$552,2,FALSE),0)","v":387},{"$f":"IFERROR(VLOOKUP($A77,Filtro!$A$4:$AX$552,3,FALSE),0)","v":60},{"$f":"IFERROR(VLOOKUP($A77,Filtro!$A$4:$AX$552,4,FALSE),0)","v":327},{"$f":"IFERROR(VLOOKUP($A77,Filtro!$A$4:$AX$552,5,FALSE),0)","v":0},{"$f":"IFERROR(VLOOKUP($A77,Filtro!$A$4:$AX$552,6,FALSE),0)","v":0},{"$f":"IFERROR(VLOOKUP($A77,Filtro!$A$4:$AX$552,7,FALSE),0)","v":2},{"$f":"IFERROR(VLOOKUP($A77,Filtro!$A$4:$AX$552,8,FALSE),0)","v":0},{"$f":"IFERROR(VLOOKUP($A77,Filtro!$A$4:$AX$552,9,FALSE),0)","v":5},{"$f":"IFERROR(VLOOKUP($A77,Filtro!$A$4:$AX$552,10,FALSE),0)","v":10},{"$f":"IFERROR(VLOOKUP($A77,Filtro!$A$4:$AX$552,11,FALSE),0)","v":5},{"$f":"IFERROR(VLOOKUP($A77,Filtro!$A$4:$AX$552,12,FALSE),0)","v":41},{"$f":"IFERROR(VLOOKUP($A77,Filtro!$A$4:$AX$552,13,FALSE),0)","v":3},{"$f":"IFERROR(VLOOKUP($A77,Filtro!$A$4:$AX$552,14,FALSE),0)","v":11},{"$f":"IFERROR(VLOOKUP($A77,Filtro!$A$4:$AX$552,15,FALSE),0)","v":3},{"$f":"IFERROR(VLOOKUP($A77,Filtro!$A$4:$AX$552,16,FALSE),0)","v":10},{"$f":"IFERROR(VLOOKUP($A77,Filtro!$A$4:$AX$552,17,FALSE),0)","v":0},{"$f":"IFERROR(VLOOKUP($A77,Filtro!$A$4:$AX$552,18,FALSE),0)","v":11},{"$f":"IFERROR(VLOOKUP($A77,Filtro!$A$4:$AX$552,19,FALSE),0)","v":3},{"$f":"IFERROR(VLOOKUP($A77,Filtro!$A$4:$AX$552,20,FALSE),0)","v":14},{"$f":"IFERROR(VLOOKUP($A77,Filtro!$A$4:$AX$552,21,FALSE),0)","v":2},{"$f":"IFERROR(VLOOKUP($A77,Filtro!$A$4:$AX$552,22,FALSE),0)","v":28},{"$f":"IFERROR(VLOOKUP($A77,Filtro!$A$4:$AX$552,23,FALSE),0)","v":5},{"$f":"IFERROR(VLOOKUP($A77,Filtro!$A$4:$AX$552,24,FALSE),0)","v":30},{"$f":"IFERROR(VLOOKUP($A77,Filtro!$A$4:$AX$552,25,FALSE),0)","v":5},{"$f":"IFERROR(VLOOKUP($A77,Filtro!$A$4:$AX$552,26,FALSE),0)","v":43},{"$f":"IFERROR(VLOOKUP($A77,Filtro!$A$4:$AX$552,27,FALSE),0)","v":9},{"$f":"IFERROR(VLOOKUP($A77,Filtro!$A$4:$AX$552,28,FALSE),0)","v":36},{"$f":"IFERROR(VLOOKUP($A77,Filtro!$A$4:$AX$552,29,FALSE),0)","v":8},{"$f":"IFERROR(VLOOKUP($A77,Filtro!$A$4:$AX$552,30,FALSE),0)","v":39},{"$f":"IFERROR(VLOOKUP($A77,Filtro!$A$4:$AX$552,31,FALSE),0)","v":3},{"$f":"IFERROR(VLOOKUP($A77,Filtro!$A$4:$AX$552,32,FALSE),0)","v":28},{"$f":"IFERROR(VLOOKUP($A77,Filtro!$A$4:$AX$552,33,FALSE),0)","v":3},{"$f":"IFERROR(VLOOKUP($A77,Filtro!$A$4:$AX$552,34,FALSE),0)","v":18},{"$f":"IFERROR(VLOOKUP($A77,Filtro!$A$4:$AX$552,35,FALSE),0)","v":0},{"$f":"IFERROR(VLOOKUP($A77,Filtro!$A$4:$AX$552,36,FALSE),0)","v":5},{"$f":"IFERROR(VLOOKUP($A77,Filtro!$A$4:$AX$552,37,FALSE),0)","v":4},{"$f":"IFERROR(VLOOKUP($A77,Filtro!$A$4:$AX$552,38,FALSE),0)","v":3},{"$f":"IFERROR(VLOOKUP($A77,Filtro!$A$4:$AX$552,39,FALSE),0)","v":2},{"$f":"IFERROR(VLOOKUP($A77,Filtro!$A$4:$AX$552,40,FALSE),0)","v":10},{"$f":"IFERROR(VLOOKUP($A77,Filtro!$A$4:$AX$552,41,FALSE),0)","v":0},{"$f":"IFERROR(VLOOKUP($A77,Filtro!$A$4:$AX$552,42,FALSE),0)","v":3},{"$f":"IFERROR(VLOOKUP($A77,Filtro!$A$4:$AX$552,43,FALSE),0)","v":0},{"$f":"IFERROR(VLOOKUP($A77,Filtro!$A$4:$AX$552,44,FALSE),0)","v":0},{"$f":"IFERROR(VLOOKUP($A77,Filtro!$A$4:$AX$552,45,FALSE),0)","v":5},{"$f":"IFERROR(VLOOKUP($A77,Filtro!$A$4:$AX$552,46,FALSE),0)","v":41},{"$nulls":11},{"$f":"IF($AO79>$F79,\"* La celda 'Gestantes' debe ser menor o igual al Total de Mujeres en control. \",\"\")","v":""},"",{"$f":"IF(($AQ79)>$E79,\"* La celda 'Pueblos Originarios / Hombres' debe ser menor o igual al Total de Hombres en control. \",\"\")","v":""},"",{"$f":"IF(($AS79)>$E79,\"* La celda 'Población Migrantes / Hombres' debe ser menor o igual al Total de Hombres en control. \",\"\")","v":""},"","",{"$f":"IF(AND($D79<>0,$AO79=\"\"),\"* No olvide escribir en la celda de 'Gestantes' (Digite CERO si no tiene). \",\"\")","v":""},"",null,{"$f":"IF(AND($E79<>0,$AQ79=\"\"),\"* No olvide escribir en las celdas de 'Pueblos Originarios' (Digite CERO si no tiene). \",IF(AND($F79<>0,$AR79=\"\"),\"* No olvide escribir en las celdas de 'Pueblos Originarios' (Digite CERO si no tiene). \",\"\"))","v":""},{"$f":"IF(AND($E79<>0,$AS79=\"\"),\"* No olvide escribir en las celdas de 'Población Migrantes' (Digite CERO si no tiene). \",IF(AND($F79<>0,$AT79=\"\"),\"* No olvide escribir en las celdas de 'Población Migrantes' (Digite CERO si no tiene). \",\"\"))","v":""},"",{"$nulls":7},{"$f":"IF($AO79>$F79,1,0)","v":0},0,{"$f":"IF(($AQ79)>$E79,1,0)","v":0},0,{"$f":"IF(($AS79)>$E79,1,0)","v":0},0,0,{"$f":"IF(AND($D79<>0,$AO79=\"\"),1,0)","v":0},{"$f":"IF(AND($D79<>0,$AP79=\"\"),1,0)","v":0},null,{"$f":"IF(AND($E79<>0,$AQ79=\"\"),1,IF(AND($F79<>0,$AR79=\"\"),1,0))","v":0},{"$f":"IF(AND($E79<>0,$AS79=\"\"),1,IF(AND($F79<>0,$AT79=\"\"),1,0))","v":0},0]
["P6223190",null,"DEPRESIÓN GRAVE CON PSICOSIS",{"$f":"IFERROR(VLOOKUP($A78,Filtro!$A$4:$AX$552,2,FALSE),0)","v":167},{"$f":"IFERROR(VLOOKUP($A78,Filtro!$A$4:$AX$552,3,FALSE),0)","v":39},{"$f":"IFERROR(VLOOKUP($A78,Filtro!$A$4:$AX$552,4,FALSE),0)","v":128},{"$f":"IFERROR(VLOOKUP($A78,Filtro!$A$4:$AX$552,5,FALSE),0)","v":0},{"$f":"IFERROR(VLOOKUP($A78,Filtro!$A$4:$AX$552,6,FALSE),0)","v":0},{"$f":"IFERROR(VLOOKUP($A78,Filtro!$A$4:$AX$552,7,FALSE),0)","v":0},{"$f":"IFERROR(VLOOKUP($A78,Filtro!$A$4:$AX$552,8,FALSE),0)","v":0},{"$f":"IFERROR(VLOOKUP($A78,Filtro!$A$4:$AX$552,9,FALSE),0)","v":0},{"$f":"IFERROR(VLOOKUP($A78,Filtro!$A$4:$AX$552,10,FALSE),0)","v":6},{"$f":"IFERROR(VLOOKUP($A78,Filtro!$A$4:$AX$552,11,FALSE),0)","v":13},{"$f":"IFERROR(VLOOKUP($A78,Filtro!$A$4:$AX$552,12,FALSE),0)","v":21},{"$f":"IFERROR(VLOOKUP($A78,Filtro!$A$4:$AX$552,13,FALSE),0)","v":3},{"$f":"IFERROR(VLOOKUP($A78,Filtro!$A$4:$AX$552,14,FALSE),0)","v":2},{"$f":"IFERROR(VLOOKUP($A78,Filtro!$A$4:$AX$552,15,FALSE),0)","v":2},{"$f":"IFERROR(VLOOKUP($A78,Filtro!$A$4:$AX$552,16,FALSE),0)","v":8},{"$f":"IFERROR(VLOOKUP($A78,Filtro!$A$4:$AX$552,17,FALSE),0)","v":0},{"$f":"IFERROR(VLOOKUP($A78,Filtro!$A$4:$AX$552,18,FALSE),0)","v":11},{"$f":"IFERROR(VLOOKUP($A78,Filtro!$A$4:$AX$552,19,FALSE),0)","v":0},{"$f":"IFERROR(VLOOKUP($A78,Filtro!$A$4:$AX$552,20,FALSE),0)","v":12},{"$f":"IFERROR(VLOOKUP($A78,Filtro!$A$4:$AX$552,21,FALSE),0)","v":5},{"$f":"IFERROR(VLOOKUP($A78,Filtro!$A$4:$AX$552,22,FALSE),0)","v":9},{"$f":"IFERROR(VLOOKUP($A78,Filtro!$A$4:$AX$552,23,FALSE),0)","v":1},{"$f":"IFERROR(VLOOKUP($A78,Filtro!$A$4:$AX$552,24,FALSE),0)","v":10},{"$f":"IFERROR(VLOOKUP($A78,Filtro!$A$4:$AX$552,25,FALSE),0)","v":2},{"$f":"IFERROR(VLOOKUP($A78,Filtro!$A$4:$AX$552,26,FALSE),0)","v":8},{"$f":"IFERROR(VLOOKUP($A78,Filtro!$A$4:$AX$552,27,FALSE),0)","v":6},{"$f":"IFERROR(VLOOKUP($A78,Filtro!$A$4:$AX$552,28,FALSE),0)","v":11},{"$f":"IFERROR(VLOOKUP($A78,Filtro!$A$4:$AX$552,29,FALSE),0)","v":1},{"$f":"IFERROR(VLOOKUP($A78,Filtro!$A$4:$AX$552,30,FALSE),0)","v":10},{"$f":"IFERROR(VLOOKUP($A78,Filtro!$A$4:$AX$552,31,FALSE),0)","v":3},{"$f":"IFERROR(VLOOKUP($A78,Filtro!$A$4:$AX$552,32,FALSE),0)","v":8},{"$f":"IFERROR(VLOOKUP($A78,Filtro!$A$4:$AX$552,33,FALSE),0)","v":0},{"$f":"IFERROR(VLOOKUP($A78,Filtro!$A$4:$AX$552,34,FALSE),0)","v":5},{"$f":"IFERROR(VLOOKUP($A78,Filtro!$A$4:$AX$552,35,FALSE),0)","v":3},{"$f":"IFERROR(VLOOKUP($A78,Filtro!$A$4:$AX$552,36,FALSE),0)","v":4},{"$f":"IFERROR(VLOOKUP($A78,Filtro!$A$4:$AX$552,37,FALSE),0)","v":0},{"$f":"IFERROR(VLOOKUP($A78,Filtro!$A$4:$AX$552,38,FALSE),0)","v":3},{"$f":"IFERROR(VLOOKUP($A78,Filtro!$A$4:$AX$552,39,FALSE),0)","v":0},{"$f":"IFERROR(VLOOKUP($A78,Filtro!$A$4:$AX$552,40,FALSE),0)","v":3},{"$f":"IFERROR(VLOOKUP($A78,Filtro!$A$4:$AX$552,41,FALSE),0)","v":0},{"$f":"IFERROR(VLOOKUP($A78,Filtro!$A$4:$AX$552,42,FALSE),0)","v":0},{"$f":"IFERROR(VLOOKUP($A78,Filtro!$A$4:$AX$552,43,FALSE),0)","v":0},{"$f":"IFERROR(VLOOKUP($A78,Filtro!$A$4:$AX$552,44,FALSE),0)","v":1},{"$f":"IFERROR(VLOOKUP($A78,Filtro!$A$4:$AX$552,45,FALSE),0)","v":2},{"$f":"IFERROR(VLOOKUP($A78,Filtro!$A$4:$AX$552,46,FALSE),0)","v":13},{"$nulls":12},"",null,"",null,"",{"$f":"IF($AU80>$F80,\"* La celda 'Población SENAME' debe ser menor o igual al Total de Mujeres en control. \",\"\")","v":""},null,"",null,{"$f":"IF(AND($F80<>0,$AR80=\"\"),\"* No olvide escribir en las celdas de 'Pueblos Originarios / Mujeres' (Digite CERO si no tiene). \",\"\")","v":""},{"$f":"IF(AND($F80<>0,$AT80=\"\"),\"* No olvide escribir en las celdas de ''Población Migrantes / Mujeres' (Digite CERO si no tiene). \",\"\")","v":""},{"$f":"IF(AND($F80<>0,$AU80=\"\"),\"* No olvide escribir en las celdas de 'Población SENAME' (Digite CERO si no tiene). \",\"\")","v":""},{"$nulls":8},0,null,0,null,0,{"$f":"IF($AU80>$F80,1,0)","v":0},null,{"$f":"IF(AND($F80<>0,$AP80=\"\"),1,0)","v":0},null,{"$f":"IF(AND($F80<>0,$AR80=\"\"),1,0)","v":0},{"$f":"IF(AND($F80<>0,$AT80=\"\"),1,0)","v":0},{"$f":"IF(AND($F80<>0,$AU80=\"\"),1,0)","v":0}]
["P6223200",null,"DEPRESIÓN CON ALTO RIESGO SUICIDA",{"$f":"IFERROR(VLOOKUP($A79,Filtro!$A$4:$AX$552,2,FALSE),0)","v":208},{"$f":"IFERROR(VLOOKUP($A79,Filtro!$A$4:$AX$552,3,FALSE),0)","v":62},{"$f":"IFERROR(VLOOKUP($A79,Filtro!$A$4:$AX$552,4,FALSE),0)","v":146},{"$f":"IFERROR(VLOOKUP($A79,Filtro!$A$4:$AX$552,5,FALSE),0)","v":0},{"$f":"IFERROR(VLOOKUP($A79,Filtro!$A$4:$AX$552,6,FALSE),0)","v":0},{"$f":"IFERROR(VLOOKUP($A79,Filtro!$A$4:$AX$552,7,FALSE),0)","v":0},{"$f":"IFERROR(VLOOKUP($A79,Filtro!$A$4:$AX$552,8,FALSE),0)","v":2},{"$f":"IFERROR(VLOOKUP($A79,Filtro!$A$4:$AX$552,9,FALSE),0)","v":7},{"$f":"IFERROR(VLOOKUP($A79,Filtro!$A$4:$AX$552,10,FALSE),0)","v":16},{"$f":"IFERROR(VLOOKUP($A79,Filtro!$A$4:$AX$552,11,FALSE),0)","v":29},{"$f":"IFERROR(VLOOKUP($A79,Filtro!$A$4:$AX$552,12,FALSE),0)","v":59},{"$f":"IFERROR(VLOOKUP($A79,Filtro!$A$4:$AX$552,13,FALSE),0)","v":7},{"$f":"IFERROR(VLOOKUP($A79,Filtro!$A$4:$AX$552,14,FALSE),0)","v":9},{"$f":"IFERROR(VLOOKUP($A79,Filtro!$A$4:$AX$552,15,FALSE),0)","v":4},{"$f":"IFERROR(VLOOKUP($A79,Filtro!$A$4:$AX$552,16,FALSE),0)","v":5},{"$f":"IFERROR(VLOOKUP($A79,Filtro!$A$4:$AX$552,17,FALSE),0)","v":2},{"$f":"IFERROR(VLOOKUP($A79,Filtro!$A$4:$AX$552,18,FALSE),0)","v":8},{"$f":"IFERROR(VLOOKUP($A79,Filtro!$A$4:$AX$552,19,FALSE),0)","v":4},{"$f":"IFERROR(VLOOKUP($A79,Filtro!$A$4:$AX$552,20,FALSE),0)","v":7},{"$f":"IFERROR(VLOOKUP($A79,Filtro!$A$4:$AX$552,21,FALSE),0)","v":1},{"$f":"IFERROR(VLOOKUP($A79,Filtro!$A$4:$AX$552,22,FALSE),0)","v":4},{"$f":"IFERROR(VLOOKUP($A79,Filtro!$A$4:$AX$552,23,FALSE),0)","v":2},{"$f":"IFERROR(VLOOKUP($A79,Filtro!$A$4:$AX$552,24,FALSE),0)","v":6},{"$f":"IFERROR(VLOOKUP($A79,Filtro!$A$4:$AX$552,25,FALSE),0)","v":1},{"$f":"IFERROR(VLOOKUP($A79,Filtro!$A$4:$AX$552,26,FALSE),0)","v":13},{"$f":"IFERROR(VLOOKUP($A79,Filtro!$A$4:$AX$552,27,FALSE),0)","v":1},{"$f":"IFERROR(VLOOKUP($A79,Filtro!$A$4:$AX$552,28,FALSE),0)","v":2},{"$f":"IFERROR(VLOOKUP($A79,Filtro!$A$4:$AX$552,29,FALSE),0)","v":2},{"$f":"IFERROR(VLOOKUP($A79,Filtro!$A$4:$AX$552,30,FALSE),0)","v":1},{"$f":"IFERROR(VLOOKUP($A79,Filtro!$A$4:$AX$552,31,FALSE),0)","v":2},{"$f":"IFERROR(VLOOKUP($A79,Filtro!$A$4:$AX$552,32,FALSE),0)","v":7},{"$f":"IFERROR(VLOOKUP($A79,Filtro!$A$4:$AX$552,33,FALSE),0)","v":0},{"$f":"IFERROR(VLOOKUP($A79,Filtro!$A$4:$AX$552,34,FALSE),0)","v":4},{"$f":"IFERROR(VLOOKUP($A79,Filtro!$A$4:$AX$552,35,FALSE),0)","v":0},{"$f":"IFERROR(VLOOKUP($A79,Filtro!$A$4:$AX$552,36,FALSE),0)","v":2},{"$f":"IFERROR(VLOOKUP($A79,Filtro!$A$4:$AX$552,37,FALSE),0)","v":0},{"$f":"IFERROR(VLOOKUP($A79,Filtro!$A$4:$AX$552,38,FALSE),0)","v":1},{"$f":"IFERROR(VLOOKUP($A79,Filtro!$A$4:$AX$552,39,FALSE),0)","v":0},{"$f":"IFERROR(VLOOKUP($A79,Filtro!$A$4:$AX$552,40,FALSE),0)","v":5},{"$f":"IFERROR(VLOOKUP($A79,Filtro!$A$4:$AX$552,41,FALSE),0)","v":0},{"$f":"IFERROR(VLOOKUP($A79,Filtro!$A$4:$AX$552,42,FALSE),0)","v":0},{"$f":"IFERROR(VLOOKUP($A79,Filtro!$A$4:$AX$552,43,FALSE),0)","v":0},{"$f":"IFERROR(VLOOKUP($A79,Filtro!$A$4:$AX$552,44,FALSE),0)","v":0},{"$f":"IFERROR(VLOOKUP($A79,Filtro!$A$4:$AX$552,45,FALSE),0)","v":21},{"$f":"IFERROR(VLOOKUP($A79,Filtro!$A$4:$AX$552,46,FALSE),0)","v":13},{"$nulls":11},{"$f":"IF($AO81>$F81,\"* La celda 'Gestantes' debe ser menor o igual al Total de Mujeres en control. \",\"\")","v":""},"",{"$f":"IF(($AQ81)>$E81,\"* La celda 'Pueblos Originarios / Hombres' debe ser menor o igual al Total de Hombres en control. \",\"\")","v":""},"",{"$f":"IF(($AS81)>$E81,\"* La celda 'Población Migrantes / Hombres' debe ser menor o igual al Total de Hombres en control. \",\"\")","v":""},"",{"$f":"IF($AU81>$D81,\"* La celda 'Población SENAME' debe ser menor o igual al Total de Personas en control. \",\"\")","v":""},{"$f":"IF(AND($D81<>0,$AO81=\"\"),\"* No olvide escribir en la celda de 'Gestantes' (Digite CERO si no tiene). \",\"\")","v":""},"",null,{"$f":"IF(AND($E81<>0,$AQ81=\"\"),\"* No olvide escribir en las celdas de 'Pueblos Originarios' (Digite CERO si no tiene). \",IF(AND($F81<>0,$AR81=\"\"),\"* No olvide escribir en las celdas de 'Pueblos Originarios' (Digite CERO si no tiene). \",\"\"))","v":""},{"$f":"IF(AND($E81<>0,$AS81=\"\"),\"* No olvide escribir en las celdas de 'Población Migrantes' (Digite CERO si no tiene). \",IF(AND($F81<>0,$AT81=\"\"),\"* No olvide escribir en las celdas de 'Población Migrantes' (Digite CERO si no tiene). \",\"\"))","v":""},{"$f":"IF(AND($D81<>0,$AU81=\"\"),\"* No olvide escribir en las celdas de 'Población SENAME' (Digite CERO si no tiene). \",\"\")","v":""},{"$nulls":7},{"$f":"IF($AO81>$F81,1,0)","v":0},0,{"$f":"IF(($AQ81)>$E81,1,0)","v":0},0,{"$f":"IF(($AS81)>$E81,1,0)","v":0},0,{"$f":"IF($AU81>$D81,1,0)","v":0},{"$f":"IF(AND($D81<>0,$AO81=\"\"),1,0)","v":0},{"$f":"IF(AND($D81<>0,$AP81=\"\"),1,0)","v":0},null,{"$f":"IF(AND($E81<>0,$AQ81=\"\"),1,IF(AND($F81<>0,$AR81=\"\"),1,0))","v":0},{"$f":"IF(AND($E81<>0,$AS81=\"\"),1,IF(AND($F81<>0,$AT81=\"\"),1,0))","v":0},{"$f":"IF(AND($E81<>0,$AU81=\"\"),1,0)","v":0}]
["P6223210",null,"DEPRESIÓN POST PARTO",{"$f":"IFERROR(VLOOKUP($A80,Filtro!$A$4:$AX$552,2,FALSE),0)","v":8},{"$f":"IFERROR(VLOOKUP($A80,Filtro!$A$4:$AX$552,3,FALSE),0)","v":0},{"$f":"IFERROR(VLOOKUP($A80,Filtro!$A$4:$AX$552,4,FALSE),0)","v":8},{"$f":"IFERROR(VLOOKUP($A80,Filtro!$A$4:$AX$552,5,FALSE),0)","v":0},{"$f":"IFERROR(VLOOKUP($A80,Filtro!$A$4:$AX$552,6,FALSE),0)","v":0},{"$f":"IFERROR(VLOOKUP($A80,Filtro!$A$4:$AX$552,7,FALSE),0)","v":0},{"$f":"IFERROR(VLOOKUP($A80,Filtro!$A$4:$AX$552,8,FALSE),0)","v":0},{"$f":"IFERROR(VLOOKUP($A80,Filtro!$A$4:$AX$552,9,FALSE),0)","v":0},{"$f":"IFERROR(VLOOKUP($A80,Filtro!$A$4:$AX$552,10,FALSE),0)","v":0},{"$f":"IFERROR(VLOOKUP($A80,Filtro!$A$4:$AX$552,11,FALSE),0)","v":0},{"$f":"IFERROR(VLOOKUP($A80,Filtro!$A$4:$AX$552,12,FALSE),0)","v":1},{"$f":"IFERROR(VLOOKUP($A80,Filtro!$A$4:$AX$552,13,FALSE),0)","v":0},{"$f":"IFERROR(VLOOKUP($A80,Filtro!$A$4:$AX$552,14,FALSE),0)","v":0},{"$f":"IFERROR(VLOOKUP($A80,Filtro!$A$4:$AX$552,15,FALSE),0)","v":0},{"$f":"IFERROR(VLOOKUP($A80,Filtro!$A$4:$AX$552,16,FALSE),0)","v":1},{"$f":"IFERROR(VLOOKUP($A80,Filtro!$A$4:$AX$552,17,FALSE),0)","v":0},{"$f":"IFERROR(VLOOKUP($A80,Filtro!$A$4:$AX$552,18,FALSE),0)","v":1},{"$f":"IFERROR(VLOOKUP($A80,Filtro!$A$4:$AX$552,19,FALSE),0)","v":0},{"$f":"IFERROR(VLOOKUP($A80,Filtro!$A$4:$AX$552,20,FALSE),0)","v":1},{"$f":"IFERROR(VLOOKUP($A80,Filtro!$A$4:$AX$552,21,FALSE),0)","v":0},{"$f":"IFERROR(VLOOKUP($A80,Filtro!$A$4:$AX$552,22,FALSE),0)","v":2},{"$f":"IFERROR(VLOOKUP($A80,Filtro!$A$4:$AX$552,23,FALSE),0)","v":0},{"$f":"IFERROR(VLOOKUP($A80,Filtro!$A$4:$AX$552,24,FALSE),0)","v":2},{"$f":"IFERROR(VLOOKUP($A80,Filtro!$A$4:$AX$552,25,FALSE),0)","v":0},{"$f":"IFERROR(VLOOKUP($A80,Filtro!$A$4:$AX$552,26,FALSE),0)","v":0},{"$f":"IFERROR(VLOOKUP($A80,Filtro!$A$4:$AX$552,27,FALSE),0)","v":0},{"$f":"IFERROR(VLOOKUP($A80,Filtro!$A$4:$AX$552,28,FALSE),0)","v":0},{"$f":"IFERROR(VLOOKUP($A80,Filtro!$A$4:$AX$552,29,FALSE),0)","v":0},{"$f":"IFERROR(VLOOKUP($A80,Filtro!$A$4:$AX$552,30,FALSE),0)","v":0},{"$f":"IFERROR(VLOOKUP($A80,Filtro!$A$4:$AX$552,31,FALSE),0)","v":0},{"$f":"IFERROR(VLOOKUP($A80,Filtro!$A$4:$AX$552,32,FALSE),0)","v":0},{"$f":"IFERROR(VLOOKUP($A80,Filtro!$A$4:$AX$552,33,FALSE),0)","v":0},{"$f":"IFERROR(VLOOKUP($A80,Filtro!$A$4:$AX$552,34,FALSE),0)","v":0},{"$f":"IFERROR(VLOOKUP($A80,Filtro!$A$4:$AX$552,35,FALSE),0)","v":0},{"$f":"IFERROR(VLOOKUP($A80,Filtro!$A$4:$AX$552,36,FALSE),0)","v":0},{"$f":"IFERROR(VLOOKUP($A80,Filtro!$A$4:$AX$552,37,FALSE),0)","v":0},{"$f":"IFERROR(VLOOKUP($A80,Filtro!$A$4:$AX$552,38,FALSE),0)","v":0},{"$f":"IFERROR(VLOOKUP($A80,Filtro!$A$4:$AX$552,39,FALSE),0)","v":0},{"$f":"IFERROR(VLOOKUP($A80,Filtro!$A$4:$AX$552,40,FALSE),0)","v":0},{"$f":"IFERROR(VLOOKUP($A80,Filtro!$A$4:$AX$552,41,FALSE),0)","v":0},{"$f":"IFERROR(VLOOKUP($A80,Filtro!$A$4:$AX$552,42,FALSE),0)","v":0},{"$f":"IFERROR(VLOOKUP($A80,Filtro!$A$4:$AX$552,43,FALSE),0)","v":0},{"$f":"IFERROR(VLOOKUP($A80,Filtro!$A$4:$AX$552,44,FALSE),0)","v":1},{"$f":"IFERROR(VLOOKUP($A80,Filtro!$A$4:$AX$552,45,FALSE),0)","v":0},{"$f":"IFERROR(VLOOKUP($A80,Filtro!$A$4:$AX$552,46,FALSE),0)","v":0},{"$nulls":11},{"$f":"IF($AO82>$F82,\"* La celda 'Gestantes' debe ser menor o igual al Total de Mujeres en control. \",\"\")","v":""},"","","","","","",{"$f":"IF(AND($D82<>0,$AO82=\"\"),\"* No olvide escribir en la celda de 'Gestantes' (Digite CERO si no tiene). \",\"\")","v":""},"",null,"","","",{"$nulls":7},{"$f":"IF($AO82>$F82,1,0)","v":0},0,0,0,0,0,0,{"$f":"IF(AND($D82<>0,$AO82=\"\"),1,0)","v":0},{"$f":"IF(AND($D82<>0,$AP82=\"\"),1,0)","v":0},null,0,0,0]
["P6223220",null,"TRASTORNO BIPOLAR",{"$f":"IFERROR(VLOOKUP($A81,Filtro!$A$4:$AX$552,2,FALSE),0)","v":585},{"$f":"IFERROR(VLOOKUP($A81,Filtro!$A$4:$AX$552,3,FALSE),0)","v":160},{"$f":"IFERROR(VLOOKUP($A81,Filtro!$A$4:$AX$552,4,FALSE),0)","v":425},{"$f":"IFERROR(VLOOKUP($A81,Filtro!$A$4:$AX$552,5,FALSE),0)","v":0},{"$f":"IFERROR(VLOOKUP($A81,Filtro!$A$4:$AX$552,6,FALSE),0)","v":0},{"$f":"IFERROR(VLOOKUP($A81,Filtro!$A$4:$AX$552,7,FALSE),0)","v":0},{"$f":"IFERROR(VLOOKUP($A81,Filtro!$A$4:$AX$552,8,FALSE),0)","v":0},{"$f":"IFERROR(VLOOKUP($A81,Filtro!$A$4:$AX$552,9,FALSE),0)","v":6},{"$f":"IFERROR(VLOOKUP($A81,Filtro!$A$4:$AX$552,10,FALSE),0)","v":6},{"$f":"IFERROR(VLOOKUP($A81,Filtro!$A$4:$AX$552,11,FALSE),0)","v":18},{"$f":"IFERROR(VLOOKUP($A81,Filtro!$A$4:$AX$552,12,FALSE),0)","v":5},{"$f":"IFERROR(VLOOKUP($A81,Filtro!$A$4:$AX$552,13,FALSE),0)","v":14},{"$f":"IFERROR(VLOOKUP($A81,Filtro!$A$4:$AX$552,14,FALSE),0)","v":22},{"$f":"IFERROR(VLOOKUP($A81,Filtro!$A$4:$AX$552,15,FALSE),0)","v":9},{"$f":"IFERROR(VLOOKUP($A81,Filtro!$A$4:$AX$552,16,FALSE),0)","v":39},{"$f":"IFERROR(VLOOKUP($A81,Filtro!$A$4:$AX$552,17,FALSE),0)","v":15},{"$f":"IFERROR(VLOOKUP($A81,Filtro!$A$4:$AX$552,18,FALSE),0)","v":24},{"$f":"IFERROR(VLOOKUP($A81,Filtro!$A$4:$AX$552,19,FALSE),0)","v":8},{"$f":"IFERROR(VLOOKUP($A81,Filtro!$A$4:$AX$552,20,FALSE),0)","v":38},{"$f":"IFERROR(VLOOKUP($A81,Filtro!$A$4:$AX$552,21,FALSE),0)","v":12},{"$f":"IFERROR(VLOOKUP($A81,Filtro!$A$4:$AX$552,22,FALSE),0)","v":39},{"$f":"IFERROR(VLOOKUP($A81,Filtro!$A$4:$AX$552,23,FALSE),0)","v":19},{"$f":"IFERROR(VLOOKUP($A81,Filtro!$A$4:$AX$552,24,FALSE),0)","v":64},{"$f":"IFERROR(VLOOKUP($A81,Filtro!$A$4:$AX$552,25,FALSE),0)","v":16},{"$f":"IFERROR(VLOOKUP($A81,Filtro!$A$4:$AX$552,26,FALSE),0)","v":49},{"$f":"IFERROR(VLOOKUP($A81,Filtro!$A$4:$AX$552,27,FALSE),0)","v":18},{"$f":"IFERROR(VLOOKUP($A81,Filtro!$A$4:$AX$552,28,FALSE),0)","v":46},{"$f":"IFERROR(VLOOKUP($A81,Filtro!$A$4:$AX$552,29,FALSE),0)","v":5},{"$f":"IFERROR(VLOOKUP($A81,Filtro!$A$4:$AX$552,30,FALSE),0)","v":31},{"$f":"IFERROR(VLOOKUP($A81,Filtro!$A$4:$AX$552,31,FALSE),0)","v":11},{"$f":"IFERROR(VLOOKUP($A81,Filtro!$A$4:$AX$552,32,FALSE),0)","v":26},{"$f":"IFERROR(VLOOKUP($A81,Filtro!$A$4:$AX$552,33,FALSE),0)","v":8},{"$f":"IFERROR(VLOOKUP($A81,Filtro!$A$4:$AX$552,34,FALSE),0)","v":21},{"$f":"IFERROR(VLOOKUP($A81,Filtro!$A$4:$AX$552,35,FALSE),0)","v":0},{"$f":"IFERROR(VLOOKUP($A81,Filtro!$A$4:$AX$552,36,FALSE),0)","v":6},{"$f":"IFERROR(VLOOKUP($A81,Filtro!$A$4:$AX$552,37,FALSE),0)","v":1},{"$f":"IFERROR(VLOOKUP($A81,Filtro!$A$4:$AX$552,38,FALSE),0)","v":9},{"$f":"IFERROR(VLOOKUP($A81,Filtro!$A$4:$AX$552,39,FALSE),0)","v":2},{"$f":"IFERROR(VLOOKUP($A81,Filtro!$A$4:$AX$552,40,FALSE),0)","v":7},{"$f":"IFERROR(VLOOKUP($A81,Filtro!$A$4:$AX$552,41,FALSE),0)","v":0},{"$f":"IFERROR(VLOOKUP($A81,Filtro!$A$4:$AX$552,42,FALSE),0)","v":0},{"$f":"IFERROR(VLOOKUP($A81,Filtro!$A$4:$AX$552,43,FALSE),0)","v":4},{"$f":"IFERROR(VLOOKUP($A81,Filtro!$A$4:$AX$552,44,FALSE),0)","v":0},{"$f":"IFERROR(VLOOKUP($A81,Filtro!$A$4:$AX$552,45,FALSE),0)","v":6},{"$f":"IFERROR(VLOOKUP($A81,Filtro!$A$4:$AX$552,46,FALSE),0)","v":72},{"$nulls":11},{"$f":"IF($AO83>$F83,\"* La celda 'Gestantes' debe ser menor o igual al Total de Mujeres en control. \",\"\")","v":""},"","","","","","",{"$f":"IF(AND($D83<>0,$AO83=\"\"),\"* No olvide escribir en la celda de 'Gestantes' (Digite CERO si no tiene). \",\"\")","v":""},"",null,"","","",{"$nulls":7},{"$f":"IF($AO83>$F83,1,0)","v":0},0,0,0,0,0,0,{"$f":"IF(AND($D83<>0,$AO83=\"\"),1,0)","v":0},{"$f":"IF(AND($D83<>0,$AP83=\"\"),1,0)","v":0},null,0,0,0]
["P6223230","TRASTORNOS MENTALES Y DEL COMPORTAMIENTO DEBIDO A CONSUMO SUSTANCIAS PSICOTROPICAS","CONSUMO PERJUDICIAL O DEPENDENCIA DE ALCOHOL \n",{"$f":"IFERROR(VLOOKUP($A82,Filtro!$A$4:$AX$552,2,FALSE),0)","v":56},{"$f":"IFERROR(VLOOKUP($A82,Filtro!$A$4:$AX$552,3,FALSE),0)","v":40},{"$f":"IFERROR(VLOOKUP($A82,Filtro!$A$4:$AX$552,4,FALSE),0)","v":16},{"$f":"IFERROR(VLOOKUP($A82,Filtro!$A$4:$AX$552,5,FALSE),0)","v":0},{"$f":"IFERROR(VLOOKUP($A82,Filtro!$A$4:$AX$552,6,FALSE),0)","v":0},{"$f":"IFERROR(VLOOKUP($A82,Filtro!$A$4:$AX$552,7,FALSE),0)","v":0},{"$f":"IFERROR(VLOOKUP($A82,Filtro!$A$4:$AX$552,8,FALSE),0)","v":0},{"$f":"IFERROR(VLOOKUP($A82,Filtro!$A$4:$AX$552,9,FALSE),0)","v":0},{"$f":"IFERROR(VLOOKUP($A82,Filtro!$A$4:$AX$552,10,FALSE),0)","v":0},{"$f":"IFERROR(VLOOKUP($A82,Filtro!$A$4:$AX$552,11,FALSE),0)","v":1},{"$f":"IFERROR(VLOOKUP($A82,Filtro!$A$4:$AX$552,12,FALSE),0)","v":0},{"$f":"IFERROR(VLOOKUP($A82,Filtro!$A$4:$AX$552,13,FALSE),0)","v":2},{"$f":"IFERROR(VLOOKUP($A82,Filtro!$A$4:$AX$552,14,FALSE),0)","v":0},{"$f":"IFERROR(VLOOKUP($A82,Filtro!$A$4:$AX$552,15,FALSE),0)","v":4},{"$f":"IFERROR(VLOOKUP($A82,Filtro!$A$4:$AX$552,16,FALSE),0)","v":0},{"$f":"IFERROR(VLOOKUP($A82,Filtro!$A$4:$AX$552,17,FALSE),0)","v":2},{"$f":"IFERROR(VLOOKUP($A82,Filtro!$A$4:$AX$552,18,FALSE),0)","v":2},{"$f":"IFERROR(VLOOKUP($A82,Filtro!$A$4:$AX$552,19,FALSE),0)","v":0},{"$f":"IFERROR(VLOOKUP($A82,Filtro!$A$4:$AX$552,20,FALSE),0)","v":0},{"$f":"IFERROR(VLOOKUP($A82,Filtro!$A$4:$AX$552,21,FALSE),0)","v":3},{"$f":"IFERROR(VLOOKUP($A82,Filtro!$A$4:$AX$552,22,FALSE),0)","v":1},{"$f":"IFERROR(VLOOKUP($A82,Filtro!$A$4:$AX$552,23,FALSE),0)","v":5},{"$f":"IFERROR(VLOOKUP($A82,Filtro!$A$4:$AX$552,24,FALSE),0)","v":3},{"$f":"IFERROR(VLOOKUP($A82,Filtro!$A$4:$AX$552,25,FALSE),0)","v":7},{"$f":"IFERROR(VLOOKUP($A82,Filtro!$A$4:$AX$552,26,FALSE),0)","v":2},{"$f":"IFERROR(VLOOKUP($A82,Filtro!$A$4:$AX$552,27,FALSE),0)","v":7},{"$f":"IFERROR(VLOOKUP($A82,Filtro!$A$4:$AX$552,28,FALSE),0)","v":3},{"$f":"IFERROR(VLOOKUP($A82,Filtro!$A$4:$AX$552,29,FALSE),0)","v":5},{"$f":"IFERROR(VLOOKUP($A82,Filtro!$A$4:$AX$552,30,FALSE),0)","v":2},{"$f":"IFERROR(VLOOKUP($A82,Filtro!$A$4:$AX$552,31,FALSE),0)","v":1},{"$f":"IFERROR(VLOOKUP($A82,Filtro!$A$4:$AX$552,32,FALSE),0)","v":2},{"$f":"IFERROR(VLOOKUP($A82,Filtro!$A$4:$AX$552,33,FALSE),0)","v":2},{"$f":"IFERROR(VLOOKUP($A82,Filtro!$A$4:$AX$552,34,FALSE),0)","v":1},{"$f":"IFERROR(VLOOKUP($A82,Filtro!$A$4:$AX$552,35,FALSE),0)","v":0},{"$f":"IFERROR(VLOOKUP($A82,Filtro!$A$4:$AX$552,36,FALSE),0)","v":0},{"$f":"IFERROR(VLOOKUP($A82,Filtro!$A$4:$AX$552,37,FALSE),0)","v":1},{"$f":"IFERROR(VLOOKUP($A82,Filtro!$A$4:$AX$552,38,FALSE),0)","v":0},{"$f":"IFERROR(VLOOKUP($A82,Filtro!$A$4:$AX$552,39,FALSE),0)","v":0},{"$f":"IFERROR(VLOOKUP($A82,Filtro!$A$4:$AX$552,40,FALSE),0)","v":0},{"$f":"IFERROR(VLOOKUP($A82,Filtro!$A$4:$AX$552,41,FALSE),0)","v":0},{"$f":"IFERROR(VLOOKUP($A82,Filtro!$A$4:$AX$552,42,FALSE),0)","v":0},{"$f":"IFERROR(VLOOKUP($A82,Filtro!$A$4:$AX$552,43,FALSE),0)","v":0},{"$f":"IFERROR(VLOOKUP($A82,Filtro!$A$4:$AX$552,44,FALSE),0)","v":0},{"$f":"IFERROR(VLOOKUP($A82,Filtro!$A$4:$AX$552,45,FALSE),0)","v":0},{"$f":"IFERROR(VLOOKUP($A82,Filtro!$A$4:$AX$552,46,FALSE),0)","v":14},{"$nulls":11},{"$f":"IF($AO84>$F84,\"* La celda 'Gestantes' debe ser menor o igual al Total de Mujeres en control. \",\"\")","v":""},"","","","","","",{"$f":"IF(AND($D84<>0,$AO84=\"\"),\"* No olvide escribir en la celda de 'Gestantes' (Digite CERO si no tiene). \",\"\")","v":""},"",null,"","","",{"$nulls":7},{"$f":"IF($AO84>$F84,1,0)","v":0},0,0,0,0,0,0,{"$f":"IF(AND($D84<>0,$AO84=\"\"),1,0)","v":0},{"$f":"IF(AND($D84<>0,$AP84=\"\"),1,0)","v":0},null,0,0,0]
["P6223240",null,"CONSUMO PERJUDICIAL O DEPENDENCIA COMO DROGA PRINCIPAL",{"$f":"IFERROR(VLOOKUP($A83,Filtro!$A$4:$AX$552,2,FALSE),0)","v":61},{"$f":"IFERROR(VLOOKUP($A83,Filtro!$A$4:$AX$552,3,FALSE),0)","v":41},{"$f":"IFERROR(VLOOKUP($A83,Filtro!$A$4:$AX$552,4,FALSE),0)","v":20},{"$f":"IFERROR(VLOOKUP($A83,Filtro!$A$4:$AX$552,5,FALSE),0)","v":0},{"$f":"IFERROR(VLOOKUP($A83,Filtro!$A$4:$AX$552,6,FALSE),0)","v":0},{"$f":"IFERROR(VLOOKUP($A83,Filtro!$A$4:$AX$552,7,FALSE),0)","v":0},{"$f":"IFERROR(VLOOKUP($A83,Filtro!$A$4:$AX$552,8,FALSE),0)","v":0},{"$f":"IFERROR(VLOOKUP($A83,Filtro!$A$4:$AX$552,9,FALSE),0)","v":0},{"$f":"IFERROR(VLOOKUP($A83,Filtro!$A$4:$AX$552,10,FALSE),0)","v":0},{"$f":"IFERROR(VLOOKUP($A83,Filtro!$A$4:$AX$552,11,FALSE),0)","v":6},{"$f":"IFERROR(VLOOKUP($A83,Filtro!$A$4:$AX$552,12,FALSE),0)","v":2},{"$f":"IFERROR(VLOOKUP($A83,Filtro!$A$4:$AX$552,13,FALSE),0)","v":8},{"$f":"IFERROR(VLOOKUP($A83,Filtro!$A$4:$AX$552,14,FALSE),0)","v":0},{"$f":"IFERROR(VLOOKUP($A83,Filtro!$A$4:$AX$552,15,FALSE),0)","v":13},{"$f":"IFERROR(VLOOKUP($A83,Filtro!$A$4:$AX$552,16,FALSE),0)","v":2},{"$f":"IFERROR(VLOOKUP($A83,Filtro!$A$4:$AX$552,17,FALSE),0)","v":7},{"$f":"IFERROR(VLOOKUP($A83,Filtro!$A$4:$AX$552,18,FALSE),0)","v":5},{"$f":"IFERROR(VLOOKUP($A83,Filtro!$A$4:$AX$552,19,FALSE),0)","v":1},{"$f":"IFERROR(VLOOKUP($A83,Filtro!$A$4:$AX$552,20,FALSE),0)","v":6},{"$f":"IFERROR(VLOOKUP($A83,Filtro!$A$4:$AX$552,21,FALSE),0)","v":2},{"$f":"IFERROR(VLOOKUP($A83,Filtro!$A$4:$AX$552,22,FALSE),0)","v":0},{"$f":"IFERROR(VLOOKUP($A83,Filtro!$A$4:$AX$552,23,FALSE),0)","v":1},{"$f":"IFERROR(VLOOKUP($A83,Filtro!$A$4:$AX$552,24,FALSE),0)","v":0},{"$f":"IFERROR(VLOOKUP($A83,Filtro!$A$4:$AX$552,25,FALSE),0)","v":3},{"$f":"IFERROR(VLOOKUP($A83,Filtro!$A$4:$AX$552,26,FALSE),0)","v":3},{"$f":"IFERROR(VLOOKUP($A83,Filtro!$A$4:$AX$552,27,FALSE),0)","v":0},{"$f":"IFERROR(VLOOKUP($A83,Filtro!$A$4:$AX$552,28,FALSE),0)","v":0},{"$f":"IFERROR(VLOOKUP($A83,Filtro!$A$4:$AX$552,29,FALSE),0)","v":0},{"$f":"IFERROR(VLOOKUP($A83,Filtro!$A$4:$AX$552,30,FALSE),0)","v":2},{"$f":"IFERROR(VLOOKUP($A83,Filtro!$A$4:$AX$552,31,FALSE),0)","v":0},{"$f":"IFERROR(VLOOKUP($A83,Filtro!$A$4:$AX$552,32,FALSE),0)","v":0},{"$f":"IFERROR(VLOOKUP($A83,Filtro!$A$4:$AX$552,33,FALSE),0)","v":0},{"$f":"IFERROR(VLOOKUP($A83,Filtro!$A$4:$AX$552,34,FALSE),0)","v":0},{"$f":"IFERROR(VLOOKUP($A83,Filtro!$A$4:$AX$552,35,FALSE),0)","v":0},{"$f":"IFERROR(VLOOKUP($A83,Filtro!$A$4:$AX$552,36,FALSE),0)","v":0},{"$f":"IFERROR(VLOOKUP($A83,Filtro!$A$4:$AX$552,37,FALSE),0)","v":0},{"$f":"IFERROR(VLOOKUP($A83,Filtro!$A$4:$AX$552,38,FALSE),0)","v":0},{"$f":"IFERROR(VLOOKUP($A83,Filtro!$A$4:$AX$552,39,FALSE),0)","v":3},{"$f":"IFERROR(VLOOKUP($A83,Filtro!$A$4:$AX$552,40,FALSE),0)","v":4},{"$f":"IFERROR(VLOOKUP($A83,Filtro!$A$4:$AX$552,41,FALSE),0)","v":0},{"$f":"IFERROR(VLOOKUP($A83,Filtro!$A$4:$AX$552,42,FALSE),0)","v":0},{"$f":"IFERROR(VLOOKUP($A83,Filtro!$A$4:$AX$552,43,FALSE),0)","v":0},{"$f":"IFERROR(VLOOKUP($A83,Filtro!$A$4:$AX$552,44,FALSE),0)","v":0},{"$f":"IFERROR(VLOOKUP($A83,Filtro!$A$4:$AX$552,45,FALSE),0)","v":3},{"$f":"IFERROR(VLOOKUP($A83,Filtro!$A$4:$AX$552,46,FALSE),0)","v":22},{"$nulls":13},"","","","","",{"$nulls":3},"","","",{"$nulls":9},0,0,0,0,0,{"$nulls":3},0,0,0]
["P6223250",null,"POLICONSUMO",{"$f":"IFERROR(VLOOKUP($A84,Filtro!$A$4:$AX$552,2,FALSE),0)","v":90},{"$f":"IFERROR(VLOOKUP($A84,Filtro!$A$4:$AX$552,3,FALSE),0)","v":55},{"$f":"IFERROR(VLOOKUP($A84,Filtro!$A$4:$AX$552,4,FALSE),0)","v":35},{"$f":"IFERROR(VLOOKUP($A84,Filtro!$A$4:$AX$552,5,FALSE),0)","v":0},{"$f":"IFERROR(VLOOKUP($A84,Filtro!$A$4:$AX$552,6,FALSE),0)","v":0},{"$f":"IFERROR(VLOOKUP($A84,Filtro!$A$4:$AX$552,7,FALSE),0)","v":0},{"$f":"IFERROR(VLOOKUP($A84,Filtro!$A$4:$AX$552,8,FALSE),0)","v":0},{"$f":"IFERROR(VLOOKUP($A84,Filtro!$A$4:$AX$552,9,FALSE),0)","v":0},{"$f":"IFERROR(VLOOKUP($A84,Filtro!$A$4:$AX$552,10,FALSE),0)","v":0},{"$f":"IFERROR(VLOOKUP($A84,Filtro!$A$4:$AX$552,11,FALSE),0)","v":10},{"$f":"IFERROR(VLOOKUP($A84,Filtro!$A$4:$AX$552,12,FALSE),0)","v":2},{"$f":"IFERROR(VLOOKUP($A84,Filtro!$A$4:$AX$552,13,FALSE),0)","v":6},{"$f":"IFERROR(VLOOKUP($A84,Filtro!$A$4:$AX$552,14,FALSE),0)","v":6},{"$f":"IFERROR(VLOOKUP($A84,Filtro!$A$4:$AX$552,15,FALSE),0)","v":8},{"$f":"IFERROR(VLOOKUP($A84,Filtro!$A$4:$AX$552,16,FALSE),0)","v":4},{"$f":"IFERROR(VLOOKUP($A84,Filtro!$A$4:$AX$552,17,FALSE),0)","v":12},{"$f":"IFERROR(VLOOKUP($A84,Filtro!$A$4:$AX$552,18,FALSE),0)","v":1},{"$f":"IFERROR(VLOOKUP($A84,Filtro!$A$4:$AX$552,19,FALSE),0)","v":3},{"$f":"IFERROR(VLOOKUP($A84,Filtro!$A$4:$AX$552,20,FALSE),0)","v":7},{"$f":"IFERROR(VLOOKUP($A84,Filtro!$A$4:$AX$552,21,FALSE),0)","v":3},{"$f":"IFERROR(VLOOKUP($A84,Filtro!$A$4:$AX$552,22,FALSE),0)","v":6},{"$f":"IFERROR(VLOOKUP($A84,Filtro!$A$4:$AX$552,23,FALSE),0)","v":6},{"$f":"IFERROR(VLOOKUP($A84,Filtro!$A$4:$AX$552,24,FALSE),0)","v":0},{"$f":"IFERROR(VLOOKUP($A84,Filtro!$A$4:$AX$552,25,FALSE),0)","v":2},{"$f":"IFERROR(VLOOKUP($A84,Filtro!$A$4:$AX$552,26,FALSE),0)","v":5},{"$f":"IFERROR(VLOOKUP($A84,Filtro!$A$4:$AX$552,27,FALSE),0)","v":5},{"$f":"IFERROR(VLOOKUP($A84,Filtro!$A$4:$AX$552,28,FALSE),0)","v":2},{"$f":"IFERROR(VLOOKUP($A84,Filtro!$A$4:$AX$552,29,FALSE),0)","v":0},{"$f":"IFERROR(VLOOKUP($A84,Filtro!$A$4:$AX$552,30,FALSE),0)","v":0},{"$f":"IFERROR(VLOOKUP($A84,Filtro!$A$4:$AX$552,31,FALSE),0)","v":0},{"$f":"IFERROR(VLOOKUP($A84,Filtro!$A$4:$AX$552,32,FALSE),0)","v":2},{"$f":"IFERROR(VLOOKUP($A84,Filtro!$A$4:$AX$552,33,FALSE),0)","v":0},{"$f":"IFERROR(VLOOKUP($A84,Filtro!$A$4:$AX$552,34,FALSE),0)","v":0},{"$f":"IFERROR(VLOOKUP($A84,Filtro!$A$4:$AX$552,35,FALSE),0)","v":0},{"$f":"IFERROR(VLOOKUP($A84,Filtro!$A$4:$AX$552,36,FALSE),0)","v":0},{"$f":"IFERROR(VLOOKUP($A84,Filtro!$A$4:$AX$552,37,FALSE),0)","v":0},{"$f":"IFERROR(VLOOKUP($A84,Filtro!$A$4:$AX$552,38,FALSE),0)","v":0},{"$f":"IFERROR(VLOOKUP($A84,Filtro!$A$4:$AX$552,39,FALSE),0)","v":0},{"$f":"IFERROR(VLOOKUP($A84,Filtro!$A$4:$AX$552,40,FALSE),0)","v":2},{"$f":"IFERROR(VLOOKUP($A84,Filtro!$A$4:$AX$552,41,FALSE),0)","v":0},{"$f":"IFERROR(VLOOKUP($A84,Filtro!$A$4:$AX$552,42,FALSE),0)","v":0},{"$f":"IFERROR(VLOOKUP($A84,Filtro!$A$4:$AX$552,43,FALSE),0)","v":2},{"$f":"IFERROR(VLOOKUP($A84,Filtro!$A$4:$AX$552,44,FALSE),0)","v":0},{"$f":"IFERROR(VLOOKUP($A84,Filtro!$A$4:$AX$552,45,FALSE),0)","v":3},{"$f":"IFERROR(VLOOKUP($A84,Filtro!$A$4:$AX$552,46,FALSE),0)","v":24},{"$nulls":13},"","","","","",{"$nulls":3},"","","",{"$nulls":9},0,0,0,0,0,{"$nulls":3},0,0,0]
["P6223260","TRASTORNOS DEL COMPORTAMIENTO Y DE LAS EMOCIONES DE COMIENZO HABITUAL EN LA INFANCIA Y ADOLESCENCIA","TRASTORNO HIPERCINÉTICO",{"$f":"IFERROR(VLOOKUP($A85,Filtro!$A$4:$AX$552,2,FALSE),0)","v":128},{"$f":"IFERROR(VLOOKUP($A85,Filtro!$A$4:$AX$552,3,FALSE),0)","v":98},{"$f":"IFERROR(VLOOKUP($A85,Filtro!$A$4:$AX$552,4,FALSE),0)","v":30},{"$f":"IFERROR(VLOOKUP($A85,Filtro!$A$4:$AX$552,5,FALSE),0)","v":0},{"$f":"IFERROR(VLOOKUP($A85,Filtro!$A$4:$AX$552,6,FALSE),0)","v":1},{"$f":"IFERROR(VLOOKUP($A85,Filtro!$A$4:$AX$552,7,FALSE),0)","v":39},{"$f":"IFERROR(VLOOKUP($A85,Filtro!$A$4:$AX$552,8,FALSE),0)","v":9},{"$f":"IFERROR(VLOOKUP($A85,Filtro!$A$4:$AX$552,9,FALSE),0)","v":44},{"$f":"IFERROR(VLOOKUP($A85,Filtro!$A$4:$AX$552,10,FALSE),0)","v":11},{"$f":"IFERROR(VLOOKUP($A85,Filtro!$A$4:$AX$552,11,FALSE),0)","v":15},{"$f":"IFERROR(VLOOKUP($A85,Filtro!$A$4:$AX$552,12,FALSE),0)","v":9},{"$f":"IFERROR(VLOOKUP($A85,Filtro!$A$4:$AX$552,13,FALSE),0)","v":0},{"$f":"IFERROR(VLOOKUP($A85,Filtro!$A$4:$AX$552,14,FALSE),0)","v":0},{"$f":"IFERROR(VLOOKUP($A85,Filtro!$A$4:$AX$552,15,FALSE),0)","v":0},{"$f":"IFERROR(VLOOKUP($A85,Filtro!$A$4:$AX$552,16,FALSE),0)","v":0},{"$f":"IFERROR(VLOOKUP($A85,Filtro!$A$4:$AX$552,17,FALSE),0)","v":0},{"$f":"IFERROR(VLOOKUP($A85,Filtro!$A$4:$AX$552,18,FALSE),0)","v":0},{"$f":"IFERROR(VLOOKUP($A85,Filtro!$A$4:$AX$552,19,FALSE),0)","v":0},{"$f":"IFERROR(VLOOKUP($A85,Filtro!$A$4:$AX$552,20,FALSE),0)","v":0},{"$f":"IFERROR(VLOOKUP($A85,Filtro!$A$4:$AX$552,21,FALSE),0)","v":0},{"$f":"IFERROR(VLOOKUP($A85,Filtro!$A$4:$AX$552,22,FALSE),0)","v":0},{"$f":"IFERROR(VLOOKUP($A85,Filtro!$A$4:$AX$552,23,FALSE),0)","v":0},{"$f":"IFERROR(VLOOKUP($A85,Filtro!$A$4:$AX$552,24,FALSE),0)","v":0},{"$f":"IFERROR(VLOOKUP($A85,Filtro!$A$4:$AX$552,25,FALSE),0)","v":0},{"$f":"IFERROR(VLOOKUP($A85,Filtro!$A$4:$AX$552,26,FALSE),0)","v":0},{"$f":"IFERROR(VLOOKUP($A85,Filtro!$A$4:$AX$552,27,FALSE),0)","v":0},{"$f":"IFERROR(VLOOKUP($A85,Filtro!$A$4:$AX$552,28,FALSE),0)","v":0},{"$f":"IFERROR(VLOOKUP($A85,Filtro!$A$4:$AX$552,29,FALSE),0)","v":0},{"$f":"IFERROR(VLOOKUP($A85,Filtro!$A$4:$AX$552,30,FALSE),0)","v":0},{"$f":"IFERROR(VLOOKUP($A85,Filtro!$A$4:$AX$552,31,FALSE),0)","v":0},{"$f":"IFERROR(VLOOKUP($A85,Filtro!$A$4:$AX$552,32,FALSE),0)","v":0},{"$f":"IFERROR(VLOOKUP($A85,Filtro!$A$4:$AX$552,33,FALSE),0)","v":0},{"$f":"IFERROR(VLOOKUP($A85,Filtro!$A$4:$AX$552,34,FALSE),0)","v":0},{"$f":"IFERROR(VLOOKUP($A85,Filtro!$A$4:$AX$552,35,FALSE),0)","v":0},{"$f":"IFERROR(VLOOKUP($A85,Filtro!$A$4:$AX$552,36,FALSE),0)","v":0},{"$f":"IFERROR(VLOOKUP($A85,Filtro!$A$4:$AX$552,37,FALSE),0)","v":0},{"$f":"IFERROR(VLOOKUP($A85,Filtro!$A$4:$AX$552,38,FALSE),0)","v":0},{"$f":"IFERROR(VLOOKUP($A85,Filtro!$A$4:$AX$552,39,FALSE),0)","v":0},{"$f":"IFERROR(VLOOKUP($A85,Filtro!$A$4:$AX$552,40,FALSE),0)","v":0},{"$f":"IFERROR(VLOOKUP($A85,Filtro!$A$4:$AX$552,41,FALSE),0)","v":0},{"$f":"IFERROR(VLOOKUP($A85,Filtro!$A$4:$AX$552,42,FALSE),0)","v":0},{"$f":"IFERROR(VLOOKUP($A85,Filtro!$A$4:$AX$552,43,FALSE),0)","v":0},{"$f":"IFERROR(VLOOKUP($A85,Filtro!$A$4:$AX$552,44,FALSE),0)","v":0},{"$f":"IFERROR(VLOOKUP($A85,Filtro!$A$4:$AX$552,45,FALSE),0)","v":29},{"$f":"IFERROR(VLOOKUP($A85,Filtro!$A$4:$AX$552,46,FALSE),0)","v":10},{"$nulls":13},"","","","","",{"$nulls":3},"","","",{"$nulls":9},0,0,0,0,0,{"$nulls":3},0,0,0]
["P6223270",null,"TRASTORNO DISOCIAL DESAFIANTE Y OPOSICIONISTA",{"$f":"IFERROR(VLOOKUP($A86,Filtro!$A$4:$AX$552,2,FALSE),0)","v":53},{"$f":"IFERROR(VLOOKUP($A86,Filtro!$A$4:$AX$552,3,FALSE),0)","v":45},{"$f":"IFERROR(VLOOKUP($A86,Filtro!$A$4:$AX$552,4,FALSE),0)","v":8},{"$f":"IFERROR(VLOOKUP($A86,Filtro!$A$4:$AX$552,5,FALSE),0)","v":0},{"$f":"IFERROR(VLOOKUP($A86,Filtro!$A$4:$AX$552,6,FALSE),0)","v":0},{"$f":"IFERROR(VLOOKUP($A86,Filtro!$A$4:$AX$552,7,FALSE),0)","v":9},{"$f":"IFERROR(VLOOKUP($A86,Filtro!$A$4:$AX$552,8,FALSE),0)","v":0},{"$f":"IFERROR(VLOOKUP($A86,Filtro!$A$4:$AX$552,9,FALSE),0)","v":26},{"$f":"IFERROR(VLOOKUP($A86,Filtro!$A$4:$AX$552,10,FALSE),0)","v":5},{"$f":"IFERROR(VLOOKUP($A86,Filtro!$A$4:$AX$552,11,FALSE),0)","v":9},{"$f":"IFERROR(VLOOKUP($A86,Filtro!$A$4:$AX$552,12,FALSE),0)","v":3},{"$f":"IFERROR(VLOOKUP($A86,Filtro!$A$4:$AX$552,13,FALSE),0)","v":0},{"$f":"IFERROR(VLOOKUP($A86,Filtro!$A$4:$AX$552,14,FALSE),0)","v":0},{"$f":"IFERROR(VLOOKUP($A86,Filtro!$A$4:$AX$552,15,FALSE),0)","v":0},{"$f":"IFERROR(VLOOKUP($A86,Filtro!$A$4:$AX$552,16,FALSE),0)","v":0},{"$f":"IFERROR(VLOOKUP($A86,Filtro!$A$4:$AX$552,17,FALSE),0)","v":1},{"$f":"IFERROR(VLOOKUP($A86,Filtro!$A$4:$AX$552,18,FALSE),0)","v":0},{"$f":"IFERROR(VLOOKUP($A86,Filtro!$A$4:$AX$552,19,FALSE),0)","v":0},{"$f":"IFERROR(VLOOKUP($A86,Filtro!$A$4:$AX$552,20,FALSE),0)","v":0},{"$f":"IFERROR(VLOOKUP($A86,Filtro!$A$4:$AX$552,21,FALSE),0)","v":0},{"$f":"IFERROR(VLOOKUP($A86,Filtro!$A$4:$AX$552,22,FALSE),0)","v":0},{"$f":"IFERROR(VLOOKUP($A86,Filtro!$A$4:$AX$552,23,FALSE),0)","v":0},{"$f":"IFERROR(VLOOKUP($A86,Filtro!$A$4:$AX$552,24,FALSE),0)","v":0},{"$f":"IFERROR(VLOOKUP($A86,Filtro!$A$4:$AX$552,25,FALSE),0)","v":0},{"$f":"IFERROR(VLOOKUP($A86,Filtro!$A$4:$AX$552,26,FALSE),0)","v":0},{"$f":"IFERROR(VLOOKUP($A86,Filtro!$A$4:$AX$552,27,FALSE),0)","v":0},{"$f":"IFERROR(VLOOKUP($A86,Filtro!$A$4:$AX$552,28,FALSE),0)","v":0},{"$f":"IFERROR(VLOOKUP($A86,Filtro!$A$4:$AX$552,29,FALSE),0)","v":0},{"$f":"IFERROR(VLOOKUP($A86,Filtro!$A$4:$AX$552,30,FALSE),0)","v":0},{"$f":"IFERROR(VLOOKUP($A86,Filtro!$A$4:$AX$552,31,FALSE),0)","v":0},{"$f":"IFERROR(VLOOKUP($A86,Filtro!$A$4:$AX$552,32,FALSE),0)","v":0},{"$f":"IFERROR(VLOOKUP($A86,Filtro!$A$4:$AX$552,33,FALSE),0)","v":0},{"$f":"IFERROR(VLOOKUP($A86,Filtro!$A$4:$AX$552,34,FALSE),0)","v":0},{"$f":"IFERROR(VLOOKUP($A86,Filtro!$A$4:$AX$552,35,FALSE),0)","v":0},{"$f":"IFERROR(VLOOKUP($A86,Filtro!$A$4:$AX$552,36,FALSE),0)","v":0},{"$f":"IFERROR(VLOOKUP($A86,Filtro!$A$4:$AX$552,37,FALSE),0)","v":0},{"$f":"IFERROR(VLOOKUP($A86,Filtro!$A$4:$AX$552,38,FALSE),0)","v":0},{"$f":"IFERROR(VLOOKUP($A86,Filtro!$A$4:$AX$552,39,FALSE),0)","v":0},{"$f":"IFERROR(VLOOKUP($A86,Filtro!$A$4:$AX$552,40,FALSE),0)","v":0},{"$f":"IFERROR(VLOOKUP($A86,Filtro!$A$4:$AX$552,41,FALSE),0)","v":0},{"$f":"IFERROR(VLOOKUP($A86,Filtro!$A$4:$AX$552,42,FALSE),0)","v":0},{"$f":"IFERROR(VLOOKUP($A86,Filtro!$A$4:$AX$552,43,FALSE),0)","v":0},{"$f":"IFERROR(VLOOKUP($A86,Filtro!$A$4:$AX$552,44,FALSE),0)","v":0},{"$f":"IFERROR(VLOOKUP($A86,Filtro!$A$4:$AX$552,45,FALSE),0)","v":32},{"$f":"IFERROR(VLOOKUP($A86,Filtro!$A$4:$AX$552,46,FALSE),0)","v":1},{"$nulls":13},"","","","","",{"$nulls":3},"","","",{"$nulls":9},0,0,0,0,0,{"$nulls":3},0,0,0]
["P6223280",null,"TRASTORNO DE ANSIEDAD DE SEPARACIÓN EN LA INFANCIA",{"$f":"IFERROR(VLOOKUP($A87,Filtro!$A$4:$AX$552,2,FALSE),0)","v":3},{"$f":"IFERROR(VLOOKUP($A87,Filtro!$A$4:$AX$552,3,FALSE),0)","v":2},{"$f":"IFERROR(VLOOKUP($A87,Filtro!$A$4:$AX$552,4,FALSE),0)","v":1},{"$f":"IFERROR(VLOOKUP($A87,Filtro!$A$4:$AX$552,5,FALSE),0)","v":0},{"$f":"IFERROR(VLOOKUP($A87,Filtro!$A$4:$AX$552,6,FALSE),0)","v":0},{"$f":"IFERROR(VLOOKUP($A87,Filtro!$A$4:$AX$552,7,FALSE),0)","v":0},{"$f":"IFERROR(VLOOKUP($A87,Filtro!$A$4:$AX$552,8,FALSE),0)","v":0},{"$f":"IFERROR(VLOOKUP($A87,Filtro!$A$4:$AX$552,9,FALSE),0)","v":2},{"$f":"IFERROR(VLOOKUP($A87,Filtro!$A$4:$AX$552,10,FALSE),0)","v":1},{"$f":"IFERROR(VLOOKUP($A87,Filtro!$A$4:$AX$552,11,FALSE),0)","v":0},{"$f":"IFERROR(VLOOKUP($A87,Filtro!$A$4:$AX$552,12,FALSE),0)","v":0},{"$f":"IFERROR(VLOOKUP($A87,Filtro!$A$4:$AX$552,13,FALSE),0)","v":0},{"$f":"IFERROR(VLOOKUP($A87,Filtro!$A$4:$AX$552,14,FALSE),0)","v":0},{"$f":"IFERROR(VLOOKUP($A87,Filtro!$A$4:$AX$552,15,FALSE),0)","v":0},{"$f":"IFERROR(VLOOKUP($A87,Filtro!$A$4:$AX$552,16,FALSE),0)","v":0},{"$f":"IFERROR(VLOOKUP($A87,Filtro!$A$4:$AX$552,17,FALSE),0)","v":0},{"$f":"IFERROR(VLOOKUP($A87,Filtro!$A$4:$AX$552,18,FALSE),0)","v":0},{"$f":"IFERROR(VLOOKUP($A87,Filtro!$A$4:$AX$552,19,FALSE),0)","v":0},{"$f":"IFERROR(VLOOKUP($A87,Filtro!$A$4:$AX$552,20,FALSE),0)","v":0},{"$f":"IFERROR(VLOOKUP($A87,Filtro!$A$4:$AX$552,21,FALSE),0)","v":0},{"$f":"IFERROR(VLOOKUP($A87,Filtro!$A$4:$AX$552,22,FALSE),0)","v":0},{"$f":"IFERROR(VLOOKUP($A87,Filtro!$A$4:$AX$552,23,FALSE),0)","v":0},{"$f":"IFERROR(VLOOKUP($A87,Filtro!$A$4:$AX$552,24,FALSE),0)","v":0},{"$f":"IFERROR(VLOOKUP($A87,Filtro!$A$4:$AX$552,25,FALSE),0)","v":0},{"$f":"IFERROR(VLOOKUP($A87,Filtro!$A$4:$AX$552,26,FALSE),0)","v":0},{"$f":"IFERROR(VLOOKUP($A87,Filtro!$A$4:$AX$552,27,FALSE),0)","v":0},{"$f":"IFERROR(VLOOKUP($A87,Filtro!$A$4:$AX$552,28,FALSE),0)","v":0},{"$f":"IFERROR(VLOOKUP($A87,Filtro!$A$4:$AX$552,29,FALSE),0)","v":0},{"$f":"IFERROR(VLOOKUP($A87,Filtro!$A$4:$AX$552,30,FALSE),0)","v":0},{"$f":"IFERROR(VLOOKUP($A87,Filtro!$A$4:$AX$552,31,FALSE),0)","v":0},{"$f":"IFERROR(VLOOKUP($A87,Filtro!$A$4:$AX$552,32,FALSE),0)","v":0},{"$f":"IFERROR(VLOOKUP($A87,Filtro!$A$4:$AX$552,33,FALSE),0)","v":0},{"$f":"IFERROR(VLOOKUP($A87,Filtro!$A$4:$AX$552,34,FALSE),0)","v":0},{"$f":"IFERROR(VLOOKUP($A87,Filtro!$A$4:$AX$552,35,FALSE),0)","v":0},{"$f":"IFERROR(VLOOKUP($A87,Filtro!$A$4:$AX$552,36,FALSE),0)","v":0},{"$f":"IFERROR(VLOOKUP($A87,Filtro!$A$4:$AX$552,37,FALSE),0)","v":0},{"$f":"IFERROR(VLOOKUP($A87,Filtro!$A$4:$AX$552,38,FALSE),0)","v":0},{"$f":"IFERROR(VLOOKUP($A87,Filtro!$A$4:$AX$552,39,FALSE),0)","v":0},{"$f":"IFERROR(VLOOKUP($A87,Filtro!$A$4:$AX$552,40,FALSE),0)","v":0},{"$f":"IFERROR(VLOOKUP($A87,Filtro!$A$4:$AX$552,41,FALSE),0)","v":0},{"$f":"IFERROR(VLOOKUP($A87,Filtro!$A$4:$AX$552,42,FALSE),0)","v":0},{"$f":"IFERROR(VLOOKUP($A87,Filtro!$A$4:$AX$552,43,FALSE),0)","v":0},{"$f":"IFERROR(VLOOKUP($A87,Filtro!$A$4:$AX$552,44,FALSE),0)","v":0},{"$f":"IFERROR(VLOOKUP($A87,Filtro!$A$4:$AX$552,45,FALSE),0)","v":0},{"$f":"IFERROR(VLOOKUP($A87,Filtro!$A$4:$AX$552,46,FALSE),0)","v":0},{"$nulls":11},{"$f":"IF($AO89>$F89,\"* La celda 'Gestantes' debe ser menor o igual al Total de Mujeres en control. \",\"\")","v":""},{"$f":"IF($AP89>$F89,\"* La celda 'Madres de Hijos menor de 5 años' debe ser menor o igual al Total de Mujeres en control. \",\"\")","v":""},{"$f":"IF(($AQ89)>$E89,\"* La celda 'Pueblos Originarios / Hombres' debe ser menor o igual al Total de Hombres en control. \",\"\")","v":""},{"$f":"IF($AR89>$F89,\"* La celda 'Pueblos Originarios / Mujeres' debe ser menor o igual al Total de Mujeres en control. \",\"\")","v":""},{"$f":"IF(($AS89)>$E89,\"* La celda 'Población Migrantes / Hombres' debe ser menor o igual al Total de Hombres en control. \",\"\")","v":""},{"$f":"IF($AT89>$F89,\"* La celda 'Población Migrantes / Mujeres' debe ser menor o igual al Total de Mujeres en control. \",\"\")","v":""},"",{"$f":"IF(AND($D89<>0,$AO89=\"\"),\"* No olvide escribir en la celda de 'Gestantes' (Digite CERO si no tiene). \",\"\")","v":""},{"$f":"IF(AND($D89<>0,$AP89=\"\"),\"* No olvide escribir en la celda de 'Madres de Hijos menor de 5 años' (Digite CERO si no tiene). \",\"\")","v":""},null,{"$f":"IF(AND($E89<>0,$AQ89=\"\"),\"* No olvide escribir en las celdas de 'Pueblos Originarios' (Digite CERO si no tiene). \",IF(AND($F89<>0,$AR89=\"\"),\"* No olvide escribir en las celdas de 'Pueblos Originarios' (Digite CERO si no tiene). \",\"\"))","v":""},{"$f":"IF(AND($E89<>0,$AS89=\"\"),\"* No olvide escribir en las celdas de 'Población Migrantes' (Digite CERO si no tiene). \",IF(AND($F89<>0,$AT89=\"\"),\"* No olvide escribir en las celdas de 'Población Migrantes' (Digite CERO si no tiene). \",\"\"))","v":""},"",{"$nulls":7},{"$f":"IF($AO89>$F89,1,0)","v":0},{"$f":"IF($AP89>$F89,1,0)","v":0},{"$f":"IF(($AQ89)>$E89,1,0)","v":0},{"$f":"IF($AR89>$F89,1,0)","v":0},{"$f":"IF(($AS89)>$E89,1,0)","v":0},{"$f":"IF($AT89>$F89,1,0)","v":0},0,{"$f":"IF(AND($D89<>0,$AO89=\"\"),1,0)","v":0},{"$f":"IF(AND($D89<>0,$AP89=\"\"),1,0)","v":0},null,{"$f":"IF(AND($E89<>0,$AQ89=\"\"),1,IF(AND($F89<>0,$AR89=\"\"),1,0))","v":0},{"$f":"IF(AND($E89<>0,$AS89=\"\"),1,IF(AND($F89<>0,$AT89=\"\"),1,0))","v":0},0]
["P6223290",null,"OTROS TRASTORNOS DEL COMPORTAMIENTO Y DE LAS EMOCIONES DE COMIENZO HABITUAL EN LA INFANCIA Y ADOLESCENCIA",{"$f":"IFERROR(VLOOKUP($A88,Filtro!$A$4:$AX$552,2,FALSE),0)","v":357},{"$f":"IFERROR(VLOOKUP($A88,Filtro!$A$4:$AX$552,3,FALSE),0)","v":209},{"$f":"IFERROR(VLOOKUP($A88,Filtro!$A$4:$AX$552,4,FALSE),0)","v":148},{"$f":"IFERROR(VLOOKUP($A88,Filtro!$A$4:$AX$552,5,FALSE),0)","v":2},{"$f":"IFERROR(VLOOKUP($A88,Filtro!$A$4:$AX$552,6,FALSE),0)","v":4},{"$f":"IFERROR(VLOOKUP($A88,Filtro!$A$4:$AX$552,7,FALSE),0)","v":57},{"$f":"IFERROR(VLOOKUP($A88,Filtro!$A$4:$AX$552,8,FALSE),0)","v":13},{"$f":"IFERROR(VLOOKUP($A88,Filtro!$A$4:$AX$552,9,FALSE),0)","v":68},{"$f":"IFERROR(VLOOKUP($A88,Filtro!$A$4:$AX$552,10,FALSE),0)","v":52},{"$f":"IFERROR(VLOOKUP($A88,Filtro!$A$4:$AX$552,11,FALSE),0)","v":82},{"$f":"IFERROR(VLOOKUP($A88,Filtro!$A$4:$AX$552,12,FALSE),0)","v":79},{"$f":"IFERROR(VLOOKUP($A88,Filtro!$A$4:$AX$552,13,FALSE),0)","v":0},{"$f":"IFERROR(VLOOKUP($A88,Filtro!$A$4:$AX$552,14,FALSE),0)","v":0},{"$f":"IFERROR(VLOOKUP($A88,Filtro!$A$4:$AX$552,15,FALSE),0)","v":0},{"$f":"IFERROR(VLOOKUP($A88,Filtro!$A$4:$AX$552,16,FALSE),0)","v":0},{"$f":"IFERROR(VLOOKUP($A88,Filtro!$A$4:$AX$552,17,FALSE),0)","v":0},{"$f":"IFERROR(VLOOKUP($A88,Filtro!$A$4:$AX$552,18,FALSE),0)","v":0},{"$f":"IFERROR(VLOOKUP($A88,Filtro!$A$4:$AX$552,19,FALSE),0)","v":0},{"$f":"IFERROR(VLOOKUP($A88,Filtro!$A$4:$AX$552,20,FALSE),0)","v":0},{"$f":"IFERROR(VLOOKUP($A88,Filtro!$A$4:$AX$552,21,FALSE),0)","v":0},{"$f":"IFERROR(VLOOKUP($A88,Filtro!$A$4:$AX$552,22,FALSE),0)","v":0},{"$f":"IFERROR(VLOOKUP($A88,Filtro!$A$4:$AX$552,23,FALSE),0)","v":0},{"$f":"IFERROR(VLOOKUP($A88,Filtro!$A$4:$AX$552,24,FALSE),0)","v":0},{"$f":"IFERROR(VLOOKUP($A88,Filtro!$A$4:$AX$552,25,FALSE),0)","v":0},{"$f":"IFERROR(VLOOKUP($A88,Filtro!$A$4:$AX$552,26,FALSE),0)","v":0},{"$f":"IFERROR(VLOOKUP($A88,Filtro!$A$4:$AX$552,27,FALSE),0)","v":0},{"$f":"IFERROR(VLOOKUP($A88,Filtro!$A$4:$AX$552,28,FALSE),0)","v":0},{"$f":"IFERROR(VLOOKUP($A88,Filtro!$A$4:$AX$552,29,FALSE),0)","v":0},{"$f":"IFERROR(VLOOKUP($A88,Filtro!$A$4:$AX$552,30,FALSE),0)","v":0},{"$f":"IFERROR(VLOOKUP($A88,Filtro!$A$4:$AX$552,31,FALSE),0)","v":0},{"$f":"IFERROR(VLOOKUP($A88,Filtro!$A$4:$AX$552,32,FALSE),0)","v":0},{"$f":"IFERROR(VLOOKUP($A88,Filtro!$A$4:$AX$552,33,FALSE),0)","v":0},{"$f":"IFERROR(VLOOKUP($A88,Filtro!$A$4:$AX$552,34,FALSE),0)","v":0},{"$f":"IFERROR(VLOOKUP($A88,Filtro!$A$4:$AX$552,35,FALSE),0)","v":0},{"$f":"IFERROR(VLOOKUP($A88,Filtro!$A$4:$AX$552,36,FALSE),0)","v":0},{"$f":"IFERROR(VLOOKUP($A88,Filtro!$A$4:$AX$552,37,FALSE),0)","v":0},{"$f":"IFERROR(VLOOKUP($A88,Filtro!$A$4:$AX$552,38,FALSE),0)","v":0},{"$f":"IFERROR(VLOOKUP($A88,Filtro!$A$4:$AX$552,39,FALSE),0)","v":0},{"$f":"IFERROR(VLOOKUP($A88,Filtro!$A$4:$AX$552,40,FALSE),0)","v":0},{"$f":"IFERROR(VLOOKUP($A88,Filtro!$A$4:$AX$552,41,FALSE),0)","v":1},{"$f":"IFERROR(VLOOKUP($A88,Filtro!$A$4:$AX$552,42,FALSE),0)","v":0},{"$f":"IFERROR(VLOOKUP($A88,Filtro!$A$4:$AX$552,43,FALSE),0)","v":1},{"$f":"IFERROR(VLOOKUP($A88,Filtro!$A$4:$AX$552,44,FALSE),0)","v":3},{"$f":"IFERROR(VLOOKUP($A88,Filtro!$A$4:$AX$552,45,FALSE),0)","v":117},{"$f":"IFERROR(VLOOKUP($A88,Filtro!$A$4:$AX$552,46,FALSE),0)","v":42},{"$nulls":11},"","","","","","","","","",null,"","","",{"$nulls":7},0,0,0,0,0,0,0,0,0,null,0,0,0]
["P6232100","TRASTORNOS DE ANSIEDAD","TRASTORNO DE ESTRÉS POST TRAUMATICO",{"$f":"IFERROR(VLOOKUP($A89,Filtro!$A$4:$AX$552,2,FALSE),0)","v":38},{"$f":"IFERROR(VLOOKUP($A89,Filtro!$A$4:$AX$552,3,FALSE),0)","v":16},{"$f":"IFERROR(VLOOKUP($A89,Filtro!$A$4:$AX$552,4,FALSE),0)","v":22},{"$f":"IFERROR(VLOOKUP($A89,Filtro!$A$4:$AX$552,5,FALSE),0)","v":0},{"$f":"IFERROR(VLOOKUP($A89,Filtro!$A$4:$AX$552,6,FALSE),0)","v":0},{"$f":"IFERROR(VLOOKUP($A89,Filtro!$A$4:$AX$552,7,FALSE),0)","v":0},{"$f":"IFERROR(VLOOKUP($A89,Filtro!$A$4:$AX$552,8,FALSE),0)","v":0},{"$f":"IFERROR(VLOOKUP($A89,Filtro!$A$4:$AX$552,9,FALSE),0)","v":7},{"$f":"IFERROR(VLOOKUP($A89,Filtro!$A$4:$AX$552,10,FALSE),0)","v":5},{"$f":"IFERROR(VLOOKUP($A89,Filtro!$A$4:$AX$552,11,FALSE),0)","v":2},{"$f":"IFERROR(VLOOKUP($A89,Filtro!$A$4:$AX$552,12,FALSE),0)","v":5},{"$f":"IFERROR(VLOOKUP($A89,Filtro!$A$4:$AX$552,13,FALSE),0)","v":0},{"$f":"IFERROR(VLOOKUP($A89,Filtro!$A$4:$AX$552,14,FALSE),0)","v":3},{"$f":"IFERROR(VLOOKUP($A89,Filtro!$A$4:$AX$552,15,FALSE),0)","v":4},{"$f":"IFERROR(VLOOKUP($A89,Filtro!$A$4:$AX$552,16,FALSE),0)","v":1},{"$f":"IFERROR(VLOOKUP($A89,Filtro!$A$4:$AX$552,17,FALSE),0)","v":1},{"$f":"IFERROR(VLOOKUP($A89,Filtro!$A$4:$AX$552,18,FALSE),0)","v":2},{"$f":"IFERROR(VLOOKUP($A89,Filtro!$A$4:$AX$552,19,FALSE),0)","v":1},{"$f":"IFERROR(VLOOKUP($A89,Filtro!$A$4:$AX$552,20,FALSE),0)","v":1},{"$f":"IFERROR(VLOOKUP($A89,Filtro!$A$4:$AX$552,21,FALSE),0)","v":0},{"$f":"IFERROR(VLOOKUP($A89,Filtro!$A$4:$AX$552,22,FALSE),0)","v":2},{"$f":"IFERROR(VLOOKUP($A89,Filtro!$A$4:$AX$552,23,FALSE),0)","v":0},{"$f":"IFERROR(VLOOKUP($A89,Filtro!$A$4:$AX$552,24,FALSE),0)","v":0},{"$f":"IFERROR(VLOOKUP($A89,Filtro!$A$4:$AX$552,25,FALSE),0)","v":1},{"$f":"IFERROR(VLOOKUP($A89,Filtro!$A$4:$AX$552,26,FALSE),0)","v":0},{"$f":"IFERROR(VLOOKUP($A89,Filtro!$A$4:$AX$552,27,FALSE),0)","v":0},{"$f":"IFERROR(VLOOKUP($A89,Filtro!$A$4:$AX$552,28,FALSE),0)","v":0},{"$f":"IFERROR(VLOOKUP($A89,Filtro!$A$4:$AX$552,29,FALSE),0)","v":0},{"$f":"IFERROR(VLOOKUP($A89,Filtro!$A$4:$AX$552,30,FALSE),0)","v":1},{"$f":"IFERROR(VLOOKUP($A89,Filtro!$A$4:$AX$552,31,FALSE),0)","v":0},{"$f":"IFERROR(VLOOKUP($A89,Filtro!$A$4:$AX$552,32,FALSE),0)","v":2},{"$f":"IFERROR(VLOOKUP($A89,Filtro!$A$4:$AX$552,33,FALSE),0)","v":0},{"$f":"IFERROR(VLOOKUP($A89,Filtro!$A$4:$AX$552,34,FALSE),0)","v":0},{"$f":"IFERROR(VLOOKUP($A89,Filtro!$A$4:$AX$552,35,FALSE),0)","v":0},{"$f":"IFERROR(VLOOKUP($A89,Filtro!$A$4:$AX$552,36,FALSE),0)","v":0},{"$f":"IFERROR(VLOOKUP($A89,Filtro!$A$4:$AX$552,37,FALSE),0)","v":0},{"$f":"IFERROR(VLOOKUP($A89,Filtro!$A$4:$AX$552,38,FALSE),0)","v":0},{"$f":"IFERROR(VLOOKUP($A89,Filtro!$A$4:$AX$552,39,FALSE),0)","v":0},{"$f":"IFERROR(VLOOKUP($A89,Filtro!$A$4:$AX$552,40,FALSE),0)","v":4},{"$f":"IFERROR(VLOOKUP($A89,Filtro!$A$4:$AX$552,41,FALSE),0)","v":0},{"$f":"IFERROR(VLOOKUP($A89,Filtro!$A$4:$AX$552,42,FALSE),0)","v":0},{"$f":"IFERROR(VLOOKUP($A89,Filtro!$A$4:$AX$552,43,FALSE),0)","v":0},{"$f":"IFERROR(VLOOKUP($A89,Filtro!$A$4:$AX$552,44,FALSE),0)","v":2},{"$f":"IFERROR(VLOOKUP($A89,Filtro!$A$4:$AX$552,45,FALSE),0)","v":8},{"$f":"IFERROR(VLOOKUP($A89,Filtro!$A$4:$AX$552,46,FALSE),0)","v":7},{"$nulls":11},"","","","","","","","","",null,"","","",{"$nulls":7},0,0,0,0,0,0,0,0,0,null,0,0,0]
["P6232200",null,"TRASTORNO DE PANICO CON AGOROFOBIA ",{"$f":"IFERROR(VLOOKUP($A90,Filtro!$A$4:$AX$552,2,FALSE),0)","v":25},{"$f":"IFERROR(VLOOKUP($A90,Filtro!$A$4:$AX$552,3,FALSE),0)","v":7},{"$f":"IFERROR(VLOOKUP($A90,Filtro!$A$4:$AX$552,4,FALSE),0)","v":18},{"$f":"IFERROR(VLOOKUP($A90,Filtro!$A$4:$AX$552,5,FALSE),0)","v":0},{"$f":"IFERROR(VLOOKUP($A90,Filtro!$A$4:$AX$552,6,FALSE),0)","v":0},{"$f":"IFERROR(VLOOKUP($A90,Filtro!$A$4:$AX$552,7,FALSE),0)","v":0},{"$f":"IFERROR(VLOOKUP($A90,Filtro!$A$4:$AX$552,8,FALSE),0)","v":0},{"$f":"IFERROR(VLOOKUP($A90,Filtro!$A$4:$AX$552,9,FALSE),0)","v":0},{"$f":"IFERROR(VLOOKUP($A90,Filtro!$A$4:$AX$552,10,FALSE),0)","v":0},{"$f":"IFERROR(VLOOKUP($A90,Filtro!$A$4:$AX$552,11,FALSE),0)","v":0},{"$f":"IFERROR(VLOOKUP($A90,Filtro!$A$4:$AX$552,12,FALSE),0)","v":0},{"$f":"IFERROR(VLOOKUP($A90,Filtro!$A$4:$AX$552,13,FALSE),0)","v":0},{"$f":"IFERROR(VLOOKUP($A90,Filtro!$A$4:$AX$552,14,FALSE),0)","v":0},{"$f":"IFERROR(VLOOKUP($A90,Filtro!$A$4:$AX$552,15,FALSE),0)","v":0},{"$f":"IFERROR(VLOOKUP($A90,Filtro!$A$4:$AX$552,16,FALSE),0)","v":1},{"$f":"IFERROR(VLOOKUP($A90,Filtro!$A$4:$AX$552,17,FALSE),0)","v":0},{"$f":"IFERROR(VLOOKUP($A90,Filtro!$A$4:$AX$552,18,FALSE),0)","v":0},{"$f":"IFERROR(VLOOKUP($A90,Filtro!$A$4:$AX$552,19,FALSE),0)","v":0},{"$f":"IFERROR(VLOOKUP($A90,Filtro!$A$4:$AX$552,20,FALSE),0)","v":2},{"$f":"IFERROR(VLOOKUP($A90,Filtro!$A$4:$AX$552,21,FALSE),0)","v":1},{"$f":"IFERROR(VLOOKUP($A90,Filtro!$A$4:$AX$552,22,FALSE),0)","v":2},{"$f":"IFERROR(VLOOKUP($A90,Filtro!$A$4:$AX$552,23,FALSE),0)","v":1},{"$f":"IFERROR(VLOOKUP($A90,Filtro!$A$4:$AX$552,24,FALSE),0)","v":3},{"$f":"IFERROR(VLOOKUP($A90,Filtro!$A$4:$AX$552,25,FALSE),0)","v":2},{"$f":"IFERROR(VLOOKUP($A90,Filtro!$A$4:$AX$552,26,FALSE),0)","v":5},{"$f":"IFERROR(VLOOKUP($A90,Filtro!$A$4:$AX$552,27,FALSE),0)","v":0},{"$f":"IFERROR(VLOOKUP($A90,Filtro!$A$4:$AX$552,28,FALSE),0)","v":0},{"$f":"IFERROR(VLOOKUP($A90,Filtro!$A$4:$AX$552,29,FALSE),0)","v":2},{"$f":"IFERROR(VLOOKUP($A90,Filtro!$A$4:$AX$552,30,FALSE),0)","v":3},{"$f":"IFERROR(VLOOKUP($A90,Filtro!$A$4:$AX$552,31,FALSE),0)","v":1},{"$f":"IFERROR(VLOOKUP($A90,Filtro!$A$4:$AX$552,32,FALSE),0)","v":1},{"$f":"IFERROR(VLOOKUP($A90,Filtro!$A$4:$AX$552,33,FALSE),0)","v":0},{"$f":"IFERROR(VLOOKUP($A90,Filtro!$A$4:$AX$552,34,FALSE),0)","v":1},{"$f":"IFERROR(VLOOKUP($A90,Filtro!$A$4:$AX$552,35,FALSE),0)","v":0},{"$f":"IFERROR(VLOOKUP($A90,Filtro!$A$4:$AX$552,36,FALSE),0)","v":0},{"$f":"IFERROR(VLOOKUP($A90,Filtro!$A$4:$AX$552,37,FALSE),0)","v":0},{"$f":"IFERROR(VLOOKUP($A90,Filtro!$A$4:$AX$552,38,FALSE),0)","v":0},{"$f":"IFERROR(VLOOKUP($A90,Filtro!$A$4:$AX$552,39,FALSE),0)","v":1},{"$f":"IFERROR(VLOOKUP($A90,Filtro!$A$4:$AX$552,40,FALSE),0)","v":1},{"$f":"IFERROR(VLOOKUP($A90,Filtro!$A$4:$AX$552,41,FALSE),0)","v":0},{"$f":"IFERROR(VLOOKUP($A90,Filtro!$A$4:$AX$552,42,FALSE),0)","v":0},{"$f":"IFERROR(VLOOKUP($A90,Filtro!$A$4:$AX$552,43,FALSE),0)","v":0},{"$f":"IFERROR(VLOOKUP($A90,Filtro!$A$4:$AX$552,44,FALSE),0)","v":0},{"$f":"IFERROR(VLOOKUP($A90,Filtro!$A$4:$AX$552,45,FALSE),0)","v":0},{"$f":"IFERROR(VLOOKUP($A90,Filtro!$A$4:$AX$552,46,FALSE),0)","v":18},{"$nulls":11},"","","","","","","","","",null,"","","",{"$nulls":7},0,0,0,0,0,0,0,0,0,null,0,0,0]
["P6232300",null,"TRASTORNO DE PANICO SIN AGOROFOBIA ",{"$f":"IFERROR(VLOOKUP($A91,Filtro!$A$4:$AX$552,2,FALSE),0)","v":18},{"$f":"IFERROR(VLOOKUP($A91,Filtro!$A$4:$AX$552,3,FALSE),0)","v":5},{"$f":"IFERROR(VLOOKUP($A91,Filtro!$A$4:$AX$552,4,FALSE),0)","v":13},{"$f":"IFERROR(VLOOKUP($A91,Filtro!$A$4:$AX$552,5,FALSE),0)","v":0},{"$f":"IFERROR(VLOOKUP($A91,Filtro!$A$4:$AX$552,6,FALSE),0)","v":0},{"$f":"IFERROR(VLOOKUP($A91,Filtro!$A$4:$AX$552,7,FALSE),0)","v":0},{"$f":"IFERROR(VLOOKUP($A91,Filtro!$A$4:$AX$552,8,FALSE),0)","v":0},{"$f":"IFERROR(VLOOKUP($A91,Filtro!$A$4:$AX$552,9,FALSE),0)","v":0},{"$f":"IFERROR(VLOOKUP($A91,Filtro!$A$4:$AX$552,10,FALSE),0)","v":0},{"$f":"IFERROR(VLOOKUP($A91,Filtro!$A$4:$AX$552,11,FALSE),0)","v":0},{"$f":"IFERROR(VLOOKUP($A91,Filtro!$A$4:$AX$552,12,FALSE),0)","v":0},{"$f":"IFERROR(VLOOKUP($A91,Filtro!$A$4:$AX$552,13,FALSE),0)","v":0},{"$f":"IFERROR(VLOOKUP($A91,Filtro!$A$4:$AX$552,14,FALSE),0)","v":2},{"$f":"IFERROR(VLOOKUP($A91,Filtro!$A$4:$AX$552,15,FALSE),0)","v":0},{"$f":"IFERROR(VLOOKUP($A91,Filtro!$A$4:$AX$552,16,FALSE),0)","v":0},{"$f":"IFERROR(VLOOKUP($A91,Filtro!$A$4:$AX$552,17,FALSE),0)","v":0},{"$f":"IFERROR(VLOOKUP($A91,Filtro!$A$4:$AX$552,18,FALSE),0)","v":1},{"$f":"IFERROR(VLOOKUP($A91,Filtro!$A$4:$AX$552,19,FALSE),0)","v":1},{"$f":"IFERROR(VLOOKUP($A91,Filtro!$A$4:$AX$552,20,FALSE),0)","v":1},{"$f":"IFERROR(VLOOKUP($A91,Filtro!$A$4:$AX$552,21,FALSE),0)","v":0},{"$f":"IFERROR(VLOOKUP($A91,Filtro!$A$4:$AX$552,22,FALSE),0)","v":1},{"$f":"IFERROR(VLOOKUP($A91,Filtro!$A$4:$AX$552,23,FALSE),0)","v":0},{"$f":"IFERROR(VLOOKUP($A91,Filtro!$A$4:$AX$552,24,FALSE),0)","v":5},{"$f":"IFERROR(VLOOKUP($A91,Filtro!$A$4:$AX$552,25,FALSE),0)","v":0},{"$f":"IFERROR(VLOOKUP($A91,Filtro!$A$4:$AX$552,26,FALSE),0)","v":0},{"$f":"IFERROR(VLOOKUP($A91,Filtro!$A$4:$AX$552,27,FALSE),0)","v":3},{"$f":"IFERROR(VLOOKUP($A91,Filtro!$A$4:$AX$552,28,FALSE),0)","v":0},{"$f":"IFERROR(VLOOKUP($A91,Filtro!$A$4:$AX$552,29,FALSE),0)","v":0},{"$f":"IFERROR(VLOOKUP($A91,Filtro!$A$4:$AX$552,30,FALSE),0)","v":0},{"$f":"IFERROR(VLOOKUP($A91,Filtro!$A$4:$AX$552,31,FALSE),0)","v":1},{"$f":"IFERROR(VLOOKUP($A91,Filtro!$A$4:$AX$552,32,FALSE),0)","v":3},{"$f":"IFERROR(VLOOKUP($A91,Filtro!$A$4:$AX$552,33,FALSE),0)","v":0},{"$f":"IFERROR(VLOOKUP($A91,Filtro!$A$4:$AX$552,34,FALSE),0)","v":0},{"$f":"IFERROR(VLOOKUP($A91,Filtro!$A$4:$AX$552,35,FALSE),0)","v":0},{"$f":"IFERROR(VLOOKUP($A91,Filtro!$A$4:$AX$552,36,FALSE),0)","v":0},{"$f":"IFERROR(VLOOKUP($A91,Filtro!$A$4:$AX$552,37,FALSE),0)","v":0},{"$f":"IFERROR(VLOOKUP($A91,Filtro!$A$4:$AX$552,38,FALSE),0)","v":0},{"$f":"IFERROR(VLOOKUP($A91,Filtro!$A$4:$AX$552,39,FALSE),0)","v":0},{"$f":"IFERROR(VLOOKUP($A91,Filtro!$A$4:$AX$552,40,FALSE),0)","v":1},{"$f":"IFERROR(VLOOKUP($A91,Filtro!$A$4:$AX$552,41,FALSE),0)","v":0},{"$f":"IFERROR(VLOOKUP($A91,Filtro!$A$4:$AX$552,42,FALSE),0)","v":0},{"$f":"IFERROR(VLOOKUP($A91,Filtro!$A$4:$AX$552,43,FALSE),0)","v":0},{"$f":"IFERROR(VLOOKUP($A91,Filtro!$A$4:$AX$552,44,FALSE),0)","v":0},{"$f":"IFERROR(VLOOKUP($A91,Filtro!$A$4:$AX$552,45,FALSE),0)","v":0},{"$f":"IFERROR(VLOOKUP($A91,Filtro!$A$4:$AX$552,46,FALSE),0)","v":6},{"$nulls":11},"","","","","","","","","",null,"","","",{"$nulls":7},0,0,0,0,0,0,0,0,0,null,0,0,0]
["P6232400",null,"FOBIAS SOCIALES",{"$f":"IFERROR(VLOOKUP($A92,Filtro!$A$4:$AX$552,2,FALSE),0)","v":5},{"$f":"IFERROR(VLOOKUP($A92,Filtro!$A$4:$AX$552,3,FALSE),0)","v":5},{"$f":"IFERROR(VLOOKUP($A92,Filtro!$A$4:$AX$552,4,FALSE),0)","v":0},{"$f":"IFERROR(VLOOKUP($A92,Filtro!$A$4:$AX$552,5,FALSE),0)","v":0},{"$f":"IFERROR(VLOOKUP($A92,Filtro!$A$4:$AX$552,6,FALSE),0)","v":0},{"$f":"IFERROR(VLOOKUP($A92,Filtro!$A$4:$AX$552,7,FALSE),0)","v":0},{"$f":"IFERROR(VLOOKUP($A92,Filtro!$A$4:$AX$552,8,FALSE),0)","v":0},{"$f":"IFERROR(VLOOKUP($A92,Filtro!$A$4:$AX$552,9,FALSE),0)","v":0},{"$f":"IFERROR(VLOOKUP($A92,Filtro!$A$4:$AX$552,10,FALSE),0)","v":0},{"$f":"IFERROR(VLOOKUP($A92,Filtro!$A$4:$AX$552,11,FALSE),0)","v":2},{"$f":"IFERROR(VLOOKUP($A92,Filtro!$A$4:$AX$552,12,FALSE),0)","v":0},{"$f":"IFERROR(VLOOKUP($A92,Filtro!$A$4:$AX$552,13,FALSE),0)","v":1},{"$f":"IFERROR(VLOOKUP($A92,Filtro!$A$4:$AX$552,14,FALSE),0)","v":0},{"$f":"IFERROR(VLOOKUP($A92,Filtro!$A$4:$AX$552,15,FALSE),0)","v":2},{"$f":"IFERROR(VLOOKUP($A92,Filtro!$A$4:$AX$552,16,FALSE),0)","v":0},{"$f":"IFERROR(VLOOKUP($A92,Filtro!$A$4:$AX$552,17,FALSE),0)","v":0},{"$f":"IFERROR(VLOOKUP($A92,Filtro!$A$4:$AX$552,18,FALSE),0)","v":0},{"$f":"IFERROR(VLOOKUP($A92,Filtro!$A$4:$AX$552,19,FALSE),0)","v":0},{"$f":"IFERROR(VLOOKUP($A92,Filtro!$A$4:$AX$552,20,FALSE),0)","v":0},{"$f":"IFERROR(VLOOKUP($A92,Filtro!$A$4:$AX$552,21,FALSE),0)","v":0},{"$f":"IFERROR(VLOOKUP($A92,Filtro!$A$4:$AX$552,22,FALSE),0)","v":0},{"$f":"IFERROR(VLOOKUP($A92,Filtro!$A$4:$AX$552,23,FALSE),0)","v":0},{"$f":"IFERROR(VLOOKUP($A92,Filtro!$A$4:$AX$552,24,FALSE),0)","v":0},{"$f":"IFERROR(VLOOKUP($A92,Filtro!$A$4:$AX$552,25,FALSE),0)","v":0},{"$f":"IFERROR(VLOOKUP($A92,Filtro!$A$4:$AX$552,26,FALSE),0)","v":0},{"$f":"IFERROR(VLOOKUP($A92,Filtro!$A$4:$AX$552,27,FALSE),0)","v":0},{"$f":"IFERROR(VLOOKUP($A92,Filtro!$A$4:$AX$552,28,FALSE),0)","v":0},{"$f":"IFERROR(VLOOKUP($A92,Filtro!$A$4:$AX$552,29,FALSE),0)","v":0},{"$f":"IFERROR(VLOOKUP($A92,Filtro!$A$4:$AX$552,30,FALSE),0)","v":0},{"$f":"IFERROR(VLOOKUP($A92,Filtro!$A$4:$AX$552,31,FALSE),0)","v":0},{"$f":"IFERROR(VLOOKUP($A92,Filtro!$A$4:$AX$552,32,FALSE),0)","v":0},{"$f":"IFERROR(VLOOKUP($A92,Filtro!$A$4:$AX$552,33,FALSE),0)","v":0},{"$f":"IFERROR(VLOOKUP($A92,Filtro!$A$4:$AX$552,34,FALSE),0)","v":0},{"$f":"IFERROR(VLOOKUP($A92,Filtro!$A$4:$AX$552,35,FALSE),0)","v":0},{"$f":"IFERROR(VLOOKUP($A92,Filtro!$A$4:$AX$552,36,FALSE),0)","v":0},{"$f":"IFERROR(VLOOKUP($A92,Filtro!$A$4:$AX$552,37,FALSE),0)","v":0},{"$f":"IFERROR(VLOOKUP($A92,Filtro!$A$4:$AX$552,38,FALSE),0)","v":0},{"$f":"IFERROR(VLOOKUP($A92,Filtro!$A$4:$AX$552,39,FALSE),0)","v":0},{"$f":"IFERROR(VLOOKUP($A92,Filtro!$A$4:$AX$552,40,FALSE),0)","v":0},{"$f":"IFERROR(VLOOKUP($A92,Filtro!$A$4:$AX$552,41,FALSE),0)","v":0},{"$f":"IFERROR(VLOOKUP($A92,Filtro!$A$4:$AX$552,42,FALSE),0)","v":0},{"$f":"IFERROR(VLOOKUP($A92,Filtro!$A$4:$AX$552,43,FALSE),0)","v":0},{"$f":"IFERROR(VLOOKUP($A92,Filtro!$A$4:$AX$552,44,FALSE),0)","v":0},{"$f":"IFERROR(VLOOKUP($A92,Filtro!$A$4:$AX$552,45,FALSE),0)","v":0},{"$f":"IFERROR(VLOOKUP($A92,Filtro!$A$4:$AX$552,46,FALSE),0)","v":1},{"$nulls":11},"","","","","","","","","",null,"","","",{"$nulls":7},0,0,0,0,0,0,0,0,0,null,0,0,0]
["P6232500",null,"TRASTORNOS DE ANSIEDAD GENERALIZADA",{"$f":"IFERROR(VLOOKUP($A93,Filtro!$A$4:$AX$552,2,FALSE),0)","v":213},{"$f":"IFERROR(VLOOKUP($A93,Filtro!$A$4:$AX$552,3,FALSE),0)","v":59},{"$f":"IFERROR(VLOOKUP($A93,Filtro!$A$4:$AX$552,4,FALSE),0)","v":154},{"$f":"IFERROR(VLOOKUP($A93,Filtro!$A$4:$AX$552,5,FALSE),0)","v":0},{"$f":"IFERROR(VLOOKUP($A93,Filtro!$A$4:$AX$552,6,FALSE),0)","v":0},{"$f":"IFERROR(VLOOKUP($A93,Filtro!$A$4:$AX$552,7,FALSE),0)","v":6},{"$f":"IFERROR(VLOOKUP($A93,Filtro!$A$4:$AX$552,8,FALSE),0)","v":10},{"$f":"IFERROR(VLOOKUP($A93,Filtro!$A$4:$AX$552,9,FALSE),0)","v":18},{"$f":"IFERROR(VLOOKUP($A93,Filtro!$A$4:$AX$552,10,FALSE),0)","v":13},{"$f":"IFERROR(VLOOKUP($A93,Filtro!$A$4:$AX$552,11,FALSE),0)","v":9},{"$f":"IFERROR(VLOOKUP($A93,Filtro!$A$4:$AX$552,12,FALSE),0)","v":7},{"$f":"IFERROR(VLOOKUP($A93,Filtro!$A$4:$AX$552,13,FALSE),0)","v":2},{"$f":"IFERROR(VLOOKUP($A93,Filtro!$A$4:$AX$552,14,FALSE),0)","v":7},{"$f":"IFERROR(VLOOKUP($A93,Filtro!$A$4:$AX$552,15,FALSE),0)","v":2},{"$f":"IFERROR(VLOOKUP($A93,Filtro!$A$4:$AX$552,16,FALSE),0)","v":13},{"$f":"IFERROR(VLOOKUP($A93,Filtro!$A$4:$AX$552,17,FALSE),0)","v":2},{"$f":"IFERROR(VLOOKUP($A93,Filtro!$A$4:$AX$552,18,FALSE),0)","v":2},{"$f":"IFERROR(VLOOKUP($A93,Filtro!$A$4:$AX$552,19,FALSE),0)","v":6},{"$f":"IFERROR(VLOOKUP($A93,Filtro!$A$4:$AX$552,20,FALSE),0)","v":11},{"$f":"IFERROR(VLOOKUP($A93,Filtro!$A$4:$AX$552,21,FALSE),0)","v":0},{"$f":"IFERROR(VLOOKUP($A93,Filtro!$A$4:$AX$552,22,FALSE),0)","v":6},{"$f":"IFERROR(VLOOKUP($A93,Filtro!$A$4:$AX$552,23,FALSE),0)","v":3},{"$f":"IFERROR(VLOOKUP($A93,Filtro!$A$4:$AX$552,24,FALSE),0)","v":26},{"$f":"IFERROR(VLOOKUP($A93,Filtro!$A$4:$AX$552,25,FALSE),0)","v":2},{"$f":"IFERROR(VLOOKUP($A93,Filtro!$A$4:$AX$552,26,FALSE),0)","v":8},{"$f":"IFERROR(VLOOKUP($A93,Filtro!$A$4:$AX$552,27,FALSE),0)","v":1},{"$f":"IFERROR(VLOOKUP($A93,Filtro!$A$4:$AX$552,28,FALSE),0)","v":17},{"$f":"IFERROR(VLOOKUP($A93,Filtro!$A$4:$AX$552,29,FALSE),0)","v":2},{"$f":"IFERROR(VLOOKUP($A93,Filtro!$A$4:$AX$552,30,FALSE),0)","v":12},{"$f":"IFERROR(VLOOKUP($A93,Filtro!$A$4:$AX$552,31,FALSE),0)","v":2},{"$f":"IFERROR(VLOOKUP($A93,Filtro!$A$4:$AX$552,32,FALSE),0)","v":9},{"$f":"IFERROR(VLOOKUP($A93,Filtro!$A$4:$AX$552,33,FALSE),0)","v":2},{"$f":"IFERROR(VLOOKUP($A93,Filtro!$A$4:$AX$552,34,FALSE),0)","v":7},{"$f":"IFERROR(VLOOKUP($A93,Filtro!$A$4:$AX$552,35,FALSE),0)","v":0},{"$f":"IFERROR(VLOOKUP($A93,Filtro!$A$4:$AX$552,36,FALSE),0)","v":5},{"$f":"IFERROR(VLOOKUP($A93,Filtro!$A$4:$AX$552,37,FALSE),0)","v":2},{"$f":"IFERROR(VLOOKUP($A93,Filtro!$A$4:$AX$552,38,FALSE),0)","v":1},{"$f":"IFERROR(VLOOKUP($A93,Filtro!$A$4:$AX$552,39,FALSE),0)","v":0},{"$f":"IFERROR(VLOOKUP($A93,Filtro!$A$4:$AX$552,40,FALSE),0)","v":1},{"$f":"IFERROR(VLOOKUP($A93,Filtro!$A$4:$AX$552,41,FALSE),0)","v":0},{"$f":"IFERROR(VLOOKUP($A93,Filtro!$A$4:$AX$552,42,FALSE),0)","v":0},{"$f":"IFERROR(VLOOKUP($A93,Filtro!$A$4:$AX$552,43,FALSE),0)","v":0},{"$f":"IFERROR(VLOOKUP($A93,Filtro!$A$4:$AX$552,44,FALSE),0)","v":0},{"$f":"IFERROR(VLOOKUP($A93,Filtro!$A$4:$AX$552,45,FALSE),0)","v":2},{"$f":"IFERROR(VLOOKUP($A93,Filtro!$A$4:$AX$552,46,FALSE),0)","v":9},{"$nulls":11},"","","","","","","","","",null,"","","",{"$nulls":7},{"$f":"IF($AO95>$F95,1,0)","v":0},{"$f":"IF($AP95>$F95,1,0)","v":0},{"$f":"IF(($AQ95)>$E95,1,0)","v":0},{"$f":"IF($AR95>$F95,1,0)","v":0},{"$f":"IF(($AS95)>$E95,1,0)","v":0},{"$f":"IF($AT95>$F95,1,0)","v":0},0,{"$f":"IF(AND($D95<>0,$AO95=\"\"),1,0)","v":0},{"$f":"IF(AND($D95<>0,$AP95=\"\"),1,0)","v":0},null,{"$f":"IF(AND($E95<>0,$AQ95=\"\"),1,IF(AND($F95<>0,$AR95=\"\"),1,0))","v":0},{"$f":"IF(AND($E95<>0,$AS95=\"\"),1,IF(AND($F95<>0,$AT95=\"\"),1,0))","v":0},0]
["P6232600",null,"OTROS TRASTORNOS DE ANSIEDAD",{"$f":"IFERROR(VLOOKUP($A94,Filtro!$A$4:$AX$552,2,FALSE),0)","v":173},{"$f":"IFERROR(VLOOKUP($A94,Filtro!$A$4:$AX$552,3,FALSE),0)","v":50},{"$f":"IFERROR(VLOOKUP($A94,Filtro!$A$4:$AX$552,4,FALSE),0)","v":123},{"$f":"IFERROR(VLOOKUP($A94,Filtro!$A$4:$AX$552,5,FALSE),0)","v":0},{"$f":"IFERROR(VLOOKUP($A94,Filtro!$A$4:$AX$552,6,FALSE),0)","v":0},{"$f":"IFERROR(VLOOKUP($A94,Filtro!$A$4:$AX$552,7,FALSE),0)","v":2},{"$f":"IFERROR(VLOOKUP($A94,Filtro!$A$4:$AX$552,8,FALSE),0)","v":1},{"$f":"IFERROR(VLOOKUP($A94,Filtro!$A$4:$AX$552,9,FALSE),0)","v":8},{"$f":"IFERROR(VLOOKUP($A94,Filtro!$A$4:$AX$552,10,FALSE),0)","v":4},{"$f":"IFERROR(VLOOKUP($A94,Filtro!$A$4:$AX$552,11,FALSE),0)","v":8},{"$f":"IFERROR(VLOOKUP($A94,Filtro!$A$4:$AX$552,12,FALSE),0)","v":3},{"$f":"IFERROR(VLOOKUP($A94,Filtro!$A$4:$AX$552,13,FALSE),0)","v":8},{"$f":"IFERROR(VLOOKUP($A94,Filtro!$A$4:$AX$552,14,FALSE),0)","v":6},{"$f":"IFERROR(VLOOKUP($A94,Filtro!$A$4:$AX$552,15,FALSE),0)","v":7},{"$f":"IFERROR(VLOOKUP($A94,Filtro!$A$4:$AX$552,16,FALSE),0)","v":10},{"$f":"IFERROR(VLOOKUP($A94,Filtro!$A$4:$AX$552,17,FALSE),0)","v":7},{"$f":"IFERROR(VLOOKUP($A94,Filtro!$A$4:$AX$552,18,FALSE),0)","v":8},{"$f":"IFERROR(VLOOKUP($A94,Filtro!$A$4:$AX$552,19,FALSE),0)","v":1},{"$f":"IFERROR(VLOOKUP($A94,Filtro!$A$4:$AX$552,20,FALSE),0)","v":8},{"$f":"IFERROR(VLOOKUP($A94,Filtro!$A$4:$AX$552,21,FALSE),0)","v":0},{"$f":"IFERROR(VLOOKUP($A94,Filtro!$A$4:$AX$552,22,FALSE),0)","v":5},{"$f":"IFERROR(VLOOKUP($A94,Filtro!$A$4:$AX$552,23,FALSE),0)","v":3},{"$f":"IFERROR(VLOOKUP($A94,Filtro!$A$4:$AX$552,24,FALSE),0)","v":19},{"$f":"IFERROR(VLOOKUP($A94,Filtro!$A$4:$AX$552,25,FALSE),0)","v":1},{"$f":"IFERROR(VLOOKUP($A94,Filtro!$A$4:$AX$552,26,FALSE),0)","v":18},{"$f":"IFERROR(VLOOKUP($A94,Filtro!$A$4:$AX$552,27,FALSE),0)","v":2},{"$f":"IFERROR(VLOOKUP($A94,Filtro!$A$4:$AX$552,28,FALSE),0)","v":10},{"$f":"IFERROR(VLOOKUP($A94,Filtro!$A$4:$AX$552,29,FALSE),0)","v":0},{"$f":"IFERROR(VLOOKUP($A94,Filtro!$A$4:$AX$552,30,FALSE),0)","v":12},{"$f":"IFERROR(VLOOKUP($A94,Filtro!$A$4:$AX$552,31,FALSE),0)","v":1},{"$f":"IFERROR(VLOOKUP($A94,Filtro!$A$4:$AX$552,32,FALSE),0)","v":6},{"$f":"IFERROR(VLOOKUP($A94,Filtro!$A$4:$AX$552,33,FALSE),0)","v":2},{"$f":"IFERROR(VLOOKUP($A94,Filtro!$A$4:$AX$552,34,FALSE),0)","v":6},{"$f":"IFERROR(VLOOKUP($A94,Filtro!$A$4:$AX$552,35,FALSE),0)","v":0},{"$f":"IFERROR(VLOOKUP($A94,Filtro!$A$4:$AX$552,36,FALSE),0)","v":5},{"$f":"IFERROR(VLOOKUP($A94,Filtro!$A$4:$AX$552,37,FALSE),0)","v":0},{"$f":"IFERROR(VLOOKUP($A94,Filtro!$A$4:$AX$552,38,FALSE),0)","v":2},{"$f":"IFERROR(VLOOKUP($A94,Filtro!$A$4:$AX$552,39,FALSE),0)","v":0},{"$f":"IFERROR(VLOOKUP($A94,Filtro!$A$4:$AX$552,40,FALSE),0)","v":1},{"$f":"IFERROR(VLOOKUP($A94,Filtro!$A$4:$AX$552,41,FALSE),0)","v":0},{"$f":"IFERROR(VLOOKUP($A94,Filtro!$A$4:$AX$552,42,FALSE),0)","v":6},{"$f":"IFERROR(VLOOKUP($A94,Filtro!$A$4:$AX$552,43,FALSE),0)","v":0},{"$f":"IFERROR(VLOOKUP($A94,Filtro!$A$4:$AX$552,44,FALSE),0)","v":0},{"$f":"IFERROR(VLOOKUP($A94,Filtro!$A$4:$AX$552,45,FALSE),0)","v":5},{"$f":"IFERROR(VLOOKUP($A94,Filtro!$A$4:$AX$552,46,FALSE),0)","v":23},{"$nulls":11},"","","","","","","","","",null,"","","",{"$nulls":7},{"$f":"IF($AO96>$F96,1,0)","v":0},{"$f":"IF($AP96>$F96,1,0)","v":0},{"$f":"IF(($AQ96)>$E96,1,0)","v":0},{"$f":"IF($AR96>$F96,1,0)","v":0},{"$f":"IF(($AS96)>$E96,1,0)","v":0},{"$f":"IF($AT96>$F96,1,0)","v":0},0,{"$f":"IF(AND($D96<>0,$AO96=\"\"),1,0)","v":0},{"$f":"IF(AND($D96<>0,$AP96=\"\"),1,0)","v":0},null,{"$f":"IF(AND($E96<>0,$AQ96=\"\"),1,IF(AND($F96<>0,$AR96=\"\"),1,0))","v":0},{"$f":"IF(AND($E96<>0,$AS96=\"\"),1,IF(AND($F96<>0,$AT96=\"\"),1,0))","v":0},0]
["P6223310","DEMENCIAS (INCLUYE ALZHEIMER)","LEVE",{"$f":"IFERROR(VLOOKUP($A95,Filtro!$A$4:$AX$552,2,FALSE),0)","v":21},{"$f":"IFERROR(VLOOKUP($A95,Filtro!$A$4:$AX$552,3,FALSE),0)","v":13},{"$f":"IFERROR(VLOOKUP($A95,Filtro!$A$4:$AX$552,4,FALSE),0)","v":8},{"$f":"IFERROR(VLOOKUP($A95,Filtro!$A$4:$AX$552,5,FALSE),0)","v":0},{"$f":"IFERROR(VLOOKUP($A95,Filtro!$A$4:$AX$552,6,FALSE),0)","v":0},{"$f":"IFERROR(VLOOKUP($A95,Filtro!$A$4:$AX$552,7,FALSE),0)","v":0},{"$f":"IFERROR(VLOOKUP($A95,Filtro!$A$4:$AX$552,8,FALSE),0)","v":0},{"$f":"IFERROR(VLOOKUP($A95,Filtro!$A$4:$AX$552,9,FALSE),0)","v":0},{"$f":"IFERROR(VLOOKUP($A95,Filtro!$A$4:$AX$552,10,FALSE),0)","v":0},{"$f":"IFERROR(VLOOKUP($A95,Filtro!$A$4:$AX$552,11,FALSE),0)","v":0},{"$f":"IFERROR(VLOOKUP($A95,Filtro!$A$4:$AX$552,12,FALSE),0)","v":0},{"$f":"IFERROR(VLOOKUP($A95,Filtro!$A$4:$AX$552,13,FALSE),0)","v":0},{"$f":"IFERROR(VLOOKUP($A95,Filtro!$A$4:$AX$552,14,FALSE),0)","v":0},{"$f":"IFERROR(VLOOKUP($A95,Filtro!$A$4:$AX$552,15,FALSE),0)","v":2},{"$f":"IFERROR(VLOOKUP($A95,Filtro!$A$4:$AX$552,16,FALSE),0)","v":0},{"$f":"IFERROR(VLOOKUP($A95,Filtro!$A$4:$AX$552,17,FALSE),0)","v":0},{"$f":"IFERROR(VLOOKUP($A95,Filtro!$A$4:$AX$552,18,FALSE),0)","v":0},{"$f":"IFERROR(VLOOKUP($A95,Filtro!$A$4:$AX$552,19,FALSE),0)","v":0},{"$f":"IFERROR(VLOOKUP($A95,Filtro!$A$4:$AX$552,20,FALSE),0)","v":0},{"$f":"IFERROR(VLOOKUP($A95,Filtro!$A$4:$AX$552,21,FALSE),0)","v":0},{"$f":"IFERROR(VLOOKUP($A95,Filtro!$A$4:$AX$552,22,FALSE),0)","v":0},{"$f":"IFERROR(VLOOKUP($A95,Filtro!$A$4:$AX$552,23,FALSE),0)","v":4},{"$f":"IFERROR(VLOOKUP($A95,Filtro!$A$4:$AX$552,24,FALSE),0)","v":0},{"$f":"IFERROR(VLOOKUP($A95,Filtro!$A$4:$AX$552,25,FALSE),0)","v":0},{"$f":"IFERROR(VLOOKUP($A95,Filtro!$A$4:$AX$552,26,FALSE),0)","v":0},{"$f":"IFERROR(VLOOKUP($A95,Filtro!$A$4:$AX$552,27,FALSE),0)","v":0},{"$f":"IFERROR(VLOOKUP($A95,Filtro!$A$4:$AX$552,28,FALSE),0)","v":0},{"$f":"IFERROR(VLOOKUP($A95,Filtro!$A$4:$AX$552,29,FALSE),0)","v":1},{"$f":"IFERROR(VLOOKUP($A95,Filtro!$A$4:$AX$552,30,FALSE),0)","v":1},{"$f":"IFERROR(VLOOKUP($A95,Filtro!$A$4:$AX$552,31,FALSE),0)","v":0},{"$f":"IFERROR(VLOOKUP($A95,Filtro!$A$4:$AX$552,32,FALSE),0)","v":2},{"$f":"IFERROR(VLOOKUP($A95,Filtro!$A$4:$AX$552,33,FALSE),0)","v":0},{"$f":"IFERROR(VLOOKUP($A95,Filtro!$A$4:$AX$552,34,FALSE),0)","v":0},{"$f":"IFERROR(VLOOKUP($A95,Filtro!$A$4:$AX$552,35,FALSE),0)","v":3},{"$f":"IFERROR(VLOOKUP($A95,Filtro!$A$4:$AX$552,36,FALSE),0)","v":0},{"$f":"IFERROR(VLOOKUP($A95,Filtro!$A$4:$AX$552,37,FALSE),0)","v":3},{"$f":"IFERROR(VLOOKUP($A95,Filtro!$A$4:$AX$552,38,FALSE),0)","v":5},{"$f":"IFERROR(VLOOKUP($A95,Filtro!$A$4:$AX$552,39,FALSE),0)","v":0},{"$f":"IFERROR(VLOOKUP($A95,Filtro!$A$4:$AX$552,40,FALSE),0)","v":0},{"$f":"IFERROR(VLOOKUP($A95,Filtro!$A$4:$AX$552,41,FALSE),0)","v":0},{"$f":"IFERROR(VLOOKUP($A95,Filtro!$A$4:$AX$552,42,FALSE),0)","v":0},{"$f":"IFERROR(VLOOKUP($A95,Filtro!$A$4:$AX$552,43,FALSE),0)","v":0},{"$f":"IFERROR(VLOOKUP($A95,Filtro!$A$4:$AX$552,44,FALSE),0)","v":0},{"$f":"IFERROR(VLOOKUP($A95,Filtro!$A$4:$AX$552,45,FALSE),0)","v":0},{"$f":"IFERROR(VLOOKUP($A95,Filtro!$A$4:$AX$552,46,FALSE),0)","v":0},{"$nulls":11},"","","","","","","","","",null,"","","",{"$nulls":7},{"$f":"IF($AO97>$F97,1,0)","v":0},{"$f":"IF($AP97>$F97,1,0)","v":0},{"$f":"IF(($AQ97)>$E97,1,0)","v":0},{"$f":"IF($AR97>$F97,1,0)","v":0},{"$f":"IF(($AS97)>$E97,1,0)","v":0},{"$f":"IF($AT97>$F97,1,0)","v":0},0,{"$f":"IF(AND($D97<>0,$AO97=\"\"),1,0)","v":0},{"$f":"IF(AND($D97<>0,$AP97=\"\"),1,0)","v":0},null,{"$f":"IF(AND($E97<>0,$AQ97=\"\"),1,IF(AND($F97<>0,$AR97=\"\"),1,0))","v":0},{"$f":"IF(AND($E97<>0,$AS97=\"\"),1,IF(AND($F97<>0,$AT97=\"\"),1,0))","v":0},0]
["P6230400",null,"MODERADO",{"$f":"IFERROR(VLOOKUP($A96,Filtro!$A$4:$AX$552,2,FALSE),0)","v":56},{"$f":"IFERROR(VLOOKUP($A96,Filtro!$A$4:$AX$552,3,FALSE),0)","v":13},{"$f":"IFERROR(VLOOKUP($A96,Filtro!$A$4:$AX$552,4,FALSE),0)","v":43},{"$f":"IFERROR(VLOOKUP($A96,Filtro!$A$4:$AX$552,5,FALSE),0)","v":0},{"$f":"IFERROR(VLOOKUP($A96,Filtro!$A$4:$AX$552,6,FALSE),0)","v":0},{"$f":"IFERROR(VLOOKUP($A96,Filtro!$A$4:$AX$552,7,FALSE),0)","v":0},{"$f":"IFERROR(VLOOKUP($A96,Filtro!$A$4:$AX$552,8,FALSE),0)","v":0},{"$f":"IFERROR(VLOOKUP($A96,Filtro!$A$4:$AX$552,9,FALSE),0)","v":0},{"$f":"IFERROR(VLOOKUP($A96,Filtro!$A$4:$AX$552,10,FALSE),0)","v":0},{"$f":"IFERROR(VLOOKUP($A96,Filtro!$A$4:$AX$552,11,FALSE),0)","v":0},{"$f":"IFERROR(VLOOKUP($A96,Filtro!$A$4:$AX$552,12,FALSE),0)","v":0},{"$f":"IFERROR(VLOOKUP($A96,Filtro!$A$4:$AX$552,13,FALSE),0)","v":0},{"$f":"IFERROR(VLOOKUP($A96,Filtro!$A$4:$AX$552,14,FALSE),0)","v":0},{"$f":"IFERROR(VLOOKUP($A96,Filtro!$A$4:$AX$552,15,FALSE),0)","v":0},{"$f":"IFERROR(VLOOKUP($A96,Filtro!$A$4:$AX$552,16,FALSE),0)","v":0},{"$f":"IFERROR(VLOOKUP($A96,Filtro!$A$4:$AX$552,17,FALSE),0)","v":0},{"$f":"IFERROR(VLOOKUP($A96,Filtro!$A$4:$AX$552,18,FALSE),0)","v":0},{"$f":"IFERROR(VLOOKUP($A96,Filtro!$A$4:$AX$552,19,FALSE),0)","v":0},{"$f":"IFERROR(VLOOKUP($A96,Filtro!$A$4:$AX$552,20,FALSE),0)","v":0},{"$f":"IFERROR(VLOOKUP($A96,Filtro!$A$4:$AX$552,21,FALSE),0)","v":0},{"$f":"IFERROR(VLOOKUP($A96,Filtro!$A$4:$AX$552,22,FALSE),0)","v":2},{"$f":"IFERROR(VLOOKUP($A96,Filtro!$A$4:$AX$552,23,FALSE),0)","v":1},{"$f":"IFERROR(VLOOKUP($A96,Filtro!$A$4:$AX$552,24,FALSE),0)","v":0},{"$f":"IFERROR(VLOOKUP($A96,Filtro!$A$4:$AX$552,25,FALSE),0)","v":1},{"$f":"IFERROR(VLOOKUP($A96,Filtro!$A$4:$AX$552,26,FALSE),0)","v":0},{"$f":"IFERROR(VLOOKUP($A96,Filtro!$A$4:$AX$552,27,FALSE),0)","v":1},{"$f":"IFERROR(VLOOKUP($A96,Filtro!$A$4:$AX$552,28,FALSE),0)","v":2},{"$f":"IFERROR(VLOOKUP($A96,Filtro!$A$4:$AX$552,29,FALSE),0)","v":0},{"$f":"IFERROR(VLOOKUP($A96,Filtro!$A$4:$AX$552,30,FALSE),0)","v":4},{"$f":"IFERROR(VLOOKUP($A96,Filtro!$A$4:$AX$552,31,FALSE),0)","v":0},{"$f":"IFERROR(VLOOKUP($A96,Filtro!$A$4:$AX$552,32,FALSE),0)","v":9},{"$f":"IFERROR(VLOOKUP($A96,Filtro!$A$4:$AX$552,33,FALSE),0)","v":4},{"$f":"IFERROR(VLOOKUP($A96,Filtro!$A$4:$AX$552,34,FALSE),0)","v":6},{"$f":"IFERROR(VLOOKUP($A96,Filtro!$A$4:$AX$552,35,FALSE),0)","v":0},{"$f":"IFERROR(VLOOKUP($A96,Filtro!$A$4:$AX$552,36,FALSE),0)","v":0},{"$f":"IFERROR(VLOOKUP($A96,Filtro!$A$4:$AX$552,37,FALSE),0)","v":6},{"$f":"IFERROR(VLOOKUP($A96,Filtro!$A$4:$AX$552,38,FALSE),0)","v":20},{"$f":"IFERROR(VLOOKUP($A96,Filtro!$A$4:$AX$552,39,FALSE),0)","v":0},{"$f":"IFERROR(VLOOKUP($A96,Filtro!$A$4:$AX$552,40,FALSE),0)","v":0},{"$f":"IFERROR(VLOOKUP($A96,Filtro!$A$4:$AX$552,41,FALSE),0)","v":0},{"$f":"IFERROR(VLOOKUP($A96,Filtro!$A$4:$AX$552,42,FALSE),0)","v":0},{"$f":"IFERROR(VLOOKUP($A96,Filtro!$A$4:$AX$552,43,FALSE),0)","v":0},{"$f":"IFERROR(VLOOKUP($A96,Filtro!$A$4:$AX$552,44,FALSE),0)","v":0},{"$f":"IFERROR(VLOOKUP($A96,Filtro!$A$4:$AX$552,45,FALSE),0)","v":0},{"$f":"IFERROR(VLOOKUP($A96,Filtro!$A$4:$AX$552,46,FALSE),0)","v":4},{"$nulls":11},"","","","","","","","","",null,"","","",{"$nulls":7},{"$f":"IF($AO98>$F98,1,0)","v":0},{"$f":"IF($AP98>$F98,1,0)","v":0},{"$f":"IF(($AQ98)>$E98,1,0)","v":0},{"$f":"IF($AR98>$F98,1,0)","v":0},{"$f":"IF(($AS98)>$E98,1,0)","v":0},{"$f":"IF($AT98>$F98,1,0)","v":0},0,{"$f":"IF(AND($D98<>0,$AO98=\"\"),1,0)","v":0},{"$f":"IF(AND($D98<>0,$AP98=\"\"),1,0)","v":0},null,{"$f":"IF(AND($E98<>0,$AQ98=\"\"),1,IF(AND($F98<>0,$AR98=\"\"),1,0))","v":0},{"$f":"IF(AND($E98<>0,$AS98=\"\"),1,IF(AND($F98<>0,$AT98=\"\"),1,0))","v":0},0]
["P6230500",null,"AVANZADO",{"$f":"IFERROR(VLOOKUP($A97,Filtro!$A$4:$AX$552,2,FALSE),0)","v":12},{"$f":"IFERROR(VLOOKUP($A97,Filtro!$A$4:$AX$552,3,FALSE),0)","v":3},{"$f":"IFERROR(VLOOKUP($A97,Filtro!$A$4:$AX$552,4,FALSE),0)","v":9},{"$f":"IFERROR(VLOOKUP($A97,Filtro!$A$4:$AX$552,5,FALSE),0)","v":0},{"$f":"IFERROR(VLOOKUP($A97,Filtro!$A$4:$AX$552,6,FALSE),0)","v":0},{"$f":"IFERROR(VLOOKUP($A97,Filtro!$A$4:$AX$552,7,FALSE),0)","v":0},{"$f":"IFERROR(VLOOKUP($A97,Filtro!$A$4:$AX$552,8,FALSE),0)","v":0},{"$f":"IFERROR(VLOOKUP($A97,Filtro!$A$4:$AX$552,9,FALSE),0)","v":0},{"$f":"IFERROR(VLOOKUP($A97,Filtro!$A$4:$AX$552,10,FALSE),0)","v":0},{"$f":"IFERROR(VLOOKUP($A97,Filtro!$A$4:$AX$552,11,FALSE),0)","v":0},{"$f":"IFERROR(VLOOKUP($A97,Filtro!$A$4:$AX$552,12,FALSE),0)","v":0},{"$f":"IFERROR(VLOOKUP($A97,Filtro!$A$4:$AX$552,13,FALSE),0)","v":0},{"$f":"IFERROR(VLOOKUP($A97,Filtro!$A$4:$AX$552,14,FALSE),0)","v":0},{"$f":"IFERROR(VLOOKUP($A97,Filtro!$A$4:$AX$552,15,FALSE),0)","v":0},{"$f":"IFERROR(VLOOKUP($A97,Filtro!$A$4:$AX$552,16,FALSE),0)","v":0},{"$f":"IFERROR(VLOOKUP($A97,Filtro!$A$4:$AX$552,17,FALSE),0)","v":0},{"$f":"IFERROR(VLOOKUP($A97,Filtro!$A$4:$AX$552,18,FALSE),0)","v":0},{"$f":"IFERROR(VLOOKUP($A97,Filtro!$A$4:$AX$552,19,FALSE),0)","v":0},{"$f":"IFERROR(VLOOKUP($A97,Filtro!$A$4:$AX$552,20,FALSE),0)","v":0},{"$f":"IFERROR(VLOOKUP($A97,Filtro!$A$4:$AX$552,21,FALSE),0)","v":0},{"$f":"IFERROR(VLOOKUP($A97,Filtro!$A$4:$AX$552,22,FALSE),0)","v":0},{"$f":"IFERROR(VLOOKUP($A97,Filtro!$A$4:$AX$552,23,FALSE),0)","v":0},{"$f":"IFERROR(VLOOKUP($A97,Filtro!$A$4:$AX$552,24,FALSE),0)","v":0},{"$f":"IFERROR(VLOOKUP($A97,Filtro!$A$4:$AX$552,25,FALSE),0)","v":2},{"$f":"IFERROR(VLOOKUP($A97,Filtro!$A$4:$AX$552,26,FALSE),0)","v":0},{"$f":"IFERROR(VLOOKUP($A97,Filtro!$A$4:$AX$552,27,FALSE),0)","v":0},{"$f":"IFERROR(VLOOKUP($A97,Filtro!$A$4:$AX$552,28,FALSE),0)","v":0},{"$f":"IFERROR(VLOOKUP($A97,Filtro!$A$4:$AX$552,29,FALSE),0)","v":0},{"$f":"IFERROR(VLOOKUP($A97,Filtro!$A$4:$AX$552,30,FALSE),0)","v":2},{"$f":"IFERROR(VLOOKUP($A97,Filtro!$A$4:$AX$552,31,FALSE),0)","v":0},{"$f":"IFERROR(VLOOKUP($A97,Filtro!$A$4:$AX$552,32,FALSE),0)","v":1},{"$f":"IFERROR(VLOOKUP($A97,Filtro!$A$4:$AX$552,33,FALSE),0)","v":0},{"$f":"IFERROR(VLOOKUP($A97,Filtro!$A$4:$AX$552,34,FALSE),0)","v":0},{"$f":"IFERROR(VLOOKUP($A97,Filtro!$A$4:$AX$552,35,FALSE),0)","v":1},{"$f":"IFERROR(VLOOKUP($A97,Filtro!$A$4:$AX$552,36,FALSE),0)","v":2},{"$f":"IFERROR(VLOOKUP($A97,Filtro!$A$4:$AX$552,37,FALSE),0)","v":0},{"$f":"IFERROR(VLOOKUP($A97,Filtro!$A$4:$AX$552,38,FALSE),0)","v":4},{"$f":"IFERROR(VLOOKUP($A97,Filtro!$A$4:$AX$552,39,FALSE),0)","v":0},{"$f":"IFERROR(VLOOKUP($A97,Filtro!$A$4:$AX$552,40,FALSE),0)","v":0},{"$f":"IFERROR(VLOOKUP($A97,Filtro!$A$4:$AX$552,41,FALSE),0)","v":0},{"$f":"IFERROR(VLOOKUP($A97,Filtro!$A$4:$AX$552,42,FALSE),0)","v":0},{"$f":"IFERROR(VLOOKUP($A97,Filtro!$A$4:$AX$552,43,FALSE),0)","v":0},{"$f":"IFERROR(VLOOKUP($A97,Filtro!$A$4:$AX$552,44,FALSE),0)","v":0},{"$f":"IFERROR(VLOOKUP($A97,Filtro!$A$4:$AX$552,45,FALSE),0)","v":0},{"$f":"IFERROR(VLOOKUP($A97,Filtro!$A$4:$AX$552,46,FALSE),0)","v":0},{"$nulls":11},"","","","","","","","","",null,"","","",{"$nulls":7},{"$f":"IF($AO99>$F99,1,0)","v":0},{"$f":"IF($AP99>$F99,1,0)","v":0},{"$f":"IF(($AQ99)>$E99,1,0)","v":0},{"$f":"IF($AR99>$F99,1,0)","v":0},{"$f":"IF(($AS99)>$E99,1,0)","v":0},{"$f":"IF($AT99>$F99,1,0)","v":0},0,{"$f":"IF(AND($D99<>0,$AO99=\"\"),1,0)","v":0},{"$f":"IF(AND($D99<>0,$AP99=\"\"),1,0)","v":0},null,{"$f":"IF(AND($E99<>0,$AQ99=\"\"),1,IF(AND($F99<>0,$AR99=\"\"),1,0))","v":0},{"$f":"IF(AND($E99<>0,$AS99=\"\"),1,IF(AND($F99<>0,$AT99=\"\"),1,0))","v":0},0]
["P6223330","ESQUIZOFRENIA",null,{"$f":"IFERROR(VLOOKUP($A98,Filtro!$A$4:$AX$552,2,FALSE),0)","v":998},{"$f":"IFERROR(VLOOKUP($A98,Filtro!$A$4:$AX$552,3,FALSE),0)","v":655},{"$f":"IFERROR(VLOOKUP($A98,Filtro!$A$4:$AX$552,4,FALSE),0)","v":343},{"$f":"IFERROR(VLOOKUP($A98,Filtro!$A$4:$AX$552,5,FALSE),0)","v":0},{"$f":"IFERROR(VLOOKUP($A98,Filtro!$A$4:$AX$552,6,FALSE),0)","v":0},{"$f":"IFERROR(VLOOKUP($A98,Filtro!$A$4:$AX$552,7,FALSE),0)","v":0},{"$f":"IFERROR(VLOOKUP($A98,Filtro!$A$4:$AX$552,8,FALSE),0)","v":0},{"$f":"IFERROR(VLOOKUP($A98,Filtro!$A$4:$AX$552,9,FALSE),0)","v":0},{"$f":"IFERROR(VLOOKUP($A98,Filtro!$A$4:$AX$552,10,FALSE),0)","v":1},{"$f":"IFERROR(VLOOKUP($A98,Filtro!$A$4:$AX$552,11,FALSE),0)","v":22},{"$f":"IFERROR(VLOOKUP($A98,Filtro!$A$4:$AX$552,12,FALSE),0)","v":9},{"$f":"IFERROR(VLOOKUP($A98,Filtro!$A$4:$AX$552,13,FALSE),0)","v":71},{"$f":"IFERROR(VLOOKUP($A98,Filtro!$A$4:$AX$552,14,FALSE),0)","v":17},{"$f":"IFERROR(VLOOKUP($A98,Filtro!$A$4:$AX$552,15,FALSE),0)","v":98},{"$f":"IFERROR(VLOOKUP($A98,Filtro!$A$4:$AX$552,16,FALSE),0)","v":28},{"$f":"IFERROR(VLOOKUP($A98,Filtro!$A$4:$AX$552,17,FALSE),0)","v":81},{"$f":"IFERROR(VLOOKUP($A98,Filtro!$A$4:$AX$552,18,FALSE),0)","v":38},{"$f":"IFERROR(VLOOKUP($A98,Filtro!$A$4:$AX$552,19,FALSE),0)","v":73},{"$f":"IFERROR(VLOOKUP($A98,Filtro!$A$4:$AX$552,20,FALSE),0)","v":25},{"$f":"IFERROR(VLOOKUP($A98,Filtro!$A$4:$AX$552,21,FALSE),0)","v":71},{"$f":"IFERROR(VLOOKUP($A98,Filtro!$A$4:$AX$552,22,FALSE),0)","v":34},{"$f":"IFERROR(VLOOKUP($A98,Filtro!$A$4:$AX$552,23,FALSE),0)","v":69},{"$f":"IFERROR(VLOOKUP($A98,Filtro!$A$4:$AX$552,24,FALSE),0)","v":35},{"$f":"IFERROR(VLOOKUP($A98,Filtro!$A$4:$AX$552,25,FALSE),0)","v":61},{"$f":"IFERROR(VLOOKUP($A98,Filtro!$A$4:$AX$552,26,FALSE),0)","v":23},{"$f":"IFERROR(VLOOKUP($A98,Filtro!$A$4:$AX$552,27,FALSE),0)","v":59},{"$f":"IFERROR(VLOOKUP($A98,Filtro!$A$4:$AX$552,28,FALSE),0)","v":52},{"$f":"IFERROR(VLOOKUP($A98,Filtro!$A$4:$AX$552,29,FALSE),0)","v":18},{"$f":"IFERROR(VLOOKUP($A98,Filtro!$A$4:$AX$552,30,FALSE),0)","v":32},{"$f":"IFERROR(VLOOKUP($A98,Filtro!$A$4:$AX$552,31,FALSE),0)","v":16},{"$f":"IFERROR(VLOOKUP($A98,Filtro!$A$4:$AX$552,32,FALSE),0)","v":23},{"$f":"IFERROR(VLOOKUP($A98,Filtro!$A$4:$AX$552,33,FALSE),0)","v":6},{"$f":"IFERROR(VLOOKUP($A98,Filtro!$A$4:$AX$552,34,FALSE),0)","v":10},{"$f":"IFERROR(VLOOKUP($A98,Filtro!$A$4:$AX$552,35,FALSE),0)","v":10},{"$f":"IFERROR(VLOOKUP($A98,Filtro!$A$4:$AX$552,36,FALSE),0)","v":10},{"$f":"IFERROR(VLOOKUP($A98,Filtro!$A$4:$AX$552,37,FALSE),0)","v":0},{"$f":"IFERROR(VLOOKUP($A98,Filtro!$A$4:$AX$552,38,FALSE),0)","v":6},{"$f":"IFERROR(VLOOKUP($A98,Filtro!$A$4:$AX$552,39,FALSE),0)","v":0},{"$f":"IFERROR(VLOOKUP($A98,Filtro!$A$4:$AX$552,40,FALSE),0)","v":1},{"$f":"IFERROR(VLOOKUP($A98,Filtro!$A$4:$AX$552,41,FALSE),0)","v":0},{"$f":"IFERROR(VLOOKUP($A98,Filtro!$A$4:$AX$552,42,FALSE),0)","v":0},{"$f":"IFERROR(VLOOKUP($A98,Filtro!$A$4:$AX$552,43,FALSE),0)","v":0},{"$f":"IFERROR(VLOOKUP($A98,Filtro!$A$4:$AX$552,44,FALSE),0)","v":0},{"$f":"IFERROR(VLOOKUP($A98,Filtro!$A$4:$AX$552,45,FALSE),0)","v":4},{"$f":"IFERROR(VLOOKUP($A98,Filtro!$A$4:$AX$552,46,FALSE),0)","v":164},{"$nulls":11},"","","","","","","","","",null,"","","",{"$nulls":7},{"$f":"IF($AO100>$F100,1,0)","v":0},{"$f":"IF($AP100>$F100,1,0)","v":0},{"$f":"IF(($AQ100)>$E100,1,0)","v":0},{"$f":"IF($AR100>$F100,1,0)","v":0},{"$f":"IF(($AS100)>$E100,1,0)","v":0},{"$f":"IF($AT100>$F100,1,0)","v":0},0,{"$f":"IF(AND($D100<>0,$AO100=\"\"),1,0)","v":0},{"$f":"IF(AND($D100<>0,$AP100=\"\"),1,0)","v":0},null,{"$f":"IF(AND($E100<>0,$AQ100=\"\"),1,IF(AND($F100<>0,$AR100=\"\"),1,0))","v":0},{"$f":"IF(AND($E100<>0,$AS100=\"\"),1,IF(AND($F100<>0,$AT100=\"\"),1,0))","v":0},0]
["P6223340","PRIMER EPISODIO ESQUIZOFRENIA CON OCUPACION REGULAR",null,{"$f":"IFERROR(VLOOKUP($A99,Filtro!$A$4:$AX$552,2,FALSE),0)","v":31},{"$f":"IFERROR(VLOOKUP($A99,Filtro!$A$4:$AX$552,3,FALSE),0)","v":22},{"$f":"IFERROR(VLOOKUP($A99,Filtro!$A$4:$AX$552,4,FALSE),0)","v":9},{"$f":"IFERROR(VLOOKUP($A99,Filtro!$A$4:$AX$552,5,FALSE),0)","v":0},{"$f":"IFERROR(VLOOKUP($A99,Filtro!$A$4:$AX$552,6,FALSE),0)","v":0},{"$f":"IFERROR(VLOOKUP($A99,Filtro!$A$4:$AX$552,7,FALSE),0)","v":0},{"$f":"IFERROR(VLOOKUP($A99,Filtro!$A$4:$AX$552,8,FALSE),0)","v":0},{"$f":"IFERROR(VLOOKUP($A99,Filtro!$A$4:$AX$552,9,FALSE),0)","v":0},{"$f":"IFERROR(VLOOKUP($A99,Filtro!$A$4:$AX$552,10,FALSE),0)","v":2},{"$f":"IFERROR(VLOOKUP($A99,Filtro!$A$4:$AX$552,11,FALSE),0)","v":7},{"$f":"IFERROR(VLOOKUP($A99,Filtro!$A$4:$AX$552,12,FALSE),0)","v":3},{"$f":"IFERROR(VLOOKUP($A99,Filtro!$A$4:$AX$552,13,FALSE),0)","v":5},{"$f":"IFERROR(VLOOKUP($A99,Filtro!$A$4:$AX$552,14,FALSE),0)","v":0},{"$f":"IFERROR(VLOOKUP($A99,Filtro!$A$4:$AX$552,15,FALSE),0)","v":6},{"$f":"IFERROR(VLOOKUP($A99,Filtro!$A$4:$AX$552,16,FALSE),0)","v":0},{"$f":"IFERROR(VLOOKUP($A99,Filtro!$A$4:$AX$552,17,FALSE),0)","v":4},{"$f":"IFERROR(VLOOKUP($A99,Filtro!$A$4:$AX$552,18,FALSE),0)","v":3},{"$f":"IFERROR(VLOOKUP($A99,Filtro!$A$4:$AX$552,19,FALSE),0)","v":0},{"$f":"IFERROR(VLOOKUP($A99,Filtro!$A$4:$AX$552,20,FALSE),0)","v":0},{"$f":"IFERROR(VLOOKUP($A99,Filtro!$A$4:$AX$552,21,FALSE),0)","v":0},{"$f":"IFERROR(VLOOKUP($A99,Filtro!$A$4:$AX$552,22,FALSE),0)","v":0},{"$f":"IFERROR(VLOOKUP($A99,Filtro!$A$4:$AX$552,23,FALSE),0)","v":0},{"$f":"IFERROR(VLOOKUP($A99,Filtro!$A$4:$AX$552,24,FALSE),0)","v":0},{"$f":"IFERROR(VLOOKUP($A99,Filtro!$A$4:$AX$552,25,FALSE),0)","v":0},{"$f":"IFERROR(VLOOKUP($A99,Filtro!$A$4:$AX$552,26,FALSE),0)","v":1},{"$f":"IFERROR(VLOOKUP($A99,Filtro!$A$4:$AX$552,27,FALSE),0)","v":0},{"$f":"IFERROR(VLOOKUP($A99,Filtro!$A$4:$AX$552,28,FALSE),0)","v":0},{"$f":"IFERROR(VLOOKUP($A99,Filtro!$A$4:$AX$552,29,FALSE),0)","v":0},{"$f":"IFERROR(VLOOKUP($A99,Filtro!$A$4:$AX$552,30,FALSE),0)","v":0},{"$f":"IFERROR(VLOOKUP($A99,Filtro!$A$4:$AX$552,31,FALSE),0)","v":0},{"$f":"IFERROR(VLOOKUP($A99,Filtro!$A$4:$AX$552,32,FALSE),0)","v":0},{"$f":"IFERROR(VLOOKUP($A99,Filtro!$A$4:$AX$552,33,FALSE),0)","v":0},{"$f":"IFERROR(VLOOKUP($A99,Filtro!$A$4:$AX$552,34,FALSE),0)","v":0},{"$f":"IFERROR(VLOOKUP($A99,Filtro!$A$4:$AX$552,35,FALSE),0)","v":0},{"$f":"IFERROR(VLOOKUP($A99,Filtro!$A$4:$AX$552,36,FALSE),0)","v":0},{"$f":"IFERROR(VLOOKUP($A99,Filtro!$A$4:$AX$552,37,FALSE),0)","v":0},{"$f":"IFERROR(VLOOKUP($A99,Filtro!$A$4:$AX$552,38,FALSE),0)","v":0},{"$f":"IFERROR(VLOOKUP($A99,Filtro!$A$4:$AX$552,39,FALSE),0)","v":0},{"$f":"IFERROR(VLOOKUP($A99,Filtro!$A$4:$AX$552,40,FALSE),0)","v":0},{"$f":"IFERROR(VLOOKUP($A99,Filtro!$A$4:$AX$552,41,FALSE),0)","v":0},{"$f":"IFERROR(VLOOKUP($A99,Filtro!$A$4:$AX$552,42,FALSE),0)","v":0},{"$f":"IFERROR(VLOOKUP($A99,Filtro!$A$4:$AX$552,43,FALSE),0)","v":0},{"$f":"IFERROR(VLOOKUP($A99,Filtro!$A$4:$AX$552,44,FALSE),0)","v":0},{"$f":"IFERROR(VLOOKUP($A99,Filtro!$A$4:$AX$552,45,FALSE),0)","v":2},{"$f":"IFERROR(VLOOKUP($A99,Filtro!$A$4:$AX$552,46,FALSE),0)","v":8},{"$nulls":11},"","","","","","","","","",null,"","","",{"$nulls":7},0,0,0,0,0,0,0,0,0,null,0,0,0]
["P6223350","TRASTORNOS DE LA CONDUCTA ALIMENTARIA",null,{"$f":"IFERROR(VLOOKUP($A100,Filtro!$A$4:$AX$552,2,FALSE),0)","v":47},{"$f":"IFERROR(VLOOKUP($A100,Filtro!$A$4:$AX$552,3,FALSE),0)","v":5},{"$f":"IFERROR(VLOOKUP($A100,Filtro!$A$4:$AX$552,4,FALSE),0)","v":42},{"$f":"IFERROR(VLOOKUP($A100,Filtro!$A$4:$AX$552,5,FALSE),0)","v":0},{"$f":"IFERROR(VLOOKUP($A100,Filtro!$A$4:$AX$552,6,FALSE),0)","v":0},{"$f":"IFERROR(VLOOKUP($A100,Filtro!$A$4:$AX$552,7,FALSE),0)","v":0},{"$f":"IFERROR(VLOOKUP($A100,Filtro!$A$4:$AX$552,8,FALSE),0)","v":1},{"$f":"IFERROR(VLOOKUP($A100,Filtro!$A$4:$AX$552,9,FALSE),0)","v":2},{"$f":"IFERROR(VLOOKUP($A100,Filtro!$A$4:$AX$552,10,FALSE),0)","v":8},{"$f":"IFERROR(VLOOKUP($A100,Filtro!$A$4:$AX$552,11,FALSE),0)","v":0},{"$f":"IFERROR(VLOOKUP($A100,Filtro!$A$4:$AX$552,12,FALSE),0)","v":12},{"$f":"IFERROR(VLOOKUP($A100,Filtro!$A$4:$AX$552,13,FALSE),0)","v":0},{"$f":"IFERROR(VLOOKUP($A100,Filtro!$A$4:$AX$552,14,FALSE),0)","v":9},{"$f":"IFERROR(VLOOKUP($A100,Filtro!$A$4:$AX$552,15,FALSE),0)","v":2},{"$f":"IFERROR(VLOOKUP($A100,Filtro!$A$4:$AX$552,16,FALSE),0)","v":4},{"$f":"IFERROR(VLOOKUP($A100,Filtro!$A$4:$AX$552,17,FALSE),0)","v":0},{"$f":"IFERROR(VLOOKUP($A100,Filtro!$A$4:$AX$552,18,FALSE),0)","v":2},{"$f":"IFERROR(VLOOKUP($A100,Filtro!$A$4:$AX$552,19,FALSE),0)","v":0},{"$f":"IFERROR(VLOOKUP($A100,Filtro!$A$4:$AX$552,20,FALSE),0)","v":3},{"$f":"IFERROR(VLOOKUP($A100,Filtro!$A$4:$AX$552,21,FALSE),0)","v":0},{"$f":"IFERROR(VLOOKUP($A100,Filtro!$A$4:$AX$552,22,FALSE),0)","v":1},{"$f":"IFERROR(VLOOKUP($A100,Filtro!$A$4:$AX$552,23,FALSE),0)","v":0},{"$f":"IFERROR(VLOOKUP($A100,Filtro!$A$4:$AX$552,24,FALSE),0)","v":0},{"$f":"IFERROR(VLOOKUP($A100,Filtro!$A$4:$AX$552,25,FALSE),0)","v":0},{"$f":"IFERROR(VLOOKUP($A100,Filtro!$A$4:$AX$552,26,FALSE),0)","v":1},{"$f":"IFERROR(VLOOKUP($A100,Filtro!$A$4:$AX$552,27,FALSE),0)","v":0},{"$f":"IFERROR(VLOOKUP($A100,Filtro!$A$4:$AX$552,28,FALSE),0)","v":0},{"$f":"IFERROR(VLOOKUP($A100,Filtro!$A$4:$AX$552,29,FALSE),0)","v":1},{"$f":"IFERROR(VLOOKUP($A100,Filtro!$A$4:$AX$552,30,FALSE),0)","v":0},{"$f":"IFERROR(VLOOKUP($A100,Filtro!$A$4:$AX$552,31,FALSE),0)","v":0},{"$f":"IFERROR(VLOOKUP($A100,Filtro!$A$4:$AX$552,32,FALSE),0)","v":0},{"$f":"IFERROR(VLOOKUP($A100,Filtro!$A$4:$AX$552,33,FALSE),0)","v":0},{"$f":"IFERROR(VLOOKUP($A100,Filtro!$A$4:$AX$552,34,FALSE),0)","v":1},{"$f":"IFERROR(VLOOKUP($A100,Filtro!$A$4:$AX$552,35,FALSE),0)","v":0},{"$f":"IFERROR(VLOOKUP($A100,Filtro!$A$4:$AX$552,36,FALSE),0)","v":0},{"$f":"IFERROR(VLOOKUP($A100,Filtro!$A$4:$AX$552,37,FALSE),0)","v":0},{"$f":"IFERROR(VLOOKUP($A100,Filtro!$A$4:$AX$552,38,FALSE),0)","v":0},{"$f":"IFERROR(VLOOKUP($A100,Filtro!$A$4:$AX$552,39,FALSE),0)","v":1},{"$f":"IFERROR(VLOOKUP($A100,Filtro!$A$4:$AX$552,40,FALSE),0)","v":1},{"$f":"IFERROR(VLOOKUP($A100,Filtro!$A$4:$AX$552,41,FALSE),0)","v":0},{"$f":"IFERROR(VLOOKUP($A100,Filtro!$A$4:$AX$552,42,FALSE),0)","v":2},{"$f":"IFERROR(VLOOKUP($A100,Filtro!$A$4:$AX$552,43,FALSE),0)","v":0},{"$f":"IFERROR(VLOOKUP($A100,Filtro!$A$4:$AX$552,44,FALSE),0)","v":0},{"$f":"IFERROR(VLOOKUP($A100,Filtro!$A$4:$AX$552,45,FALSE),0)","v":3},{"$f":"IFERROR(VLOOKUP($A100,Filtro!$A$4:$AX$552,46,FALSE),0)","v":6},{"$nulls":11},"","","","","","","","","",null,"","","",{"$nulls":7},0,0,0,0,0,0,0,0,0,null,0,0,0]
["P6223360","RETRASO MENTAL",null,{"$f":"IFERROR(VLOOKUP($A101,Filtro!$A$4:$AX$552,2,FALSE),0)","v":186},{"$f":"IFERROR(VLOOKUP($A101,Filtro!$A$4:$AX$552,3,FALSE),0)","v":106},{"$f":"IFERROR(VLOOKUP($A101,Filtro!$A$4:$AX$552,4,FALSE),0)","v":80},{"$f":"IFERROR(VLOOKUP($A101,Filtro!$A$4:$AX$552,5,FALSE),0)","v":0},{"$f":"IFERROR(VLOOKUP($A101,Filtro!$A$4:$AX$552,6,FALSE),0)","v":0},{"$f":"IFERROR(VLOOKUP($A101,Filtro!$A$4:$AX$552,7,FALSE),0)","v":1},{"$f":"IFERROR(VLOOKUP($A101,Filtro!$A$4:$AX$552,8,FALSE),0)","v":4},{"$f":"IFERROR(VLOOKUP($A101,Filtro!$A$4:$AX$552,9,FALSE),0)","v":15},{"$f":"IFERROR(VLOOKUP($A101,Filtro!$A$4:$AX$552,10,FALSE),0)","v":5},{"$f":"IFERROR(VLOOKUP($A101,Filtro!$A$4:$AX$552,11,FALSE),0)","v":7},{"$f":"IFERROR(VLOOKUP($A101,Filtro!$A$4:$AX$552,12,FALSE),0)","v":11},{"$f":"IFERROR(VLOOKUP($A101,Filtro!$A$4:$AX$552,13,FALSE),0)","v":12},{"$f":"IFERROR(VLOOKUP($A101,Filtro!$A$4:$AX$552,14,FALSE),0)","v":8},{"$f":"IFERROR(VLOOKUP($A101,Filtro!$A$4:$AX$552,15,FALSE),0)","v":10},{"$f":"IFERROR(VLOOKUP($A101,Filtro!$A$4:$AX$552,16,FALSE),0)","v":7},{"$f":"IFERROR(VLOOKUP($A101,Filtro!$A$4:$AX$552,17,FALSE),0)","v":11},{"$f":"IFERROR(VLOOKUP($A101,Filtro!$A$4:$AX$552,18,FALSE),0)","v":5},{"$f":"IFERROR(VLOOKUP($A101,Filtro!$A$4:$AX$552,19,FALSE),0)","v":5},{"$f":"IFERROR(VLOOKUP($A101,Filtro!$A$4:$AX$552,20,FALSE),0)","v":1},{"$f":"IFERROR(VLOOKUP($A101,Filtro!$A$4:$AX$552,21,FALSE),0)","v":8},{"$f":"IFERROR(VLOOKUP($A101,Filtro!$A$4:$AX$552,22,FALSE),0)","v":9},{"$f":"IFERROR(VLOOKUP($A101,Filtro!$A$4:$AX$552,23,FALSE),0)","v":14},{"$f":"IFERROR(VLOOKUP($A101,Filtro!$A$4:$AX$552,24,FALSE),0)","v":7},{"$f":"IFERROR(VLOOKUP($A101,Filtro!$A$4:$AX$552,25,FALSE),0)","v":11},{"$f":"IFERROR(VLOOKUP($A101,Filtro!$A$4:$AX$552,26,FALSE),0)","v":3},{"$f":"IFERROR(VLOOKUP($A101,Filtro!$A$4:$AX$552,27,FALSE),0)","v":2},{"$f":"IFERROR(VLOOKUP($A101,Filtro!$A$4:$AX$552,28,FALSE),0)","v":3},{"$f":"IFERROR(VLOOKUP($A101,Filtro!$A$4:$AX$552,29,FALSE),0)","v":5},{"$f":"IFERROR(VLOOKUP($A101,Filtro!$A$4:$AX$552,30,FALSE),0)","v":7},{"$f":"IFERROR(VLOOKUP($A101,Filtro!$A$4:$AX$552,31,FALSE),0)","v":2},{"$f":"IFERROR(VLOOKUP($A101,Filtro!$A$4:$AX$552,32,FALSE),0)","v":10},{"$f":"IFERROR(VLOOKUP($A101,Filtro!$A$4:$AX$552,33,FALSE),0)","v":1},{"$f":"IFERROR(VLOOKUP($A101,Filtro!$A$4:$AX$552,34,FALSE),0)","v":0},{"$f":"IFERROR(VLOOKUP($A101,Filtro!$A$4:$AX$552,35,FALSE),0)","v":0},{"$f":"IFERROR(VLOOKUP($A101,Filtro!$A$4:$AX$552,36,FALSE),0)","v":0},{"$f":"IFERROR(VLOOKUP($A101,Filtro!$A$4:$AX$552,37,FALSE),0)","v":2},{"$f":"IFERROR(VLOOKUP($A101,Filtro!$A$4:$AX$552,38,FALSE),0)","v":0},{"$f":"IFERROR(VLOOKUP($A101,Filtro!$A$4:$AX$552,39,FALSE),0)","v":0},{"$f":"IFERROR(VLOOKUP($A101,Filtro!$A$4:$AX$552,40,FALSE),0)","v":0},{"$f":"IFERROR(VLOOKUP($A101,Filtro!$A$4:$AX$552,41,FALSE),0)","v":0},{"$f":"IFERROR(VLOOKUP($A101,Filtro!$A$4:$AX$552,42,FALSE),0)","v":0},{"$f":"IFERROR(VLOOKUP($A101,Filtro!$A$4:$AX$552,43,FALSE),0)","v":2},{"$f":"IFERROR(VLOOKUP($A101,Filtro!$A$4:$AX$552,44,FALSE),0)","v":0},{"$f":"IFERROR(VLOOKUP($A101,Filtro!$A$4:$AX$552,45,FALSE),0)","v":8},{"$f":"IFERROR(VLOOKUP($A101,Filtro!$A$4:$AX$552,46,FALSE),0)","v":20},{"$nulls":11},"","","","","","","","","",null,"","","",{"$nulls":7},0,0,0,0,0,0,0,0,0,null,0,0,0]
["P6223370","TRASTORNO DE PERSONALIDAD",null,{"$f":"IFERROR(VLOOKUP($A102,Filtro!$A$4:$AX$552,2,FALSE),0)","v":683},{"$f":"IFERROR(VLOOKUP($A102,Filtro!$A$4:$AX$552,3,FALSE),0)","v":159},{"$f":"IFERROR(VLOOKUP($A102,Filtro!$A$4:$AX$552,4,FALSE),0)","v":524},{"$f":"IFERROR(VLOOKUP($A102,Filtro!$A$4:$AX$552,5,FALSE),0)","v":0},{"$f":"IFERROR(VLOOKUP($A102,Filtro!$A$4:$AX$552,6,FALSE),0)","v":0},{"$f":"IFERROR(VLOOKUP($A102,Filtro!$A$4:$AX$552,7,FALSE),0)","v":3},{"$f":"IFERROR(VLOOKUP($A102,Filtro!$A$4:$AX$552,8,FALSE),0)","v":0},{"$f":"IFERROR(VLOOKUP($A102,Filtro!$A$4:$AX$552,9,FALSE),0)","v":3},{"$f":"IFERROR(VLOOKUP($A102,Filtro!$A$4:$AX$552,10,FALSE),0)","v":5},{"$f":"IFERROR(VLOOKUP($A102,Filtro!$A$4:$AX$552,11,FALSE),0)","v":17},{"$f":"IFERROR(VLOOKUP($A102,Filtro!$A$4:$AX$552,12,FALSE),0)","v":21},{"$f":"IFERROR(VLOOKUP($A102,Filtro!$A$4:$AX$552,13,FALSE),0)","v":5},{"$f":"IFERROR(VLOOKUP($A102,Filtro!$A$4:$AX$552,14,FALSE),0)","v":49},{"$f":"IFERROR(VLOOKUP($A102,Filtro!$A$4:$AX$552,15,FALSE),0)","v":21},{"$f":"IFERROR(VLOOKUP($A102,Filtro!$A$4:$AX$552,16,FALSE),0)","v":31},{"$f":"IFERROR(VLOOKUP($A102,Filtro!$A$4:$AX$552,17,FALSE),0)","v":19},{"$f":"IFERROR(VLOOKUP($A102,Filtro!$A$4:$AX$552,18,FALSE),0)","v":39},{"$f":"IFERROR(VLOOKUP($A102,Filtro!$A$4:$AX$552,19,FALSE),0)","v":15},{"$f":"IFERROR(VLOOKUP($A102,Filtro!$A$4:$AX$552,20,FALSE),0)","v":46},{"$f":"IFERROR(VLOOKUP($A102,Filtro!$A$4:$AX$552,21,FALSE),0)","v":9},{"$f":"IFERROR(VLOOKUP($A102,Filtro!$A$4:$AX$552,22,FALSE),0)","v":33},{"$f":"IFERROR(VLOOKUP($A102,Filtro!$A$4:$AX$552,23,FALSE),0)","v":24},{"$f":"IFERROR(VLOOKUP($A102,Filtro!$A$4:$AX$552,24,FALSE),0)","v":55},{"$f":"IFERROR(VLOOKUP($A102,Filtro!$A$4:$AX$552,25,FALSE),0)","v":12},{"$f":"IFERROR(VLOOKUP($A102,Filtro!$A$4:$AX$552,26,FALSE),0)","v":53},{"$f":"IFERROR(VLOOKUP($A102,Filtro!$A$4:$AX$552,27,FALSE),0)","v":18},{"$f":"IFERROR(VLOOKUP($A102,Filtro!$A$4:$AX$552,28,FALSE),0)","v":62},{"$f":"IFERROR(VLOOKUP($A102,Filtro!$A$4:$AX$552,29,FALSE),0)","v":4},{"$f":"IFERROR(VLOOKUP($A102,Filtro!$A$4:$AX$552,30,FALSE),0)","v":60},{"$f":"IFERROR(VLOOKUP($A102,Filtro!$A$4:$AX$552,31,FALSE),0)","v":3},{"$f":"IFERROR(VLOOKUP($A102,Filtro!$A$4:$AX$552,32,FALSE),0)","v":32},{"$f":"IFERROR(VLOOKUP($A102,Filtro!$A$4:$AX$552,33,FALSE),0)","v":5},{"$f":"IFERROR(VLOOKUP($A102,Filtro!$A$4:$AX$552,34,FALSE),0)","v":26},{"$f":"IFERROR(VLOOKUP($A102,Filtro!$A$4:$AX$552,35,FALSE),0)","v":1},{"$f":"IFERROR(VLOOKUP($A102,Filtro!$A$4:$AX$552,36,FALSE),0)","v":10},{"$f":"IFERROR(VLOOKUP($A102,Filtro!$A$4:$AX$552,37,FALSE),0)","v":0},{"$f":"IFERROR(VLOOKUP($A102,Filtro!$A$4:$AX$552,38,FALSE),0)","v":2},{"$f":"IFERROR(VLOOKUP($A102,Filtro!$A$4:$AX$552,39,FALSE),0)","v":3},{"$f":"IFERROR(VLOOKUP($A102,Filtro!$A$4:$AX$552,40,FALSE),0)","v":5},{"$f":"IFERROR(VLOOKUP($A102,Filtro!$A$4:$AX$552,41,FALSE),0)","v":0},{"$f":"IFERROR(VLOOKUP($A102,Filtro!$A$4:$AX$552,42,FALSE),0)","v":0},{"$f":"IFERROR(VLOOKUP($A102,Filtro!$A$4:$AX$552,43,FALSE),0)","v":0},{"$f":"IFERROR(VLOOKUP($A102,Filtro!$A$4:$AX$552,44,FALSE),0)","v":0},{"$f":"IFERROR(VLOOKUP($A102,Filtro!$A$4:$AX$552,45,FALSE),0)","v":8},{"$f":"IFERROR(VLOOKUP($A102,Filtro!$A$4:$AX$552,46,FALSE),0)","v":113},{"$nulls":11},"","","","","","","","","",null,"","","",{"$nulls":7},0,0,0,0,0,0,0,0,0,null,0,0,0]
["P6223380","TRASTORNO GENERALIZADOS DEL DESARROLLO",null,{"$f":"IFERROR(VLOOKUP($A103,Filtro!$A$4:$AX$552,2,FALSE),0)","v":228},{"$f":"IFERROR(VLOOKUP($A103,Filtro!$A$4:$AX$552,3,FALSE),0)","v":188},{"$f":"IFERROR(VLOOKUP($A103,Filtro!$A$4:$AX$552,4,FALSE),0)","v":40},{"$f":"IFERROR(VLOOKUP($A103,Filtro!$A$4:$AX$552,5,FALSE),0)","v":9},{"$f":"IFERROR(VLOOKUP($A103,Filtro!$A$4:$AX$552,6,FALSE),0)","v":1},{"$f":"IFERROR(VLOOKUP($A103,Filtro!$A$4:$AX$552,7,FALSE),0)","v":50},{"$f":"IFERROR(VLOOKUP($A103,Filtro!$A$4:$AX$552,8,FALSE),0)","v":12},{"$f":"IFERROR(VLOOKUP($A103,Filtro!$A$4:$AX$552,9,FALSE),0)","v":55},{"$f":"IFERROR(VLOOKUP($A103,Filtro!$A$4:$AX$552,10,FALSE),0)","v":8},{"$f":"IFERROR(VLOOKUP($A103,Filtro!$A$4:$AX$552,11,FALSE),0)","v":39},{"$f":"IFERROR(VLOOKUP($A103,Filtro!$A$4:$AX$552,12,FALSE),0)","v":5},{"$f":"IFERROR(VLOOKUP($A103,Filtro!$A$4:$AX$552,13,FALSE),0)","v":15},{"$f":"IFERROR(VLOOKUP($A103,Filtro!$A$4:$AX$552,14,FALSE),0)","v":8},{"$f":"IFERROR(VLOOKUP($A103,Filtro!$A$4:$AX$552,15,FALSE),0)","v":4},{"$f":"IFERROR(VLOOKUP($A103,Filtro!$A$4:$AX$552,16,FALSE),0)","v":0},{"$f":"IFERROR(VLOOKUP($A103,Filtro!$A$4:$AX$552,17,FALSE),0)","v":8},{"$f":"IFERROR(VLOOKUP($A103,Filtro!$A$4:$AX$552,18,FALSE),0)","v":1},{"$f":"IFERROR(VLOOKUP($A103,Filtro!$A$4:$AX$552,19,FALSE),0)","v":6},{"$f":"IFERROR(VLOOKUP($A103,Filtro!$A$4:$AX$552,20,FALSE),0)","v":5},{"$f":"IFERROR(VLOOKUP($A103,Filtro!$A$4:$AX$552,21,FALSE),0)","v":0},{"$f":"IFERROR(VLOOKUP($A103,Filtro!$A$4:$AX$552,22,FALSE),0)","v":0},{"$f":"IFERROR(VLOOKUP($A103,Filtro!$A$4:$AX$552,23,FALSE),0)","v":0},{"$f":"IFERROR(VLOOKUP($A103,Filtro!$A$4:$AX$552,24,FALSE),0)","v":0},{"$f":"IFERROR(VLOOKUP($A103,Filtro!$A$4:$AX$552,25,FALSE),0)","v":2},{"$f":"IFERROR(VLOOKUP($A103,Filtro!$A$4:$AX$552,26,FALSE),0)","v":0},{"$f":"IFERROR(VLOOKUP($A103,Filtro!$A$4:$AX$552,27,FALSE),0)","v":0},{"$f":"IFERROR(VLOOKUP($A103,Filtro!$A$4:$AX$552,28,FALSE),0)","v":0},{"$f":"IFERROR(VLOOKUP($A103,Filtro!$A$4:$AX$552,29,FALSE),0)","v":0},{"$f":"IFERROR(VLOOKUP($A103,Filtro!$A$4:$AX$552,30,FALSE),0)","v":0},{"$f":"IFERROR(VLOOKUP($A103,Filtro!$A$4:$AX$552,31,FALSE),0)","v":0},{"$f":"IFERROR(VLOOKUP($A103,Filtro!$A$4:$AX$552,32,FALSE),0)","v":0},{"$f":"IFERROR(VLOOKUP($A103,Filtro!$A$4:$AX$552,33,FALSE),0)","v":0},{"$f":"IFERROR(VLOOKUP($A103,Filtro!$A$4:$AX$552,34,FALSE),0)","v":0},{"$f":"IFERROR(VLOOKUP($A103,Filtro!$A$4:$AX$552,35,FALSE),0)","v":0},{"$f":"IFERROR(VLOOKUP($A103,Filtro!$A$4:$AX$552,36,FALSE),0)","v":0},{"$f":"IFERROR(VLOOKUP($A103,Filtro!$A$4:$AX$552,37,FALSE),0)","v":0},{"$f":"IFERROR(VLOOKUP($A103,Filtro!$A$4:$AX$552,38,FALSE),0)","v":0},{"$f":"IFERROR(VLOOKUP($A103,Filtro!$A$4:$AX$552,39,FALSE),0)","v":0},{"$f":"IFERROR(VLOOKUP($A103,Filtro!$A$4:$AX$552,40,FALSE),0)","v":0},{"$f":"IFERROR(VLOOKUP($A103,Filtro!$A$4:$AX$552,41,FALSE),0)","v":0},{"$f":"IFERROR(VLOOKUP($A103,Filtro!$A$4:$AX$552,42,FALSE),0)","v":0},{"$f":"IFERROR(VLOOKUP($A103,Filtro!$A$4:$AX$552,43,FALSE),0)","v":0},{"$f":"IFERROR(VLOOKUP($A103,Filtro!$A$4:$AX$552,44,FALSE),0)","v":1},{"$f":"IFERROR(VLOOKUP($A103,Filtro!$A$4:$AX$552,45,FALSE),0)","v":4},{"$f":"IFERROR(VLOOKUP($A103,Filtro!$A$4:$AX$552,46,FALSE),0)","v":14},{"$nulls":13},{"$f":"IF(($AQ105)>$E105,\"* La celda 'Pueblos Originarios / Hombres' debe ser menor o igual al Total de Hombres en control. \",\"\")","v":""},{"$f":"IF($AR105>$F105,\"* La celda 'Pueblos Originarios / Mujeres' debe ser menor o igual al Total de Mujeres en control. \",\"\")","v":""},{"$f":"IF(($AS105)>$E105,\"* La celda 'Población Migrantes / Hombres' debe ser menor o igual al Total de Hombres en control. \",\"\")","v":""},{"$f":"IF($AT105>$F105,\"* La celda 'Población Migrantes / Mujeres' debe ser menor o igual al Total de Mujeres en control. \",\"\")","v":""},"",{"$nulls":3},{"$f":"IF(AND($E105<>0,$AQ105=\"\"),\"* No olvide escribir en las celdas de 'Pueblos Originarios' (Digite CERO si no tiene). \",IF(AND($F105<>0,$AR105=\"\"),\"* No olvide escribir en las celdas de 'Pueblos Originarios' (Digite CERO si no tiene). \",\"\"))","v":""},{"$f":"IF(AND($E105<>0,$AS105=\"\"),\"* No olvide escribir en las celdas de 'Población Migrantes' (Digite CERO si no tiene). \",IF(AND($F105<>0,$AT105=\"\"),\"* No olvide escribir en las celdas de 'Población Migrantes' (Digite CERO si no tiene). \",\"\"))","v":""},"",{"$nulls":9},{"$f":"IF(($AQ105)>$E105,1,0)","v":0},{"$f":"IF($AR105>$F105,1,0)","v":0},{"$f":"IF(($AS105)>$E105,1,0)","v":0},{"$f":"IF($AT105>$F105,1,0)","v":0},0,{"$nulls":3},{"$f":"IF(AND($E105<>0,$AQ105=\"\"),1,IF(AND($F105<>0,$AR105=\"\"),1,0))","v":0},{"$f":"IF(AND($E105<>0,$AS105=\"\"),1,IF(AND($F105<>0,$AT105=\"\"),1,0))","v":0},0]
["P6232700","EPILEPSIA",null,{"$f":"IFERROR(VLOOKUP($A104,Filtro!$A$4:$AX$552,2,FALSE),0)","v":10},{"$f":"IFERROR(VLOOKUP($A104,Filtro!$A$4:$AX$552,3,FALSE),0)","v":6},{"$f":"IFERROR(VLOOKUP($A104,Filtro!$A$4:$AX$552,4,FALSE),0)","v":4},{"$f":"IFERROR(VLOOKUP($A104,Filtro!$A$4:$AX$552,5,FALSE),0)","v":0},{"$f":"IFERROR(VLOOKUP($A104,Filtro!$A$4:$AX$552,6,FALSE),0)","v":0},{"$f":"IFERROR(VLOOKUP($A104,Filtro!$A$4:$AX$552,7,FALSE),0)","v":0},{"$f":"IFERROR(VLOOKUP($A104,Filtro!$A$4:$AX$552,8,FALSE),0)","v":0},{"$f":"IFERROR(VLOOKUP($A104,Filtro!$A$4:$AX$552,9,FALSE),0)","v":0},{"$f":"IFERROR(VLOOKUP($A104,Filtro!$A$4:$AX$552,10,FALSE),0)","v":0},{"$f":"IFERROR(VLOOKUP($A104,Filtro!$A$4:$AX$552,11,FALSE),0)","v":2},{"$f":"IFERROR(VLOOKUP($A104,Filtro!$A$4:$AX$552,12,FALSE),0)","v":0},{"$f":"IFERROR(VLOOKUP($A104,Filtro!$A$4:$AX$552,13,FALSE),0)","v":1},{"$f":"IFERROR(VLOOKUP($A104,Filtro!$A$4:$AX$552,14,FALSE),0)","v":0},{"$f":"IFERROR(VLOOKUP($A104,Filtro!$A$4:$AX$552,15,FALSE),0)","v":0},{"$f":"IFERROR(VLOOKUP($A104,Filtro!$A$4:$AX$552,16,FALSE),0)","v":1},{"$f":"IFERROR(VLOOKUP($A104,Filtro!$A$4:$AX$552,17,FALSE),0)","v":0},{"$f":"IFERROR(VLOOKUP($A104,Filtro!$A$4:$AX$552,18,FALSE),0)","v":0},{"$f":"IFERROR(VLOOKUP($A104,Filtro!$A$4:$AX$552,19,FALSE),0)","v":0},{"$f":"IFERROR(VLOOKUP($A104,Filtro!$A$4:$AX$552,20,FALSE),0)","v":1},{"$f":"IFERROR(VLOOKUP($A104,Filtro!$A$4:$AX$552,21,FALSE),0)","v":1},{"$f":"IFERROR(VLOOKUP($A104,Filtro!$A$4:$AX$552,22,FALSE),0)","v":1},{"$f":"IFERROR(VLOOKUP($A104,Filtro!$A$4:$AX$552,23,FALSE),0)","v":1},{"$f":"IFERROR(VLOOKUP($A104,Filtro!$A$4:$AX$552,24,FALSE),0)","v":0},{"$f":"IFERROR(VLOOKUP($A104,Filtro!$A$4:$AX$552,25,FALSE),0)","v":1},{"$f":"IFERROR(VLOOKUP($A104,Filtro!$A$4:$AX$552,26,FALSE),0)","v":1},{"$f":"IFERROR(VLOOKUP($A104,Filtro!$A$4:$AX$552,27,FALSE),0)","v":0},{"$f":"IFERROR(VLOOKUP($A104,Filtro!$A$4:$AX$552,28,FALSE),0)","v":0},{"$f":"IFERROR(VLOOKUP($A104,Filtro!$A$4:$AX$552,29,FALSE),0)","v":0},{"$f":"IFERROR(VLOOKUP($A104,Filtro!$A$4:$AX$552,30,FALSE),0)","v":0},{"$f":"IFERROR(VLOOKUP($A104,Filtro!$A$4:$AX$552,31,FALSE),0)","v":0},{"$f":"IFERROR(VLOOKUP($A104,Filtro!$A$4:$AX$552,32,FALSE),0)","v":0},{"$f":"IFERROR(VLOOKUP($A104,Filtro!$A$4:$AX$552,33,FALSE),0)","v":0},{"$f":"IFERROR(VLOOKUP($A104,Filtro!$A$4:$AX$552,34,FALSE),0)","v":0},{"$f":"IFERROR(VLOOKUP($A104,Filtro!$A$4:$AX$552,35,FALSE),0)","v":0},{"$f":"IFERROR(VLOOKUP($A104,Filtro!$A$4:$AX$552,36,FALSE),0)","v":0},{"$f":"IFERROR(VLOOKUP($A104,Filtro!$A$4:$AX$552,37,FALSE),0)","v":0},{"$f":"IFERROR(VLOOKUP($A104,Filtro!$A$4:$AX$552,38,FALSE),0)","v":0},{"$f":"IFERROR(VLOOKUP($A104,Filtro!$A$4:$AX$552,39,FALSE),0)","v":0},{"$f":"IFERROR(VLOOKUP($A104,Filtro!$A$4:$AX$552,40,FALSE),0)","v":0},{"$f":"IFERROR(VLOOKUP($A104,Filtro!$A$4:$AX$552,41,FALSE),0)","v":0},{"$f":"IFERROR(VLOOKUP($A104,Filtro!$A$4:$AX$552,42,FALSE),0)","v":0},{"$f":"IFERROR(VLOOKUP($A104,Filtro!$A$4:$AX$552,43,FALSE),0)","v":0},{"$f":"IFERROR(VLOOKUP($A104,Filtro!$A$4:$AX$552,44,FALSE),0)","v":0},{"$f":"IFERROR(VLOOKUP($A104,Filtro!$A$4:$AX$552,45,FALSE),0)","v":0},{"$f":"IFERROR(VLOOKUP($A104,Filtro!$A$4:$AX$552,46,FALSE),0)","v":0}]
["P6227603","OTRAS",null,{"$f":"IFERROR(VLOOKUP($A105,Filtro!$A$4:$AX$552,2,FALSE),0)","v":323},{"$f":"IFERROR(VLOOKUP($A105,Filtro!$A$4:$AX$552,3,FALSE),0)","v":149},{"$f":"IFERROR(VLOOKUP($A105,Filtro!$A$4:$AX$552,4,FALSE),0)","v":174},{"$f":"IFERROR(VLOOKUP($A105,Filtro!$A$4:$AX$552,5,FALSE),0)","v":0},{"$f":"IFERROR(VLOOKUP($A105,Filtro!$A$4:$AX$552,6,FALSE),0)","v":0},{"$f":"IFERROR(VLOOKUP($A105,Filtro!$A$4:$AX$552,7,FALSE),0)","v":6},{"$f":"IFERROR(VLOOKUP($A105,Filtro!$A$4:$AX$552,8,FALSE),0)","v":0},{"$f":"IFERROR(VLOOKUP($A105,Filtro!$A$4:$AX$552,9,FALSE),0)","v":20},{"$f":"IFERROR(VLOOKUP($A105,Filtro!$A$4:$AX$552,10,FALSE),0)","v":13},{"$f":"IFERROR(VLOOKUP($A105,Filtro!$A$4:$AX$552,11,FALSE),0)","v":20},{"$f":"IFERROR(VLOOKUP($A105,Filtro!$A$4:$AX$552,12,FALSE),0)","v":24},{"$f":"IFERROR(VLOOKUP($A105,Filtro!$A$4:$AX$552,13,FALSE),0)","v":17},{"$f":"IFERROR(VLOOKUP($A105,Filtro!$A$4:$AX$552,14,FALSE),0)","v":10},{"$f":"IFERROR(VLOOKUP($A105,Filtro!$A$4:$AX$552,15,FALSE),0)","v":15},{"$f":"IFERROR(VLOOKUP($A105,Filtro!$A$4:$AX$552,16,FALSE),0)","v":7},{"$f":"IFERROR(VLOOKUP($A105,Filtro!$A$4:$AX$552,17,FALSE),0)","v":11},{"$f":"IFERROR(VLOOKUP($A105,Filtro!$A$4:$AX$552,18,FALSE),0)","v":5},{"$f":"IFERROR(VLOOKUP($A105,Filtro!$A$4:$AX$552,19,FALSE),0)","v":2},{"$f":"IFERROR(VLOOKUP($A105,Filtro!$A$4:$AX$552,20,FALSE),0)","v":14},{"$f":"IFERROR(VLOOKUP($A105,Filtro!$A$4:$AX$552,21,FALSE),0)","v":10},{"$f":"IFERROR(VLOOKUP($A105,Filtro!$A$4:$AX$552,22,FALSE),0)","v":14},{"$f":"IFERROR(VLOOKUP($A105,Filtro!$A$4:$AX$552,23,FALSE),0)","v":9},{"$f":"IFERROR(VLOOKUP($A105,Filtro!$A$4:$AX$552,24,FALSE),0)","v":12},{"$f":"IFERROR(VLOOKUP($A105,Filtro!$A$4:$AX$552,25,FALSE),0)","v":5},{"$f":"IFERROR(VLOOKUP($A105,Filtro!$A$4:$AX$552,26,FALSE),0)","v":20},{"$f":"IFERROR(VLOOKUP($A105,Filtro!$A$4:$AX$552,27,FALSE),0)","v":8},{"$f":"IFERROR(VLOOKUP($A105,Filtro!$A$4:$AX$552,28,FALSE),0)","v":15},{"$f":"IFERROR(VLOOKUP($A105,Filtro!$A$4:$AX$552,29,FALSE),0)","v":10},{"$f":"IFERROR(VLOOKUP($A105,Filtro!$A$4:$AX$552,30,FALSE),0)","v":10},{"$f":"IFERROR(VLOOKUP($A105,Filtro!$A$4:$AX$552,31,FALSE),0)","v":7},{"$f":"IFERROR(VLOOKUP($A105,Filtro!$A$4:$AX$552,32,FALSE),0)","v":17},{"$f":"IFERROR(VLOOKUP($A105,Filtro!$A$4:$AX$552,33,FALSE),0)","v":4},{"$f":"IFERROR(VLOOKUP($A105,Filtro!$A$4:$AX$552,34,FALSE),0)","v":4},{"$f":"IFERROR(VLOOKUP($A105,Filtro!$A$4:$AX$552,35,FALSE),0)","v":2},{"$f":"IFERROR(VLOOKUP($A105,Filtro!$A$4:$AX$552,36,FALSE),0)","v":2},{"$f":"IFERROR(VLOOKUP($A105,Filtro!$A$4:$AX$552,37,FALSE),0)","v":3},{"$f":"IFERROR(VLOOKUP($A105,Filtro!$A$4:$AX$552,38,FALSE),0)","v":7},{"$f":"IFERROR(VLOOKUP($A105,Filtro!$A$4:$AX$552,39,FALSE),0)","v":0},{"$f":"IFERROR(VLOOKUP($A105,Filtro!$A$4:$AX$552,40,FALSE),0)","v":5},{"$f":"IFERROR(VLOOKUP($A105,Filtro!$A$4:$AX$552,41,FALSE),0)","v":0},{"$f":"IFERROR(VLOOKUP($A105,Filtro!$A$4:$AX$552,42,FALSE),0)","v":0},{"$f":"IFERROR(VLOOKUP($A105,Filtro!$A$4:$AX$552,43,FALSE),0)","v":0},{"$f":"IFERROR(VLOOKUP($A105,Filtro!$A$4:$AX$552,44,FALSE),0)","v":0},{"$f":"IFERROR(VLOOKUP($A105,Filtro!$A$4:$AX$552,45,FALSE),0)","v":12},{"$f":"IFERROR(VLOOKUP($A105,Filtro!$A$4:$AX$552,46,FALSE),0)","v":60}]
[null,"SECCION B.2: PROGRAMA DE REHABILITACIÓN EN ESPECIALIDAD (PERSONAS CON TRANSTORNOS PSIQUIÁTRICO)"]
[null,"TIPO","RUBRO","T O T A L",null,null,"GRUPO DE EDAD (en años)"]
[{"$nulls":6},"0 a 4 años",null,"5 a 9 años",null,"10 a 14 años",null,"15 a 19 años",null,"20 a 24 años",null,"25 a 29 años",null,"30 a 34 años",null,"35 a 39 años",null,"40 a 44 años",null,"45 a 49 años",null,"50 a 54 años",null,"55 a 59 años",null,"60 a 64 años",null,"65 a 69 años",null,"70 a 74 años",null,"75 a 79 años",null,"80 y más años"]
[{"$nulls":3},"Ambos\nsexos","Hombres","Mujeres","Hombres","Mujeres","Hombres","Mujeres","Hombres","Mujeres","Hombres","Mujeres","Hombres","Mujeres","Hombres","Mujeres","Hombres","Mujeres","Hombres","Mujeres","Hombres","Mujeres","Hombres","Mujeres","Hombres","Mujeres","Hombres","Mujeres","Hombres","Mujeres","Hombres","Mujeres","Hombres","Mujeres","Hombres","Mujeres","Hombres","Mujeres"]
["P6223390","PROGRAMA DE REHABILITACIÓN TIPO I","NÚMERO DE PERSONAS EN CONTROL EN EL PROGRAMA",{"$f":"IFERROR(VLOOKUP($A110,Filtro!$A$4:$AX$552,2,FALSE),0)","v":0},{"$f":"IFERROR(VLOOKUP($A110,Filtro!$A$4:$AX$552,3,FALSE),0)","v":0},{"$f":"IFERROR(VLOOKUP($A110,Filtro!$A$4:$AX$552,4,FALSE),0)","v":0},{"$f":"IFERROR(VLOOKUP($A110,Filtro!$A$4:$AX$552,5,FALSE),0)","v":0},{"$f":"IFERROR(VLOOKUP($A110,Filtro!$A$4:$AX$552,6,FALSE),0)","v":0},{"$f":"IFERROR(VLOOKUP($A110,Filtro!$A$4:$AX$552,7,FALSE),0)","v":0},{"$f":"IFERROR(VLOOKUP($A110,Filtro!$A$4:$AX$552,8,FALSE),0)","v":0},{"$f":"IFERROR(VLOOKUP($A110,Filtro!$A$4:$AX$552,9,FALSE),0)","v":0},{"$f":"IFERROR(VLOOKUP($A110,Filtro!$A$4:$AX$552,10,FALSE),0)","v":0},{"$f":"IFERROR(VLOOKUP($A110,Filtro!$A$4:$AX$552,11,FALSE),0)","v":0},{"$f":"IFERROR(VLOOKUP($A110,Filtro!$A$4:$AX$552,12,FALSE),0)","v":0},{"$f":"IFERROR(VLOOKUP($A110,Filtro!$A$4:$AX$552,13,FALSE),0)","v":0},{"$f":"IFERROR(VLOOKUP($A110,Filtro!$A$4:$AX$552,14,FALSE),0)","v":0},{"$f":"IFERROR(VLOOKUP($A110,Filtro!$A$4:$AX$552,15,FALSE),0)","v":0},{"$f":"IFERROR(VLOOKUP($A110,Filtro!$A$4:$AX$552,16,FALSE),0)","v":0},{"$f":"IFERROR(VLOOKUP($A110,Filtro!$A$4:$AX$552,17,FALSE),0)","v":0},{"$f":"IFERROR(VLOOKUP($A110,Filtro!$A$4:$AX$552,18,FALSE),0)","v":0},{"$f":"IFERROR(VLOOKUP($A110,Filtro!$A$4:$AX$552,19,FALSE),0)","v":0},{"$f":"IFERROR(VLOOKUP($A110,Filtro!$A$4:$AX$552,20,FALSE),0)","v":0},{"$f":"IFERROR(VLOOKUP($A110,Filtro!$A$4:$AX$552,21,FALSE),0)","v":0},{"$f":"IFERROR(VLOOKUP($A110,Filtro!$A$4:$AX$552,22,FALSE),0)","v":0},{"$f":"IFERROR(VLOOKUP($A110,Filtro!$A$4:$AX$552,23,FALSE),0)","v":0},{"$f":"IFERROR(VLOOKUP($A110,Filtro!$A$4:$AX$552,24,FALSE),0)","v":0},{"$f":"IFERROR(VLOOKUP($A110,Filtro!$A$4:$AX$552,25,FALSE),0)","v":0},{"$f":"IFERROR(VLOOKUP($A110,Filtro!$A$4:$AX$552,26,FALSE),0)","v":0},{"$f":"IFERROR(VLOOKUP($A110,Filtro!$A$4:$AX$552,27,FALSE),0)","v":0},{"$f":"IFERROR(VLOOKUP($A110,Filtro!$A$4:$AX$552,28,FALSE),0)","v":0},{"$f":"IFERROR(VLOOKUP($A110,Filtro!$A$4:$AX$552,29,FALSE),0)","v":0},{"$f":"IFERROR(VLOOKUP($A110,Filtro!$A$4:$AX$552,30,FALSE),0)","v":0},{"$f":"IFERROR(VLOOKUP($A110,Filtro!$A$4:$AX$552,31,FALSE),0)","v":0},{"$f":"IFERROR(VLOOKUP($A110,Filtro!$A$4:$AX$552,32,FALSE),0)","v":0},{"$f":"IFERROR(VLOOKUP($A110,Filtro!$A$4:$AX$552,33,FALSE),0)","v":0},{"$f":"IFERROR(VLOOKUP($A110,Filtro!$A$4:$AX$552,34,FALSE),0)","v":0},{"$f":"IFERROR(VLOOKUP($A110,Filtro!$A$4:$AX$552,35,FALSE),0)","v":0},{"$f":"IFERROR(VLOOKUP($A110,Filtro!$A$4:$AX$552,36,FALSE),0)","v":0},{"$f":"IFERROR(VLOOKUP($A110,Filtro!$A$4:$AX$552,37,FALSE),0)","v":0},{"$f":"IFERROR(VLOOKUP($A110,Filtro!$A$4:$AX$552,38,FALSE),0)","v":0}]
["P6223400","PROGRAMA DE REHABILITACIÓN TIPO II","NÚMERO DE PERSONAS EN CONTROL EN EL PROGRAMA",{"$f":"IFERROR(VLOOKUP($A111,Filtro!$A$4:$AX$552,2,FALSE),0)","v":0},{"$f":"IFERROR(VLOOKUP($A111,Filtro!$A$4:$AX$552,3,FALSE),0)","v":0},{"$f":"IFERROR(VLOOKUP($A111,Filtro!$A$4:$AX$552,4,FALSE),0)","v":0},{"$f":"IFERROR(VLOOKUP($A111,Filtro!$A$4:$AX$552,5,FALSE),0)","v":0},{"$f":"IFERROR(VLOOKUP($A111,Filtro!$A$4:$AX$552,6,FALSE),0)","v":0},{"$f":"IFERROR(VLOOKUP($A111,Filtro!$A$4:$AX$552,7,FALSE),0)","v":0},{"$f":"IFERROR(VLOOKUP($A111,Filtro!$A$4:$AX$552,8,FALSE),0)","v":0},{"$f":"IFERROR(VLOOKUP($A111,Filtro!$A$4:$AX$552,9,FALSE),0)","v":0},{"$f":"IFERROR(VLOOKUP($A111,Filtro!$A$4:$AX$552,10,FALSE),0)","v":0},{"$f":"IFERROR(VLOOKUP($A111,Filtro!$A$4:$AX$552,11,FALSE),0)","v":0},{"$f":"IFERROR(VLOOKUP($A111,Filtro!$A$4:$AX$552,12,FALSE),0)","v":0},{"$f":"IFERROR(VLOOKUP($A111,Filtro!$A$4:$AX$552,13,FALSE),0)","v":0},{"$f":"IFERROR(VLOOKUP($A111,Filtro!$A$4:$AX$552,14,FALSE),0)","v":0},{"$f":"IFERROR(VLOOKUP($A111,Filtro!$A$4:$AX$552,15,FALSE),0)","v":0},{"$f":"IFERROR(VLOOKUP($A111,Filtro!$A$4:$AX$552,16,FALSE),0)","v":0},{"$f":"IFERROR(VLOOKUP($A111,Filtro!$A$4:$AX$552,17,FALSE),0)","v":0},{"$f":"IFERROR(VLOOKUP($A111,Filtro!$A$4:$AX$552,18,FALSE),0)","v":0},{"$f":"IFERROR(VLOOKUP($A111,Filtro!$A$4:$AX$552,19,FALSE),0)","v":0},{"$f":"IFERROR(VLOOKUP($A111,Filtro!$A$4:$AX$552,20,FALSE),0)","v":0},{"$f":"IFERROR(VLOOKUP($A111,Filtro!$A$4:$AX$552,21,FALSE),0)","v":0},{"$f":"IFERROR(VLOOKUP($A111,Filtro!$A$4:$AX$552,22,FALSE),0)","v":0},{"$f":"IFERROR(VLOOKUP($A111,Filtro!$A$4:$AX$552,23,FALSE),0)","v":0},{"$f":"IFERROR(VLOOKUP($A111,Filtro!$A$4:$AX$552,24,FALSE),0)","v":0},{"$f":"IFERROR(VLOOKUP($A111,Filtro!$A$4:$AX$552,25,FALSE),0)","v":0},{"$f":"IFERROR(VLOOKUP($A111,Filtro!$A$4:$AX$552,26,FALSE),0)","v":0},{"$f":"IFERROR(VLOOKUP($A111,Filtro!$A$4:$AX$552,27,FALSE),0)","v":0},{"$f":"IFERROR(VLOOKUP($A111,Filtro!$A$4:$AX$552,28,FALSE),0)","v":0},{"$f":"IFERROR(VLOOKUP($A111,Filtro!$A$4:$AX$552,29,FALSE),0)","v":0},{"$f":"IFERROR(VLOOKUP($A111,Filtro!$A$4:$AX$552,30,FALSE),0)","v":0},{"$f":"IFERROR(VLOOKUP($A111,Filtro!$A$4:$AX$552,31,FALSE),0)","v":0},{"$f":"IFERROR(VLOOKUP($A111,Filtro!$A$4:$AX$552,32,FALSE),0)","v":0},{"$f":"IFERROR(VLOOKUP($A111,Filtro!$A$4:$AX$552,33,FALSE),0)","v":0},{"$f":"IFERROR(VLOOKUP($A111,Filtro!$A$4:$AX$552,34,FALSE),0)","v":0},{"$f":"IFERROR(VLOOKUP($A111,Filtro!$A$4:$AX$552,35,FALSE),0)","v":0},{"$f":"IFERROR(VLOOKUP($A111,Filtro!$A$4:$AX$552,36,FALSE),0)","v":0},{"$f":"IFERROR(VLOOKUP($A111,Filtro!$A$4:$AX$552,37,FALSE),0)","v":0},{"$f":"IFERROR(VLOOKUP($A111,Filtro!$A$4:$AX$552,38,FALSE),0)","v":0}]
[]
[]
["CODIGO ELIMINADO"]
["P6222200"]
["P6223300"]
["CODIGOS NUEVOS"]
["P6230600"]
["P6230700"]
["P6230800"]
["P6230900"]
["P6231000"]
["P6231100"]
["P6231200"]
["P6231300"]
["P6231400"]
["P6231500"]
["P6231600"]
["P6231700"]
["P6231800"]
["P6231900"]
["P6232000"]
["P6232100"]
["P6232200"]
["P6232300"]
["P6232400"]
["P6232500"]
["P6232600"]
["P6232700"]
[]
[null,{"$f":"SUM(B13:AT111)","v":310640},"datos"]
[null,{"$f":"SUM(BZ10:CQ103)","v":0},"errores"]

{"sheet":"P9","index":8,"n_rows":102,"n_cols":52,"rows_kept":102,"merged":[[6,3,6,17],[9,1,10,2],[9,3,9,5],[9,6,9,8],[9,9,9,11],[9,12,9,14],[9,15,9,17],[11,1,11,2],[12,1,19,1],[20,1,26,1],[27,1,30,1],[31,1,39,1],[41,1,44,2],[41,3,43,5],[41,6,43,8],[41,9,43,11],[41,12,43,14],[41,15,43,17],[45,1,45,2],[46,1,46,2],[47,1,47,2],[48,1,48,2],[49,1,49,2],[50,1,50,2],[52,1,55,2],[52,3,54,5],[52,6,54,8],[52,9,54,11],[52,12,54,14],[52,15,54,17],[56,1,56,2],[57,1,57,2],[58,1,58,2],[59,1,59,2],[60,1,60,2],[61,1,61,2],[63,1,66,2],[63,3,65,5],[63,6,65,8],[63,9,65,11],[63,12,65,14],[63,15,65,17],[67,1,67,2],[68,1,68,2],[69,1,69,2],[70,1,70,2],[71,1,71,2],[72,1,72,2],[73,1,73,2],[74,1,74,2],[75,1,75,2],[76,1,76,2],[78,1,80,1],[78,2,80,2],[78,3,79,5],[78,6,79,8],[78,9,79,11],[78,12,79,14],[81,1,82,1],[83,1,84,1],[85,1,86,1],[87,1,88,1],[89,1,90,1],[91,1,92,1],[93,1,94,1]]}
[]
[]
[]
[]
[]
[]
[{"$nulls":3},"REM-P9. POBLACIÓN EN CONTROL DEL ADOLESCENTE",{"$nulls":14},{"$f":"AL7 & AM7 & AN7 & AO7 & AL6 & AM6 & AN6 & AO6","v":""}]
[]
[null,"SECCION A: POBLACIÓN EN CONTROL DE SALUD INTEGRAL DE ADOLESCENTES, SEGÚN ESTADO NUTRICIONAL"]
[null,"INDICADOR NUTRICIONAL\nY\nPARÁMETROS DE MEDICIÓN",null,"TOTAL",null,null,"Adolescentes 10 a 14 años",null,null,"Adolescentes 15 a 19 años",null,null,"Adolescentes de Pueblos Originarios",null,null,"Adolescentes Migrantes"]
[{"$nulls":3},"Ambos\nsexos","Hombres","Mujeres","Ambos\nsexos","Hombres","Mujeres","Ambos\nsexos","Hombres","Mujeres","Ambos\nsexos","Hombres","Mujeres","Ambos\nsexos","Hombres","Mujeres",{"$nulls":19},{"$f":"IF(G12=G40,\"\",\"* El Total de 'Adolescentes de 10 a 14 años' en control debe ser igual al Total del 'Diagnóstico Nutricional Integrado' (F40). \")","v":"* El Total de 'Adolescentes de 10 a 14 años' en control debe ser igual al Total del 'Diagnóstico Nutricional Integrado' (F40). "},{"$f":"IF(J12=J40,\"\",\"* El Total de 'Adolescentes de 15 a 19 años' en control debe ser igual al Total del 'Diagnóstico Nutricional Integrado' (I40). \")","v":"* El Total de 'Adolescentes de 15 a 19 años' en control debe ser igual al Total del 'Diagnóstico Nutricional Integrado' (I40). "},{"$f":"IF(M12=M40,\"\",\"* El Total de 'Adolescentes de Pueblos Originarios' en control debe ser igual al Total del 'Diagnóstico Nutricional Integrado' (L40). \")","v":""},{"$f":"IF(P12<=P40,\"\",\"* El Total de 'Adolescentes Migrantes' en control (O12) debe ser menor o igual al Total del 'Diagnóstico Nutricional Integrado' (040). \")","v":""},{"$nulls":7},{"$f":"IF(G12=G40,0,1)","v":1},{"$f":"IF(J12=J40,0,1)","v":1},{"$f":"IF(M12=M40,0,1)","v":0},{"$f":"IF(P12=P40,0,1)","v":0}]
["P9100100","TOTAL ADOLESCENTES EN CONTROL",null,{"$f":"IFERROR(VLOOKUP($A12,Filtro!$A$4:$AX$552,2,FALSE),0)","v":9172},{"$f":"IFERROR(VLOOKUP($A12,Filtro!$A$4:$AX$552,3,FALSE),0)","v":3987},{"$f":"IFERROR(VLOOKUP($A12,Filtro!$A$4:$AX$552,4,FALSE),0)","v":5185},{"$f":"IFERROR(VLOOKUP($A12,Filtro!$A$4:$AX$552,5,FALSE),0)","v":4913},{"$f":"IFERROR(VLOOKUP($A12,Filtro!$A$4:$AX$552,6,FALSE),0)","v":2301},{"$f":"IFERROR(VLOOKUP($A12,Filtro!$A$4:$AX$552,7,FALSE),0)","v":2612},{"$f":"IFERROR(VLOOKUP($A12,Filtro!$A$4:$AX$552,8,FALSE),0)","v":4259},{"$f":"IFERROR(VLOOKUP($A12,Filtro!$A$4:$AX$552,9,FALSE),0)","v":1686},{"$f":"IFERROR(VLOOKUP($A12,Filtro!$A$4:$AX$552,10,FALSE),0)","v":2573},{"$f":"IFERROR(VLOOKUP($A12,Filtro!$A$4:$AX$552,11,FALSE),0)","v":426},{"$f":"IFERROR(VLOOKUP($A12,Filtro!$A$4:$AX$552,12,FALSE),0)","v":173},{"$f":"IFERROR(VLOOKUP($A12,Filtro!$A$4:$AX$552,13,FALSE),0)","v":253},{"$f":"IFERROR(VLOOKUP($A12,Filtro!$A$4:$AX$552,14,FALSE),0)","v":137},{"$f":"IFERROR(VLOOKUP($A12,Filtro!$A$4:$AX$552,15,FALSE),0)","v":57},{"$f":"IFERROR(VLOOKUP($A12,Filtro!$A$4:$AX$552,16,FALSE),0)","v":80},{"$nulls":19},{"$f":"IF($D12<$M12, \"* El Total de 'Adolescentes de Pueblos Originarios' debe ser menor o igual al Total Adolecentes 'Ambos sexos'. \", \"\")","v":""},{"$f":"IF($D12<$P12, \"* El total de 'Adolescentes de Migrantes' debe ser menor o igual al Total Adolecentes 'Ambos sexos'. \", \"\")","v":""},{"$f":"IF(AND(E12<>0,N12=\"\"),\"* No olvide escribir en la celda de 'Pueblos Originarios' (Digite CERO si no tiene). \",IF(AND(F12<>0,O12=\"\"),\"* No olvide escribir en la celda de 'Pueblos Originarios' (Digite CERO si no tiene). \",\"\"))","v":""},{"$f":"IF(AND(E12<>0,Q12=\"\"),\"* No olvide escribir en la celda de 'Población Migrantes' (Digite CERO si no tiene). \",IF(AND(F12<>0,R12=\"\"),\"* No olvide escribir en la celda de 'Población Migrantes' (Digite CERO si no tiene). \",\"\"))","v":""},{"$nulls":7},{"$f":"IF($D12<$M12, 1,0)","v":0},{"$f":"IF($D12<$P12, 1,0)","v":0},{"$f":"IF(AND(E12<>0,N12=\"\"),1,IF(AND(F12<>0,O12=\"\"),1,0))","v":0},{"$f":"IF(AND(E12<>0,Q12=\"\"),1,IF(AND(F12<>0,R12=\"\"),1,0))","v":0}]
["P9100110","INDICADOR IMC / EDAD",">+ 3 D.E. (Obesidad Severa)",{"$f":"IFERROR(VLOOKUP($A13,Filtro!$A$4:$AX$552,2,FALSE),0)","v":242},{"$f":"IFERROR(VLOOKUP($A13,Filtro!$A$4:$AX$552,3,FALSE),0)","v":109},{"$f":"IFERROR(VLOOKUP($A13,Filtro!$A$4:$AX$552,4,FALSE),0)","v":133},{"$f":"IFERROR(VLOOKUP($A13,Filtro!$A$4:$AX$552,5,FALSE),0)","v":136},{"$f":"IFERROR(VLOOKUP($A13,Filtro!$A$4:$AX$552,6,FALSE),0)","v":68},{"$f":"IFERROR(VLOOKUP($A13,Filtro!$A$4:$AX$552,7,FALSE),0)","v":68},{"$f":"IFERROR(VLOOKUP($A13,Filtro!$A$4:$AX$552,8,FALSE),0)","v":106},{"$f":"IFERROR(VLOOKUP($A13,Filtro!$A$4:$AX$552,9,FALSE),0)","v":41},{"$f":"IFERROR(VLOOKUP($A13,Filtro!$A$4:$AX$552,10,FALSE),0)","v":65},{"$f":"IFERROR(VLOOKUP($A13,Filtro!$A$4:$AX$552,11,FALSE),0)","v":16},{"$f":"IFERROR(VLOOKUP($A13,Filtro!$A$4:$AX$552,12,FALSE),0)","v":8},{"$f":"IFERROR(VLOOKUP($A13,Filtro!$A$4:$AX$552,13,FALSE),0)","v":8},{"$f":"IFERROR(VLOOKUP($A13,Filtro!$A$4:$AX$552,14,FALSE),0)","v":0},{"$f":"IFERROR(VLOOKUP($A13,Filtro!$A$4:$AX$552,15,FALSE),0)","v":0},{"$f":"IFERROR(VLOOKUP($A13,Filtro!$A$4:$AX$552,16,FALSE),0)","v":0},{"$nulls":19},{"$f":"IF($D13<$M13, \"* El Total de 'Adolescentes de Pueblos Originarios' debe ser menor o igual al Total Adolecentes 'Ambos sexos'. \", \"\")","v":""},{"$f":"IF($D13<$P13, \"* El total de 'Adolescentes de Migrantes' debe ser menor o igual al Total Adolecentes 'Ambos sexos'. \", \"\")","v":""},{"$f":"IF(AND(E13<>0,N13=\"\"),\"* No olvide escribir en la celda de 'Pueblos Originarios' (Digite CERO si no tiene). \",IF(AND(F13<>0,O13=\"\"),\"* No olvide escribir en la celda de 'Pueblos Originarios' (Digite CERO si no tiene). \",\"\"))","v":""},{"$f":"IF(AND(E13<>0,Q13=\"\"),\"* No olvide escribir en la celda de 'Población Migrantes' (Digite CERO si no tiene). \",IF(AND(F13<>0,R13=\"\"),\"* No olvide escribir en la celda de 'Población Migrantes' (Digite CERO si no tiene). \",\"\"))","v":""},{"$nulls":7},{"$f":"IF($D13<$M13, 1,0)","v":0},{"$f":"IF($D13<$P13, 1,0)","v":0},{"$f":"IF(AND(E13<>0,N13=\"\"),1,IF(AND(F13<>0,O13=\"\"),1,0))","v":0},{"$f":"IF(AND(E13<>0,Q13=\"\"),1,IF(AND(F13<>0,R13=\"\"),1,0))","v":0}]
["P9100120",null,"≥ +2.0 a+2,9 D.E. (Obesidad)",{"$f":"IFERROR(VLOOKUP($A14,Filtro!$A$4:$AX$552,2,FALSE),0)","v":1550},{"$f":"IFERROR(VLOOKUP($A14,Filtro!$A$4:$AX$552,3,FALSE),0)","v":725},{"$f":"IFERROR(VLOOKUP($A14,Filtro!$A$4:$AX$552,4,FALSE),0)","v":825},{"$f":"IFERROR(VLOOKUP($A14,Filtro!$A$4:$AX$552,5,FALSE),0)","v":988},{"$f":"IFERROR(VLOOKUP($A14,Filtro!$A$4:$AX$552,6,FALSE),0)","v":522},{"$f":"IFERROR(VLOOKUP($A14,Filtro!$A$4:$AX$552,7,FALSE),0)","v":466},{"$f":"IFERROR(VLOOKUP($A14,Filtro!$A$4:$AX$552,8,FALSE),0)","v":562},{"$f":"IFERROR(VLOOKUP($A14,Filtro!$A$4:$AX$552,9,FALSE),0)","v":203},{"$f":"IFERROR(VLOOKUP($A14,Filtro!$A$4:$AX$552,10,FALSE),0)","v":359},{"$f":"IFERROR(VLOOKUP($A14,Filtro!$A$4:$AX$552,11,FALSE),0)","v":68},{"$f":"IFERROR(VLOOKUP($A14,Filtro!$A$4:$AX$552,12,FALSE),0)","v":29},{"$f":"IFERROR(VLOOKUP($A14,Filtro!$A$4:$AX$552,13,FALSE),0)","v":39},{"$f":"IFERROR(VLOOKUP($A14,Filtro!$A$4:$AX$552,14,FALSE),0)","v":17},{"$f":"IFERROR(VLOOKUP($A14,Filtro!$A$4:$AX$552,15,FALSE),0)","v":3},{"$f":"IFERROR(VLOOKUP($A14,Filtro!$A$4:$AX$552,16,FALSE),0)","v":14},{"$nulls":19},{"$f":"IF($D14<$M14, \"* El Total de 'Adolescentes de Pueblos Originarios' debe ser menor o igual al Total Adolecentes 'Ambos sexos'. \", \"\")","v":""},{"$f":"IF($D14<$P14, \"* El total de 'Adolescentes de Migrantes' debe ser menor o igual al Total Adolecentes 'Ambos sexos'. \", \"\")","v":""},"","",{"$nulls":7},0,0,0,0]
["P9100130",null,"≥ +1.0 a+1,9 D.E.(Sobrepeso) ",{"$f":"IFERROR(VLOOKUP($A15,Filtro!$A$4:$AX$552,2,FALSE),0)","v":2439},{"$f":"IFERROR(VLOOKUP($A15,Filtro!$A$4:$AX$552,3,FALSE),0)","v":990},{"$f":"IFERROR(VLOOKUP($A15,Filtro!$A$4:$AX$552,4,FALSE),0)","v":1449},{"$f":"IFERROR(VLOOKUP($A15,Filtro!$A$4:$AX$552,5,FALSE),0)","v":1407},{"$f":"IFERROR(VLOOKUP($A15,Filtro!$A$4:$AX$552,6,FALSE),0)","v":640},{"$f":"IFERROR(VLOOKUP($A15,Filtro!$A$4:$AX$552,7,FALSE),0)","v":767},{"$f":"IFERROR(VLOOKUP($A15,Filtro!$A$4:$AX$552,8,FALSE),0)","v":1032},{"$f":"IFERROR(VLOOKUP($A15,Filtro!$A$4:$AX$552,9,FALSE),0)","v":350},{"$f":"IFERROR(VLOOKUP($A15,Filtro!$A$4:$AX$552,10,FALSE),0)","v":682},{"$f":"IFERROR(VLOOKUP($A15,Filtro!$A$4:$AX$552,11,FALSE),0)","v":118},{"$f":"IFERROR(VLOOKUP($A15,Filtro!$A$4:$AX$552,12,FALSE),0)","v":46},{"$f":"IFERROR(VLOOKUP($A15,Filtro!$A$4:$AX$552,13,FALSE),0)","v":72},{"$f":"IFERROR(VLOOKUP($A15,Filtro!$A$4:$AX$552,14,FALSE),0)","v":24},{"$f":"IFERROR(VLOOKUP($A15,Filtro!$A$4:$AX$552,15,FALSE),0)","v":7},{"$f":"IFERROR(VLOOKUP($A15,Filtro!$A$4:$AX$552,16,FALSE),0)","v":17},{"$nulls":19},{"$f":"IF($D15<$M15, \"* El Total de 'Adolescentes de Pueblos Originarios' debe ser menor o igual al Total Adolecentes 'Ambos sexos'. \", \"\")","v":""},{"$f":"IF($D15<$P15, \"* El total de 'Adolescentes de Migrantes' debe ser menor o igual al Total Adolecentes 'Ambos sexos'. \", \"\")","v":""},"","",{"$nulls":7},0,0,0,0]
[null,null,"SUBTOTAL",{"$f":"SUM(E16:F16)","v":4231},{"$f":"+H16+K16","v":1824},{"$f":"+I16+L16","v":2407},{"$f":"SUM(G13:G15)","v":2531},{"$f":"SUM(H13:H15)","v":1230},{"$f":"SUM(I13:I15)","v":1301},1700,594,1106,{"$f":"SUM(M13:M15)","v":202},83,119,41,10,31]
["P9100140",null,"≤ -1.0 a-1,9 D.E.(Bajo peso)",{"$f":"IFERROR(VLOOKUP($A17,Filtro!$A$4:$AX$552,2,FALSE),0)","v":384},{"$f":"IFERROR(VLOOKUP($A17,Filtro!$A$4:$AX$552,3,FALSE),0)","v":223},{"$f":"IFERROR(VLOOKUP($A17,Filtro!$A$4:$AX$552,4,FALSE),0)","v":161},{"$f":"IFERROR(VLOOKUP($A17,Filtro!$A$4:$AX$552,5,FALSE),0)","v":180},{"$f":"IFERROR(VLOOKUP($A17,Filtro!$A$4:$AX$552,6,FALSE),0)","v":101},{"$f":"IFERROR(VLOOKUP($A17,Filtro!$A$4:$AX$552,7,FALSE),0)","v":79},{"$f":"IFERROR(VLOOKUP($A17,Filtro!$A$4:$AX$552,8,FALSE),0)","v":204},{"$f":"IFERROR(VLOOKUP($A17,Filtro!$A$4:$AX$552,9,FALSE),0)","v":122},{"$f":"IFERROR(VLOOKUP($A17,Filtro!$A$4:$AX$552,10,FALSE),0)","v":82},{"$f":"IFERROR(VLOOKUP($A17,Filtro!$A$4:$AX$552,11,FALSE),0)","v":27},{"$f":"IFERROR(VLOOKUP($A17,Filtro!$A$4:$AX$552,12,FALSE),0)","v":13},{"$f":"IFERROR(VLOOKUP($A17,Filtro!$A$4:$AX$552,13,FALSE),0)","v":14},{"$f":"IFERROR(VLOOKUP($A17,Filtro!$A$4:$AX$552,14,FALSE),0)","v":12},{"$f":"IFERROR(VLOOKUP($A17,Filtro!$A$4:$AX$552,15,FALSE),0)","v":7},{"$f":"IFERROR(VLOOKUP($A17,Filtro!$A$4:$AX$552,16,FALSE),0)","v":5},{"$f":"AL17 & AM17 & AN17 & AO17","v":""},{"$nulls":18},{"$f":"IF($D17<$M17, \"* El Total de 'Adolescentes de Pueblos Originarios' debe ser menor o igual al Total Adolecentes 'Ambos sexos'. \", \"\")","v":""},{"$f":"IF($D17<$P17, \"* El total de 'Adolescentes de Migrantes' debe ser menor o igual al Total Adolecentes 'Ambos sexos'. \", \"\")","v":""},{"$f":"IF(AND(E17<>0,N17=\"\"),\"* No olvide escribir en la celda de 'Pueblos Originarios' (Digite CERO si no tiene). \",IF(AND(F17<>0,O17=\"\"),\"* No olvide escribir en la celda de 'Pueblos Originarios' (Digite CERO si no tiene). \",\"\"))","v":""},{"$f":"IF(AND(E17<>0,Q17=\"\"),\"* No olvide escribir en la celda de 'Población Migrantes' (Digite CERO si no tiene). \",IF(AND(F17<>0,R17=\"\"),\"* No olvide escribir en la celda de 'Población Migrantes' (Digite CERO si no tiene). \",\"\"))","v":""},{"$nulls":7},0,0,{"$f":"IF(AND(E17<>0,N17=\"\"),1,IF(AND(F17<>0,O17=\"\"),1,0))","v":0},{"$f":"IF(AND(E17<>0,Q17=\"\"),1,IF(AND(F17<>0,R17=\"\"),1,0))","v":0}]
["P9100150",null,"≤ -2.0 D.E. (Desnutrición)",{"$f":"IFERROR(VLOOKUP($A18,Filtro!$A$4:$AX$552,2,FALSE),0)","v":34},{"$f":"IFERROR(VLOOKUP($A18,Filtro!$A$4:$AX$552,3,FALSE),0)","v":23},{"$f":"IFERROR(VLOOKUP($A18,Filtro!$A$4:$AX$552,4,FALSE),0)","v":11},{"$f":"IFERROR(VLOOKUP($A18,Filtro!$A$4:$AX$552,5,FALSE),0)","v":15},{"$f":"IFERROR(VLOOKUP($A18,Filtro!$A$4:$AX$552,6,FALSE),0)","v":8},{"$f":"IFERROR(VLOOKUP($A18,Filtro!$A$4:$AX$552,7,FALSE),0)","v":7},{"$f":"IFERROR(VLOOKUP($A18,Filtro!$A$4:$AX$552,8,FALSE),0)","v":19},{"$f":"IFERROR(VLOOKUP($A18,Filtro!$A$4:$AX$552,9,FALSE),0)","v":15},{"$f":"IFERROR(VLOOKUP($A18,Filtro!$A$4:$AX$552,10,FALSE),0)","v":4},{"$f":"IFERROR(VLOOKUP($A18,Filtro!$A$4:$AX$552,11,FALSE),0)","v":1},{"$f":"IFERROR(VLOOKUP($A18,Filtro!$A$4:$AX$552,12,FALSE),0)","v":1},{"$f":"IFERROR(VLOOKUP($A18,Filtro!$A$4:$AX$552,13,FALSE),0)","v":0},{"$f":"IFERROR(VLOOKUP($A18,Filtro!$A$4:$AX$552,14,FALSE),0)","v":3},{"$f":"IFERROR(VLOOKUP($A18,Filtro!$A$4:$AX$552,15,FALSE),0)","v":1},{"$f":"IFERROR(VLOOKUP($A18,Filtro!$A$4:$AX$552,16,FALSE),0)","v":2},"",{"$nulls":18},"","","","",{"$nulls":7},0,0,0,0]
[null,null,"SUBTOTAL",{"$f":"SUM(D17:D18)","v":418},{"$f":"SUM(E17:E18)","v":246},{"$f":"SUM(F17:F18)","v":172},{"$f":"SUM(G17:G18)","v":195},109,86,223,137,86,{"$f":"SUM(M17:M18)","v":28},14,14,15,8,7]
["P9100160",null," -0.9 a+ 0.9 D.E. (Peso Normal)",{"$f":"IFERROR(VLOOKUP($A20,Filtro!$A$4:$AX$552,2,FALSE),0)","v":3710},{"$f":"IFERROR(VLOOKUP($A20,Filtro!$A$4:$AX$552,3,FALSE),0)","v":1657},{"$f":"IFERROR(VLOOKUP($A20,Filtro!$A$4:$AX$552,4,FALSE),0)","v":2053},{"$f":"IFERROR(VLOOKUP($A20,Filtro!$A$4:$AX$552,5,FALSE),0)","v":2043},{"$f":"IFERROR(VLOOKUP($A20,Filtro!$A$4:$AX$552,6,FALSE),0)","v":926},{"$f":"IFERROR(VLOOKUP($A20,Filtro!$A$4:$AX$552,7,FALSE),0)","v":1117},{"$f":"IFERROR(VLOOKUP($A20,Filtro!$A$4:$AX$552,8,FALSE),0)","v":1667},{"$f":"IFERROR(VLOOKUP($A20,Filtro!$A$4:$AX$552,9,FALSE),0)","v":731},{"$f":"IFERROR(VLOOKUP($A20,Filtro!$A$4:$AX$552,10,FALSE),0)","v":936},{"$f":"IFERROR(VLOOKUP($A20,Filtro!$A$4:$AX$552,11,FALSE),0)","v":172},{"$f":"IFERROR(VLOOKUP($A20,Filtro!$A$4:$AX$552,12,FALSE),0)","v":68},{"$f":"IFERROR(VLOOKUP($A20,Filtro!$A$4:$AX$552,13,FALSE),0)","v":104},{"$f":"IFERROR(VLOOKUP($A20,Filtro!$A$4:$AX$552,14,FALSE),0)","v":79},{"$f":"IFERROR(VLOOKUP($A20,Filtro!$A$4:$AX$552,15,FALSE),0)","v":39},{"$f":"IFERROR(VLOOKUP($A20,Filtro!$A$4:$AX$552,16,FALSE),0)","v":40},{"$f":"AL20 & AM20 & AN20 & AO20","v":""},{"$nulls":18},{"$f":"IF($D20<$M20, \"* El Total de 'Adolescentes de Pueblos Originarios' debe ser menor o igual al Total Adolecentes 'Ambos sexos'. \", \"\")","v":""},{"$f":"IF($D20<$P20, \"* El total de 'Adolescentes de Migrantes' debe ser menor o igual al Total Adolecentes 'Ambos sexos'. \", \"\")","v":""},{"$f":"IF(AND(E20<>0,N20=\"\"),\"* No olvide escribir en la celda de 'Pueblos Originarios' (Digite CERO si no tiene). \",IF(AND(F20<>0,O20=\"\"),\"* No olvide escribir en la celda de 'Pueblos Originarios' (Digite CERO si no tiene). \",\"\"))","v":""},{"$f":"IF(AND(E20<>0,Q20=\"\"),\"* No olvide escribir en la celda de 'Población Migrantes' (Digite CERO si no tiene). \",IF(AND(F20<>0,R20=\"\"),\"* No olvide escribir en la celda de 'Población Migrantes' (Digite CERO si no tiene). \",\"\"))","v":""},{"$nulls":7},0,0,{"$f":"IF(AND(E20<>0,N20=\"\"),1,IF(AND(F20<>0,O20=\"\"),1,0))","v":0},{"$f":"IF(AND(E20<>0,Q20=\"\"),1,IF(AND(F20<>0,R20=\"\"),1,0))","v":0}]
["P9100170","INDICADOR TALLA/EDAD","≥+ 2.0 D.E.(Talla Alta)",{"$f":"IFERROR(VLOOKUP($A21,Filtro!$A$4:$AX$552,2,FALSE),0)","v":167},{"$f":"IFERROR(VLOOKUP($A21,Filtro!$A$4:$AX$552,3,FALSE),0)","v":87},{"$f":"IFERROR(VLOOKUP($A21,Filtro!$A$4:$AX$552,4,FALSE),0)","v":80},{"$f":"IFERROR(VLOOKUP($A21,Filtro!$A$4:$AX$552,5,FALSE),0)","v":151},{"$f":"IFERROR(VLOOKUP($A21,Filtro!$A$4:$AX$552,6,FALSE),0)","v":76},{"$f":"IFERROR(VLOOKUP($A21,Filtro!$A$4:$AX$552,7,FALSE),0)","v":75},{"$f":"IFERROR(VLOOKUP($A21,Filtro!$A$4:$AX$552,8,FALSE),0)","v":16},{"$f":"IFERROR(VLOOKUP($A21,Filtro!$A$4:$AX$552,9,FALSE),0)","v":11},{"$f":"IFERROR(VLOOKUP($A21,Filtro!$A$4:$AX$552,10,FALSE),0)","v":5},{"$f":"IFERROR(VLOOKUP($A21,Filtro!$A$4:$AX$552,11,FALSE),0)","v":9},{"$f":"IFERROR(VLOOKUP($A21,Filtro!$A$4:$AX$552,12,FALSE),0)","v":5},{"$f":"IFERROR(VLOOKUP($A21,Filtro!$A$4:$AX$552,13,FALSE),0)","v":4},{"$f":"IFERROR(VLOOKUP($A21,Filtro!$A$4:$AX$552,14,FALSE),0)","v":3},{"$f":"IFERROR(VLOOKUP($A21,Filtro!$A$4:$AX$552,15,FALSE),0)","v":2},{"$f":"IFERROR(VLOOKUP($A21,Filtro!$A$4:$AX$552,16,FALSE),0)","v":1},"",{"$nulls":18},"","","","",{"$nulls":7},0,0,0,0]
["P9100180",null,"+ 1.0 a+ 1.9 D.E. (Talla Normal Alta)",{"$f":"IFERROR(VLOOKUP($A22,Filtro!$A$4:$AX$552,2,FALSE),0)","v":746},{"$f":"IFERROR(VLOOKUP($A22,Filtro!$A$4:$AX$552,3,FALSE),0)","v":427},{"$f":"IFERROR(VLOOKUP($A22,Filtro!$A$4:$AX$552,4,FALSE),0)","v":319},{"$f":"IFERROR(VLOOKUP($A22,Filtro!$A$4:$AX$552,5,FALSE),0)","v":594},{"$f":"IFERROR(VLOOKUP($A22,Filtro!$A$4:$AX$552,6,FALSE),0)","v":334},{"$f":"IFERROR(VLOOKUP($A22,Filtro!$A$4:$AX$552,7,FALSE),0)","v":260},{"$f":"IFERROR(VLOOKUP($A22,Filtro!$A$4:$AX$552,8,FALSE),0)","v":152},{"$f":"IFERROR(VLOOKUP($A22,Filtro!$A$4:$AX$552,9,FALSE),0)","v":93},{"$f":"IFERROR(VLOOKUP($A22,Filtro!$A$4:$AX$552,10,FALSE),0)","v":59},{"$f":"IFERROR(VLOOKUP($A22,Filtro!$A$4:$AX$552,11,FALSE),0)","v":36},{"$f":"IFERROR(VLOOKUP($A22,Filtro!$A$4:$AX$552,12,FALSE),0)","v":20},{"$f":"IFERROR(VLOOKUP($A22,Filtro!$A$4:$AX$552,13,FALSE),0)","v":16},{"$f":"IFERROR(VLOOKUP($A22,Filtro!$A$4:$AX$552,14,FALSE),0)","v":9},{"$f":"IFERROR(VLOOKUP($A22,Filtro!$A$4:$AX$552,15,FALSE),0)","v":4},{"$f":"IFERROR(VLOOKUP($A22,Filtro!$A$4:$AX$552,16,FALSE),0)","v":5},"",{"$nulls":18},"","","","",{"$nulls":7},0,0,0,0]
[null,null,"SUBTOTAL",913,{"$f":"+H23+K23","v":514},399,{"$f":"SUM(G21:G22)","v":745},{"$f":"SUM(H21:H22)","v":410},{"$f":"SUM(I21:I22)","v":335},{"$f":"SUM(J21:J22)","v":168},104,64,{"$f":"SUM(M21:M22)","v":45},25,20,{"$f":"SUM(P21:P22)","v":12},6,6]
["P9100190",null,"- 1.0 a -1.9 D.E. (Talla Normal Baja)",{"$f":"IFERROR(VLOOKUP($A24,Filtro!$A$4:$AX$552,2,FALSE),0)","v":1267},{"$f":"IFERROR(VLOOKUP($A24,Filtro!$A$4:$AX$552,3,FALSE),0)","v":460},{"$f":"IFERROR(VLOOKUP($A24,Filtro!$A$4:$AX$552,4,FALSE),0)","v":807},{"$f":"IFERROR(VLOOKUP($A24,Filtro!$A$4:$AX$552,5,FALSE),0)","v":480},{"$f":"IFERROR(VLOOKUP($A24,Filtro!$A$4:$AX$552,6,FALSE),0)","v":209},{"$f":"IFERROR(VLOOKUP($A24,Filtro!$A$4:$AX$552,7,FALSE),0)","v":271},{"$f":"IFERROR(VLOOKUP($A24,Filtro!$A$4:$AX$552,8,FALSE),0)","v":787},{"$f":"IFERROR(VLOOKUP($A24,Filtro!$A$4:$AX$552,9,FALSE),0)","v":251},{"$f":"IFERROR(VLOOKUP($A24,Filtro!$A$4:$AX$552,10,FALSE),0)","v":536},{"$f":"IFERROR(VLOOKUP($A24,Filtro!$A$4:$AX$552,11,FALSE),0)","v":89},{"$f":"IFERROR(VLOOKUP($A24,Filtro!$A$4:$AX$552,12,FALSE),0)","v":29},{"$f":"IFERROR(VLOOKUP($A24,Filtro!$A$4:$AX$552,13,FALSE),0)","v":60},{"$f":"IFERROR(VLOOKUP($A24,Filtro!$A$4:$AX$552,14,FALSE),0)","v":25},{"$f":"IFERROR(VLOOKUP($A24,Filtro!$A$4:$AX$552,15,FALSE),0)","v":9},{"$f":"IFERROR(VLOOKUP($A24,Filtro!$A$4:$AX$552,16,FALSE),0)","v":16},{"$f":"AL24 & AM24 & AN24 & AO24","v":""},{"$nulls":18},{"$f":"IF($D24<$M24, \"* El Total de 'Adolescentes de Pueblos Originarios' debe ser menor o igual al Total Adolecentes 'Ambos sexos'. \", \"\")","v":""},{"$f":"IF($D24<$P24, \"* El total de 'Adolescentes de Migrantes' debe ser menor o igual al Total Adolecentes 'Ambos sexos'. \", \"\")","v":""},{"$f":"IF(AND(E24<>0,N24=\"\"),\"* No olvide escribir en la celda de 'Pueblos Originarios' (Digite CERO si no tiene). \",IF(AND(F24<>0,O24=\"\"),\"* No olvide escribir en la celda de 'Pueblos Originarios' (Digite CERO si no tiene). \",\"\"))","v":""},{"$f":"IF(AND(E24<>0,Q24=\"\"),\"* No olvide escribir en la celda de 'Población Migrantes' (Digite CERO si no tiene). \",IF(AND(F24<>0,R24=\"\"),\"* No olvide escribir en la celda de 'Población Migrantes' (Digite CERO si no tiene). \",\"\"))","v":""},{"$nulls":7},0,0,{"$f":"IF(AND(E24<>0,N24=\"\"),1,IF(AND(F24<>0,O24=\"\"),1,0))","v":0},{"$f":"IF(AND(E24<>0,Q24=\"\"),1,IF(AND(F24<>0,R24=\"\"),1,0))","v":0}]
["P9100200",null,"< 2 D.E. (Talla Baja)",{"$f":"IFERROR(VLOOKUP($A25,Filtro!$A$4:$AX$552,2,FALSE),0)","v":201},{"$f":"IFERROR(VLOOKUP($A25,Filtro!$A$4:$AX$552,3,FALSE),0)","v":89},{"$f":"IFERROR(VLOOKUP($A25,Filtro!$A$4:$AX$552,4,FALSE),0)","v":112},{"$f":"IFERROR(VLOOKUP($A25,Filtro!$A$4:$AX$552,5,FALSE),0)","v":81},{"$f":"IFERROR(VLOOKUP($A25,Filtro!$A$4:$AX$552,6,FALSE),0)","v":46},{"$f":"IFERROR(VLOOKUP($A25,Filtro!$A$4:$AX$552,7,FALSE),0)","v":35},{"$f":"IFERROR(VLOOKUP($A25,Filtro!$A$4:$AX$552,8,FALSE),0)","v":120},{"$f":"IFERROR(VLOOKUP($A25,Filtro!$A$4:$AX$552,9,FALSE),0)","v":43},{"$f":"IFERROR(VLOOKUP($A25,Filtro!$A$4:$AX$552,10,FALSE),0)","v":77},{"$f":"IFERROR(VLOOKUP($A25,Filtro!$A$4:$AX$552,11,FALSE),0)","v":13},{"$f":"IFERROR(VLOOKUP($A25,Filtro!$A$4:$AX$552,12,FALSE),0)","v":4},{"$f":"IFERROR(VLOOKUP($A25,Filtro!$A$4:$AX$552,13,FALSE),0)","v":9},{"$f":"IFERROR(VLOOKUP($A25,Filtro!$A$4:$AX$552,14,FALSE),0)","v":8},{"$f":"IFERROR(VLOOKUP($A25,Filtro!$A$4:$AX$552,15,FALSE),0)","v":4},{"$f":"IFERROR(VLOOKUP($A25,Filtro!$A$4:$AX$552,16,FALSE),0)","v":4},"",{"$nulls":18},"","","","",{"$nulls":7},0,0,0,0]
[null,null,"SUBTOTAL",1468,549,919,{"$f":"SUM(G24:G25)","v":561},{"$f":"SUM(H24:H25)","v":255},306,{"$f":"SUM(J24:J25)","v":907},294,613,102,33,69,{"$f":"SUM(P24:P25)","v":33},13,20]
["P9100210",null,"-0.9 a+ 0.9 D.E. (Talla Normal)",{"$f":"IFERROR(VLOOKUP($A27,Filtro!$A$4:$AX$552,2,FALSE),0)","v":4565},{"$f":"IFERROR(VLOOKUP($A27,Filtro!$A$4:$AX$552,3,FALSE),0)","v":2061},{"$f":"IFERROR(VLOOKUP($A27,Filtro!$A$4:$AX$552,4,FALSE),0)","v":2504},{"$f":"IFERROR(VLOOKUP($A27,Filtro!$A$4:$AX$552,5,FALSE),0)","v":2758},{"$f":"IFERROR(VLOOKUP($A27,Filtro!$A$4:$AX$552,6,FALSE),0)","v":1296},{"$f":"IFERROR(VLOOKUP($A27,Filtro!$A$4:$AX$552,7,FALSE),0)","v":1462},{"$f":"IFERROR(VLOOKUP($A27,Filtro!$A$4:$AX$552,8,FALSE),0)","v":1807},{"$f":"IFERROR(VLOOKUP($A27,Filtro!$A$4:$AX$552,9,FALSE),0)","v":765},{"$f":"IFERROR(VLOOKUP($A27,Filtro!$A$4:$AX$552,10,FALSE),0)","v":1042},{"$f":"IFERROR(VLOOKUP($A27,Filtro!$A$4:$AX$552,11,FALSE),0)","v":232},{"$f":"IFERROR(VLOOKUP($A27,Filtro!$A$4:$AX$552,12,FALSE),0)","v":100},{"$f":"IFERROR(VLOOKUP($A27,Filtro!$A$4:$AX$552,13,FALSE),0)","v":132},{"$f":"IFERROR(VLOOKUP($A27,Filtro!$A$4:$AX$552,14,FALSE),0)","v":67},{"$f":"IFERROR(VLOOKUP($A27,Filtro!$A$4:$AX$552,15,FALSE),0)","v":30},{"$f":"IFERROR(VLOOKUP($A27,Filtro!$A$4:$AX$552,16,FALSE),0)","v":37},{"$f":"AL27 & AM27 & AN27 & AO27","v":""},{"$nulls":18},{"$f":"IF($D27<$M27, \"* El Total de 'Adolescentes de Pueblos Originarios' debe ser menor o igual al Total Adolecentes 'Ambos sexos'. \", \"\")","v":""},{"$f":"IF($D27<$P27, \"* El total de 'Adolescentes de Migrantes' debe ser menor o igual al Total Adolecentes 'Ambos sexos'. \", \"\")","v":""},{"$f":"IF(AND(E27<>0,N27=\"\"),\"* No olvide escribir en la celda de 'Pueblos Originarios' (Digite CERO si no tiene). \",IF(AND(F27<>0,O27=\"\"),\"* No olvide escribir en la celda de 'Pueblos Originarios' (Digite CERO si no tiene). \",\"\"))","v":""},{"$f":"IF(AND(E27<>0,Q27=\"\"),\"* No olvide escribir en la celda de 'Población Migrantes' (Digite CERO si no tiene). \",IF(AND(F27<>0,R27=\"\"),\"* No olvide escribir en la celda de 'Población Migrantes' (Digite CERO si no tiene). \",\"\"))","v":""},{"$nulls":7},0,0,{"$f":"IF(AND(E27<>0,N27=\"\"),1,IF(AND(F27<>0,O27=\"\"),1,0))","v":0},{"$f":"IF(AND(E27<>0,Q27=\"\"),1,IF(AND(F27<>0,R27=\"\"),1,0))","v":0}]
["P9100220","RANGOS PERCENTILARES PARA CIRCUNFERENCIA DE CINTURA","NORMAL (p<75)",{"$f":"IFERROR(VLOOKUP($A28,Filtro!$A$4:$AX$552,2,FALSE),0)","v":4195},{"$f":"IFERROR(VLOOKUP($A28,Filtro!$A$4:$AX$552,3,FALSE),0)","v":1828},{"$f":"IFERROR(VLOOKUP($A28,Filtro!$A$4:$AX$552,4,FALSE),0)","v":2367},{"$f":"IFERROR(VLOOKUP($A28,Filtro!$A$4:$AX$552,5,FALSE),0)","v":2122},{"$f":"IFERROR(VLOOKUP($A28,Filtro!$A$4:$AX$552,6,FALSE),0)","v":963},{"$f":"IFERROR(VLOOKUP($A28,Filtro!$A$4:$AX$552,7,FALSE),0)","v":1159},{"$f":"IFERROR(VLOOKUP($A28,Filtro!$A$4:$AX$552,8,FALSE),0)","v":2073},{"$f":"IFERROR(VLOOKUP($A28,Filtro!$A$4:$AX$552,9,FALSE),0)","v":865},{"$f":"IFERROR(VLOOKUP($A28,Filtro!$A$4:$AX$552,10,FALSE),0)","v":1208},{"$f":"IFERROR(VLOOKUP($A28,Filtro!$A$4:$AX$552,11,FALSE),0)","v":197},{"$f":"IFERROR(VLOOKUP($A28,Filtro!$A$4:$AX$552,12,FALSE),0)","v":79},{"$f":"IFERROR(VLOOKUP($A28,Filtro!$A$4:$AX$552,13,FALSE),0)","v":118},{"$f":"IFERROR(VLOOKUP($A28,Filtro!$A$4:$AX$552,14,FALSE),0)","v":84},{"$f":"IFERROR(VLOOKUP($A28,Filtro!$A$4:$AX$552,15,FALSE),0)","v":41},{"$f":"IFERROR(VLOOKUP($A28,Filtro!$A$4:$AX$552,16,FALSE),0)","v":43},"",{"$nulls":18},"","","","",{"$nulls":7},0,0,0,0]
["P9100230",null,"RIESGO DE OBESIDAD (p75<p<90)",{"$f":"IFERROR(VLOOKUP($A29,Filtro!$A$4:$AX$552,2,FALSE),0)","v":1881},{"$f":"IFERROR(VLOOKUP($A29,Filtro!$A$4:$AX$552,3,FALSE),0)","v":777},{"$f":"IFERROR(VLOOKUP($A29,Filtro!$A$4:$AX$552,4,FALSE),0)","v":1104},{"$f":"IFERROR(VLOOKUP($A29,Filtro!$A$4:$AX$552,5,FALSE),0)","v":1126},{"$f":"IFERROR(VLOOKUP($A29,Filtro!$A$4:$AX$552,6,FALSE),0)","v":504},{"$f":"IFERROR(VLOOKUP($A29,Filtro!$A$4:$AX$552,7,FALSE),0)","v":622},{"$f":"IFERROR(VLOOKUP($A29,Filtro!$A$4:$AX$552,8,FALSE),0)","v":755},{"$f":"IFERROR(VLOOKUP($A29,Filtro!$A$4:$AX$552,9,FALSE),0)","v":273},{"$f":"IFERROR(VLOOKUP($A29,Filtro!$A$4:$AX$552,10,FALSE),0)","v":482},{"$f":"IFERROR(VLOOKUP($A29,Filtro!$A$4:$AX$552,11,FALSE),0)","v":104},{"$f":"IFERROR(VLOOKUP($A29,Filtro!$A$4:$AX$552,12,FALSE),0)","v":44},{"$f":"IFERROR(VLOOKUP($A29,Filtro!$A$4:$AX$552,13,FALSE),0)","v":60},{"$f":"IFERROR(VLOOKUP($A29,Filtro!$A$4:$AX$552,14,FALSE),0)","v":19},{"$f":"IFERROR(VLOOKUP($A29,Filtro!$A$4:$AX$552,15,FALSE),0)","v":5},{"$f":"IFERROR(VLOOKUP($A29,Filtro!$A$4:$AX$552,16,FALSE),0)","v":14},"",{"$nulls":18},"","","","",{"$nulls":7},0,0,0,0]
["P9100240",null,"OBESIDAD ABDOMINAL p>90)",{"$f":"IFERROR(VLOOKUP($A30,Filtro!$A$4:$AX$552,2,FALSE),0)","v":1383},{"$f":"IFERROR(VLOOKUP($A30,Filtro!$A$4:$AX$552,3,FALSE),0)","v":701},{"$f":"IFERROR(VLOOKUP($A30,Filtro!$A$4:$AX$552,4,FALSE),0)","v":682},{"$f":"IFERROR(VLOOKUP($A30,Filtro!$A$4:$AX$552,5,FALSE),0)","v":1008},{"$f":"IFERROR(VLOOKUP($A30,Filtro!$A$4:$AX$552,6,FALSE),0)","v":540},{"$f":"IFERROR(VLOOKUP($A30,Filtro!$A$4:$AX$552,7,FALSE),0)","v":468},{"$f":"IFERROR(VLOOKUP($A30,Filtro!$A$4:$AX$552,8,FALSE),0)","v":375},{"$f":"IFERROR(VLOOKUP($A30,Filtro!$A$4:$AX$552,9,FALSE),0)","v":161},{"$f":"IFERROR(VLOOKUP($A30,Filtro!$A$4:$AX$552,10,FALSE),0)","v":214},{"$f":"IFERROR(VLOOKUP($A30,Filtro!$A$4:$AX$552,11,FALSE),0)","v":64},{"$f":"IFERROR(VLOOKUP($A30,Filtro!$A$4:$AX$552,12,FALSE),0)","v":30},{"$f":"IFERROR(VLOOKUP($A30,Filtro!$A$4:$AX$552,13,FALSE),0)","v":34},{"$f":"IFERROR(VLOOKUP($A30,Filtro!$A$4:$AX$552,14,FALSE),0)","v":7},{"$f":"IFERROR(VLOOKUP($A30,Filtro!$A$4:$AX$552,15,FALSE),0)","v":1},{"$f":"IFERROR(VLOOKUP($A30,Filtro!$A$4:$AX$552,16,FALSE),0)","v":6},"",{"$nulls":18},"","","","",{"$nulls":7},0,0,0,0]
[null,null,"TOTAL",7459,3306,4153,{"$f":"SUM(G28:G30)","v":4256},{"$f":"SUM(H28:H30)","v":2007},2249,{"$f":"SUM(J28:J30)","v":3203},1299,1904,365,153,212,{"$f":"SUM(P28:P30)","v":110},47,63]
["P9100250","DIAGNOSTICO NUTRICIONAL INTEGRADO","DEFICIT PONDERALO BAJO PESO",{"$f":"IFERROR(VLOOKUP($A32,Filtro!$A$4:$AX$552,2,FALSE),0)","v":385},{"$f":"IFERROR(VLOOKUP($A32,Filtro!$A$4:$AX$552,3,FALSE),0)","v":227},{"$f":"IFERROR(VLOOKUP($A32,Filtro!$A$4:$AX$552,4,FALSE),0)","v":158},{"$f":"IFERROR(VLOOKUP($A32,Filtro!$A$4:$AX$552,5,FALSE),0)","v":185},{"$f":"IFERROR(VLOOKUP($A32,Filtro!$A$4:$AX$552,6,FALSE),0)","v":108},{"$f":"IFERROR(VLOOKUP($A32,Filtro!$A$4:$AX$552,7,FALSE),0)","v":77},{"$f":"IFERROR(VLOOKUP($A32,Filtro!$A$4:$AX$552,8,FALSE),0)","v":200},{"$f":"IFERROR(VLOOKUP($A32,Filtro!$A$4:$AX$552,9,FALSE),0)","v":119},{"$f":"IFERROR(VLOOKUP($A32,Filtro!$A$4:$AX$552,10,FALSE),0)","v":81},{"$f":"IFERROR(VLOOKUP($A32,Filtro!$A$4:$AX$552,11,FALSE),0)","v":28},{"$f":"IFERROR(VLOOKUP($A32,Filtro!$A$4:$AX$552,12,FALSE),0)","v":15},{"$f":"IFERROR(VLOOKUP($A32,Filtro!$A$4:$AX$552,13,FALSE),0)","v":13},{"$f":"IFERROR(VLOOKUP($A32,Filtro!$A$4:$AX$552,14,FALSE),0)","v":10},{"$f":"IFERROR(VLOOKUP($A32,Filtro!$A$4:$AX$552,15,FALSE),0)","v":6},{"$f":"IFERROR(VLOOKUP($A32,Filtro!$A$4:$AX$552,16,FALSE),0)","v":4},{"$f":"AL32 & AM32 & AN32 & AO32","v":""},{"$nulls":18},{"$f":"IF($D32<$M32, \"* El Total de 'Adolescentes de Pueblos Originarios' debe ser menor o igual al Total Adolecentes 'Ambos sexos'. \", \"\")","v":""},{"$f":"IF($D32<$P32, \"* El total de 'Adolescentes de Migrantes' debe ser menor o igual al Total Adolecentes 'Ambos sexos'. \", \"\")","v":""},{"$f":"IF(AND(E32<>0,N32=\"\"),\"* No olvide escribir en la celda de 'Pueblos Originarios' (Digite CERO si no tiene). \",IF(AND(F32<>0,O32=\"\"),\"* No olvide escribir en la celda de 'Pueblos Originarios' (Digite CERO si no tiene). \",\"\"))","v":""},{"$f":"IF(AND(E32<>0,Q32=\"\"),\"* No olvide escribir en la celda de 'Población Migrantes' (Digite CERO si no tiene). \",IF(AND(F32<>0,R32=\"\"),\"* No olvide escribir en la celda de 'Población Migrantes' (Digite CERO si no tiene). \",\"\"))","v":""},{"$nulls":7},0,0,{"$f":"IF(AND(E32<>0,N32=\"\"),1,IF(AND(F32<>0,O32=\"\"),1,0))","v":0},{"$f":"IF(AND(E32<>0,Q32=\"\"),1,IF(AND(F32<>0,R32=\"\"),1,0))","v":0}]
["P9100260",null,"DESNUTRIDO",{"$f":"IFERROR(VLOOKUP($A33,Filtro!$A$4:$AX$552,2,FALSE),0)","v":36},{"$f":"IFERROR(VLOOKUP($A33,Filtro!$A$4:$AX$552,3,FALSE),0)","v":26},{"$f":"IFERROR(VLOOKUP($A33,Filtro!$A$4:$AX$552,4,FALSE),0)","v":10},{"$f":"IFERROR(VLOOKUP($A33,Filtro!$A$4:$AX$552,5,FALSE),0)","v":17},{"$f":"IFERROR(VLOOKUP($A33,Filtro!$A$4:$AX$552,6,FALSE),0)","v":10},{"$f":"IFERROR(VLOOKUP($A33,Filtro!$A$4:$AX$552,7,FALSE),0)","v":7},{"$f":"IFERROR(VLOOKUP($A33,Filtro!$A$4:$AX$552,8,FALSE),0)","v":19},{"$f":"IFERROR(VLOOKUP($A33,Filtro!$A$4:$AX$552,9,FALSE),0)","v":16},{"$f":"IFERROR(VLOOKUP($A33,Filtro!$A$4:$AX$552,10,FALSE),0)","v":3},{"$f":"IFERROR(VLOOKUP($A33,Filtro!$A$4:$AX$552,11,FALSE),0)","v":1},{"$f":"IFERROR(VLOOKUP($A33,Filtro!$A$4:$AX$552,12,FALSE),0)","v":1},{"$f":"IFERROR(VLOOKUP($A33,Filtro!$A$4:$AX$552,13,FALSE),0)","v":0},{"$f":"IFERROR(VLOOKUP($A33,Filtro!$A$4:$AX$552,14,FALSE),0)","v":2},{"$f":"IFERROR(VLOOKUP($A33,Filtro!$A$4:$AX$552,15,FALSE),0)","v":1},{"$f":"IFERROR(VLOOKUP($A33,Filtro!$A$4:$AX$552,16,FALSE),0)","v":1},"",{"$nulls":18},"","","","",{"$nulls":7},0,0,0,0]
["P9100270",null,"SOBREPESO / RIESGO OBESIDAD",{"$f":"IFERROR(VLOOKUP($A34,Filtro!$A$4:$AX$552,2,FALSE),0)","v":2565},{"$f":"IFERROR(VLOOKUP($A34,Filtro!$A$4:$AX$552,3,FALSE),0)","v":1026},{"$f":"IFERROR(VLOOKUP($A34,Filtro!$A$4:$AX$552,4,FALSE),0)","v":1539},{"$f":"IFERROR(VLOOKUP($A34,Filtro!$A$4:$AX$552,5,FALSE),0)","v":1528},{"$f":"IFERROR(VLOOKUP($A34,Filtro!$A$4:$AX$552,6,FALSE),0)","v":680},{"$f":"IFERROR(VLOOKUP($A34,Filtro!$A$4:$AX$552,7,FALSE),0)","v":848},{"$f":"IFERROR(VLOOKUP($A34,Filtro!$A$4:$AX$552,8,FALSE),0)","v":1037},{"$f":"IFERROR(VLOOKUP($A34,Filtro!$A$4:$AX$552,9,FALSE),0)","v":346},{"$f":"IFERROR(VLOOKUP($A34,Filtro!$A$4:$AX$552,10,FALSE),0)","v":691},{"$f":"IFERROR(VLOOKUP($A34,Filtro!$A$4:$AX$552,11,FALSE),0)","v":122},{"$f":"IFERROR(VLOOKUP($A34,Filtro!$A$4:$AX$552,12,FALSE),0)","v":51},{"$f":"IFERROR(VLOOKUP($A34,Filtro!$A$4:$AX$552,13,FALSE),0)","v":71},{"$f":"IFERROR(VLOOKUP($A34,Filtro!$A$4:$AX$552,14,FALSE),0)","v":26},{"$f":"IFERROR(VLOOKUP($A34,Filtro!$A$4:$AX$552,15,FALSE),0)","v":7},{"$f":"IFERROR(VLOOKUP($A34,Filtro!$A$4:$AX$552,16,FALSE),0)","v":19},"",{"$nulls":18},"","","","",{"$nulls":7},0,0,0,0]
["P9100280",null,"OBESO",{"$f":"IFERROR(VLOOKUP($A35,Filtro!$A$4:$AX$552,2,FALSE),0)","v":1605},{"$f":"IFERROR(VLOOKUP($A35,Filtro!$A$4:$AX$552,3,FALSE),0)","v":760},{"$f":"IFERROR(VLOOKUP($A35,Filtro!$A$4:$AX$552,4,FALSE),0)","v":845},{"$f":"IFERROR(VLOOKUP($A35,Filtro!$A$4:$AX$552,5,FALSE),0)","v":1034},{"$f":"IFERROR(VLOOKUP($A35,Filtro!$A$4:$AX$552,6,FALSE),0)","v":549},{"$f":"IFERROR(VLOOKUP($A35,Filtro!$A$4:$AX$552,7,FALSE),0)","v":485},{"$f":"IFERROR(VLOOKUP($A35,Filtro!$A$4:$AX$552,8,FALSE),0)","v":571},{"$f":"IFERROR(VLOOKUP($A35,Filtro!$A$4:$AX$552,9,FALSE),0)","v":211},{"$f":"IFERROR(VLOOKUP($A35,Filtro!$A$4:$AX$552,10,FALSE),0)","v":360},{"$f":"IFERROR(VLOOKUP($A35,Filtro!$A$4:$AX$552,11,FALSE),0)","v":72},{"$f":"IFERROR(VLOOKUP($A35,Filtro!$A$4:$AX$552,12,FALSE),0)","v":30},{"$f":"IFERROR(VLOOKUP($A35,Filtro!$A$4:$AX$552,13,FALSE),0)","v":42},{"$f":"IFERROR(VLOOKUP($A35,Filtro!$A$4:$AX$552,14,FALSE),0)","v":17},{"$f":"IFERROR(VLOOKUP($A35,Filtro!$A$4:$AX$552,15,FALSE),0)","v":3},{"$f":"IFERROR(VLOOKUP($A35,Filtro!$A$4:$AX$552,16,FALSE),0)","v":14},"",{"$nulls":18},"","","","",{"$nulls":7},0,0,0,0]
["P9100290",null,"OBESO SEVERO",{"$f":"IFERROR(VLOOKUP($A36,Filtro!$A$4:$AX$552,2,FALSE),0)","v":263},{"$f":"IFERROR(VLOOKUP($A36,Filtro!$A$4:$AX$552,3,FALSE),0)","v":138},{"$f":"IFERROR(VLOOKUP($A36,Filtro!$A$4:$AX$552,4,FALSE),0)","v":125},{"$f":"IFERROR(VLOOKUP($A36,Filtro!$A$4:$AX$552,5,FALSE),0)","v":127},{"$f":"IFERROR(VLOOKUP($A36,Filtro!$A$4:$AX$552,6,FALSE),0)","v":64},{"$f":"IFERROR(VLOOKUP($A36,Filtro!$A$4:$AX$552,7,FALSE),0)","v":63},{"$f":"IFERROR(VLOOKUP($A36,Filtro!$A$4:$AX$552,8,FALSE),0)","v":136},{"$f":"IFERROR(VLOOKUP($A36,Filtro!$A$4:$AX$552,9,FALSE),0)","v":74},{"$f":"IFERROR(VLOOKUP($A36,Filtro!$A$4:$AX$552,10,FALSE),0)","v":62},{"$f":"IFERROR(VLOOKUP($A36,Filtro!$A$4:$AX$552,11,FALSE),0)","v":14},{"$f":"IFERROR(VLOOKUP($A36,Filtro!$A$4:$AX$552,12,FALSE),0)","v":6},{"$f":"IFERROR(VLOOKUP($A36,Filtro!$A$4:$AX$552,13,FALSE),0)","v":8},{"$f":"IFERROR(VLOOKUP($A36,Filtro!$A$4:$AX$552,14,FALSE),0)","v":1},{"$f":"IFERROR(VLOOKUP($A36,Filtro!$A$4:$AX$552,15,FALSE),0)","v":1},{"$f":"IFERROR(VLOOKUP($A36,Filtro!$A$4:$AX$552,16,FALSE),0)","v":0},"",{"$nulls":18},"","","","",{"$nulls":7},0,0,0,0]
["P9100300",null,"NORMAL O EUTROFIA",{"$f":"IFERROR(VLOOKUP($A37,Filtro!$A$4:$AX$552,2,FALSE),0)","v":4019},{"$f":"IFERROR(VLOOKUP($A37,Filtro!$A$4:$AX$552,3,FALSE),0)","v":1727},{"$f":"IFERROR(VLOOKUP($A37,Filtro!$A$4:$AX$552,4,FALSE),0)","v":2292},{"$f":"IFERROR(VLOOKUP($A37,Filtro!$A$4:$AX$552,5,FALSE),0)","v":1985},{"$f":"IFERROR(VLOOKUP($A37,Filtro!$A$4:$AX$552,6,FALSE),0)","v":880},{"$f":"IFERROR(VLOOKUP($A37,Filtro!$A$4:$AX$552,7,FALSE),0)","v":1105},{"$f":"IFERROR(VLOOKUP($A37,Filtro!$A$4:$AX$552,8,FALSE),0)","v":2034},{"$f":"IFERROR(VLOOKUP($A37,Filtro!$A$4:$AX$552,9,FALSE),0)","v":847},{"$f":"IFERROR(VLOOKUP($A37,Filtro!$A$4:$AX$552,10,FALSE),0)","v":1187},{"$f":"IFERROR(VLOOKUP($A37,Filtro!$A$4:$AX$552,11,FALSE),0)","v":189},{"$f":"IFERROR(VLOOKUP($A37,Filtro!$A$4:$AX$552,12,FALSE),0)","v":70},{"$f":"IFERROR(VLOOKUP($A37,Filtro!$A$4:$AX$552,13,FALSE),0)","v":119},{"$f":"IFERROR(VLOOKUP($A37,Filtro!$A$4:$AX$552,14,FALSE),0)","v":81},{"$f":"IFERROR(VLOOKUP($A37,Filtro!$A$4:$AX$552,15,FALSE),0)","v":39},{"$f":"IFERROR(VLOOKUP($A37,Filtro!$A$4:$AX$552,16,FALSE),0)","v":42},"",{"$nulls":18},"","","","",{"$nulls":7},0,0,0,0]
[null,null,"SUBTOTAL",8873,{"$f":"+H38+K38","v":3904},4969,{"$f":"SUM(G32:G37)","v":4876},{"$f":"SUM(H32:H37)","v":2291},2585,{"$f":"SUM(J32:J37)","v":3997},{"$f":"SUM(K32:K37)","v":1613},2384,426,{"$f":"SUM(N32:N37)","v":173},{"$f":"SUM(O32:O37)","v":253},{"$f":"SUM(P32:P37)","v":137},57,80]
["P9100310",null,"DESNUTRICIÓN \nSECUNDARIA",{"$f":"IFERROR(VLOOKUP($A39,Filtro!$A$4:$AX$552,2,FALSE),0)","v":3},{"$f":"IFERROR(VLOOKUP($A39,Filtro!$A$4:$AX$552,3,FALSE),0)","v":2},{"$f":"IFERROR(VLOOKUP($A39,Filtro!$A$4:$AX$552,4,FALSE),0)","v":1},{"$f":"IFERROR(VLOOKUP($A39,Filtro!$A$4:$AX$552,5,FALSE),0)","v":1},{"$f":"IFERROR(VLOOKUP($A39,Filtro!$A$4:$AX$552,6,FALSE),0)","v":1},{"$f":"IFERROR(VLOOKUP($A39,Filtro!$A$4:$AX$552,7,FALSE),0)","v":0},{"$f":"IFERROR(VLOOKUP($A39,Filtro!$A$4:$AX$552,8,FALSE),0)","v":2},{"$f":"IFERROR(VLOOKUP($A39,Filtro!$A$4:$AX$552,9,FALSE),0)","v":1},{"$f":"IFERROR(VLOOKUP($A39,Filtro!$A$4:$AX$552,10,FALSE),0)","v":1},{"$f":"IFERROR(VLOOKUP($A39,Filtro!$A$4:$AX$552,11,FALSE),0)","v":0},{"$f":"IFERROR(VLOOKUP($A39,Filtro!$A$4:$AX$552,12,FALSE),0)","v":0},{"$f":"IFERROR(VLOOKUP($A39,Filtro!$A$4:$AX$552,13,FALSE),0)","v":0},{"$f":"IFERROR(VLOOKUP($A39,Filtro!$A$4:$AX$552,14,FALSE),0)","v":0},{"$f":"IFERROR(VLOOKUP($A39,Filtro!$A$4:$AX$552,15,FALSE),0)","v":0},{"$f":"IFERROR(VLOOKUP($A39,Filtro!$A$4:$AX$552,16,FALSE),0)","v":0},{"$f":"AL39 & AM39 & AN39 & AO39","v":""},{"$nulls":18},{"$f":"IF($D39<$M39, \"* El Total de 'Adolescentes de Pueblos Originarios' debe ser menor o igual al Total Adolecentes 'Ambos sexos'. \", \"\")","v":""},{"$f":"IF($D39<$P39, \"* El total de 'Adolescentes de Migrantes' debe ser menor o igual al Total Adolecentes 'Ambos sexos'. \", \"\")","v":""},{"$f":"IF(AND(E39<>0,N39=\"\"),\"* No olvide escribir en la celda de 'Pueblos Originarios' (Digite CERO si no tiene). \",IF(AND(F39<>0,O39=\"\"),\"* No olvide escribir en la celda de 'Pueblos Originarios' (Digite CERO si no tiene). \",\"\"))","v":""},{"$f":"IF(AND(E39<>0,Q39=\"\"),\"* No olvide escribir en la celda de 'Población Migrantes' (Digite CERO si no tiene). \",IF(AND(F39<>0,R39=\"\"),\"* No olvide escribir en la celda de 'Población Migrantes' (Digite CERO si no tiene). \",\"\"))","v":""},{"$nulls":7},0,0,{"$f":"IF(AND(E39<>0,N39=\"\"),1,IF(AND(F39<>0,O39=\"\"),1,0))","v":0},{"$f":"IF(AND(E39<>0,Q39=\"\"),1,IF(AND(F39<>0,R39=\"\"),1,0))","v":0}]
[null,null,"T O T A L",{"$f":"SUM(D32:D37)+D39","v":8876},3906,4970,4877,2292,2585,3999,{"$f":"SUM(K32:K37)+K39","v":1614},2385,{"$f":"SUM(M32:M37)+M39","v":426},173,253,{"$f":"SUM(P32:P37)+P39","v":137},57,80]
[null,"SECCION B: POBLACIÓN EN CONTROL SALUD INTEGRAL DE ADOLESCENTES, SEGÚN EDUCACIÓN Y TRABAJO"]
[null,"Estudio/trabajo",null,"TOTAL",null,null,"Adolescentes 10-14 años",null,null,"Adolescentes 15 - 19 años",null,null,"Adolescentes de Pueblos Originarios",null,null,"Adolescentes Migrantes"]
[]
[]
[{"$nulls":3},"Ambos sexos","Hombre","Mujer","Ambos sexos","Hombre","Mujer","Ambos sexos","Hombre","Mujer","Ambos sexos","Hombre","Mujer","Ambos sexos","Hombre","Mujer"]
["P9100320","ESTUDIA",null,{"$f":"IFERROR(VLOOKUP($A46,Filtro!$A$4:$AX$552,2,FALSE),0)","v":9091},{"$f":"IFERROR(VLOOKUP($A46,Filtro!$A$4:$AX$552,3,FALSE),0)","v":3948},{"$f":"IFERROR(VLOOKUP($A46,Filtro!$A$4:$AX$552,4,FALSE),0)","v":5143},{"$f":"IFERROR(VLOOKUP($A46,Filtro!$A$4:$AX$552,5,FALSE),0)","v":4873},{"$f":"IFERROR(VLOOKUP($A46,Filtro!$A$4:$AX$552,6,FALSE),0)","v":2267},{"$f":"IFERROR(VLOOKUP($A46,Filtro!$A$4:$AX$552,7,FALSE),0)","v":2606},{"$f":"IFERROR(VLOOKUP($A46,Filtro!$A$4:$AX$552,8,FALSE),0)","v":4218},{"$f":"IFERROR(VLOOKUP($A46,Filtro!$A$4:$AX$552,9,FALSE),0)","v":1681},{"$f":"IFERROR(VLOOKUP($A46,Filtro!$A$4:$AX$552,10,FALSE),0)","v":2537},{"$f":"IFERROR(VLOOKUP($A46,Filtro!$A$4:$AX$552,11,FALSE),0)","v":427},{"$f":"IFERROR(VLOOKUP($A46,Filtro!$A$4:$AX$552,12,FALSE),0)","v":174},{"$f":"IFERROR(VLOOKUP($A46,Filtro!$A$4:$AX$552,13,FALSE),0)","v":253},{"$f":"IFERROR(VLOOKUP($A46,Filtro!$A$4:$AX$552,14,FALSE),0)","v":138},{"$f":"IFERROR(VLOOKUP($A46,Filtro!$A$4:$AX$552,15,FALSE),0)","v":56},{"$f":"IFERROR(VLOOKUP($A46,Filtro!$A$4:$AX$552,16,FALSE),0)","v":82},{"$f":"AL46 & AM46 & AN46 & AO46","v":""},{"$nulls":17},{"$f":"IF($D$12<$D46, \"* El total de Adolescentes no puede ser mayor al total de Adolescentes en control. \", \"\")","v":""},{"$f":"IF($D46<$M46, \"* El total de Adolescentes de Pueblos Originarios no puede ser mayor al total de Adolescentes. \", \"\")","v":""},{"$f":"IF($D46<$P46, \"* El total de Adolescentes de Migrantes no puede ser mayor al total de Adolescentes. \", \"\")","v":""},{"$f":"IF(AND(E46<>0,N46=\"\"),\"* No olvide escribir en la celda de Pueblos Originarios (Digite CERO si no tiene). \",IF(AND(F46<>0,O46=\"\"),\"* No olvide escribir en la celda de Pueblos Originarios (Digite CERO si no tiene). \",\"\"))","v":""},{"$f":"IF(AND(E46<>0,Q46=\"\"),\"* No olvide escribir en la celda de Población Migrantes (Digite CERO si no tiene). \",IF(AND(F46<>0,R46=\"\"),\"* No olvide escribir en la celda de Población Migrantes (Digite CERO si no tiene). \",\"\"))","v":""},{"$nulls":6},{"$f":"IF($D$12<$D46, 1,0)","v":0},{"$f":"IF($D46<$M46, 1,0)","v":0},{"$f":"IF($D46<$P46, 1,0)","v":0},{"$f":"IF(AND(E46<>0,N46=\"\"),1,IF(AND(F46<>0,O46=\"\"),1,0))","v":0},{"$f":"IF(AND(E46<>0,Q46=\"\"),1,IF(AND(F46<>0,R46=\"\"),1,0))","v":0}]
["P9100330","DESERCIÓN ESCOLAR",null,{"$f":"IFERROR(VLOOKUP($A47,Filtro!$A$4:$AX$552,2,FALSE),0)","v":76},{"$f":"IFERROR(VLOOKUP($A47,Filtro!$A$4:$AX$552,3,FALSE),0)","v":29},{"$f":"IFERROR(VLOOKUP($A47,Filtro!$A$4:$AX$552,4,FALSE),0)","v":47},{"$f":"IFERROR(VLOOKUP($A47,Filtro!$A$4:$AX$552,5,FALSE),0)","v":29},{"$f":"IFERROR(VLOOKUP($A47,Filtro!$A$4:$AX$552,6,FALSE),0)","v":10},{"$f":"IFERROR(VLOOKUP($A47,Filtro!$A$4:$AX$552,7,FALSE),0)","v":19},{"$f":"IFERROR(VLOOKUP($A47,Filtro!$A$4:$AX$552,8,FALSE),0)","v":47},{"$f":"IFERROR(VLOOKUP($A47,Filtro!$A$4:$AX$552,9,FALSE),0)","v":19},{"$f":"IFERROR(VLOOKUP($A47,Filtro!$A$4:$AX$552,10,FALSE),0)","v":28},{"$f":"IFERROR(VLOOKUP($A47,Filtro!$A$4:$AX$552,11,FALSE),0)","v":4},{"$f":"IFERROR(VLOOKUP($A47,Filtro!$A$4:$AX$552,12,FALSE),0)","v":2},{"$f":"IFERROR(VLOOKUP($A47,Filtro!$A$4:$AX$552,13,FALSE),0)","v":2},{"$f":"IFERROR(VLOOKUP($A47,Filtro!$A$4:$AX$552,14,FALSE),0)","v":1},{"$f":"IFERROR(VLOOKUP($A47,Filtro!$A$4:$AX$552,15,FALSE),0)","v":1},{"$f":"IFERROR(VLOOKUP($A47,Filtro!$A$4:$AX$552,16,FALSE),0)","v":0},"",{"$nulls":17},"","","","","",{"$nulls":6},{"$f":"IF($D$12<$D47, 1,0)","v":0},0,0,0,0]
["P9100340","TRABAJO INFANTIL",null,{"$f":"IFERROR(VLOOKUP($A48,Filtro!$A$4:$AX$552,2,FALSE),0)","v":17},{"$f":"IFERROR(VLOOKUP($A48,Filtro!$A$4:$AX$552,3,FALSE),0)","v":11},{"$f":"IFERROR(VLOOKUP($A48,Filtro!$A$4:$AX$552,4,FALSE),0)","v":6},{"$f":"IFERROR(VLOOKUP($A48,Filtro!$A$4:$AX$552,5,FALSE),0)","v":17},{"$f":"IFERROR(VLOOKUP($A48,Filtro!$A$4:$AX$552,6,FALSE),0)","v":11},{"$f":"IFERROR(VLOOKUP($A48,Filtro!$A$4:$AX$552,7,FALSE),0)","v":6},{"$f":"IFERROR(VLOOKUP($A48,Filtro!$A$4:$AX$552,8,FALSE),0)","v":0},{"$f":"IFERROR(VLOOKUP($A48,Filtro!$A$4:$AX$552,9,FALSE),0)","v":0},{"$f":"IFERROR(VLOOKUP($A48,Filtro!$A$4:$AX$552,10,FALSE),0)","v":0},{"$f":"IFERROR(VLOOKUP($A48,Filtro!$A$4:$AX$552,11,FALSE),0)","v":3},{"$f":"IFERROR(VLOOKUP($A48,Filtro!$A$4:$AX$552,12,FALSE),0)","v":0},{"$f":"IFERROR(VLOOKUP($A48,Filtro!$A$4:$AX$552,13,FALSE),0)","v":3},{"$f":"IFERROR(VLOOKUP($A48,Filtro!$A$4:$AX$552,14,FALSE),0)","v":1},{"$f":"IFERROR(VLOOKUP($A48,Filtro!$A$4:$AX$552,15,FALSE),0)","v":0},{"$f":"IFERROR(VLOOKUP($A48,Filtro!$A$4:$AX$552,16,FALSE),0)","v":1},"",{"$nulls":17},"","","","","",{"$nulls":6},0,0,0,0,0]
["P9100350","TRABAJO JUVENIL",null,{"$f":"IFERROR(VLOOKUP($A49,Filtro!$A$4:$AX$552,2,FALSE),0)","v":176},{"$f":"IFERROR(VLOOKUP($A49,Filtro!$A$4:$AX$552,3,FALSE),0)","v":91},{"$f":"IFERROR(VLOOKUP($A49,Filtro!$A$4:$AX$552,4,FALSE),0)","v":85},{"$f":"IFERROR(VLOOKUP($A49,Filtro!$A$4:$AX$552,5,FALSE),0)","v":0},{"$f":"IFERROR(VLOOKUP($A49,Filtro!$A$4:$AX$552,6,FALSE),0)","v":0},{"$f":"IFERROR(VLOOKUP($A49,Filtro!$A$4:$AX$552,7,FALSE),0)","v":0},{"$f":"IFERROR(VLOOKUP($A49,Filtro!$A$4:$AX$552,8,FALSE),0)","v":176},{"$f":"IFERROR(VLOOKUP($A49,Filtro!$A$4:$AX$552,9,FALSE),0)","v":91},{"$f":"IFERROR(VLOOKUP($A49,Filtro!$A$4:$AX$552,10,FALSE),0)","v":85},{"$f":"IFERROR(VLOOKUP($A49,Filtro!$A$4:$AX$552,11,FALSE),0)","v":11},{"$f":"IFERROR(VLOOKUP($A49,Filtro!$A$4:$AX$552,12,FALSE),0)","v":7},{"$f":"IFERROR(VLOOKUP($A49,Filtro!$A$4:$AX$552,13,FALSE),0)","v":4},{"$f":"IFERROR(VLOOKUP($A49,Filtro!$A$4:$AX$552,14,FALSE),0)","v":3},{"$f":"IFERROR(VLOOKUP($A49,Filtro!$A$4:$AX$552,15,FALSE),0)","v":2},{"$f":"IFERROR(VLOOKUP($A49,Filtro!$A$4:$AX$552,16,FALSE),0)","v":1},"",{"$nulls":17},"","","","","",{"$nulls":6},0,0,0,0,0]
["P9100360","PEORES FORMAS DE TRABAJO INFANTIL",null,{"$f":"IFERROR(VLOOKUP($A50,Filtro!$A$4:$AX$552,2,FALSE),0)","v":0},{"$f":"IFERROR(VLOOKUP($A50,Filtro!$A$4:$AX$552,3,FALSE),0)","v":0},{"$f":"IFERROR(VLOOKUP($A50,Filtro!$A$4:$AX$552,4,FALSE),0)","v":0},{"$f":"IFERROR(VLOOKUP($A50,Filtro!$A$4:$AX$552,5,FALSE),0)","v":0},{"$f":"IFERROR(VLOOKUP($A50,Filtro!$A$4:$AX$552,6,FALSE),0)","v":0},{"$f":"IFERROR(VLOOKUP($A50,Filtro!$A$4:$AX$552,7,FALSE),0)","v":0},{"$f":"IFERROR(VLOOKUP($A50,Filtro!$A$4:$AX$552,8,FALSE),0)","v":0},{"$f":"IFERROR(VLOOKUP($A50,Filtro!$A$4:$AX$552,9,FALSE),0)","v":0},{"$f":"IFERROR(VLOOKUP($A50,Filtro!$A$4:$AX$552,10,FALSE),0)","v":0},{"$f":"IFERROR(VLOOKUP($A50,Filtro!$A$4:$AX$552,11,FALSE),0)","v":0},{"$f":"IFERROR(VLOOKUP($A50,Filtro!$A$4:$AX$552,12,FALSE),0)","v":0},{"$f":"IFERROR(VLOOKUP($A50,Filtro!$A$4:$AX$552,13,FALSE),0)","v":0},{"$f":"IFERROR(VLOOKUP($A50,Filtro!$A$4:$AX$552,14,FALSE),0)","v":0},{"$f":"IFERROR(VLOOKUP($A50,Filtro!$A$4:$AX$552,15,FALSE),0)","v":0},{"$f":"IFERROR(VLOOKUP($A50,Filtro!$A$4:$AX$552,16,FALSE),0)","v":0},"",{"$nulls":17},"","","","","",{"$nulls":6},0,0,0,0,0]
["P9100370","SERVICIO DOMESTICO NO REMUNERADO PELIGROSO",null,{"$f":"IFERROR(VLOOKUP($A51,Filtro!$A$4:$AX$552,2,FALSE),0)","v":3},{"$f":"IFERROR(VLOOKUP($A51,Filtro!$A$4:$AX$552,3,FALSE),0)","v":0},{"$f":"IFERROR(VLOOKUP($A51,Filtro!$A$4:$AX$552,4,FALSE),0)","v":3},{"$f":"IFERROR(VLOOKUP($A51,Filtro!$A$4:$AX$552,5,FALSE),0)","v":0},{"$f":"IFERROR(VLOOKUP($A51,Filtro!$A$4:$AX$552,6,FALSE),0)","v":0},{"$f":"IFERROR(VLOOKUP($A51,Filtro!$A$4:$AX$552,7,FALSE),0)","v":0},{"$f":"IFERROR(VLOOKUP($A51,Filtro!$A$4:$AX$552,8,FALSE),0)","v":3},{"$f":"IFERROR(VLOOKUP($A51,Filtro!$A$4:$AX$552,9,FALSE),0)","v":0},{"$f":"IFERROR(VLOOKUP($A51,Filtro!$A$4:$AX$552,10,FALSE),0)","v":3},{"$f":"IFERROR(VLOOKUP($A51,Filtro!$A$4:$AX$552,11,FALSE),0)","v":0},{"$f":"IFERROR(VLOOKUP($A51,Filtro!$A$4:$AX$552,12,FALSE),0)","v":0},{"$f":"IFERROR(VLOOKUP($A51,Filtro!$A$4:$AX$552,13,FALSE),0)","v":0},{"$f":"IFERROR(VLOOKUP($A51,Filtro!$A$4:$AX$552,14,FALSE),0)","v":0},{"$f":"IFERROR(VLOOKUP($A51,Filtro!$A$4:$AX$552,15,FALSE),0)","v":0},{"$f":"IFERROR(VLOOKUP($A51,Filtro!$A$4:$AX$552,16,FALSE),0)","v":0},"",{"$nulls":17},"","","","","",{"$nulls":6},0,0,0,0,0]
[null,"SECCION C: POBLACIÓN EN CONTROL SALUD INTEGRAL DE ADOLESCENTES, SEGÚN ÁREAS DE RIESGO"]
[null,"Áreas de Riesgo",null,"TOTAL",null,null,"Adolescentes 10-14 años",null,null,"Adolescentes 15 - 19 años",null,null,"Adolescentes de Pueblos Originarios",null,null,"Adolescentes Migrantes"]
[]
[]
[{"$nulls":3},"Ambos sexos","Hombre","Mujer","Ambos sexos","Hombre","Mujer","Ambos sexos","Hombre","Mujer","Ambos sexos","Hombre","Mujer","Ambos sexos","Hombre","Mujer"]
["P9100380","SALUD SEXUAL Y REPRODUCTIVA",null,{"$f":"IFERROR(VLOOKUP($A57,Filtro!$A$4:$AX$552,2,FALSE),0)","v":1720},{"$f":"IFERROR(VLOOKUP($A57,Filtro!$A$4:$AX$552,3,FALSE),0)","v":662},{"$f":"IFERROR(VLOOKUP($A57,Filtro!$A$4:$AX$552,4,FALSE),0)","v":1058},{"$f":"IFERROR(VLOOKUP($A57,Filtro!$A$4:$AX$552,5,FALSE),0)","v":321},{"$f":"IFERROR(VLOOKUP($A57,Filtro!$A$4:$AX$552,6,FALSE),0)","v":98},{"$f":"IFERROR(VLOOKUP($A57,Filtro!$A$4:$AX$552,7,FALSE),0)","v":223},{"$f":"IFERROR(VLOOKUP($A57,Filtro!$A$4:$AX$552,8,FALSE),0)","v":1399},{"$f":"IFERROR(VLOOKUP($A57,Filtro!$A$4:$AX$552,9,FALSE),0)","v":564},{"$f":"IFERROR(VLOOKUP($A57,Filtro!$A$4:$AX$552,10,FALSE),0)","v":835},{"$f":"IFERROR(VLOOKUP($A57,Filtro!$A$4:$AX$552,11,FALSE),0)","v":54},{"$f":"IFERROR(VLOOKUP($A57,Filtro!$A$4:$AX$552,12,FALSE),0)","v":16},{"$f":"IFERROR(VLOOKUP($A57,Filtro!$A$4:$AX$552,13,FALSE),0)","v":38},{"$f":"IFERROR(VLOOKUP($A57,Filtro!$A$4:$AX$552,14,FALSE),0)","v":18},{"$f":"IFERROR(VLOOKUP($A57,Filtro!$A$4:$AX$552,15,FALSE),0)","v":4},{"$f":"IFERROR(VLOOKUP($A57,Filtro!$A$4:$AX$552,16,FALSE),0)","v":14},{"$f":"AL57 & AM57 & AN57 & AO57","v":""},{"$nulls":17},{"$f":"IF($D$12<$D57, \"* El total de Adolescentes no puede ser mayor al total de Adolescentes en control. \", \"\")","v":""},{"$f":"IF($D57<$M57, \"* El total de Adolescentes de Pueblos Originarios no puede ser mayor al total de Adolescentes. \", \"\")","v":""},{"$f":"IF($D57<$P57, \"* El total de Adolescentes de Migrantes no puede ser mayor al total de Adolescentes. \", \"\")","v":""},{"$f":"IF(AND(E57<>0,N57=\"\"),\"* No olvide escribir en la celda de Pueblos Originarios (Digite CERO si no tiene). \",IF(AND(F57<>0,O57=\"\"),\"* No olvide escribir en la celda de Pueblos Originarios (Digite CERO si no tiene). \",\"\"))","v":""},{"$f":"IF(AND(E57<>0,Q57=\"\"),\"* No olvide escribir en la celda de Población Migrantes (Digite CERO si no tiene). \",IF(AND(F57<>0,R57=\"\"),\"* No olvide escribir en la celda de Población Migrantes (Digite CERO si no tiene). \",\"\"))","v":""},{"$nulls":6},0,{"$f":"IF($D57<$M57, 1,0)","v":0},{"$f":"IF($D57<$P57, 1,0)","v":0},{"$f":"IF(AND(E57<>0,N57=\"\"),1,IF(AND(F57<>0,O57=\"\"),1,0))","v":0},{"$f":"IF(AND(E57<>0,Q57=\"\"),1,IF(AND(F57<>0,R57=\"\"),1,0))","v":0}]
["P9100390","IDEACIÓN SUICIDA",null,{"$f":"IFERROR(VLOOKUP($A58,Filtro!$A$4:$AX$552,2,FALSE),0)","v":175},{"$f":"IFERROR(VLOOKUP($A58,Filtro!$A$4:$AX$552,3,FALSE),0)","v":45},{"$f":"IFERROR(VLOOKUP($A58,Filtro!$A$4:$AX$552,4,FALSE),0)","v":130},{"$f":"IFERROR(VLOOKUP($A58,Filtro!$A$4:$AX$552,5,FALSE),0)","v":89},{"$f":"IFERROR(VLOOKUP($A58,Filtro!$A$4:$AX$552,6,FALSE),0)","v":24},{"$f":"IFERROR(VLOOKUP($A58,Filtro!$A$4:$AX$552,7,FALSE),0)","v":65},{"$f":"IFERROR(VLOOKUP($A58,Filtro!$A$4:$AX$552,8,FALSE),0)","v":86},{"$f":"IFERROR(VLOOKUP($A58,Filtro!$A$4:$AX$552,9,FALSE),0)","v":21},{"$f":"IFERROR(VLOOKUP($A58,Filtro!$A$4:$AX$552,10,FALSE),0)","v":65},{"$f":"IFERROR(VLOOKUP($A58,Filtro!$A$4:$AX$552,11,FALSE),0)","v":8},{"$f":"IFERROR(VLOOKUP($A58,Filtro!$A$4:$AX$552,12,FALSE),0)","v":2},{"$f":"IFERROR(VLOOKUP($A58,Filtro!$A$4:$AX$552,13,FALSE),0)","v":6},{"$f":"IFERROR(VLOOKUP($A58,Filtro!$A$4:$AX$552,14,FALSE),0)","v":2},{"$f":"IFERROR(VLOOKUP($A58,Filtro!$A$4:$AX$552,15,FALSE),0)","v":0},{"$f":"IFERROR(VLOOKUP($A58,Filtro!$A$4:$AX$552,16,FALSE),0)","v":2},"",{"$nulls":17},"","","","","",{"$nulls":6},0,0,0,0,0]
["P9100400","INTENTO SUICIDA",null,{"$f":"IFERROR(VLOOKUP($A59,Filtro!$A$4:$AX$552,2,FALSE),0)","v":63},{"$f":"IFERROR(VLOOKUP($A59,Filtro!$A$4:$AX$552,3,FALSE),0)","v":13},{"$f":"IFERROR(VLOOKUP($A59,Filtro!$A$4:$AX$552,4,FALSE),0)","v":50},{"$f":"IFERROR(VLOOKUP($A59,Filtro!$A$4:$AX$552,5,FALSE),0)","v":33},{"$f":"IFERROR(VLOOKUP($A59,Filtro!$A$4:$AX$552,6,FALSE),0)","v":6},{"$f":"IFERROR(VLOOKUP($A59,Filtro!$A$4:$AX$552,7,FALSE),0)","v":27},{"$f":"IFERROR(VLOOKUP($A59,Filtro!$A$4:$AX$552,8,FALSE),0)","v":30},{"$f":"IFERROR(VLOOKUP($A59,Filtro!$A$4:$AX$552,9,FALSE),0)","v":7},{"$f":"IFERROR(VLOOKUP($A59,Filtro!$A$4:$AX$552,10,FALSE),0)","v":23},{"$f":"IFERROR(VLOOKUP($A59,Filtro!$A$4:$AX$552,11,FALSE),0)","v":3},{"$f":"IFERROR(VLOOKUP($A59,Filtro!$A$4:$AX$552,12,FALSE),0)","v":0},{"$f":"IFERROR(VLOOKUP($A59,Filtro!$A$4:$AX$552,13,FALSE),0)","v":3},{"$f":"IFERROR(VLOOKUP($A59,Filtro!$A$4:$AX$552,14,FALSE),0)","v":3},{"$f":"IFERROR(VLOOKUP($A59,Filtro!$A$4:$AX$552,15,FALSE),0)","v":1},{"$f":"IFERROR(VLOOKUP($A59,Filtro!$A$4:$AX$552,16,FALSE),0)","v":2},"",{"$nulls":17},"","","","","",{"$nulls":6},0,0,0,0,0]
["P9100410","CONSUMO ALCOHOL Y DROGAS ",null,{"$f":"IFERROR(VLOOKUP($A60,Filtro!$A$4:$AX$552,2,FALSE),0)","v":658},{"$f":"IFERROR(VLOOKUP($A60,Filtro!$A$4:$AX$552,3,FALSE),0)","v":285},{"$f":"IFERROR(VLOOKUP($A60,Filtro!$A$4:$AX$552,4,FALSE),0)","v":373},{"$f":"IFERROR(VLOOKUP($A60,Filtro!$A$4:$AX$552,5,FALSE),0)","v":65},{"$f":"IFERROR(VLOOKUP($A60,Filtro!$A$4:$AX$552,6,FALSE),0)","v":36},{"$f":"IFERROR(VLOOKUP($A60,Filtro!$A$4:$AX$552,7,FALSE),0)","v":29},{"$f":"IFERROR(VLOOKUP($A60,Filtro!$A$4:$AX$552,8,FALSE),0)","v":593},{"$f":"IFERROR(VLOOKUP($A60,Filtro!$A$4:$AX$552,9,FALSE),0)","v":249},{"$f":"IFERROR(VLOOKUP($A60,Filtro!$A$4:$AX$552,10,FALSE),0)","v":344},{"$f":"IFERROR(VLOOKUP($A60,Filtro!$A$4:$AX$552,11,FALSE),0)","v":20},{"$f":"IFERROR(VLOOKUP($A60,Filtro!$A$4:$AX$552,12,FALSE),0)","v":5},{"$f":"IFERROR(VLOOKUP($A60,Filtro!$A$4:$AX$552,13,FALSE),0)","v":15},{"$f":"IFERROR(VLOOKUP($A60,Filtro!$A$4:$AX$552,14,FALSE),0)","v":6},{"$f":"IFERROR(VLOOKUP($A60,Filtro!$A$4:$AX$552,15,FALSE),0)","v":0},{"$f":"IFERROR(VLOOKUP($A60,Filtro!$A$4:$AX$552,16,FALSE),0)","v":6},"",{"$nulls":17},"","","","","",{"$nulls":6},0,0,0,0,0]
["P9100420","NUTRICIONAL",null,{"$f":"IFERROR(VLOOKUP($A61,Filtro!$A$4:$AX$552,2,FALSE),0)","v":4272},{"$f":"IFERROR(VLOOKUP($A61,Filtro!$A$4:$AX$552,3,FALSE),0)","v":1883},{"$f":"IFERROR(VLOOKUP($A61,Filtro!$A$4:$AX$552,4,FALSE),0)","v":2389},{"$f":"IFERROR(VLOOKUP($A61,Filtro!$A$4:$AX$552,5,FALSE),0)","v":2550},{"$f":"IFERROR(VLOOKUP($A61,Filtro!$A$4:$AX$552,6,FALSE),0)","v":1245},{"$f":"IFERROR(VLOOKUP($A61,Filtro!$A$4:$AX$552,7,FALSE),0)","v":1305},{"$f":"IFERROR(VLOOKUP($A61,Filtro!$A$4:$AX$552,8,FALSE),0)","v":1722},{"$f":"IFERROR(VLOOKUP($A61,Filtro!$A$4:$AX$552,9,FALSE),0)","v":638},{"$f":"IFERROR(VLOOKUP($A61,Filtro!$A$4:$AX$552,10,FALSE),0)","v":1084},{"$f":"IFERROR(VLOOKUP($A61,Filtro!$A$4:$AX$552,11,FALSE),0)","v":245},{"$f":"IFERROR(VLOOKUP($A61,Filtro!$A$4:$AX$552,12,FALSE),0)","v":104},{"$f":"IFERROR(VLOOKUP($A61,Filtro!$A$4:$AX$552,13,FALSE),0)","v":141},{"$f":"IFERROR(VLOOKUP($A61,Filtro!$A$4:$AX$552,14,FALSE),0)","v":63},{"$f":"IFERROR(VLOOKUP($A61,Filtro!$A$4:$AX$552,15,FALSE),0)","v":20},{"$f":"IFERROR(VLOOKUP($A61,Filtro!$A$4:$AX$552,16,FALSE),0)","v":43},"",{"$nulls":17},"","","","","",{"$nulls":6},0,0,0,0,0]
["P9100430","OTRO RIESGO",null,{"$f":"IFERROR(VLOOKUP($A62,Filtro!$A$4:$AX$552,2,FALSE),0)","v":1639},{"$f":"IFERROR(VLOOKUP($A62,Filtro!$A$4:$AX$552,3,FALSE),0)","v":639},{"$f":"IFERROR(VLOOKUP($A62,Filtro!$A$4:$AX$552,4,FALSE),0)","v":1000},{"$f":"IFERROR(VLOOKUP($A62,Filtro!$A$4:$AX$552,5,FALSE),0)","v":991},{"$f":"IFERROR(VLOOKUP($A62,Filtro!$A$4:$AX$552,6,FALSE),0)","v":415},{"$f":"IFERROR(VLOOKUP($A62,Filtro!$A$4:$AX$552,7,FALSE),0)","v":576},{"$f":"IFERROR(VLOOKUP($A62,Filtro!$A$4:$AX$552,8,FALSE),0)","v":648},{"$f":"IFERROR(VLOOKUP($A62,Filtro!$A$4:$AX$552,9,FALSE),0)","v":224},{"$f":"IFERROR(VLOOKUP($A62,Filtro!$A$4:$AX$552,10,FALSE),0)","v":424},{"$f":"IFERROR(VLOOKUP($A62,Filtro!$A$4:$AX$552,11,FALSE),0)","v":106},{"$f":"IFERROR(VLOOKUP($A62,Filtro!$A$4:$AX$552,12,FALSE),0)","v":37},{"$f":"IFERROR(VLOOKUP($A62,Filtro!$A$4:$AX$552,13,FALSE),0)","v":69},{"$f":"IFERROR(VLOOKUP($A62,Filtro!$A$4:$AX$552,14,FALSE),0)","v":46},{"$f":"IFERROR(VLOOKUP($A62,Filtro!$A$4:$AX$552,15,FALSE),0)","v":20},{"$f":"IFERROR(VLOOKUP($A62,Filtro!$A$4:$AX$552,16,FALSE),0)","v":26},"",{"$nulls":17},"","","","","",{"$nulls":6},0,0,0,0,0]
[null,"SECCION D:POBLACIÓN EN CONTROL SALUD INTEGRAL DE ADOLESCENTES, SEGÚN AMBITOS GINECO-UROLOGICO/SEXUALIDAD"]
[null,"Gineco/urologico/sexualidad",null,"TOTAL",null,null,"Adolescentes 10-14 años",null,null,"Adolescentes 15 - 19 años",null,null,"Adolescentes de Pueblos Originarios",null,null,"Adolescentes Migrantes"]
[]
[]
[{"$nulls":3},"Ambos sexos","Hombre","Mujer","Ambos sexos","Hombre","Mujer","Ambos sexos","Hombre","Mujer","Ambos sexos","Hombre","Mujer","Ambos sexos","Hombre","Mujer"]
["P9100440","ADOLESCENTES CON CONDUCTA POSTERGADORA",null,{"$f":"IFERROR(VLOOKUP($A68,Filtro!$A$4:$AX$552,2,FALSE),0)","v":6546},{"$f":"IFERROR(VLOOKUP($A68,Filtro!$A$4:$AX$552,3,FALSE),0)","v":3041},{"$f":"IFERROR(VLOOKUP($A68,Filtro!$A$4:$AX$552,4,FALSE),0)","v":3505},{"$f":"IFERROR(VLOOKUP($A68,Filtro!$A$4:$AX$552,5,FALSE),0)","v":4469},{"$f":"IFERROR(VLOOKUP($A68,Filtro!$A$4:$AX$552,6,FALSE),0)","v":2113},{"$f":"IFERROR(VLOOKUP($A68,Filtro!$A$4:$AX$552,7,FALSE),0)","v":2356},{"$f":"IFERROR(VLOOKUP($A68,Filtro!$A$4:$AX$552,8,FALSE),0)","v":2077},{"$f":"IFERROR(VLOOKUP($A68,Filtro!$A$4:$AX$552,9,FALSE),0)","v":928},{"$f":"IFERROR(VLOOKUP($A68,Filtro!$A$4:$AX$552,10,FALSE),0)","v":1149},{"$f":"IFERROR(VLOOKUP($A68,Filtro!$A$4:$AX$552,11,FALSE),0)","v":304},{"$f":"IFERROR(VLOOKUP($A68,Filtro!$A$4:$AX$552,12,FALSE),0)","v":141},{"$f":"IFERROR(VLOOKUP($A68,Filtro!$A$4:$AX$552,13,FALSE),0)","v":163},{"$f":"IFERROR(VLOOKUP($A68,Filtro!$A$4:$AX$552,14,FALSE),0)","v":116},{"$f":"IFERROR(VLOOKUP($A68,Filtro!$A$4:$AX$552,15,FALSE),0)","v":50},{"$f":"IFERROR(VLOOKUP($A68,Filtro!$A$4:$AX$552,16,FALSE),0)","v":66},{"$f":"AL68 & AM68 & AN68 & AO68","v":""},{"$nulls":17},{"$f":"IF($D$12<$D68, \"* El total de Adolescentes no puede ser mayor al total de Adolescentes en control. \", \"\")","v":""},{"$f":"IF($D68<$M68, \"* El total de Adolescentes de Pueblos Originarios no puede ser mayor al total de Adolescentes. \", \"\")","v":""},{"$f":"IF($D68<$P68, \"* El total de Adolescentes de Migrantes no puede ser mayor al total de Adolescentes. \", \"\")","v":""},{"$f":"IF(AND(E68<>0,N68=\"\"),\"* No olvide escribir en la celda de Pueblos Originarios (Digite CERO si no tiene). \",IF(AND(F68<>0,O68=\"\"),\"* No olvide escribir en la celda de Pueblos Originarios (Digite CERO si no tiene). \",\"\"))","v":""},{"$f":"IF(AND(E68<>0,Q68=\"\"),\"* No olvide escribir en la celda de Población Migrantes (Digite CERO si no tiene). \",IF(AND(F68<>0,R68=\"\"),\"* No olvide escribir en la celda de Población Migrantes (Digite CERO si no tiene). \",\"\"))","v":""},{"$nulls":6},0,{"$f":"IF($D68<$M68, 1,0)","v":0},{"$f":"IF($D68<$P68, 1,0)","v":0},{"$f":"IF(AND(E68<>0,N68=\"\"),1,IF(AND(F68<>0,O68=\"\"),1,0))","v":0},{"$f":"IF(AND(E68<>0,Q68=\"\"),1,IF(AND(F68<>0,R68=\"\"),1,0))","v":0}]
["P9100450","ADOLESCENTES CON CONDUCTA ANTICIPADORA",null,{"$f":"IFERROR(VLOOKUP($A69,Filtro!$A$4:$AX$552,2,FALSE),0)","v":573},{"$f":"IFERROR(VLOOKUP($A69,Filtro!$A$4:$AX$552,3,FALSE),0)","v":222},{"$f":"IFERROR(VLOOKUP($A69,Filtro!$A$4:$AX$552,4,FALSE),0)","v":351},{"$f":"IFERROR(VLOOKUP($A69,Filtro!$A$4:$AX$552,5,FALSE),0)","v":61},{"$f":"IFERROR(VLOOKUP($A69,Filtro!$A$4:$AX$552,6,FALSE),0)","v":21},{"$f":"IFERROR(VLOOKUP($A69,Filtro!$A$4:$AX$552,7,FALSE),0)","v":40},{"$f":"IFERROR(VLOOKUP($A69,Filtro!$A$4:$AX$552,8,FALSE),0)","v":512},{"$f":"IFERROR(VLOOKUP($A69,Filtro!$A$4:$AX$552,9,FALSE),0)","v":201},{"$f":"IFERROR(VLOOKUP($A69,Filtro!$A$4:$AX$552,10,FALSE),0)","v":311},{"$f":"IFERROR(VLOOKUP($A69,Filtro!$A$4:$AX$552,11,FALSE),0)","v":17},{"$f":"IFERROR(VLOOKUP($A69,Filtro!$A$4:$AX$552,12,FALSE),0)","v":6},{"$f":"IFERROR(VLOOKUP($A69,Filtro!$A$4:$AX$552,13,FALSE),0)","v":11},{"$f":"IFERROR(VLOOKUP($A69,Filtro!$A$4:$AX$552,14,FALSE),0)","v":8},{"$f":"IFERROR(VLOOKUP($A69,Filtro!$A$4:$AX$552,15,FALSE),0)","v":3},{"$f":"IFERROR(VLOOKUP($A69,Filtro!$A$4:$AX$552,16,FALSE),0)","v":5},"",{"$nulls":17},"","","","","",{"$nulls":6},0,0,0,0,0]
["P9100460","ADOLESCENTES CON CONDUCTA ACTIVA",null,{"$f":"IFERROR(VLOOKUP($A70,Filtro!$A$4:$AX$552,2,FALSE),0)","v":1635},{"$f":"IFERROR(VLOOKUP($A70,Filtro!$A$4:$AX$552,3,FALSE),0)","v":530},{"$f":"IFERROR(VLOOKUP($A70,Filtro!$A$4:$AX$552,4,FALSE),0)","v":1105},{"$f":"IFERROR(VLOOKUP($A70,Filtro!$A$4:$AX$552,5,FALSE),0)","v":69},{"$f":"IFERROR(VLOOKUP($A70,Filtro!$A$4:$AX$552,6,FALSE),0)","v":22},{"$f":"IFERROR(VLOOKUP($A70,Filtro!$A$4:$AX$552,7,FALSE),0)","v":47},{"$f":"IFERROR(VLOOKUP($A70,Filtro!$A$4:$AX$552,8,FALSE),0)","v":1566},{"$f":"IFERROR(VLOOKUP($A70,Filtro!$A$4:$AX$552,9,FALSE),0)","v":508},{"$f":"IFERROR(VLOOKUP($A70,Filtro!$A$4:$AX$552,10,FALSE),0)","v":1058},{"$f":"IFERROR(VLOOKUP($A70,Filtro!$A$4:$AX$552,11,FALSE),0)","v":90},{"$f":"IFERROR(VLOOKUP($A70,Filtro!$A$4:$AX$552,12,FALSE),0)","v":19},{"$f":"IFERROR(VLOOKUP($A70,Filtro!$A$4:$AX$552,13,FALSE),0)","v":71},{"$f":"IFERROR(VLOOKUP($A70,Filtro!$A$4:$AX$552,14,FALSE),0)","v":18},{"$f":"IFERROR(VLOOKUP($A70,Filtro!$A$4:$AX$552,15,FALSE),0)","v":6},{"$f":"IFERROR(VLOOKUP($A70,Filtro!$A$4:$AX$552,16,FALSE),0)","v":12},"",{"$nulls":17},"","","","","",{"$nulls":6},0,0,0,0,0]
["P9100470","USO ACTUAL DE METODO ANTICONCEPTIVO",null,{"$f":"IFERROR(VLOOKUP($A71,Filtro!$A$4:$AX$552,2,FALSE),0)","v":1235},{"$f":"IFERROR(VLOOKUP($A71,Filtro!$A$4:$AX$552,3,FALSE),0)","v":267},{"$f":"IFERROR(VLOOKUP($A71,Filtro!$A$4:$AX$552,4,FALSE),0)","v":968},{"$f":"IFERROR(VLOOKUP($A71,Filtro!$A$4:$AX$552,5,FALSE),0)","v":56},{"$f":"IFERROR(VLOOKUP($A71,Filtro!$A$4:$AX$552,6,FALSE),0)","v":8},{"$f":"IFERROR(VLOOKUP($A71,Filtro!$A$4:$AX$552,7,FALSE),0)","v":48},{"$f":"IFERROR(VLOOKUP($A71,Filtro!$A$4:$AX$552,8,FALSE),0)","v":1179},{"$f":"IFERROR(VLOOKUP($A71,Filtro!$A$4:$AX$552,9,FALSE),0)","v":259},{"$f":"IFERROR(VLOOKUP($A71,Filtro!$A$4:$AX$552,10,FALSE),0)","v":920},{"$f":"IFERROR(VLOOKUP($A71,Filtro!$A$4:$AX$552,11,FALSE),0)","v":59},{"$f":"IFERROR(VLOOKUP($A71,Filtro!$A$4:$AX$552,12,FALSE),0)","v":6},{"$f":"IFERROR(VLOOKUP($A71,Filtro!$A$4:$AX$552,13,FALSE),0)","v":53},{"$f":"IFERROR(VLOOKUP($A71,Filtro!$A$4:$AX$552,14,FALSE),0)","v":11},{"$f":"IFERROR(VLOOKUP($A71,Filtro!$A$4:$AX$552,15,FALSE),0)","v":3},{"$f":"IFERROR(VLOOKUP($A71,Filtro!$A$4:$AX$552,16,FALSE),0)","v":8},"",{"$nulls":17},"","","","","",{"$nulls":6},0,0,0,0,0]
["P9100480","USO ACTUAL DE DOBLE PROTECCIÓN",null,{"$f":"IFERROR(VLOOKUP($A72,Filtro!$A$4:$AX$552,2,FALSE),0)","v":418},{"$f":"IFERROR(VLOOKUP($A72,Filtro!$A$4:$AX$552,3,FALSE),0)","v":117},{"$f":"IFERROR(VLOOKUP($A72,Filtro!$A$4:$AX$552,4,FALSE),0)","v":301},{"$f":"IFERROR(VLOOKUP($A72,Filtro!$A$4:$AX$552,5,FALSE),0)","v":15},{"$f":"IFERROR(VLOOKUP($A72,Filtro!$A$4:$AX$552,6,FALSE),0)","v":4},{"$f":"IFERROR(VLOOKUP($A72,Filtro!$A$4:$AX$552,7,FALSE),0)","v":11},{"$f":"IFERROR(VLOOKUP($A72,Filtro!$A$4:$AX$552,8,FALSE),0)","v":403},{"$f":"IFERROR(VLOOKUP($A72,Filtro!$A$4:$AX$552,9,FALSE),0)","v":113},{"$f":"IFERROR(VLOOKUP($A72,Filtro!$A$4:$AX$552,10,FALSE),0)","v":290},{"$f":"IFERROR(VLOOKUP($A72,Filtro!$A$4:$AX$552,11,FALSE),0)","v":27},{"$f":"IFERROR(VLOOKUP($A72,Filtro!$A$4:$AX$552,12,FALSE),0)","v":3},{"$f":"IFERROR(VLOOKUP($A72,Filtro!$A$4:$AX$552,13,FALSE),0)","v":24},{"$f":"IFERROR(VLOOKUP($A72,Filtro!$A$4:$AX$552,14,FALSE),0)","v":3},{"$f":"IFERROR(VLOOKUP($A72,Filtro!$A$4:$AX$552,15,FALSE),0)","v":2},{"$f":"IFERROR(VLOOKUP($A72,Filtro!$A$4:$AX$552,16,FALSE),0)","v":1},"",{"$nulls":17},"","","","","",{"$nulls":6},0,0,0,0,0]
["P9100490","ADOLESCENTE CON ANTECEDENTE DE UN PRIMER EMBARAZO",null,{"$f":"IFERROR(VLOOKUP($A73,Filtro!$A$4:$AX$552,2,FALSE),0)","v":58},{"$f":"IFERROR(VLOOKUP($A73,Filtro!$A$4:$AX$552,3,FALSE),0)","v":3},{"$f":"IFERROR(VLOOKUP($A73,Filtro!$A$4:$AX$552,4,FALSE),0)","v":55},{"$f":"IFERROR(VLOOKUP($A73,Filtro!$A$4:$AX$552,5,FALSE),0)","v":0},{"$f":"IFERROR(VLOOKUP($A73,Filtro!$A$4:$AX$552,6,FALSE),0)","v":0},{"$f":"IFERROR(VLOOKUP($A73,Filtro!$A$4:$AX$552,7,FALSE),0)","v":0},{"$f":"IFERROR(VLOOKUP($A73,Filtro!$A$4:$AX$552,8,FALSE),0)","v":58},{"$f":"IFERROR(VLOOKUP($A73,Filtro!$A$4:$AX$552,9,FALSE),0)","v":3},{"$f":"IFERROR(VLOOKUP($A73,Filtro!$A$4:$AX$552,10,FALSE),0)","v":55},{"$f":"IFERROR(VLOOKUP($A73,Filtro!$A$4:$AX$552,11,FALSE),0)","v":5},{"$f":"IFERROR(VLOOKUP($A73,Filtro!$A$4:$AX$552,12,FALSE),0)","v":0},{"$f":"IFERROR(VLOOKUP($A73,Filtro!$A$4:$AX$552,13,FALSE),0)","v":5},{"$f":"IFERROR(VLOOKUP($A73,Filtro!$A$4:$AX$552,14,FALSE),0)","v":3},{"$f":"IFERROR(VLOOKUP($A73,Filtro!$A$4:$AX$552,15,FALSE),0)","v":0},{"$f":"IFERROR(VLOOKUP($A73,Filtro!$A$4:$AX$552,16,FALSE),0)","v":3},"",{"$nulls":17},"","","","","",{"$nulls":6},0,0,0,0,0]
["P9100500","ADOLESCENTE CON ANTECEDENTE DE MAS DE UN EMBARAZO",null,{"$f":"IFERROR(VLOOKUP($A74,Filtro!$A$4:$AX$552,2,FALSE),0)","v":7},{"$f":"IFERROR(VLOOKUP($A74,Filtro!$A$4:$AX$552,3,FALSE),0)","v":0},{"$f":"IFERROR(VLOOKUP($A74,Filtro!$A$4:$AX$552,4,FALSE),0)","v":7},{"$f":"IFERROR(VLOOKUP($A74,Filtro!$A$4:$AX$552,5,FALSE),0)","v":1},{"$f":"IFERROR(VLOOKUP($A74,Filtro!$A$4:$AX$552,6,FALSE),0)","v":0},{"$f":"IFERROR(VLOOKUP($A74,Filtro!$A$4:$AX$552,7,FALSE),0)","v":1},{"$f":"IFERROR(VLOOKUP($A74,Filtro!$A$4:$AX$552,8,FALSE),0)","v":6},{"$f":"IFERROR(VLOOKUP($A74,Filtro!$A$4:$AX$552,9,FALSE),0)","v":0},{"$f":"IFERROR(VLOOKUP($A74,Filtro!$A$4:$AX$552,10,FALSE),0)","v":6},{"$f":"IFERROR(VLOOKUP($A74,Filtro!$A$4:$AX$552,11,FALSE),0)","v":0},{"$f":"IFERROR(VLOOKUP($A74,Filtro!$A$4:$AX$552,12,FALSE),0)","v":0},{"$f":"IFERROR(VLOOKUP($A74,Filtro!$A$4:$AX$552,13,FALSE),0)","v":0},{"$f":"IFERROR(VLOOKUP($A74,Filtro!$A$4:$AX$552,14,FALSE),0)","v":0},{"$f":"IFERROR(VLOOKUP($A74,Filtro!$A$4:$AX$552,15,FALSE),0)","v":0},{"$f":"IFERROR(VLOOKUP($A74,Filtro!$A$4:$AX$552,16,FALSE),0)","v":0},"",{"$nulls":17},"","","","","",{"$nulls":6},0,0,0,0,0]
["P9100510","ADOLESCENTE CON ANTECEDENTE DE ABORTO",null,{"$f":"IFERROR(VLOOKUP($A75,Filtro!$A$4:$AX$552,2,FALSE),0)","v":14},{"$f":"IFERROR(VLOOKUP($A75,Filtro!$A$4:$AX$552,3,FALSE),0)","v":0},{"$f":"IFERROR(VLOOKUP($A75,Filtro!$A$4:$AX$552,4,FALSE),0)","v":14},{"$f":"IFERROR(VLOOKUP($A75,Filtro!$A$4:$AX$552,5,FALSE),0)","v":0},{"$f":"IFERROR(VLOOKUP($A75,Filtro!$A$4:$AX$552,6,FALSE),0)","v":0},{"$f":"IFERROR(VLOOKUP($A75,Filtro!$A$4:$AX$552,7,FALSE),0)","v":0},{"$f":"IFERROR(VLOOKUP($A75,Filtro!$A$4:$AX$552,8,FALSE),0)","v":14},{"$f":"IFERROR(VLOOKUP($A75,Filtro!$A$4:$AX$552,9,FALSE),0)","v":0},{"$f":"IFERROR(VLOOKUP($A75,Filtro!$A$4:$AX$552,10,FALSE),0)","v":14},{"$f":"IFERROR(VLOOKUP($A75,Filtro!$A$4:$AX$552,11,FALSE),0)","v":1},{"$f":"IFERROR(VLOOKUP($A75,Filtro!$A$4:$AX$552,12,FALSE),0)","v":0},{"$f":"IFERROR(VLOOKUP($A75,Filtro!$A$4:$AX$552,13,FALSE),0)","v":1},{"$f":"IFERROR(VLOOKUP($A75,Filtro!$A$4:$AX$552,14,FALSE),0)","v":0},{"$f":"IFERROR(VLOOKUP($A75,Filtro!$A$4:$AX$552,15,FALSE),0)","v":0},{"$f":"IFERROR(VLOOKUP($A75,Filtro!$A$4:$AX$552,16,FALSE),0)","v":0},"",{"$nulls":17},"","","","","",{"$nulls":6},0,0,0,0,0]
["P9100520","ADOLESCENTE QUE PRESENTA VIOLENCIA DE PAREJA/POLOLO",null,{"$f":"IFERROR(VLOOKUP($A76,Filtro!$A$4:$AX$552,2,FALSE),0)","v":17},{"$f":"IFERROR(VLOOKUP($A76,Filtro!$A$4:$AX$552,3,FALSE),0)","v":2},{"$f":"IFERROR(VLOOKUP($A76,Filtro!$A$4:$AX$552,4,FALSE),0)","v":15},{"$f":"IFERROR(VLOOKUP($A76,Filtro!$A$4:$AX$552,5,FALSE),0)","v":6},{"$f":"IFERROR(VLOOKUP($A76,Filtro!$A$4:$AX$552,6,FALSE),0)","v":1},{"$f":"IFERROR(VLOOKUP($A76,Filtro!$A$4:$AX$552,7,FALSE),0)","v":5},{"$f":"IFERROR(VLOOKUP($A76,Filtro!$A$4:$AX$552,8,FALSE),0)","v":11},{"$f":"IFERROR(VLOOKUP($A76,Filtro!$A$4:$AX$552,9,FALSE),0)","v":1},{"$f":"IFERROR(VLOOKUP($A76,Filtro!$A$4:$AX$552,10,FALSE),0)","v":10},{"$f":"IFERROR(VLOOKUP($A76,Filtro!$A$4:$AX$552,11,FALSE),0)","v":1},{"$f":"IFERROR(VLOOKUP($A76,Filtro!$A$4:$AX$552,12,FALSE),0)","v":0},{"$f":"IFERROR(VLOOKUP($A76,Filtro!$A$4:$AX$552,13,FALSE),0)","v":1},{"$f":"IFERROR(VLOOKUP($A76,Filtro!$A$4:$AX$552,14,FALSE),0)","v":1},{"$f":"IFERROR(VLOOKUP($A76,Filtro!$A$4:$AX$552,15,FALSE),0)","v":0},{"$f":"IFERROR(VLOOKUP($A76,Filtro!$A$4:$AX$552,16,FALSE),0)","v":1},"",{"$nulls":17},"","","","","",{"$nulls":6},0,0,0,0,0]
["P9100530","ADOLESCENTE QUE PRESENTA O HA SIDO VICTIMA DE VIOLENCIA SEXUAL",null,{"$f":"IFERROR(VLOOKUP($A77,Filtro!$A$4:$AX$552,2,FALSE),0)","v":38},{"$f":"IFERROR(VLOOKUP($A77,Filtro!$A$4:$AX$552,3,FALSE),0)","v":5},{"$f":"IFERROR(VLOOKUP($A77,Filtro!$A$4:$AX$552,4,FALSE),0)","v":33},{"$f":"IFERROR(VLOOKUP($A77,Filtro!$A$4:$AX$552,5,FALSE),0)","v":13},{"$f":"IFERROR(VLOOKUP($A77,Filtro!$A$4:$AX$552,6,FALSE),0)","v":3},{"$f":"IFERROR(VLOOKUP($A77,Filtro!$A$4:$AX$552,7,FALSE),0)","v":10},{"$f":"IFERROR(VLOOKUP($A77,Filtro!$A$4:$AX$552,8,FALSE),0)","v":25},{"$f":"IFERROR(VLOOKUP($A77,Filtro!$A$4:$AX$552,9,FALSE),0)","v":2},{"$f":"IFERROR(VLOOKUP($A77,Filtro!$A$4:$AX$552,10,FALSE),0)","v":23},{"$f":"IFERROR(VLOOKUP($A77,Filtro!$A$4:$AX$552,11,FALSE),0)","v":0},{"$f":"IFERROR(VLOOKUP($A77,Filtro!$A$4:$AX$552,12,FALSE),0)","v":0},{"$f":"IFERROR(VLOOKUP($A77,Filtro!$A$4:$AX$552,13,FALSE),0)","v":0},{"$f":"IFERROR(VLOOKUP($A77,Filtro!$A$4:$AX$552,14,FALSE),0)","v":0},{"$f":"IFERROR(VLOOKUP($A77,Filtro!$A$4:$AX$552,15,FALSE),0)","v":0},{"$f":"IFERROR(VLOOKUP($A77,Filtro!$A$4:$AX$552,16,FALSE),0)","v":0},"",{"$nulls":17},"","","","","",{"$nulls":6},0,0,0,0,0]
[null,"SECCION E:POBLACIÓN ADOLESCENTE QUE RECIBE CONSEJERÍA"]
[null,"ACTIVIDAD Y AREA TEMATICA","Grupos de Edad","Total de Adolescentes que reciben Consejería",null,null,"Adolescentes de Pueblos Originarios",null,null,"Adolescentes Migrantes",null,null,"Espacios Amigables"]
[]
[{"$nulls":3},"Ambos sexos","Hombre","Mujer","Ambos sexos","Hombre","Mujer","Ambos sexos","Hombre","Mujer","Ambos sexos","Hombre","Mujer"]
["P9100570","ACTIVIDAD FÍSICA","10-14 años",{"$f":"IFERROR(VLOOKUP($A82,Filtro!$A$4:$AX$552,2,FALSE),0)","v":1972},{"$f":"IFERROR(VLOOKUP($A82,Filtro!$A$4:$AX$552,3,FALSE),0)","v":872},{"$f":"IFERROR(VLOOKUP($A82,Filtro!$A$4:$AX$552,4,FALSE),0)","v":1100},{"$f":"IFERROR(VLOOKUP($A82,Filtro!$A$4:$AX$552,5,FALSE),0)","v":106},{"$f":"IFERROR(VLOOKUP($A82,Filtro!$A$4:$AX$552,6,FALSE),0)","v":44},{"$f":"IFERROR(VLOOKUP($A82,Filtro!$A$4:$AX$552,7,FALSE),0)","v":62},{"$f":"IFERROR(VLOOKUP($A82,Filtro!$A$4:$AX$552,8,FALSE),0)","v":25},{"$f":"IFERROR(VLOOKUP($A82,Filtro!$A$4:$AX$552,9,FALSE),0)","v":9},{"$f":"IFERROR(VLOOKUP($A82,Filtro!$A$4:$AX$552,10,FALSE),0)","v":16},{"$f":"IFERROR(VLOOKUP($A82,Filtro!$A$4:$AX$552,11,FALSE),0)","v":262},{"$f":"IFERROR(VLOOKUP($A82,Filtro!$A$4:$AX$552,12,FALSE),0)","v":115},{"$f":"IFERROR(VLOOKUP($A82,Filtro!$A$4:$AX$552,13,FALSE),0)","v":147},{"$f":"AJ82 & AK82 & AL82 & AM82 & AN82 & AO82","v":""},{"$nulls":19},{"$f":"IF($D82<$G82, \"* El total de Adolescentes de Pueblos Originarios no puede ser mayor al total de Adolescentes. \", \"\")","v":""},{"$f":"IF($D82<$J82, \"* El total de Adolescentes de Migrantes no puede ser mayor al total de Adolescentes. \", \"\")","v":""},{"$f":"IF($D82<$M82, \"* El total de Adolescentes de Espacios Amigables no puede ser mayor al total de Adolescentes. \", \"\")","v":""},{"$f":"IF(AND(E82<>0,H82=\"\"),\"* No olvide escribir en la celda de Pueblos Originarios (Digite CERO si no tiene). \",IF(AND(F82<>0,I82=\"\"),\"* No olvide escribir en la celda de Pueblos Originarios (Digite CERO si no tiene). \",\"\"))","v":""},{"$f":"IF(AND(E82<>0,K82=\"\"),\"* No olvide escribir en la celda de Población Migrantes (Digite CERO si no tiene). \",IF(AND(F82<>0,L82=\"\"),\"* No olvide escribir en la celda de Población Migrantes (Digite CERO si no tiene). \",\"\"))","v":""},{"$f":"IF(AND(E82<>0,N82=\"\"),\"* No olvide escribir en la celda de Espacios Amigables (Digite CERO si no tiene). \",IF(AND(F82<>0,O82=\"\"),\"* No olvide escribir en la celda de Espacios Amigables (Digite CERO si no tiene). \",\"\"))","v":""},{"$nulls":5},{"$f":"IF($D82<$G82, 1,0)","v":0},{"$f":"IF($D82<$J82, 1,0)","v":0},{"$f":"IF($D82<$M82, 1,0)","v":0},{"$f":"IF(AND(E82<>0,H82=\"\"),1,IF(AND(F82<>0,I82=\"\"),1,0))","v":0},{"$f":"IF(AND(E82<>0,K82=\"\"),1,IF(AND(F82<>0,L82=\"\"),1,0))","v":0},{"$f":"IF(AND(E82<>0,N82=\"\"),1,IF(AND(F82<>0,O82=\"\"),1,0))","v":0}]
["P9100580",null,"15 - 19 años",{"$f":"IFERROR(VLOOKUP($A83,Filtro!$A$4:$AX$552,2,FALSE),0)","v":2663},{"$f":"IFERROR(VLOOKUP($A83,Filtro!$A$4:$AX$552,3,FALSE),0)","v":990},{"$f":"IFERROR(VLOOKUP($A83,Filtro!$A$4:$AX$552,4,FALSE),0)","v":1673},{"$f":"IFERROR(VLOOKUP($A83,Filtro!$A$4:$AX$552,5,FALSE),0)","v":86},{"$f":"IFERROR(VLOOKUP($A83,Filtro!$A$4:$AX$552,6,FALSE),0)","v":30},{"$f":"IFERROR(VLOOKUP($A83,Filtro!$A$4:$AX$552,7,FALSE),0)","v":56},{"$f":"IFERROR(VLOOKUP($A83,Filtro!$A$4:$AX$552,8,FALSE),0)","v":16},{"$f":"IFERROR(VLOOKUP($A83,Filtro!$A$4:$AX$552,9,FALSE),0)","v":8},{"$f":"IFERROR(VLOOKUP($A83,Filtro!$A$4:$AX$552,10,FALSE),0)","v":8},{"$f":"IFERROR(VLOOKUP($A83,Filtro!$A$4:$AX$552,11,FALSE),0)","v":1855},{"$f":"IFERROR(VLOOKUP($A83,Filtro!$A$4:$AX$552,12,FALSE),0)","v":689},{"$f":"IFERROR(VLOOKUP($A83,Filtro!$A$4:$AX$552,13,FALSE),0)","v":1166},{"$f":"AJ83 & AK83 & AL83 & AM83 & AN83 & AO83","v":""},{"$nulls":19},"","",{"$f":"IF($D83<$M83, \"* El total de Adolescentes de Espacios Amigables no puede ser mayor al total de Adolescentes. \", \"\")","v":""},"","",{"$f":"IF(AND(E83<>0,N83=\"\"),\"* No olvide escribir en la celda de Espacios Amigables (Digite CERO si no tiene). \",IF(AND(F83<>0,O83=\"\"),\"* No olvide escribir en la celda de Espacios Amigables (Digite CERO si no tiene). \",\"\"))","v":""},{"$nulls":5},{"$f":"IF($D83<$G83, 1,0)","v":0},{"$f":"IF($D83<$J83, 1,0)","v":0},{"$f":"IF($D83<$M83, 1,0)","v":0},0,0,{"$f":"IF(AND(E83<>0,N83=\"\"),1,IF(AND(F83<>0,O83=\"\"),1,0))","v":0}]
["P9100590","ALIMENTACION SALUDABLE","10-14 años",{"$f":"IFERROR(VLOOKUP($A84,Filtro!$A$4:$AX$552,2,FALSE),0)","v":2312},{"$f":"IFERROR(VLOOKUP($A84,Filtro!$A$4:$AX$552,3,FALSE),0)","v":1034},{"$f":"IFERROR(VLOOKUP($A84,Filtro!$A$4:$AX$552,4,FALSE),0)","v":1278},{"$f":"IFERROR(VLOOKUP($A84,Filtro!$A$4:$AX$552,5,FALSE),0)","v":114},{"$f":"IFERROR(VLOOKUP($A84,Filtro!$A$4:$AX$552,6,FALSE),0)","v":50},{"$f":"IFERROR(VLOOKUP($A84,Filtro!$A$4:$AX$552,7,FALSE),0)","v":64},{"$f":"IFERROR(VLOOKUP($A84,Filtro!$A$4:$AX$552,8,FALSE),0)","v":29},{"$f":"IFERROR(VLOOKUP($A84,Filtro!$A$4:$AX$552,9,FALSE),0)","v":13},{"$f":"IFERROR(VLOOKUP($A84,Filtro!$A$4:$AX$552,10,FALSE),0)","v":16},{"$f":"IFERROR(VLOOKUP($A84,Filtro!$A$4:$AX$552,11,FALSE),0)","v":398},{"$f":"IFERROR(VLOOKUP($A84,Filtro!$A$4:$AX$552,12,FALSE),0)","v":190},{"$f":"IFERROR(VLOOKUP($A84,Filtro!$A$4:$AX$552,13,FALSE),0)","v":208},"",{"$nulls":19},"","","","","","",{"$nulls":5},0,0,0,0,0,0]
["P9100600",null,"15 - 19 años",{"$f":"IFERROR(VLOOKUP($A85,Filtro!$A$4:$AX$552,2,FALSE),0)","v":2956},{"$f":"IFERROR(VLOOKUP($A85,Filtro!$A$4:$AX$552,3,FALSE),0)","v":1039},{"$f":"IFERROR(VLOOKUP($A85,Filtro!$A$4:$AX$552,4,FALSE),0)","v":1917},{"$f":"IFERROR(VLOOKUP($A85,Filtro!$A$4:$AX$552,5,FALSE),0)","v":96},{"$f":"IFERROR(VLOOKUP($A85,Filtro!$A$4:$AX$552,6,FALSE),0)","v":32},{"$f":"IFERROR(VLOOKUP($A85,Filtro!$A$4:$AX$552,7,FALSE),0)","v":64},{"$f":"IFERROR(VLOOKUP($A85,Filtro!$A$4:$AX$552,8,FALSE),0)","v":16},{"$f":"IFERROR(VLOOKUP($A85,Filtro!$A$4:$AX$552,9,FALSE),0)","v":10},{"$f":"IFERROR(VLOOKUP($A85,Filtro!$A$4:$AX$552,10,FALSE),0)","v":6},{"$f":"IFERROR(VLOOKUP($A85,Filtro!$A$4:$AX$552,11,FALSE),0)","v":2007},{"$f":"IFERROR(VLOOKUP($A85,Filtro!$A$4:$AX$552,12,FALSE),0)","v":699},{"$f":"IFERROR(VLOOKUP($A85,Filtro!$A$4:$AX$552,13,FALSE),0)","v":1308},"",{"$nulls":19},"","","","","","",{"$nulls":5},0,0,0,0,0,0]
["P9100610","TABAQUISMO","10-14 años",{"$f":"IFERROR(VLOOKUP($A86,Filtro!$A$4:$AX$552,2,FALSE),0)","v":733},{"$f":"IFERROR(VLOOKUP($A86,Filtro!$A$4:$AX$552,3,FALSE),0)","v":355},{"$f":"IFERROR(VLOOKUP($A86,Filtro!$A$4:$AX$552,4,FALSE),0)","v":378},{"$f":"IFERROR(VLOOKUP($A86,Filtro!$A$4:$AX$552,5,FALSE),0)","v":20},{"$f":"IFERROR(VLOOKUP($A86,Filtro!$A$4:$AX$552,6,FALSE),0)","v":11},{"$f":"IFERROR(VLOOKUP($A86,Filtro!$A$4:$AX$552,7,FALSE),0)","v":9},{"$f":"IFERROR(VLOOKUP($A86,Filtro!$A$4:$AX$552,8,FALSE),0)","v":1},{"$f":"IFERROR(VLOOKUP($A86,Filtro!$A$4:$AX$552,9,FALSE),0)","v":0},{"$f":"IFERROR(VLOOKUP($A86,Filtro!$A$4:$AX$552,10,FALSE),0)","v":1},{"$f":"IFERROR(VLOOKUP($A86,Filtro!$A$4:$AX$552,11,FALSE),0)","v":50},{"$f":"IFERROR(VLOOKUP($A86,Filtro!$A$4:$AX$552,12,FALSE),0)","v":23},{"$f":"IFERROR(VLOOKUP($A86,Filtro!$A$4:$AX$552,13,FALSE),0)","v":27},"",{"$nulls":19},"","","","","","",{"$nulls":5},0,0,0,0,0,0]
["P9100620",null,"15 - 19 años",{"$f":"IFERROR(VLOOKUP($A87,Filtro!$A$4:$AX$552,2,FALSE),0)","v":958},{"$f":"IFERROR(VLOOKUP($A87,Filtro!$A$4:$AX$552,3,FALSE),0)","v":399},{"$f":"IFERROR(VLOOKUP($A87,Filtro!$A$4:$AX$552,4,FALSE),0)","v":559},{"$f":"IFERROR(VLOOKUP($A87,Filtro!$A$4:$AX$552,5,FALSE),0)","v":16},{"$f":"IFERROR(VLOOKUP($A87,Filtro!$A$4:$AX$552,6,FALSE),0)","v":8},{"$f":"IFERROR(VLOOKUP($A87,Filtro!$A$4:$AX$552,7,FALSE),0)","v":8},{"$f":"IFERROR(VLOOKUP($A87,Filtro!$A$4:$AX$552,8,FALSE),0)","v":1},{"$f":"IFERROR(VLOOKUP($A87,Filtro!$A$4:$AX$552,9,FALSE),0)","v":1},{"$f":"IFERROR(VLOOKUP($A87,Filtro!$A$4:$AX$552,10,FALSE),0)","v":0},{"$f":"IFERROR(VLOOKUP($A87,Filtro!$A$4:$AX$552,11,FALSE),0)","v":641},{"$f":"IFERROR(VLOOKUP($A87,Filtro!$A$4:$AX$552,12,FALSE),0)","v":253},{"$f":"IFERROR(VLOOKUP($A87,Filtro!$A$4:$AX$552,13,FALSE),0)","v":388},"",{"$nulls":19},"","","","","","",{"$nulls":5},0,0,0,0,0,0]
["P9100630","CONSUMO DE DROGAS","10-14 años",{"$f":"IFERROR(VLOOKUP($A88,Filtro!$A$4:$AX$552,2,FALSE),0)","v":816},{"$f":"IFERROR(VLOOKUP($A88,Filtro!$A$4:$AX$552,3,FALSE),0)","v":395},{"$f":"IFERROR(VLOOKUP($A88,Filtro!$A$4:$AX$552,4,FALSE),0)","v":421},{"$f":"IFERROR(VLOOKUP($A88,Filtro!$A$4:$AX$552,5,FALSE),0)","v":16},{"$f":"IFERROR(VLOOKUP($A88,Filtro!$A$4:$AX$552,6,FALSE),0)","v":9},{"$f":"IFERROR(VLOOKUP($A88,Filtro!$A$4:$AX$552,7,FALSE),0)","v":7},{"$f":"IFERROR(VLOOKUP($A88,Filtro!$A$4:$AX$552,8,FALSE),0)","v":5},{"$f":"IFERROR(VLOOKUP($A88,Filtro!$A$4:$AX$552,9,FALSE),0)","v":4},{"$f":"IFERROR(VLOOKUP($A88,Filtro!$A$4:$AX$552,10,FALSE),0)","v":1},{"$f":"IFERROR(VLOOKUP($A88,Filtro!$A$4:$AX$552,11,FALSE),0)","v":103},{"$f":"IFERROR(VLOOKUP($A88,Filtro!$A$4:$AX$552,12,FALSE),0)","v":34},{"$f":"IFERROR(VLOOKUP($A88,Filtro!$A$4:$AX$552,13,FALSE),0)","v":69},"",{"$nulls":19},"","","","","","",{"$nulls":5},0,0,0,0,0,0]
["P9100640",null,"15 - 19 años",{"$f":"IFERROR(VLOOKUP($A89,Filtro!$A$4:$AX$552,2,FALSE),0)","v":1328},{"$f":"IFERROR(VLOOKUP($A89,Filtro!$A$4:$AX$552,3,FALSE),0)","v":470},{"$f":"IFERROR(VLOOKUP($A89,Filtro!$A$4:$AX$552,4,FALSE),0)","v":858},{"$f":"IFERROR(VLOOKUP($A89,Filtro!$A$4:$AX$552,5,FALSE),0)","v":23},{"$f":"IFERROR(VLOOKUP($A89,Filtro!$A$4:$AX$552,6,FALSE),0)","v":8},{"$f":"IFERROR(VLOOKUP($A89,Filtro!$A$4:$AX$552,7,FALSE),0)","v":15},{"$f":"IFERROR(VLOOKUP($A89,Filtro!$A$4:$AX$552,8,FALSE),0)","v":6},{"$f":"IFERROR(VLOOKUP($A89,Filtro!$A$4:$AX$552,9,FALSE),0)","v":3},{"$f":"IFERROR(VLOOKUP($A89,Filtro!$A$4:$AX$552,10,FALSE),0)","v":3},{"$f":"IFERROR(VLOOKUP($A89,Filtro!$A$4:$AX$552,11,FALSE),0)","v":1007},{"$f":"IFERROR(VLOOKUP($A89,Filtro!$A$4:$AX$552,12,FALSE),0)","v":344},{"$f":"IFERROR(VLOOKUP($A89,Filtro!$A$4:$AX$552,13,FALSE),0)","v":663},"",{"$nulls":19},"","","","","","",{"$nulls":5},0,0,0,0,0,0]
["P9100650","SALUD SEXUAL REPRODUCTIVA","10-14 años",{"$f":"IFERROR(VLOOKUP($A90,Filtro!$A$4:$AX$552,2,FALSE),0)","v":1192},{"$f":"IFERROR(VLOOKUP($A90,Filtro!$A$4:$AX$552,3,FALSE),0)","v":456},{"$f":"IFERROR(VLOOKUP($A90,Filtro!$A$4:$AX$552,4,FALSE),0)","v":736},{"$f":"IFERROR(VLOOKUP($A90,Filtro!$A$4:$AX$552,5,FALSE),0)","v":40},{"$f":"IFERROR(VLOOKUP($A90,Filtro!$A$4:$AX$552,6,FALSE),0)","v":15},{"$f":"IFERROR(VLOOKUP($A90,Filtro!$A$4:$AX$552,7,FALSE),0)","v":25},{"$f":"IFERROR(VLOOKUP($A90,Filtro!$A$4:$AX$552,8,FALSE),0)","v":8},{"$f":"IFERROR(VLOOKUP($A90,Filtro!$A$4:$AX$552,9,FALSE),0)","v":1},{"$f":"IFERROR(VLOOKUP($A90,Filtro!$A$4:$AX$552,10,FALSE),0)","v":7},{"$f":"IFERROR(VLOOKUP($A90,Filtro!$A$4:$AX$552,11,FALSE),0)","v":155},{"$f":"IFERROR(VLOOKUP($A90,Filtro!$A$4:$AX$552,12,FALSE),0)","v":38},{"$f":"IFERROR(VLOOKUP($A90,Filtro!$A$4:$AX$552,13,FALSE),0)","v":117},"",{"$nulls":19},"","","","","","",{"$nulls":5},0,0,0,0,0,0]
["P9100660",null,"15 - 19 años",{"$f":"IFERROR(VLOOKUP($A91,Filtro!$A$4:$AX$552,2,FALSE),0)","v":2446},{"$f":"IFERROR(VLOOKUP($A91,Filtro!$A$4:$AX$552,3,FALSE),0)","v":558},{"$f":"IFERROR(VLOOKUP($A91,Filtro!$A$4:$AX$552,4,FALSE),0)","v":1888},{"$f":"IFERROR(VLOOKUP($A91,Filtro!$A$4:$AX$552,5,FALSE),0)","v":43},{"$f":"IFERROR(VLOOKUP($A91,Filtro!$A$4:$AX$552,6,FALSE),0)","v":13},{"$f":"IFERROR(VLOOKUP($A91,Filtro!$A$4:$AX$552,7,FALSE),0)","v":30},{"$f":"IFERROR(VLOOKUP($A91,Filtro!$A$4:$AX$552,8,FALSE),0)","v":17},{"$f":"IFERROR(VLOOKUP($A91,Filtro!$A$4:$AX$552,9,FALSE),0)","v":5},{"$f":"IFERROR(VLOOKUP($A91,Filtro!$A$4:$AX$552,10,FALSE),0)","v":12},{"$f":"IFERROR(VLOOKUP($A91,Filtro!$A$4:$AX$552,11,FALSE),0)","v":1646},{"$f":"IFERROR(VLOOKUP($A91,Filtro!$A$4:$AX$552,12,FALSE),0)","v":339},{"$f":"IFERROR(VLOOKUP($A91,Filtro!$A$4:$AX$552,13,FALSE),0)","v":1307},"",{"$nulls":19},"","","","","","",{"$nulls":5},0,0,0,0,0,0]
["P9100670","REGULACION DE FECUNDIDAD","10-14 años",{"$f":"IFERROR(VLOOKUP($A92,Filtro!$A$4:$AX$552,2,FALSE),0)","v":404},{"$f":"IFERROR(VLOOKUP($A92,Filtro!$A$4:$AX$552,3,FALSE),0)","v":103},{"$f":"IFERROR(VLOOKUP($A92,Filtro!$A$4:$AX$552,4,FALSE),0)","v":301},{"$f":"IFERROR(VLOOKUP($A92,Filtro!$A$4:$AX$552,5,FALSE),0)","v":18},{"$f":"IFERROR(VLOOKUP($A92,Filtro!$A$4:$AX$552,6,FALSE),0)","v":7},{"$f":"IFERROR(VLOOKUP($A92,Filtro!$A$4:$AX$552,7,FALSE),0)","v":11},{"$f":"IFERROR(VLOOKUP($A92,Filtro!$A$4:$AX$552,8,FALSE),0)","v":5},{"$f":"IFERROR(VLOOKUP($A92,Filtro!$A$4:$AX$552,9,FALSE),0)","v":0},{"$f":"IFERROR(VLOOKUP($A92,Filtro!$A$4:$AX$552,10,FALSE),0)","v":5},{"$f":"IFERROR(VLOOKUP($A92,Filtro!$A$4:$AX$552,11,FALSE),0)","v":110},{"$f":"IFERROR(VLOOKUP($A92,Filtro!$A$4:$AX$552,12,FALSE),0)","v":3},{"$f":"IFERROR(VLOOKUP($A92,Filtro!$A$4:$AX$552,13,FALSE),0)","v":107},"",{"$nulls":19},"","","","","","",{"$nulls":5},0,0,0,0,0,0]
["P9100680",null,"15 - 19 años",{"$f":"IFERROR(VLOOKUP($A93,Filtro!$A$4:$AX$552,2,FALSE),0)","v":1582},{"$f":"IFERROR(VLOOKUP($A93,Filtro!$A$4:$AX$552,3,FALSE),0)","v":60},{"$f":"IFERROR(VLOOKUP($A93,Filtro!$A$4:$AX$552,4,FALSE),0)","v":1522},{"$f":"IFERROR(VLOOKUP($A93,Filtro!$A$4:$AX$552,5,FALSE),0)","v":25},{"$f":"IFERROR(VLOOKUP($A93,Filtro!$A$4:$AX$552,6,FALSE),0)","v":2},{"$f":"IFERROR(VLOOKUP($A93,Filtro!$A$4:$AX$552,7,FALSE),0)","v":23},{"$f":"IFERROR(VLOOKUP($A93,Filtro!$A$4:$AX$552,8,FALSE),0)","v":11},{"$f":"IFERROR(VLOOKUP($A93,Filtro!$A$4:$AX$552,9,FALSE),0)","v":2},{"$f":"IFERROR(VLOOKUP($A93,Filtro!$A$4:$AX$552,10,FALSE),0)","v":9},{"$f":"IFERROR(VLOOKUP($A93,Filtro!$A$4:$AX$552,11,FALSE),0)","v":1082},{"$f":"IFERROR(VLOOKUP($A93,Filtro!$A$4:$AX$552,12,FALSE),0)","v":11},{"$f":"IFERROR(VLOOKUP($A93,Filtro!$A$4:$AX$552,13,FALSE),0)","v":1071},"",{"$nulls":19},"","","","","","",{"$nulls":5},0,0,0,0,0,0]
["P9100690","PREVENCION VIH-ITS","10-14 años",{"$f":"IFERROR(VLOOKUP($A94,Filtro!$A$4:$AX$552,2,FALSE),0)","v":681},{"$f":"IFERROR(VLOOKUP($A94,Filtro!$A$4:$AX$552,3,FALSE),0)","v":257},{"$f":"IFERROR(VLOOKUP($A94,Filtro!$A$4:$AX$552,4,FALSE),0)","v":424},{"$f":"IFERROR(VLOOKUP($A94,Filtro!$A$4:$AX$552,5,FALSE),0)","v":27},{"$f":"IFERROR(VLOOKUP($A94,Filtro!$A$4:$AX$552,6,FALSE),0)","v":11},{"$f":"IFERROR(VLOOKUP($A94,Filtro!$A$4:$AX$552,7,FALSE),0)","v":16},{"$f":"IFERROR(VLOOKUP($A94,Filtro!$A$4:$AX$552,8,FALSE),0)","v":6},{"$f":"IFERROR(VLOOKUP($A94,Filtro!$A$4:$AX$552,9,FALSE),0)","v":2},{"$f":"IFERROR(VLOOKUP($A94,Filtro!$A$4:$AX$552,10,FALSE),0)","v":4},{"$f":"IFERROR(VLOOKUP($A94,Filtro!$A$4:$AX$552,11,FALSE),0)","v":202},{"$f":"IFERROR(VLOOKUP($A94,Filtro!$A$4:$AX$552,12,FALSE),0)","v":46},{"$f":"IFERROR(VLOOKUP($A94,Filtro!$A$4:$AX$552,13,FALSE),0)","v":156},"",{"$nulls":19},"","","","","","",{"$nulls":5},0,0,0,0,0,0]
["P9100700",null,"15 - 19 años",{"$f":"IFERROR(VLOOKUP($A95,Filtro!$A$4:$AX$552,2,FALSE),0)","v":2478},{"$f":"IFERROR(VLOOKUP($A95,Filtro!$A$4:$AX$552,3,FALSE),0)","v":540},{"$f":"IFERROR(VLOOKUP($A95,Filtro!$A$4:$AX$552,4,FALSE),0)","v":1938},{"$f":"IFERROR(VLOOKUP($A95,Filtro!$A$4:$AX$552,5,FALSE),0)","v":39},{"$f":"IFERROR(VLOOKUP($A95,Filtro!$A$4:$AX$552,6,FALSE),0)","v":6},{"$f":"IFERROR(VLOOKUP($A95,Filtro!$A$4:$AX$552,7,FALSE),0)","v":33},{"$f":"IFERROR(VLOOKUP($A95,Filtro!$A$4:$AX$552,8,FALSE),0)","v":18},{"$f":"IFERROR(VLOOKUP($A95,Filtro!$A$4:$AX$552,9,FALSE),0)","v":6},{"$f":"IFERROR(VLOOKUP($A95,Filtro!$A$4:$AX$552,10,FALSE),0)","v":12},{"$f":"IFERROR(VLOOKUP($A95,Filtro!$A$4:$AX$552,11,FALSE),0)","v":1964},{"$f":"IFERROR(VLOOKUP($A95,Filtro!$A$4:$AX$552,12,FALSE),0)","v":397},{"$f":"IFERROR(VLOOKUP($A95,Filtro!$A$4:$AX$552,13,FALSE),0)","v":1567},"",{"$nulls":19},"","","","","","",{"$nulls":5},0,0,0,0,0,0]
[]
[]
[]
[]
[]
[null,{"$f":"SUM(D12:R40,D46:R51,D57:R62,D68:R77,D82:O95)","v":488664},"datos"]
[null,{"$f":"SUM(AU11:AZ96)","v":2},"errores"]

{"sheet":"P11","index":9,"n_rows":35,"n_cols":75,"rows_kept":35,"merged":[[6,1,6,17],[8,1,10,3],[8,4,9,6],[8,7,8,44],[8,45,9,46],[8,47,10,47],[8,48,10,48],[8,49,10,49],[8,55,9,56],[8,57,10,57],[8,58,10,58],[8,59,10,59],[8,60,9,60],[8,61,9,61],[8,62,9,62],[8,63,9,63],[8,66,9,67],[8,68,10,68],[8,69,10,69],[8,70,10,70],[8,71,9,71],[8,72,9,72],[8,73,9,73],[8,74,9,74],[9,7,9,8],[9,9,9,10],[9,11,9,12],[9,13,9,14],[9,15,9,16],[9,17,9,18],[9,19,9,20],[9,21,9,22],[9,23,9,24],[9,25,9,26],[9,27,9,28],[9,29,9,30],[9,31,9,32],[9,33,9,34],[9,35,9,36],[9,37,9,38],[9,39,9,40],[9,41,9,42],[9,43,9,44],[11,1,14,1],[11,2,12,2],[13,2,14,2],[16,1,18,1],[16,2,17,4],[16,5,16,32],[16,33,17,34],[16,35,18,35],[16,36,18,36],[16,56,17,57],[16,58,18,58],[16,59,18,59],[16,60,17,60],[16,61,17,61],[16,62,17,62],[16,67,17,68],[16,69,18,69],[16,70,18,70],[16,71,17,71],[16,72,17,72],[16,73,17,73],[17,5,17,6],[17,7,17,8],[17,9,17,10],[17,11,17,12],[17,13,17,14],[17,15,17,16],[17,17,17,18],[17,19,17,20],[17,21,17,22],[17,23,17,24],[17,25,17,26],[17,27,17,28],[17,29,17,30],[17,31,17,32]]}
[]
[]
[]
[]
[]
[]
[null,"REM-P11. Población EN CONTROL PROGRAMA DE INFECCIONES DE TRASMISIÓN SEXUAL - VIH / SIDA"]
[null,"SECCION A: Población EN CONTROL DEL PROGRAMA DE VIH/SIDA (Uso exclusivo Centros de Atención VIH-SIDA)"]
[null,"CONCEPTO",null,null,"TOTAL",null,null,"GRUPOS DE EDAD (en años)",{"$nulls":37},"TRANS",null,"Pueblos Originarios","Población Migrantes","Niños, Niñas, Adolescentes y Jóvenes Población SENAME",{"$nulls":5},"TRANS",null,"Pueblos Originarios","Población Migrantes","Población SENAME","TRANS","Pueblos Originarios","Población Migrantes","Población SENAME",null,null,"TRANS",null,"Pueblos Originarios","Población Migrantes","Población SENAME","TRANS","Pueblos Originarios","Población Migrantes","Población SENAME"]
[{"$nulls":7},"Menor 1 Año",null,"1 año",null,"2 a 4 años",null,"5 a 9 años",null,"10 a 14 años",null,"15 a 19 años",null,"20 a 24 años",null,"25 a 29 años",null,"30 a 34 años",null,"35 a 39 años",null,"40 a 44 años",null,"45 a 49 años",null,"50 a 54 años",null,"55 a 59 años",null,"60 a 64 años",null,"65 a 69 años",null,"70 a 74 años",null,"75 a 79 años",null,"80 y más años"]
[{"$nulls":4},"Ambos\nsexos","Hombres","Mujeres","Hombres ","Mujeres","Hombres ","Mujeres","Hombres ","Mujeres","Hombres ","Mujeres","Hombres ","Mujeres","Hombres ","Mujeres","Hombres ","Mujeres","Hombres ","Mujeres","Hombres ","Mujeres","Hombres ","Mujeres","Hombres ","Mujeres","Hombres ","Mujeres","Hombres ","Mujeres","Hombres ","Mujeres","Hombres ","Mujeres","Hombres ","Mujeres","Hombres ","Mujeres","Hombres ","Mujeres","Hombres ","Mujeres","Masculino","Femenino",{"$nulls":8},"Masculino","Femenino (NO)",{"$nulls":3},"No Olvide","No Olvide","No Olvide","No Olvide",null,null,"Masculino","Femenino (NO)",{"$nulls":3},"No Olvide","No Olvide","No Olvide","No Olvide"]
["P11000150","Nº TOTAL DE PERSONAS CON VIH/SIDA","GESTANTES","Inicia TARV en este embarazo",{"$f":"IFERROR(VLOOKUP($A12,Filtro!$A$4:$AX$552,2,FALSE),0)","v":2},{"$f":"IFERROR(VLOOKUP($A12,Filtro!$A$4:$AX$552,3,FALSE),0)","v":0},{"$f":"IFERROR(VLOOKUP($A12,Filtro!$A$4:$AX$552,4,FALSE),0)","v":2},{"$f":"IFERROR(VLOOKUP($A12,Filtro!$A$4:$AX$552,5,FALSE),0)","v":0},{"$f":"IFERROR(VLOOKUP($A12,Filtro!$A$4:$AX$552,6,FALSE),0)","v":0},{"$f":"IFERROR(VLOOKUP($A12,Filtro!$A$4:$AX$552,7,FALSE),0)","v":0},{"$f":"IFERROR(VLOOKUP($A12,Filtro!$A$4:$AX$552,8,FALSE),0)","v":0},{"$f":"IFERROR(VLOOKUP($A12,Filtro!$A$4:$AX$552,9,FALSE),0)","v":0},{"$f":"IFERROR(VLOOKUP($A12,Filtro!$A$4:$AX$552,10,FALSE),0)","v":0},{"$f":"IFERROR(VLOOKUP($A12,Filtro!$A$4:$AX$552,11,FALSE),0)","v":0},{"$f":"IFERROR(VLOOKUP($A12,Filtro!$A$4:$AX$552,12,FALSE),0)","v":0},{"$f":"IFERROR(VLOOKUP($A12,Filtro!$A$4:$AX$552,13,FALSE),0)","v":0},{"$f":"IFERROR(VLOOKUP($A12,Filtro!$A$4:$AX$552,14,FALSE),0)","v":0},{"$f":"IFERROR(VLOOKUP($A12,Filtro!$A$4:$AX$552,15,FALSE),0)","v":0},{"$f":"IFERROR(VLOOKUP($A12,Filtro!$A$4:$AX$552,16,FALSE),0)","v":0},{"$f":"IFERROR(VLOOKUP($A12,Filtro!$A$4:$AX$552,17,FALSE),0)","v":0},{"$f":"IFERROR(VLOOKUP($A12,Filtro!$A$4:$AX$552,18,FALSE),0)","v":1},{"$f":"IFERROR(VLOOKUP($A12,Filtro!$A$4:$AX$552,19,FALSE),0)","v":0},{"$f":"IFERROR(VLOOKUP($A12,Filtro!$A$4:$AX$552,20,FALSE),0)","v":0},{"$f":"IFERROR(VLOOKUP($A12,Filtro!$A$4:$AX$552,21,FALSE),0)","v":0},{"$f":"IFERROR(VLOOKUP($A12,Filtro!$A$4:$AX$552,22,FALSE),0)","v":0},{"$f":"IFERROR(VLOOKUP($A12,Filtro!$A$4:$AX$552,23,FALSE),0)","v":0},{"$f":"IFERROR(VLOOKUP($A12,Filtro!$A$4:$AX$552,24,FALSE),0)","v":1},{"$f":"IFERROR(VLOOKUP($A12,Filtro!$A$4:$AX$552,25,FALSE),0)","v":0},{"$f":"IFERROR(VLOOKUP($A12,Filtro!$A$4:$AX$552,26,FALSE),0)","v":0},{"$f":"IFERROR(VLOOKUP($A12,Filtro!$A$4:$AX$552,27,FALSE),0)","v":0},{"$f":"IFERROR(VLOOKUP($A12,Filtro!$A$4:$AX$552,28,FALSE),0)","v":0},{"$f":"IFERROR(VLOOKUP($A12,Filtro!$A$4:$AX$552,29,FALSE),0)","v":0},{"$f":"IFERROR(VLOOKUP($A12,Filtro!$A$4:$AX$552,30,FALSE),0)","v":0},{"$f":"IFERROR(VLOOKUP($A12,Filtro!$A$4:$AX$552,31,FALSE),0)","v":0},{"$f":"IFERROR(VLOOKUP($A12,Filtro!$A$4:$AX$552,32,FALSE),0)","v":0},{"$f":"IFERROR(VLOOKUP($A12,Filtro!$A$4:$AX$552,33,FALSE),0)","v":0},{"$f":"IFERROR(VLOOKUP($A12,Filtro!$A$4:$AX$552,34,FALSE),0)","v":0},{"$f":"IFERROR(VLOOKUP($A12,Filtro!$A$4:$AX$552,35,FALSE),0)","v":0},{"$f":"IFERROR(VLOOKUP($A12,Filtro!$A$4:$AX$552,36,FALSE),0)","v":0},{"$f":"IFERROR(VLOOKUP($A12,Filtro!$A$4:$AX$552,37,FALSE),0)","v":0},{"$f":"IFERROR(VLOOKUP($A12,Filtro!$A$4:$AX$552,38,FALSE),0)","v":0},{"$f":"IFERROR(VLOOKUP($A12,Filtro!$A$4:$AX$552,39,FALSE),0)","v":0},{"$f":"IFERROR(VLOOKUP($A12,Filtro!$A$4:$AX$552,40,FALSE),0)","v":0},{"$f":"IFERROR(VLOOKUP($A12,Filtro!$A$4:$AX$552,41,FALSE),0)","v":0},{"$f":"IFERROR(VLOOKUP($A12,Filtro!$A$4:$AX$552,42,FALSE),0)","v":0},{"$f":"IFERROR(VLOOKUP($A12,Filtro!$A$4:$AX$552,43,FALSE),0)","v":0},{"$f":"IFERROR(VLOOKUP($A12,Filtro!$A$4:$AX$552,44,FALSE),0)","v":0},{"$f":"IFERROR(VLOOKUP($A12,Filtro!$A$4:$AX$552,45,FALSE),0)","v":0},{"$f":"IFERROR(VLOOKUP($A12,Filtro!$A$4:$AX$552,46,FALSE),0)","v":1},{"$f":"IFERROR(VLOOKUP($A12,Filtro!$A$4:$AX$552,47,FALSE),0)","v":0},{"$f":"BD12&BE12&BF12&BG12&BH12&BI12&BJ12&BK12&BL12","v":""},{"$nulls":4},{"$f":"IF(($AT12+$AU12)<=$G12,\"\",\"* La suma de las celdas 'Trans' no debe ser mayor al Total de personas bajo control. \")","v":""},null,{"$f":"IF($AV12<=$G12,\"\",\"* La celda de 'Pueblos Originarios' no debe ser mayor al Total de personas bajo control. \")","v":""},{"$f":"IF($AW12<=$G12,\"\",\"* La celda de 'Población Migrantes' no debe ser mayor al Total de personas bajo control. \")","v":""},{"$f":"IF($AX12<=$G12,\"\",\"* La celda de 'Población SENAME' no debe ser mayor al Total de personas bajo control. \")","v":""},{"$f":"IF(AND($G12<>0,$AU12=\"\"),\"* No olvide escribir en la celda de Trans (Digite CERO si no tiene). \",IF(AND(E12<>0,AT12=\"\"),\"* No olvide escribir en la celda Trans (Digite CERO si no tiene). \",\"\"))","v":""},{"$f":"IF(AND($G12<>0,$AV12=\"\"),\"* No olvide escribir en la celda de Pueblos Originarios (Digite CERO si no tiene). \",\"\")","v":""},{"$f":"IF(AND($G12<>0,$AW12=\"\"),\"* No olvide escribir en la celda de Población Migrantes (Digite CERO si no tiene). \",\"\")","v":""},{"$f":"IF(AND($G12<>0,$AX12=\"\"),\"* No olvide escribir en la celda de Población SENAME (Digite CERO si no tiene). \",\"\")","v":""},null,null,{"$f":"IF(($AT12+$AU12)<=$G12,0,1)","v":0},null,{"$f":"IF($AV12<=$G12,0,1)","v":0},{"$f":"IF($AW12<=$G12,0,1)","v":0},{"$f":"IF($AX12<=$G12,0,1)","v":0},{"$f":"IF(AND($G12<>0,$AU12=\"\"),1,0)","v":0},{"$f":"IF(AND($G12<>0,$AV12=\"\"),1,0)","v":0},{"$f":"IF(AND($G12<>0,$AW12=\"\"),1,0)","v":0},{"$f":"IF(AND($G12<>0,$AX12=\"\"),1,0)","v":0}]
["P11000160",null,null,"en TARV previa",{"$f":"IFERROR(VLOOKUP($A13,Filtro!$A$4:$AX$552,2,FALSE),0)","v":14},{"$f":"IFERROR(VLOOKUP($A13,Filtro!$A$4:$AX$552,3,FALSE),0)","v":0},{"$f":"IFERROR(VLOOKUP($A13,Filtro!$A$4:$AX$552,4,FALSE),0)","v":14},{"$f":"IFERROR(VLOOKUP($A13,Filtro!$A$4:$AX$552,5,FALSE),0)","v":0},{"$f":"IFERROR(VLOOKUP($A13,Filtro!$A$4:$AX$552,6,FALSE),0)","v":0},{"$f":"IFERROR(VLOOKUP($A13,Filtro!$A$4:$AX$552,7,FALSE),0)","v":0},{"$f":"IFERROR(VLOOKUP($A13,Filtro!$A$4:$AX$552,8,FALSE),0)","v":0},{"$f":"IFERROR(VLOOKUP($A13,Filtro!$A$4:$AX$552,9,FALSE),0)","v":0},{"$f":"IFERROR(VLOOKUP($A13,Filtro!$A$4:$AX$552,10,FALSE),0)","v":0},{"$f":"IFERROR(VLOOKUP($A13,Filtro!$A$4:$AX$552,11,FALSE),0)","v":0},{"$f":"IFERROR(VLOOKUP($A13,Filtro!$A$4:$AX$552,12,FALSE),0)","v":0},{"$f":"IFERROR(VLOOKUP($A13,Filtro!$A$4:$AX$552,13,FALSE),0)","v":0},{"$f":"IFERROR(VLOOKUP($A13,Filtro!$A$4:$AX$552,14,FALSE),0)","v":0},{"$f":"IFERROR(VLOOKUP($A13,Filtro!$A$4:$AX$552,15,FALSE),0)","v":0},{"$f":"IFERROR(VLOOKUP($A13,Filtro!$A$4:$AX$552,16,FALSE),0)","v":0},{"$f":"IFERROR(VLOOKUP($A13,Filtro!$A$4:$AX$552,17,FALSE),0)","v":0},{"$f":"IFERROR(VLOOKUP($A13,Filtro!$A$4:$AX$552,18,FALSE),0)","v":0},{"$f":"IFERROR(VLOOKUP($A13,Filtro!$A$4:$AX$552,19,FALSE),0)","v":0},{"$f":"IFERROR(VLOOKUP($A13,Filtro!$A$4:$AX$552,20,FALSE),0)","v":6},{"$f":"IFERROR(VLOOKUP($A13,Filtro!$A$4:$AX$552,21,FALSE),0)","v":0},{"$f":"IFERROR(VLOOKUP($A13,Filtro!$A$4:$AX$552,22,FALSE),0)","v":8},{"$f":"IFERROR(VLOOKUP($A13,Filtro!$A$4:$AX$552,23,FALSE),0)","v":0},{"$f":"IFERROR(VLOOKUP($A13,Filtro!$A$4:$AX$552,24,FALSE),0)","v":0},{"$f":"IFERROR(VLOOKUP($A13,Filtro!$A$4:$AX$552,25,FALSE),0)","v":0},{"$f":"IFERROR(VLOOKUP($A13,Filtro!$A$4:$AX$552,26,FALSE),0)","v":0},{"$f":"IFERROR(VLOOKUP($A13,Filtro!$A$4:$AX$552,27,FALSE),0)","v":0},{"$f":"IFERROR(VLOOKUP($A13,Filtro!$A$4:$AX$552,28,FALSE),0)","v":0},{"$f":"IFERROR(VLOOKUP($A13,Filtro!$A$4:$AX$552,29,FALSE),0)","v":0},{"$f":"IFERROR(VLOOKUP($A13,Filtro!$A$4:$AX$552,30,FALSE),0)","v":0},{"$f":"IFERROR(VLOOKUP($A13,Filtro!$A$4:$AX$552,31,FALSE),0)","v":0},{"$f":"IFERROR(VLOOKUP($A13,Filtro!$A$4:$AX$552,32,FALSE),0)","v":0},{"$f":"IFERROR(VLOOKUP($A13,Filtro!$A$4:$AX$552,33,FALSE),0)","v":0},{"$f":"IFERROR(VLOOKUP($A13,Filtro!$A$4:$AX$552,34,FALSE),0)","v":0},{"$f":"IFERROR(VLOOKUP($A13,Filtro!$A$4:$AX$552,35,FALSE),0)","v":0},{"$f":"IFERROR(VLOOKUP($A13,Filtro!$A$4:$AX$552,36,FALSE),0)","v":0},{"$f":"IFERROR(VLOOKUP($A13,Filtro!$A$4:$AX$552,37,FALSE),0)","v":0},{"$f":"IFERROR(VLOOKUP($A13,Filtro!$A$4:$AX$552,38,FALSE),0)","v":0},{"$f":"IFERROR(VLOOKUP($A13,Filtro!$A$4:$AX$552,39,FALSE),0)","v":0},{"$f":"IFERROR(VLOOKUP($A13,Filtro!$A$4:$AX$552,40,FALSE),0)","v":0},{"$f":"IFERROR(VLOOKUP($A13,Filtro!$A$4:$AX$552,41,FALSE),0)","v":0},{"$f":"IFERROR(VLOOKUP($A13,Filtro!$A$4:$AX$552,42,FALSE),0)","v":0},{"$f":"IFERROR(VLOOKUP($A13,Filtro!$A$4:$AX$552,43,FALSE),0)","v":0},{"$f":"IFERROR(VLOOKUP($A13,Filtro!$A$4:$AX$552,44,FALSE),0)","v":0},{"$f":"IFERROR(VLOOKUP($A13,Filtro!$A$4:$AX$552,45,FALSE),0)","v":0},{"$f":"IFERROR(VLOOKUP($A13,Filtro!$A$4:$AX$552,46,FALSE),0)","v":1},{"$f":"IFERROR(VLOOKUP($A13,Filtro!$A$4:$AX$552,47,FALSE),0)","v":0},{"$f":"BD13&BE13&BF13&BG13&BH13&BI13&BJ13&BK13&BL13","v":""},{"$nulls":4},{"$f":"IF(($AT13+$AU13)<=$G13,\"\",\"* La suma de las celdas 'Trans' no debe ser mayor al Total de personas bajo control. \")","v":""},null,{"$f":"IF($AV13<=$G13,\"\",\"* La celda de 'Pueblos Originarios' no debe ser mayor al Total de personas bajo control. \")","v":""},{"$f":"IF($AW13<=$G13,\"\",\"* La celda de 'Población Migrantes' no debe ser mayor al Total de personas bajo control. \")","v":""},{"$f":"IF($AX13<=$G13,\"\",\"* La celda de 'Población SENAME' no debe ser mayor al Total de personas bajo control. \")","v":""},{"$f":"IF(AND($G13<>0,$AU13=\"\"),\"* No olvide escribir en la celda de Trans (Digite CERO si no tiene). \",IF(AND(E13<>0,AT13=\"\"),\"* No olvide escribir en la celda Trans (Digite CERO si no tiene). \",\"\"))","v":""},{"$f":"IF(AND($G13<>0,$AV13=\"\"),\"* No olvide escribir en la celda de Pueblos Originarios (Digite CERO si no tiene). \",\"\")","v":""},{"$f":"IF(AND($G13<>0,$AW13=\"\"),\"* No olvide escribir en la celda de Población Migrantes (Digite CERO si no tiene). \",\"\")","v":""},{"$f":"IF(AND($G13<>0,$AX13=\"\"),\"* No olvide escribir en la celda de Población SENAME (Digite CERO si no tiene). \",\"\")","v":""},null,null,{"$f":"IF(($AT13+$AU13)<=$G13,0,1)","v":0},null,{"$f":"IF($AV13<=$G13,0,1)","v":0},{"$f":"IF($AW13<=$G13,0,1)","v":0},{"$f":"IF($AX13<=$G13,0,1)","v":0},{"$f":"IF(AND($G13<>0,$AU13=\"\"),1,0)","v":0},{"$f":"IF(AND($G13<>0,$AV13=\"\"),1,0)","v":0},{"$f":"IF(AND($G13<>0,$AW13=\"\"),1,0)","v":0},{"$f":"IF(AND($G13<>0,$AX13=\"\"),1,0)","v":0}]
["P11000170",null,"NO GESTANTES","Con TARV",{"$f":"IFERROR(VLOOKUP($A14,Filtro!$A$4:$AX$552,2,FALSE),0)","v":3746},{"$f":"IFERROR(VLOOKUP($A14,Filtro!$A$4:$AX$552,3,FALSE),0)","v":2949},{"$f":"IFERROR(VLOOKUP($A14,Filtro!$A$4:$AX$552,4,FALSE),0)","v":797},{"$f":"IFERROR(VLOOKUP($A14,Filtro!$A$4:$AX$552,5,FALSE),0)","v":0},{"$f":"IFERROR(VLOOKUP($A14,Filtro!$A$4:$AX$552,6,FALSE),0)","v":0},{"$f":"IFERROR(VLOOKUP($A14,Filtro!$A$4:$AX$552,7,FALSE),0)","v":0},{"$f":"IFERROR(VLOOKUP($A14,Filtro!$A$4:$AX$552,8,FALSE),0)","v":0},{"$f":"IFERROR(VLOOKUP($A14,Filtro!$A$4:$AX$552,9,FALSE),0)","v":3},{"$f":"IFERROR(VLOOKUP($A14,Filtro!$A$4:$AX$552,10,FALSE),0)","v":1},{"$f":"IFERROR(VLOOKUP($A14,Filtro!$A$4:$AX$552,11,FALSE),0)","v":3},{"$f":"IFERROR(VLOOKUP($A14,Filtro!$A$4:$AX$552,12,FALSE),0)","v":3},{"$f":"IFERROR(VLOOKUP($A14,Filtro!$A$4:$AX$552,13,FALSE),0)","v":1},{"$f":"IFERROR(VLOOKUP($A14,Filtro!$A$4:$AX$552,14,FALSE),0)","v":6},{"$f":"IFERROR(VLOOKUP($A14,Filtro!$A$4:$AX$552,15,FALSE),0)","v":18},{"$f":"IFERROR(VLOOKUP($A14,Filtro!$A$4:$AX$552,16,FALSE),0)","v":18},{"$f":"IFERROR(VLOOKUP($A14,Filtro!$A$4:$AX$552,17,FALSE),0)","v":186},{"$f":"IFERROR(VLOOKUP($A14,Filtro!$A$4:$AX$552,18,FALSE),0)","v":15},{"$f":"IFERROR(VLOOKUP($A14,Filtro!$A$4:$AX$552,19,FALSE),0)","v":468},{"$f":"IFERROR(VLOOKUP($A14,Filtro!$A$4:$AX$552,20,FALSE),0)","v":75},{"$f":"IFERROR(VLOOKUP($A14,Filtro!$A$4:$AX$552,21,FALSE),0)","v":546},{"$f":"IFERROR(VLOOKUP($A14,Filtro!$A$4:$AX$552,22,FALSE),0)","v":119},{"$f":"IFERROR(VLOOKUP($A14,Filtro!$A$4:$AX$552,23,FALSE),0)","v":475},{"$f":"IFERROR(VLOOKUP($A14,Filtro!$A$4:$AX$552,24,FALSE),0)","v":126},{"$f":"IFERROR(VLOOKUP($A14,Filtro!$A$4:$AX$552,25,FALSE),0)","v":326},{"$f":"IFERROR(VLOOKUP($A14,Filtro!$A$4:$AX$552,26,FALSE),0)","v":100},{"$f":"IFERROR(VLOOKUP($A14,Filtro!$A$4:$AX$552,27,FALSE),0)","v":289},{"$f":"IFERROR(VLOOKUP($A14,Filtro!$A$4:$AX$552,28,FALSE),0)","v":83},{"$f":"IFERROR(VLOOKUP($A14,Filtro!$A$4:$AX$552,29,FALSE),0)","v":229},{"$f":"IFERROR(VLOOKUP($A14,Filtro!$A$4:$AX$552,30,FALSE),0)","v":99},{"$f":"IFERROR(VLOOKUP($A14,Filtro!$A$4:$AX$552,31,FALSE),0)","v":180},{"$f":"IFERROR(VLOOKUP($A14,Filtro!$A$4:$AX$552,32,FALSE),0)","v":68},{"$f":"IFERROR(VLOOKUP($A14,Filtro!$A$4:$AX$552,33,FALSE),0)","v":113},{"$f":"IFERROR(VLOOKUP($A14,Filtro!$A$4:$AX$552,34,FALSE),0)","v":46},{"$f":"IFERROR(VLOOKUP($A14,Filtro!$A$4:$AX$552,35,FALSE),0)","v":55},{"$f":"IFERROR(VLOOKUP($A14,Filtro!$A$4:$AX$552,36,FALSE),0)","v":24},{"$f":"IFERROR(VLOOKUP($A14,Filtro!$A$4:$AX$552,37,FALSE),0)","v":31},{"$f":"IFERROR(VLOOKUP($A14,Filtro!$A$4:$AX$552,38,FALSE),0)","v":8},{"$f":"IFERROR(VLOOKUP($A14,Filtro!$A$4:$AX$552,39,FALSE),0)","v":24},{"$f":"IFERROR(VLOOKUP($A14,Filtro!$A$4:$AX$552,40,FALSE),0)","v":3},{"$f":"IFERROR(VLOOKUP($A14,Filtro!$A$4:$AX$552,41,FALSE),0)","v":2},{"$f":"IFERROR(VLOOKUP($A14,Filtro!$A$4:$AX$552,42,FALSE),0)","v":3},{"$f":"IFERROR(VLOOKUP($A14,Filtro!$A$4:$AX$552,43,FALSE),0)","v":0},{"$f":"IFERROR(VLOOKUP($A14,Filtro!$A$4:$AX$552,44,FALSE),0)","v":37},{"$f":"IFERROR(VLOOKUP($A14,Filtro!$A$4:$AX$552,45,FALSE),0)","v":0},{"$f":"IFERROR(VLOOKUP($A14,Filtro!$A$4:$AX$552,46,FALSE),0)","v":280},{"$f":"IFERROR(VLOOKUP($A14,Filtro!$A$4:$AX$552,47,FALSE),0)","v":0},"",{"$nulls":4},{"$f":"IF(($AT14+$AU14)<=$E14,\"\",\"* La suma de las celdas 'Trans' no debe ser mayor al Total de personas bajo control. \")","v":""},null,{"$f":"IF($AV14<=$E14,\"\",\"* La celda de 'Pueblos Originarios' no debe ser mayor al Total de personas bajo control. \")","v":""},{"$f":"IF($AW14<=$E14,\"\",\"* La celda de 'Población Migrantes' no debe ser mayor al Total de personas bajo control. \")","v":""},{"$f":"IF($AX14<=$E14,\"\",\"* La celda de 'Población SENAME' no debe ser mayor al Total de personas bajo control. \")","v":""},{"$f":"IF(AND($E14<>0,$AU14=\"\"),\"* No olvide escribir en la celda de Trans (Digite CERO si no tiene). \",IF(AND(E14<>0,AT14=\"\"),\"* No olvide escribir en la celda Trans (Digite CERO si no tiene). \",\"\"))","v":""},{"$f":"IF(AND($E14<>0,$AV14=\"\"),\"* No olvide escribir en la celda de Pueblos Originarios (Digite CERO si no tiene). \",\"\")","v":""},{"$f":"IF(AND($E14<>0,$AW14=\"\"),\"* No olvide escribir en la celda de Población Migrantes (Digite CERO si no tiene). \",\"\")","v":""},{"$f":"IF(AND($E14<>0,$AX14=\"\"),\"* No olvide escribir en la celda de Población SENAME (Digite CERO si no tiene). \",\"\")","v":""},null,null,{"$f":"IF(($AT14+$AU14)<=$E14,0,1)","v":0},null,{"$f":"IF($AV14<=$E14,0,1)","v":0},{"$f":"IF($AW14<=$E14,0,1)","v":0},{"$f":"IF($AX14<=$E14,0,1)","v":0},{"$f":"IF(AND($E14<>0,$AU14=\"\"),1,0)","v":0},{"$f":"IF(AND($E14<>0,$AV14=\"\"),1,0)","v":0},{"$f":"IF(AND($E14<>0,$AW14=\"\"),1,0)","v":0},{"$f":"IF(AND($E14<>0,$AX14=\"\"),1,0)","v":0}]
["P11000180",null,null,"Sin TARV",{"$f":"IFERROR(VLOOKUP($A15,Filtro!$A$4:$AX$552,2,FALSE),0)","v":135},{"$f":"IFERROR(VLOOKUP($A15,Filtro!$A$4:$AX$552,3,FALSE),0)","v":104},{"$f":"IFERROR(VLOOKUP($A15,Filtro!$A$4:$AX$552,4,FALSE),0)","v":31},{"$f":"IFERROR(VLOOKUP($A15,Filtro!$A$4:$AX$552,5,FALSE),0)","v":0},{"$f":"IFERROR(VLOOKUP($A15,Filtro!$A$4:$AX$552,6,FALSE),0)","v":0},{"$f":"IFERROR(VLOOKUP($A15,Filtro!$A$4:$AX$552,7,FALSE),0)","v":0},{"$f":"IFERROR(VLOOKUP($A15,Filtro!$A$4:$AX$552,8,FALSE),0)","v":0},{"$f":"IFERROR(VLOOKUP($A15,Filtro!$A$4:$AX$552,9,FALSE),0)","v":0},{"$f":"IFERROR(VLOOKUP($A15,Filtro!$A$4:$AX$552,10,FALSE),0)","v":0},{"$f":"IFERROR(VLOOKUP($A15,Filtro!$A$4:$AX$552,11,FALSE),0)","v":0},{"$f":"IFERROR(VLOOKUP($A15,Filtro!$A$4:$AX$552,12,FALSE),0)","v":2},{"$f":"IFERROR(VLOOKUP($A15,Filtro!$A$4:$AX$552,13,FALSE),0)","v":0},{"$f":"IFERROR(VLOOKUP($A15,Filtro!$A$4:$AX$552,14,FALSE),0)","v":4},{"$f":"IFERROR(VLOOKUP($A15,Filtro!$A$4:$AX$552,15,FALSE),0)","v":1},{"$f":"IFERROR(VLOOKUP($A15,Filtro!$A$4:$AX$552,16,FALSE),0)","v":0},{"$f":"IFERROR(VLOOKUP($A15,Filtro!$A$4:$AX$552,17,FALSE),0)","v":11},{"$f":"IFERROR(VLOOKUP($A15,Filtro!$A$4:$AX$552,18,FALSE),0)","v":2},{"$f":"IFERROR(VLOOKUP($A15,Filtro!$A$4:$AX$552,19,FALSE),0)","v":22},{"$f":"IFERROR(VLOOKUP($A15,Filtro!$A$4:$AX$552,20,FALSE),0)","v":2},{"$f":"IFERROR(VLOOKUP($A15,Filtro!$A$4:$AX$552,21,FALSE),0)","v":34},{"$f":"IFERROR(VLOOKUP($A15,Filtro!$A$4:$AX$552,22,FALSE),0)","v":6},{"$f":"IFERROR(VLOOKUP($A15,Filtro!$A$4:$AX$552,23,FALSE),0)","v":22},{"$f":"IFERROR(VLOOKUP($A15,Filtro!$A$4:$AX$552,24,FALSE),0)","v":0},{"$f":"IFERROR(VLOOKUP($A15,Filtro!$A$4:$AX$552,25,FALSE),0)","v":9},{"$f":"IFERROR(VLOOKUP($A15,Filtro!$A$4:$AX$552,26,FALSE),0)","v":9},{"$f":"IFERROR(VLOOKUP($A15,Filtro!$A$4:$AX$552,27,FALSE),0)","v":5},{"$f":"IFERROR(VLOOKUP($A15,Filtro!$A$4:$AX$552,28,FALSE),0)","v":3},{"$f":"IFERROR(VLOOKUP($A15,Filtro!$A$4:$AX$552,29,FALSE),0)","v":0},{"$f":"IFERROR(VLOOKUP($A15,Filtro!$A$4:$AX$552,30,FALSE),0)","v":3},{"$f":"IFERROR(VLOOKUP($A15,Filtro!$A$4:$AX$552,31,FALSE),0)","v":0},{"$f":"IFERROR(VLOOKUP($A15,Filtro!$A$4:$AX$552,32,FALSE),0)","v":0},{"$f":"IFERROR(VLOOKUP($A15,Filtro!$A$4:$AX$552,33,FALSE),0)","v":0},{"$f":"IFERROR(VLOOKUP($A15,Filtro!$A$4:$AX$552,34,FALSE),0)","v":0},{"$f":"IFERROR(VLOOKUP($A15,Filtro!$A$4:$AX$552,35,FALSE),0)","v":0},{"$f":"IFERROR(VLOOKUP($A15,Filtro!$A$4:$AX$552,36,FALSE),0)","v":0},{"$f":"IFERROR(VLOOKUP($A15,Filtro!$A$4:$AX$552,37,FALSE),0)","v":0},{"$f":"IFERROR(VLOOKUP($A15,Filtro!$A$4:$AX$552,38,FALSE),0)","v":0},{"$f":"IFERROR(VLOOKUP($A15,Filtro!$A$4:$AX$552,39,FALSE),0)","v":0},{"$f":"IFERROR(VLOOKUP($A15,Filtro!$A$4:$AX$552,40,FALSE),0)","v":0},{"$f":"IFERROR(VLOOKUP($A15,Filtro!$A$4:$AX$552,41,FALSE),0)","v":0},{"$f":"IFERROR(VLOOKUP($A15,Filtro!$A$4:$AX$552,42,FALSE),0)","v":0},{"$f":"IFERROR(VLOOKUP($A15,Filtro!$A$4:$AX$552,43,FALSE),0)","v":0},{"$f":"IFERROR(VLOOKUP($A15,Filtro!$A$4:$AX$552,44,FALSE),0)","v":0},{"$f":"IFERROR(VLOOKUP($A15,Filtro!$A$4:$AX$552,45,FALSE),0)","v":0},{"$f":"IFERROR(VLOOKUP($A15,Filtro!$A$4:$AX$552,46,FALSE),0)","v":18},{"$f":"IFERROR(VLOOKUP($A15,Filtro!$A$4:$AX$552,47,FALSE),0)","v":0},"",{"$nulls":4},"",null,{"$f":"IF($AV15<=$E15,\"\",\"* La celda de 'Pueblos Originarios' no debe ser mayor al Total de personas bajo control. \")","v":""},{"$f":"IF($AW15<=$E15,\"\",\"* La celda de 'Población Migrantes' no debe ser mayor al Total de personas bajo control. \")","v":""},"",{"$f":"IF(AND($E15<>0,$AU15=\"\"),\"* No olvide escribir en la celda de Trans (Digite CERO si no tiene). \",IF(AND(E15<>0,AT15=\"\"),\"* No olvide escribir en la celda Trans (Digite CERO si no tiene). \",\"\"))","v":""},{"$f":"IF(AND($E15<>0,$AV15=\"\"),\"* No olvide escribir en la celda de Pueblos Originarios (Digite CERO si no tiene). \",\"\")","v":""},{"$f":"IF(AND($E15<>0,$AW15=\"\"),\"* No olvide escribir en la celda de Población Migrantes (Digite CERO si no tiene). \",\"\")","v":""},"",null,null,{"$f":"IF(($AT15+$AU15)<=$E15,0,1)","v":0},null,{"$f":"IF($AV15<=$E15,0,1)","v":0},{"$f":"IF($AW15<=$E15,0,1)","v":0},0,{"$f":"IF(AND($E15<>0,$AU15=\"\"),1,0)","v":0},{"$f":"IF(AND($E15<>0,$AV15=\"\"),1,0)","v":0},{"$f":"IF(AND($E15<>0,$AW15=\"\"),1,0)","v":0},0]
[null,"SECCION B: Población EN CONTROL POR COMERCIO SEXUAL (Uso exclusivo de Unidades Control Comercio Sexual)"]
[null,"CONCEPTO","TOTAL",null,null,"GRUPOS DE EDAD (en años)",{"$nulls":27},"TRANS",null,"Pueblos Originarios","Población Migrantes",{"$nulls":19},"TRANS",null,"Pueblos Originarios","Población Migrantes","TRANS","Pueblos Originarios","Población Migrantes",{"$nulls":4},"TRANS",null,"Pueblos Originarios","Población Migrantes","TRANS","Pueblos Originarios","Población Migrantes"]
[{"$nulls":5},"15 a 19 años",null,"20 a 24 años",null,"25 a 29 años",null,"30 a 34 años",null,"35 a 39 años",null,"40 a 44 años",null,"45 a 49 años",null,"50 a 54 años",null,"55 a 59 años",null,"60 a 64 años",null,"65 a 69 años",null,"70 a 74 años",null,"75 a 79 años",null,"80 y más años"]
[null,null,"Ambos\nsexos","Hombres","Mujeres","Hombres ","Mujeres","Hombres ","Mujeres","Hombres ","Mujeres","Hombres ","Mujeres","Hombres ","Mujeres","Hombres ","Mujeres","Hombres ","Mujeres","Hombres ","Mujeres","Hombres ","Mujeres","Hombres ","Mujeres","Hombres ","Mujeres","Hombres ","Mujeres","Hombres ","Mujeres","Hombres ","Mujeres","Masculino","Femenino",{"$nulls":21},"Masculino","Femenino (NO)",null,null,"No Olvide","No Olvide","No Olvide",{"$nulls":4},"Masculino","Femenino (NO)",null,null,"No Olvide","No Olvide","No Olvide"]
["P11000140","Nº DE PERSONAS / COMERCIO SEXUAL",{"$f":"IFERROR(VLOOKUP($A20,Filtro!$A$4:$AX$552,2,FALSE),0)","v":110},{"$f":"IFERROR(VLOOKUP($A20,Filtro!$A$4:$AX$552,3,FALSE),0)","v":1},{"$f":"IFERROR(VLOOKUP($A20,Filtro!$A$4:$AX$552,4,FALSE),0)","v":109},{"$f":"IFERROR(VLOOKUP($A20,Filtro!$A$4:$AX$552,5,FALSE),0)","v":0},{"$f":"IFERROR(VLOOKUP($A20,Filtro!$A$4:$AX$552,6,FALSE),0)","v":2},{"$f":"IFERROR(VLOOKUP($A20,Filtro!$A$4:$AX$552,7,FALSE),0)","v":0},{"$f":"IFERROR(VLOOKUP($A20,Filtro!$A$4:$AX$552,8,FALSE),0)","v":13},{"$f":"IFERROR(VLOOKUP($A20,Filtro!$A$4:$AX$552,9,FALSE),0)","v":0},{"$f":"IFERROR(VLOOKUP($A20,Filtro!$A$4:$AX$552,10,FALSE),0)","v":24},{"$f":"IFERROR(VLOOKUP($A20,Filtro!$A$4:$AX$552,11,FALSE),0)","v":1},{"$f":"IFERROR(VLOOKUP($A20,Filtro!$A$4:$AX$552,12,FALSE),0)","v":25},{"$f":"IFERROR(VLOOKUP($A20,Filtro!$A$4:$AX$552,13,FALSE),0)","v":0},{"$f":"IFERROR(VLOOKUP($A20,Filtro!$A$4:$AX$552,14,FALSE),0)","v":6},{"$f":"IFERROR(VLOOKUP($A20,Filtro!$A$4:$AX$552,15,FALSE),0)","v":0},{"$f":"IFERROR(VLOOKUP($A20,Filtro!$A$4:$AX$552,16,FALSE),0)","v":19},{"$f":"IFERROR(VLOOKUP($A20,Filtro!$A$4:$AX$552,17,FALSE),0)","v":0},{"$f":"IFERROR(VLOOKUP($A20,Filtro!$A$4:$AX$552,18,FALSE),0)","v":13},{"$f":"IFERROR(VLOOKUP($A20,Filtro!$A$4:$AX$552,19,FALSE),0)","v":0},{"$f":"IFERROR(VLOOKUP($A20,Filtro!$A$4:$AX$552,20,FALSE),0)","v":6},{"$f":"IFERROR(VLOOKUP($A20,Filtro!$A$4:$AX$552,21,FALSE),0)","v":0},{"$f":"IFERROR(VLOOKUP($A20,Filtro!$A$4:$AX$552,22,FALSE),0)","v":1},{"$f":"IFERROR(VLOOKUP($A20,Filtro!$A$4:$AX$552,23,FALSE),0)","v":0},{"$f":"IFERROR(VLOOKUP($A20,Filtro!$A$4:$AX$552,24,FALSE),0)","v":0},{"$f":"IFERROR(VLOOKUP($A20,Filtro!$A$4:$AX$552,25,FALSE),0)","v":0},{"$f":"IFERROR(VLOOKUP($A20,Filtro!$A$4:$AX$552,26,FALSE),0)","v":0},{"$f":"IFERROR(VLOOKUP($A20,Filtro!$A$4:$AX$552,27,FALSE),0)","v":0},{"$f":"IFERROR(VLOOKUP($A20,Filtro!$A$4:$AX$552,28,FALSE),0)","v":0},{"$f":"IFERROR(VLOOKUP($A20,Filtro!$A$4:$AX$552,29,FALSE),0)","v":0},{"$f":"IFERROR(VLOOKUP($A20,Filtro!$A$4:$AX$552,30,FALSE),0)","v":0},{"$f":"IFERROR(VLOOKUP($A20,Filtro!$A$4:$AX$552,31,FALSE),0)","v":0},{"$f":"IFERROR(VLOOKUP($A20,Filtro!$A$4:$AX$552,32,FALSE),0)","v":0},{"$f":"IFERROR(VLOOKUP($A20,Filtro!$A$4:$AX$552,33,FALSE),0)","v":0},{"$f":"IFERROR(VLOOKUP($A20,Filtro!$A$4:$AX$552,34,FALSE),0)","v":0},{"$f":"IFERROR(VLOOKUP($A20,Filtro!$A$4:$AX$552,35,FALSE),0)","v":0},{"$f":"IFERROR(VLOOKUP($A20,Filtro!$A$4:$AX$552,36,FALSE),0)","v":83},{"$nulls":11},{"$f":"BB20&BC20&BD20&BE20&BF20&BG20&BH20&BI20&BJ20","v":""},{"$nulls":7},{"$f":"IF(($AH20+$AI20)<=$C20,\"\",\"* La suma de las celdas 'Trans' no debe ser mayor al Total de personas bajo control. \")","v":""},null,{"$f":"IF($AJ20<=$C20,\"\",\"* La celda de 'Pueblos Originarios' no debe ser mayor al Total de personas bajo control. \")","v":""},{"$f":"IF($AK20<=$C20,\"\",\"* La celda de 'Población Migrantes' no debe ser mayor al Total de personas bajo control. \")","v":""},{"$f":"IF(AND($C20<>0,$AH20=\"\"),\"* No olvide escribir en la celda de Trans (Digite CERO si no tiene). \",IF(AND($C20<>0,$AI20=\"\"),\"* No olvide escribir en la celda Trans (Digite CERO si no tiene). \",\"\"))","v":""},{"$f":"IF(AND($C20<>0,$AJ20=\"\"),\"* No olvide escribir en la celda de Pueblos Originarios (Digite CERO si no tiene). \",\"\")","v":""},{"$f":"IF(AND($C20<>0,$AK20=\"\"),\"* No olvide escribir en la celda de Población Migrantes (Digite CERO si no tiene). \",\"\")","v":""},{"$nulls":4},{"$f":"IF(($AH20+$AI20)<=$C20,0,1)","v":0},{"$f":"IF($AI20<=$E20,0,0)","v":0},{"$f":"IF($AJ20<=$C20,0,1)","v":0},{"$f":"IF($AK20<=$C20,0,1)","v":0},{"$f":"IF(AND($C20<>0,$AH20=\"\"),1,IF(AND($C20<>0,$AI20=\"\"),1,0))","v":0},{"$f":"IF(AND($C20<>0,$AJ20=\"\"),1,0)","v":0},{"$f":"IF(AND($C20<>0,$AK20=\"\"),1,0)","v":0}]
[]
[]
["CODIGOS NUEVOS"]
["P11000150"]
["P11000160"]
["P11000170"]
["P11000180"]
[]
["CODIGOS ELIMINADOS"]
["P1100110"]
["P1100120"]
["P1100130"]
[]
[null,{"$f":"SUM(E12:AW14,C20:AK20)","v":12018},"datos"]
[null,{"$f":"SUM(BO12:BW20)","v":0},"errores"]

{"sheet":"P12","index":10,"n_rows":112,"n_cols":13,"rows_kept":112,"merged":[[4,14,4,15],[6,1,6,11],[23,1,23,3],[24,1,24,11],[25,1,27,1],[25,2,25,12],[26,2,27,2],[26,3,27,3],[26,4,26,5],[26,6,26,11],[26,12,27,12],[42,1,42,3],[43,1,43,11],[44,1,46,1],[44,2,44,12],[45,2,46,2],[45,3,46,3],[45,4,45,5],[45,6,45,11],[45,12,46,12]]}
[]
[]
[]
[]
[]
[]
[null,"REM-P12. PERSONAS CON PAP – MAMOGRAFIA - EXAMEN FISICO DE MAMA VIGENTES Y PRODUCCION DE PAP (SEMESTRAL)"]
[null,"SECCION A: PROGRAMA DE CANCER DE CUELLO UTERINO: POBLACIÓN CON PAP VIGENTE"]
[null,"GRUPOS DE EDAD (en años)","MUJERES\ncon PAP Vigente \nen los ultimos 3 años","TRANS MASCULINO\ncon PAP Vigente \nen los ultimos 3 años"]
["P1207150","Menor de 25 años",{"$f":"IFERROR(VLOOKUP($A10,Filtro!$A$4:$AX$552,2,FALSE),0)","v":9841},{"$f":"IFERROR(VLOOKUP($A10,Filtro!$A$4:$AX$552,3,FALSE),0)","v":0}]
["P1206010","25 a 29 años ",{"$f":"IFERROR(VLOOKUP($A11,Filtro!$A$4:$AX$552,2,FALSE),0)","v":12274},{"$f":"IFERROR(VLOOKUP($A11,Filtro!$A$4:$AX$552,3,FALSE),0)","v":0}]
["P1206020","30 a 34 años",{"$f":"IFERROR(VLOOKUP($A12,Filtro!$A$4:$AX$552,2,FALSE),0)","v":11263},{"$f":"IFERROR(VLOOKUP($A12,Filtro!$A$4:$AX$552,3,FALSE),0)","v":0}]
["P1206030","35 a 39 años",{"$f":"IFERROR(VLOOKUP($A13,Filtro!$A$4:$AX$552,2,FALSE),0)","v":10189},{"$f":"IFERROR(VLOOKUP($A13,Filtro!$A$4:$AX$552,3,FALSE),0)","v":0}]
["P1206040","40 a 44 años",{"$f":"IFERROR(VLOOKUP($A14,Filtro!$A$4:$AX$552,2,FALSE),0)","v":9739},{"$f":"IFERROR(VLOOKUP($A14,Filtro!$A$4:$AX$552,3,FALSE),0)","v":0}]
["P1206050","45 a 49 años",{"$f":"IFERROR(VLOOKUP($A15,Filtro!$A$4:$AX$552,2,FALSE),0)","v":9628},{"$f":"IFERROR(VLOOKUP($A15,Filtro!$A$4:$AX$552,3,FALSE),0)","v":0}]
["P1206060","50 a 54 años",{"$f":"IFERROR(VLOOKUP($A16,Filtro!$A$4:$AX$552,2,FALSE),0)","v":9588},{"$f":"IFERROR(VLOOKUP($A16,Filtro!$A$4:$AX$552,3,FALSE),0)","v":0}]
["P1206070","55 a 59 años",{"$f":"IFERROR(VLOOKUP($A17,Filtro!$A$4:$AX$552,2,FALSE),0)","v":8297},{"$f":"IFERROR(VLOOKUP($A17,Filtro!$A$4:$AX$552,3,FALSE),0)","v":0}]
["P1206080","60 a 64 años",{"$f":"IFERROR(VLOOKUP($A18,Filtro!$A$4:$AX$552,2,FALSE),0)","v":6270},{"$f":"IFERROR(VLOOKUP($A18,Filtro!$A$4:$AX$552,3,FALSE),0)","v":0}]
["P1207160","65 a 69 años",{"$f":"IFERROR(VLOOKUP($A19,Filtro!$A$4:$AX$552,2,FALSE),0)","v":2252},{"$f":"IFERROR(VLOOKUP($A19,Filtro!$A$4:$AX$552,3,FALSE),0)","v":0}]
["P1230001","70 a 74 años",{"$f":"IFERROR(VLOOKUP($A20,Filtro!$A$4:$AX$552,2,FALSE),0)","v":663},{"$f":"IFERROR(VLOOKUP($A20,Filtro!$A$4:$AX$552,3,FALSE),0)","v":0}]
["P1230002","75 a 79 años",{"$f":"IFERROR(VLOOKUP($A21,Filtro!$A$4:$AX$552,2,FALSE),0)","v":223},{"$f":"IFERROR(VLOOKUP($A21,Filtro!$A$4:$AX$552,3,FALSE),0)","v":0}]
["P1230003","80 y más años",{"$f":"IFERROR(VLOOKUP($A22,Filtro!$A$4:$AX$552,2,FALSE),0)","v":65},{"$f":"IFERROR(VLOOKUP($A22,Filtro!$A$4:$AX$552,3,FALSE),0)","v":0}]
[null,"TOTAL",{"$f":"SUM(C10:C22)","v":90292},{"$f":"SUM(D10:D22)","v":0}]
[null,"(*) FUENTE DE INFORMACIÓN: CITOEXPERT O REVICAN"]
[null,"SECCIÓN B.1- PROGRAMA DE CANCER DE CUELLO UTERINO: PAP REALIZADOS E INFORMADOS SEGÚN RESULTADOS Y GRUPOS DE EDAD\n(Examen realizados en la red pública)"]
[null,"GRUPO DE EDAD \n(en años)","PAP INFORMADOS SEGÚN RESULTADO"]
[null,null,"TOTAL","NORMALES","INADECUADOS Y ATIPICOS",null,"POSITIVOS",{"$nulls":5},"TOTAL PAP INFORMADOS EN TRANS MASCULINO SEGÚN EDAD"]
[{"$nulls":4},"INADECUADOS","ATIPICOS"," HPV","NIE I","NIE II"," NIE III","Ca. Inv. (Epidermoide)","Ca. Inv. (Adenocarcinoma)"]
["P1207170","Menor de 25 años",{"$f":"IFERROR(VLOOKUP($A29,Filtro!$A$4:$AX$552,2,FALSE),0)","v":1124},{"$f":"IFERROR(VLOOKUP($A29,Filtro!$A$4:$AX$552,3,FALSE),0)","v":1031},{"$f":"IFERROR(VLOOKUP($A29,Filtro!$A$4:$AX$552,4,FALSE),0)","v":37},{"$f":"IFERROR(VLOOKUP($A29,Filtro!$A$4:$AX$552,5,FALSE),0)","v":38},{"$f":"IFERROR(VLOOKUP($A29,Filtro!$A$4:$AX$552,6,FALSE),0)","v":5},{"$f":"IFERROR(VLOOKUP($A29,Filtro!$A$4:$AX$552,7,FALSE),0)","v":0},{"$f":"IFERROR(VLOOKUP($A29,Filtro!$A$4:$AX$552,8,FALSE),0)","v":7},{"$f":"IFERROR(VLOOKUP($A29,Filtro!$A$4:$AX$552,9,FALSE),0)","v":6},{"$f":"IFERROR(VLOOKUP($A29,Filtro!$A$4:$AX$552,10,FALSE),0)","v":0},{"$f":"IFERROR(VLOOKUP($A29,Filtro!$A$4:$AX$552,11,FALSE),0)","v":0},{"$f":"IFERROR(VLOOKUP($A29,Filtro!$A$4:$AX$552,12,FALSE),0)","v":0}]
["P1207010","25 a 29 años ",{"$f":"IFERROR(VLOOKUP($A30,Filtro!$A$4:$AX$552,2,FALSE),0)","v":1365},{"$f":"IFERROR(VLOOKUP($A30,Filtro!$A$4:$AX$552,3,FALSE),0)","v":1244},{"$f":"IFERROR(VLOOKUP($A30,Filtro!$A$4:$AX$552,4,FALSE),0)","v":52},{"$f":"IFERROR(VLOOKUP($A30,Filtro!$A$4:$AX$552,5,FALSE),0)","v":46},{"$f":"IFERROR(VLOOKUP($A30,Filtro!$A$4:$AX$552,6,FALSE),0)","v":3},{"$f":"IFERROR(VLOOKUP($A30,Filtro!$A$4:$AX$552,7,FALSE),0)","v":6},{"$f":"IFERROR(VLOOKUP($A30,Filtro!$A$4:$AX$552,8,FALSE),0)","v":5},{"$f":"IFERROR(VLOOKUP($A30,Filtro!$A$4:$AX$552,9,FALSE),0)","v":9},{"$f":"IFERROR(VLOOKUP($A30,Filtro!$A$4:$AX$552,10,FALSE),0)","v":0},{"$f":"IFERROR(VLOOKUP($A30,Filtro!$A$4:$AX$552,11,FALSE),0)","v":0},{"$f":"IFERROR(VLOOKUP($A30,Filtro!$A$4:$AX$552,12,FALSE),0)","v":0}]
["P1207020","30 a 34 años",{"$f":"IFERROR(VLOOKUP($A31,Filtro!$A$4:$AX$552,2,FALSE),0)","v":1355},{"$f":"IFERROR(VLOOKUP($A31,Filtro!$A$4:$AX$552,3,FALSE),0)","v":1246},{"$f":"IFERROR(VLOOKUP($A31,Filtro!$A$4:$AX$552,4,FALSE),0)","v":49},{"$f":"IFERROR(VLOOKUP($A31,Filtro!$A$4:$AX$552,5,FALSE),0)","v":28},{"$f":"IFERROR(VLOOKUP($A31,Filtro!$A$4:$AX$552,6,FALSE),0)","v":7},{"$f":"IFERROR(VLOOKUP($A31,Filtro!$A$4:$AX$552,7,FALSE),0)","v":4},{"$f":"IFERROR(VLOOKUP($A31,Filtro!$A$4:$AX$552,8,FALSE),0)","v":7},{"$f":"IFERROR(VLOOKUP($A31,Filtro!$A$4:$AX$552,9,FALSE),0)","v":14},{"$f":"IFERROR(VLOOKUP($A31,Filtro!$A$4:$AX$552,10,FALSE),0)","v":0},{"$f":"IFERROR(VLOOKUP($A31,Filtro!$A$4:$AX$552,11,FALSE),0)","v":0},{"$f":"IFERROR(VLOOKUP($A31,Filtro!$A$4:$AX$552,12,FALSE),0)","v":0}]
["P1208020","35 a 39 años",{"$f":"IFERROR(VLOOKUP($A32,Filtro!$A$4:$AX$552,2,FALSE),0)","v":1387},{"$f":"IFERROR(VLOOKUP($A32,Filtro!$A$4:$AX$552,3,FALSE),0)","v":1254},{"$f":"IFERROR(VLOOKUP($A32,Filtro!$A$4:$AX$552,4,FALSE),0)","v":48},{"$f":"IFERROR(VLOOKUP($A32,Filtro!$A$4:$AX$552,5,FALSE),0)","v":24},{"$f":"IFERROR(VLOOKUP($A32,Filtro!$A$4:$AX$552,6,FALSE),0)","v":40},{"$f":"IFERROR(VLOOKUP($A32,Filtro!$A$4:$AX$552,7,FALSE),0)","v":5},{"$f":"IFERROR(VLOOKUP($A32,Filtro!$A$4:$AX$552,8,FALSE),0)","v":4},{"$f":"IFERROR(VLOOKUP($A32,Filtro!$A$4:$AX$552,9,FALSE),0)","v":12},{"$f":"IFERROR(VLOOKUP($A32,Filtro!$A$4:$AX$552,10,FALSE),0)","v":0},{"$f":"IFERROR(VLOOKUP($A32,Filtro!$A$4:$AX$552,11,FALSE),0)","v":0},{"$f":"IFERROR(VLOOKUP($A32,Filtro!$A$4:$AX$552,12,FALSE),0)","v":0}]
["P1208030","40 a 44 años",{"$f":"IFERROR(VLOOKUP($A33,Filtro!$A$4:$AX$552,2,FALSE),0)","v":1243},{"$f":"IFERROR(VLOOKUP($A33,Filtro!$A$4:$AX$552,3,FALSE),0)","v":1141},{"$f":"IFERROR(VLOOKUP($A33,Filtro!$A$4:$AX$552,4,FALSE),0)","v":54},{"$f":"IFERROR(VLOOKUP($A33,Filtro!$A$4:$AX$552,5,FALSE),0)","v":28},{"$f":"IFERROR(VLOOKUP($A33,Filtro!$A$4:$AX$552,6,FALSE),0)","v":5},{"$f":"IFERROR(VLOOKUP($A33,Filtro!$A$4:$AX$552,7,FALSE),0)","v":4},{"$f":"IFERROR(VLOOKUP($A33,Filtro!$A$4:$AX$552,8,FALSE),0)","v":3},{"$f":"IFERROR(VLOOKUP($A33,Filtro!$A$4:$AX$552,9,FALSE),0)","v":8},{"$f":"IFERROR(VLOOKUP($A33,Filtro!$A$4:$AX$552,10,FALSE),0)","v":0},{"$f":"IFERROR(VLOOKUP($A33,Filtro!$A$4:$AX$552,11,FALSE),0)","v":0},{"$f":"IFERROR(VLOOKUP($A33,Filtro!$A$4:$AX$552,12,FALSE),0)","v":0}]
["P1208040","45 a 49 años",{"$f":"IFERROR(VLOOKUP($A34,Filtro!$A$4:$AX$552,2,FALSE),0)","v":1168},{"$f":"IFERROR(VLOOKUP($A34,Filtro!$A$4:$AX$552,3,FALSE),0)","v":1064},{"$f":"IFERROR(VLOOKUP($A34,Filtro!$A$4:$AX$552,4,FALSE),0)","v":56},{"$f":"IFERROR(VLOOKUP($A34,Filtro!$A$4:$AX$552,5,FALSE),0)","v":35},{"$f":"IFERROR(VLOOKUP($A34,Filtro!$A$4:$AX$552,6,FALSE),0)","v":1},{"$f":"IFERROR(VLOOKUP($A34,Filtro!$A$4:$AX$552,7,FALSE),0)","v":4},{"$f":"IFERROR(VLOOKUP($A34,Filtro!$A$4:$AX$552,8,FALSE),0)","v":1},{"$f":"IFERROR(VLOOKUP($A34,Filtro!$A$4:$AX$552,9,FALSE),0)","v":7},{"$f":"IFERROR(VLOOKUP($A34,Filtro!$A$4:$AX$552,10,FALSE),0)","v":0},{"$f":"IFERROR(VLOOKUP($A34,Filtro!$A$4:$AX$552,11,FALSE),0)","v":0},{"$f":"IFERROR(VLOOKUP($A34,Filtro!$A$4:$AX$552,12,FALSE),0)","v":0}]
["P1208050","50 a 54 años",{"$f":"IFERROR(VLOOKUP($A35,Filtro!$A$4:$AX$552,2,FALSE),0)","v":1011},{"$f":"IFERROR(VLOOKUP($A35,Filtro!$A$4:$AX$552,3,FALSE),0)","v":934},{"$f":"IFERROR(VLOOKUP($A35,Filtro!$A$4:$AX$552,4,FALSE),0)","v":40},{"$f":"IFERROR(VLOOKUP($A35,Filtro!$A$4:$AX$552,5,FALSE),0)","v":29},{"$f":"IFERROR(VLOOKUP($A35,Filtro!$A$4:$AX$552,6,FALSE),0)","v":1},{"$f":"IFERROR(VLOOKUP($A35,Filtro!$A$4:$AX$552,7,FALSE),0)","v":2},{"$f":"IFERROR(VLOOKUP($A35,Filtro!$A$4:$AX$552,8,FALSE),0)","v":1},{"$f":"IFERROR(VLOOKUP($A35,Filtro!$A$4:$AX$552,9,FALSE),0)","v":3},{"$f":"IFERROR(VLOOKUP($A35,Filtro!$A$4:$AX$552,10,FALSE),0)","v":1},{"$f":"IFERROR(VLOOKUP($A35,Filtro!$A$4:$AX$552,11,FALSE),0)","v":0},{"$f":"IFERROR(VLOOKUP($A35,Filtro!$A$4:$AX$552,12,FALSE),0)","v":0}]
["P1208060","55 a 59 años",{"$f":"IFERROR(VLOOKUP($A36,Filtro!$A$4:$AX$552,2,FALSE),0)","v":922},{"$f":"IFERROR(VLOOKUP($A36,Filtro!$A$4:$AX$552,3,FALSE),0)","v":834},{"$f":"IFERROR(VLOOKUP($A36,Filtro!$A$4:$AX$552,4,FALSE),0)","v":39},{"$f":"IFERROR(VLOOKUP($A36,Filtro!$A$4:$AX$552,5,FALSE),0)","v":33},{"$f":"IFERROR(VLOOKUP($A36,Filtro!$A$4:$AX$552,6,FALSE),0)","v":1},{"$f":"IFERROR(VLOOKUP($A36,Filtro!$A$4:$AX$552,7,FALSE),0)","v":3},{"$f":"IFERROR(VLOOKUP($A36,Filtro!$A$4:$AX$552,8,FALSE),0)","v":5},{"$f":"IFERROR(VLOOKUP($A36,Filtro!$A$4:$AX$552,9,FALSE),0)","v":4},{"$f":"IFERROR(VLOOKUP($A36,Filtro!$A$4:$AX$552,10,FALSE),0)","v":3},{"$f":"IFERROR(VLOOKUP($A36,Filtro!$A$4:$AX$552,11,FALSE),0)","v":0},{"$f":"IFERROR(VLOOKUP($A36,Filtro!$A$4:$AX$552,12,FALSE),0)","v":0}]
["P1208070","60 a 64 años",{"$f":"IFERROR(VLOOKUP($A37,Filtro!$A$4:$AX$552,2,FALSE),0)","v":576},{"$f":"IFERROR(VLOOKUP($A37,Filtro!$A$4:$AX$552,3,FALSE),0)","v":521},{"$f":"IFERROR(VLOOKUP($A37,Filtro!$A$4:$AX$552,4,FALSE),0)","v":29},{"$f":"IFERROR(VLOOKUP($A37,Filtro!$A$4:$AX$552,5,FALSE),0)","v":20},{"$f":"IFERROR(VLOOKUP($A37,Filtro!$A$4:$AX$552,6,FALSE),0)","v":0},{"$f":"IFERROR(VLOOKUP($A37,Filtro!$A$4:$AX$552,7,FALSE),0)","v":3},{"$f":"IFERROR(VLOOKUP($A37,Filtro!$A$4:$AX$552,8,FALSE),0)","v":0},{"$f":"IFERROR(VLOOKUP($A37,Filtro!$A$4:$AX$552,9,FALSE),0)","v":1},{"$f":"IFERROR(VLOOKUP($A37,Filtro!$A$4:$AX$552,10,FALSE),0)","v":2},{"$f":"IFERROR(VLOOKUP($A37,Filtro!$A$4:$AX$552,11,FALSE),0)","v":0},{"$f":"IFERROR(VLOOKUP($A37,Filtro!$A$4:$AX$552,12,FALSE),0)","v":0}]
["P1208080","65 a 69 años",{"$f":"IFERROR(VLOOKUP($A38,Filtro!$A$4:$AX$552,2,FALSE),0)","v":221},{"$f":"IFERROR(VLOOKUP($A38,Filtro!$A$4:$AX$552,3,FALSE),0)","v":191},{"$f":"IFERROR(VLOOKUP($A38,Filtro!$A$4:$AX$552,4,FALSE),0)","v":15},{"$f":"IFERROR(VLOOKUP($A38,Filtro!$A$4:$AX$552,5,FALSE),0)","v":8},{"$f":"IFERROR(VLOOKUP($A38,Filtro!$A$4:$AX$552,6,FALSE),0)","v":0},{"$f":"IFERROR(VLOOKUP($A38,Filtro!$A$4:$AX$552,7,FALSE),0)","v":2},{"$f":"IFERROR(VLOOKUP($A38,Filtro!$A$4:$AX$552,8,FALSE),0)","v":0},{"$f":"IFERROR(VLOOKUP($A38,Filtro!$A$4:$AX$552,9,FALSE),0)","v":3},{"$f":"IFERROR(VLOOKUP($A38,Filtro!$A$4:$AX$552,10,FALSE),0)","v":2},{"$f":"IFERROR(VLOOKUP($A38,Filtro!$A$4:$AX$552,11,FALSE),0)","v":0},{"$f":"IFERROR(VLOOKUP($A38,Filtro!$A$4:$AX$552,12,FALSE),0)","v":0}]
["P1208090","70 a 74 años",{"$f":"IFERROR(VLOOKUP($A39,Filtro!$A$4:$AX$552,2,FALSE),0)","v":82},{"$f":"IFERROR(VLOOKUP($A39,Filtro!$A$4:$AX$552,3,FALSE),0)","v":74},{"$f":"IFERROR(VLOOKUP($A39,Filtro!$A$4:$AX$552,4,FALSE),0)","v":4},{"$f":"IFERROR(VLOOKUP($A39,Filtro!$A$4:$AX$552,5,FALSE),0)","v":3},{"$f":"IFERROR(VLOOKUP($A39,Filtro!$A$4:$AX$552,6,FALSE),0)","v":0},{"$f":"IFERROR(VLOOKUP($A39,Filtro!$A$4:$AX$552,7,FALSE),0)","v":1},{"$f":"IFERROR(VLOOKUP($A39,Filtro!$A$4:$AX$552,8,FALSE),0)","v":0},{"$f":"IFERROR(VLOOKUP($A39,Filtro!$A$4:$AX$552,9,FALSE),0)","v":0},{"$f":"IFERROR(VLOOKUP($A39,Filtro!$A$4:$AX$552,10,FALSE),0)","v":0},{"$f":"IFERROR(VLOOKUP($A39,Filtro!$A$4:$AX$552,11,FALSE),0)","v":0},{"$f":"IFERROR(VLOOKUP($A39,Filtro!$A$4:$AX$552,12,FALSE),0)","v":0}]
["P1208100","75 a 79 años",{"$f":"IFERROR(VLOOKUP($A40,Filtro!$A$4:$AX$552,2,FALSE),0)","v":28},{"$f":"IFERROR(VLOOKUP($A40,Filtro!$A$4:$AX$552,3,FALSE),0)","v":26},{"$f":"IFERROR(VLOOKUP($A40,Filtro!$A$4:$AX$552,4,FALSE),0)","v":1},{"$f":"IFERROR(VLOOKUP($A40,Filtro!$A$4:$AX$552,5,FALSE),0)","v":1},{"$f":"IFERROR(VLOOKUP($A40,Filtro!$A$4:$AX$552,6,FALSE),0)","v":0},{"$f":"IFERROR(VLOOKUP($A40,Filtro!$A$4:$AX$552,7,FALSE),0)","v":0},{"$f":"IFERROR(VLOOKUP($A40,Filtro!$A$4:$AX$552,8,FALSE),0)","v":0},{"$f":"IFERROR(VLOOKUP($A40,Filtro!$A$4:$AX$552,9,FALSE),0)","v":0},{"$f":"IFERROR(VLOOKUP($A40,Filtro!$A$4:$AX$552,10,FALSE),0)","v":0},{"$f":"IFERROR(VLOOKUP($A40,Filtro!$A$4:$AX$552,11,FALSE),0)","v":0},{"$f":"IFERROR(VLOOKUP($A40,Filtro!$A$4:$AX$552,12,FALSE),0)","v":0}]
["P1230004","80 y más años",{"$f":"IFERROR(VLOOKUP($A41,Filtro!$A$4:$AX$552,2,FALSE),0)","v":10},{"$f":"IFERROR(VLOOKUP($A41,Filtro!$A$4:$AX$552,3,FALSE),0)","v":9},{"$f":"IFERROR(VLOOKUP($A41,Filtro!$A$4:$AX$552,4,FALSE),0)","v":1},{"$f":"IFERROR(VLOOKUP($A41,Filtro!$A$4:$AX$552,5,FALSE),0)","v":0},{"$f":"IFERROR(VLOOKUP($A41,Filtro!$A$4:$AX$552,6,FALSE),0)","v":0},{"$f":"IFERROR(VLOOKUP($A41,Filtro!$A$4:$AX$552,7,FALSE),0)","v":0},{"$f":"IFERROR(VLOOKUP($A41,Filtro!$A$4:$AX$552,8,FALSE),0)","v":0},{"$f":"IFERROR(VLOOKUP($A41,Filtro!$A$4:$AX$552,9,FALSE),0)","v":0},{"$f":"IFERROR(VLOOKUP($A41,Filtro!$A$4:$AX$552,10,FALSE),0)","v":0},{"$f":"IFERROR(VLOOKUP($A41,Filtro!$A$4:$AX$552,11,FALSE),0)","v":0},{"$f":"IFERROR(VLOOKUP($A41,Filtro!$A$4:$AX$552,12,FALSE),0)","v":0}]
[null,"TOTAL",{"$f":"SUM(D42:L42)","v":10492},{"$f":"SUM(D29:D41)","v":9569},425,293,63,34,33,67,8,0,{"$f":"SUM(M29:M41)","v":0}]
[null,"(*) FUENTE DE INFORMACIÓN: CITOEXPERT O REVICAN"]
[null,"SECCIÓN B.2- PROGRAMA DE CANCER DE CUELLO UTERINO: PAP REALIZADOS E INFORMADOS SEGÚN RESULTADOS Y GRUPOS DE EDAD\n(Examen realizados en extrasistema)"]
[null,"GRUPO DE EDAD \n(en años)","PAP INFORMADOS SEGÚN RESULTADO"]
[null,null,"TOTAL","NORMALES","INADECUADOS Y ATIPICOS",null,"POSITIVOS",{"$nulls":5},"TOTAL PAP INFORMADOS EN TRANS MASCULINO SEGÚN EDAD"]
[{"$nulls":4},"INADECUADOS","ATIPICOS"," HPV","NIE I","NIE II"," NIE III","Ca. Inv. (Epidermoide)","Ca. Inv. (Adenocarcinoma)"]
["P1220091","Menor de 25 años",{"$f":"IFERROR(VLOOKUP($A48,Filtro!$A$4:$AX$552,2,FALSE),0)","v":0},{"$f":"IFERROR(VLOOKUP($A48,Filtro!$A$4:$AX$552,3,FALSE),0)","v":0},{"$f":"IFERROR(VLOOKUP($A48,Filtro!$A$4:$AX$552,4,FALSE),0)","v":0},{"$f":"IFERROR(VLOOKUP($A48,Filtro!$A$4:$AX$552,5,FALSE),0)","v":0},{"$f":"IFERROR(VLOOKUP($A48,Filtro!$A$4:$AX$552,6,FALSE),0)","v":0},{"$f":"IFERROR(VLOOKUP($A48,Filtro!$A$4:$AX$552,7,FALSE),0)","v":0},{"$f":"IFERROR(VLOOKUP($A48,Filtro!$A$4:$AX$552,8,FALSE),0)","v":0},{"$f":"IFERROR(VLOOKUP($A48,Filtro!$A$4:$AX$552,9,FALSE),0)","v":0},{"$f":"IFERROR(VLOOKUP($A48,Filtro!$A$4:$AX$552,10,FALSE),0)","v":0},{"$f":"IFERROR(VLOOKUP($A48,Filtro!$A$4:$AX$552,11,FALSE),0)","v":0},{"$f":"IFERROR(VLOOKUP($A48,Filtro!$A$4:$AX$552,12,FALSE),0)","v":0}]
["P1220092","25 a 29 años ",{"$f":"IFERROR(VLOOKUP($A49,Filtro!$A$4:$AX$552,2,FALSE),0)","v":0},{"$f":"IFERROR(VLOOKUP($A49,Filtro!$A$4:$AX$552,3,FALSE),0)","v":0},{"$f":"IFERROR(VLOOKUP($A49,Filtro!$A$4:$AX$552,4,FALSE),0)","v":0},{"$f":"IFERROR(VLOOKUP($A49,Filtro!$A$4:$AX$552,5,FALSE),0)","v":0},{"$f":"IFERROR(VLOOKUP($A49,Filtro!$A$4:$AX$552,6,FALSE),0)","v":0},{"$f":"IFERROR(VLOOKUP($A49,Filtro!$A$4:$AX$552,7,FALSE),0)","v":0},{"$f":"IFERROR(VLOOKUP($A49,Filtro!$A$4:$AX$552,8,FALSE),0)","v":0},{"$f":"IFERROR(VLOOKUP($A49,Filtro!$A$4:$AX$552,9,FALSE),0)","v":0},{"$f":"IFERROR(VLOOKUP($A49,Filtro!$A$4:$AX$552,10,FALSE),0)","v":0},{"$f":"IFERROR(VLOOKUP($A49,Filtro!$A$4:$AX$552,11,FALSE),0)","v":0},{"$f":"IFERROR(VLOOKUP($A49,Filtro!$A$4:$AX$552,12,FALSE),0)","v":0}]
["P1220093","30 a 34 años",{"$f":"IFERROR(VLOOKUP($A50,Filtro!$A$4:$AX$552,2,FALSE),0)","v":4},{"$f":"IFERROR(VLOOKUP($A50,Filtro!$A$4:$AX$552,3,FALSE),0)","v":3},{"$f":"IFERROR(VLOOKUP($A50,Filtro!$A$4:$AX$552,4,FALSE),0)","v":0},{"$f":"IFERROR(VLOOKUP($A50,Filtro!$A$4:$AX$552,5,FALSE),0)","v":0},{"$f":"IFERROR(VLOOKUP($A50,Filtro!$A$4:$AX$552,6,FALSE),0)","v":0},{"$f":"IFERROR(VLOOKUP($A50,Filtro!$A$4:$AX$552,7,FALSE),0)","v":0},{"$f":"IFERROR(VLOOKUP($A50,Filtro!$A$4:$AX$552,8,FALSE),0)","v":1},{"$f":"IFERROR(VLOOKUP($A50,Filtro!$A$4:$AX$552,9,FALSE),0)","v":0},{"$f":"IFERROR(VLOOKUP($A50,Filtro!$A$4:$AX$552,10,FALSE),0)","v":0},{"$f":"IFERROR(VLOOKUP($A50,Filtro!$A$4:$AX$552,11,FALSE),0)","v":0},{"$f":"IFERROR(VLOOKUP($A50,Filtro!$A$4:$AX$552,12,FALSE),0)","v":0}]
["P1220094","35 a 39 años",{"$f":"IFERROR(VLOOKUP($A51,Filtro!$A$4:$AX$552,2,FALSE),0)","v":1},{"$f":"IFERROR(VLOOKUP($A51,Filtro!$A$4:$AX$552,3,FALSE),0)","v":0},{"$f":"IFERROR(VLOOKUP($A51,Filtro!$A$4:$AX$552,4,FALSE),0)","v":0},{"$f":"IFERROR(VLOOKUP($A51,Filtro!$A$4:$AX$552,5,FALSE),0)","v":0},{"$f":"IFERROR(VLOOKUP($A51,Filtro!$A$4:$AX$552,6,FALSE),0)","v":0},{"$f":"IFERROR(VLOOKUP($A51,Filtro!$A$4:$AX$552,7,FALSE),0)","v":0},{"$f":"IFERROR(VLOOKUP($A51,Filtro!$A$4:$AX$552,8,FALSE),0)","v":0},{"$f":"IFERROR(VLOOKUP($A51,Filtro!$A$4:$AX$552,9,FALSE),0)","v":1},{"$f":"IFERROR(VLOOKUP($A51,Filtro!$A$4:$AX$552,10,FALSE),0)","v":0},{"$f":"IFERROR(VLOOKUP($A51,Filtro!$A$4:$AX$552,11,FALSE),0)","v":0},{"$f":"IFERROR(VLOOKUP($A51,Filtro!$A$4:$AX$552,12,FALSE),0)","v":0}]
["P1220095","40 a 44 años",{"$f":"IFERROR(VLOOKUP($A52,Filtro!$A$4:$AX$552,2,FALSE),0)","v":1},{"$f":"IFERROR(VLOOKUP($A52,Filtro!$A$4:$AX$552,3,FALSE),0)","v":1},{"$f":"IFERROR(VLOOKUP($A52,Filtro!$A$4:$AX$552,4,FALSE),0)","v":0},{"$f":"IFERROR(VLOOKUP($A52,Filtro!$A$4:$AX$552,5,FALSE),0)","v":0},{"$f":"IFERROR(VLOOKUP($A52,Filtro!$A$4:$AX$552,6,FALSE),0)","v":0},{"$f":"IFERROR(VLOOKUP($A52,Filtro!$A$4:$AX$552,7,FALSE),0)","v":0},{"$f":"IFERROR(VLOOKUP($A52,Filtro!$A$4:$AX$552,8,FALSE),0)","v":0},{"$f":"IFERROR(VLOOKUP($A52,Filtro!$A$4:$AX$552,9,FALSE),0)","v":0},{"$f":"IFERROR(VLOOKUP($A52,Filtro!$A$4:$AX$552,10,FALSE),0)","v":0},{"$f":"IFERROR(VLOOKUP($A52,Filtro!$A$4:$AX$552,11,FALSE),0)","v":0},{"$f":"IFERROR(VLOOKUP($A52,Filtro!$A$4:$AX$552,12,FALSE),0)","v":0}]
["P1220096","45 a 49 años",{"$f":"IFERROR(VLOOKUP($A53,Filtro!$A$4:$AX$552,2,FALSE),0)","v":2},{"$f":"IFERROR(VLOOKUP($A53,Filtro!$A$4:$AX$552,3,FALSE),0)","v":2},{"$f":"IFERROR(VLOOKUP($A53,Filtro!$A$4:$AX$552,4,FALSE),0)","v":0},{"$f":"IFERROR(VLOOKUP($A53,Filtro!$A$4:$AX$552,5,FALSE),0)","v":0},{"$f":"IFERROR(VLOOKUP($A53,Filtro!$A$4:$AX$552,6,FALSE),0)","v":0},{"$f":"IFERROR(VLOOKUP($A53,Filtro!$A$4:$AX$552,7,FALSE),0)","v":0},{"$f":"IFERROR(VLOOKUP($A53,Filtro!$A$4:$AX$552,8,FALSE),0)","v":0},{"$f":"IFERROR(VLOOKUP($A53,Filtro!$A$4:$AX$552,9,FALSE),0)","v":0},{"$f":"IFERROR(VLOOKUP($A53,Filtro!$A$4:$AX$552,10,FALSE),0)","v":0},{"$f":"IFERROR(VLOOKUP($A53,Filtro!$A$4:$AX$552,11,FALSE),0)","v":0},{"$f":"IFERROR(VLOOKUP($A53,Filtro!$A$4:$AX$552,12,FALSE),0)","v":0}]
["P1220097","50 a 54 años",{"$f":"IFERROR(VLOOKUP($A54,Filtro!$A$4:$AX$552,2,FALSE),0)","v":3},{"$f":"IFERROR(VLOOKUP($A54,Filtro!$A$4:$AX$552,3,FALSE),0)","v":3},{"$f":"IFERROR(VLOOKUP($A54,Filtro!$A$4:$AX$552,4,FALSE),0)","v":0},{"$f":"IFERROR(VLOOKUP($A54,Filtro!$A$4:$AX$552,5,FALSE),0)","v":0},{"$f":"IFERROR(VLOOKUP($A54,Filtro!$A$4:$AX$552,6,FALSE),0)","v":0},{"$f":"IFERROR(VLOOKUP($A54,Filtro!$A$4:$AX$552,7,FALSE),0)","v":0},{"$f":"IFERROR(VLOOKUP($A54,Filtro!$A$4:$AX$552,8,FALSE),0)","v":0},{"$f":"IFERROR(VLOOKUP($A54,Filtro!$A$4:$AX$552,9,FALSE),0)","v":0},{"$f":"IFERROR(VLOOKUP($A54,Filtro!$A$4:$AX$552,10,FALSE),0)","v":0},{"$f":"IFERROR(VLOOKUP($A54,Filtro!$A$4:$AX$552,11,FALSE),0)","v":0},{"$f":"IFERROR(VLOOKUP($A54,Filtro!$A$4:$AX$552,12,FALSE),0)","v":0}]
["P1220098","55 a 59 años",{"$f":"IFERROR(VLOOKUP($A55,Filtro!$A$4:$AX$552,2,FALSE),0)","v":0},{"$f":"IFERROR(VLOOKUP($A55,Filtro!$A$4:$AX$552,3,FALSE),0)","v":0},{"$f":"IFERROR(VLOOKUP($A55,Filtro!$A$4:$AX$552,4,FALSE),0)","v":0},{"$f":"IFERROR(VLOOKUP($A55,Filtro!$A$4:$AX$552,5,FALSE),0)","v":0},{"$f":"IFERROR(VLOOKUP($A55,Filtro!$A$4:$AX$552,6,FALSE),0)","v":0},{"$f":"IFERROR(VLOOKUP($A55,Filtro!$A$4:$AX$552,7,FALSE),0)","v":0},{"$f":"IFERROR(VLOOKUP($A55,Filtro!$A$4:$AX$552,8,FALSE),0)","v":0},{"$f":"IFERROR(VLOOKUP($A55,Filtro!$A$4:$AX$552,9,FALSE),0)","v":0},{"$f":"IFERROR(VLOOKUP($A55,Filtro!$A$4:$AX$552,10,FALSE),0)","v":0},{"$f":"IFERROR(VLOOKUP($A55,Filtro!$A$4:$AX$552,11,FALSE),0)","v":0},{"$f":"IFERROR(VLOOKUP($A55,Filtro!$A$4:$AX$552,12,FALSE),0)","v":0}]
["P1220099","60 a 64 años",{"$f":"IFERROR(VLOOKUP($A56,Filtro!$A$4:$AX$552,2,FALSE),0)","v":1},{"$f":"IFERROR(VLOOKUP($A56,Filtro!$A$4:$AX$552,3,FALSE),0)","v":1},{"$f":"IFERROR(VLOOKUP($A56,Filtro!$A$4:$AX$552,4,FALSE),0)","v":0},{"$f":"IFERROR(VLOOKUP($A56,Filtro!$A$4:$AX$552,5,FALSE),0)","v":0},{"$f":"IFERROR(VLOOKUP($A56,Filtro!$A$4:$AX$552,6,FALSE),0)","v":0},{"$f":"IFERROR(VLOOKUP($A56,Filtro!$A$4:$AX$552,7,FALSE),0)","v":0},{"$f":"IFERROR(VLOOKUP($A56,Filtro!$A$4:$AX$552,8,FALSE),0)","v":0},{"$f":"IFERROR(VLOOKUP($A56,Filtro!$A$4:$AX$552,9,FALSE),0)","v":0},{"$f":"IFERROR(VLOOKUP($A56,Filtro!$A$4:$AX$552,10,FALSE),0)","v":0},{"$f":"IFERROR(VLOOKUP($A56,Filtro!$A$4:$AX$552,11,FALSE),0)","v":0},{"$f":"IFERROR(VLOOKUP($A56,Filtro!$A$4:$AX$552,12,FALSE),0)","v":0}]
["P1220100","65 a 69 años",{"$f":"IFERROR(VLOOKUP($A57,Filtro!$A$4:$AX$552,2,FALSE),0)","v":2},{"$f":"IFERROR(VLOOKUP($A57,Filtro!$A$4:$AX$552,3,FALSE),0)","v":2},{"$f":"IFERROR(VLOOKUP($A57,Filtro!$A$4:$AX$552,4,FALSE),0)","v":0},{"$f":"IFERROR(VLOOKUP($A57,Filtro!$A$4:$AX$552,5,FALSE),0)","v":0},{"$f":"IFERROR(VLOOKUP($A57,Filtro!$A$4:$AX$552,6,FALSE),0)","v":0},{"$f":"IFERROR(VLOOKUP($A57,Filtro!$A$4:$AX$552,7,FALSE),0)","v":0},{"$f":"IFERROR(VLOOKUP($A57,Filtro!$A$4:$AX$552,8,FALSE),0)","v":0},{"$f":"IFERROR(VLOOKUP($A57,Filtro!$A$4:$AX$552,9,FALSE),0)","v":0},{"$f":"IFERROR(VLOOKUP($A57,Filtro!$A$4:$AX$552,10,FALSE),0)","v":0},{"$f":"IFERROR(VLOOKUP($A57,Filtro!$A$4:$AX$552,11,FALSE),0)","v":0},{"$f":"IFERROR(VLOOKUP($A57,Filtro!$A$4:$AX$552,12,FALSE),0)","v":0}]
["P1220101","70 a 74 años",{"$f":"IFERROR(VLOOKUP($A58,Filtro!$A$4:$AX$552,2,FALSE),0)","v":0},{"$f":"IFERROR(VLOOKUP($A58,Filtro!$A$4:$AX$552,3,FALSE),0)","v":0},{"$f":"IFERROR(VLOOKUP($A58,Filtro!$A$4:$AX$552,4,FALSE),0)","v":0},{"$f":"IFERROR(VLOOKUP($A58,Filtro!$A$4:$AX$552,5,FALSE),0)","v":0},{"$f":"IFERROR(VLOOKUP($A58,Filtro!$A$4:$AX$552,6,FALSE),0)","v":0},{"$f":"IFERROR(VLOOKUP($A58,Filtro!$A$4:$AX$552,7,FALSE),0)","v":0},{"$f":"IFERROR(VLOOKUP($A58,Filtro!$A$4:$AX$552,8,FALSE),0)","v":0},{"$f":"IFERROR(VLOOKUP($A58,Filtro!$A$4:$AX$552,9,FALSE),0)","v":0},{"$f":"IFERROR(VLOOKUP($A58,Filtro!$A$4:$AX$552,10,FALSE),0)","v":0},{"$f":"IFERROR(VLOOKUP($A58,Filtro!$A$4:$AX$552,11,FALSE),0)","v":0},{"$f":"IFERROR(VLOOKUP($A58,Filtro!$A$4:$AX$552,12,FALSE),0)","v":0}]
["P1220102","75 a 79 años",{"$f":"IFERROR(VLOOKUP($A59,Filtro!$A$4:$AX$552,2,FALSE),0)","v":0},{"$f":"IFERROR(VLOOKUP($A59,Filtro!$A$4:$AX$552,3,FALSE),0)","v":0},{"$f":"IFERROR(VLOOKUP($A59,Filtro!$A$4:$AX$552,4,FALSE),0)","v":0},{"$f":"IFERROR(VLOOKUP($A59,Filtro!$A$4:$AX$552,5,FALSE),0)","v":0},{"$f":"IFERROR(VLOOKUP($A59,Filtro!$A$4:$AX$552,6,FALSE),0)","v":0},{"$f":"IFERROR(VLOOKUP($A59,Filtro!$A$4:$AX$552,7,FALSE),0)","v":0},{"$f":"IFERROR(VLOOKUP($A59,Filtro!$A$4:$AX$552,8,FALSE),0)","v":0},{"$f":"IFERROR(VLOOKUP($A59,Filtro!$A$4:$AX$552,9,FALSE),0)","v":0},{"$f":"IFERROR(VLOOKUP($A59,Filtro!$A$4:$AX$552,10,FALSE),0)","v":0},{"$f":"IFERROR(VLOOKUP($A59,Filtro!$A$4:$AX$552,11,FALSE),0)","v":0},{"$f":"IFERROR(VLOOKUP($A59,Filtro!$A$4:$AX$552,12,FALSE),0)","v":0}]
["P1230005","80 y más años",{"$f":"IFERROR(VLOOKUP($A60,Filtro!$A$4:$AX$552,2,FALSE),0)","v":0},{"$f":"IFERROR(VLOOKUP($A60,Filtro!$A$4:$AX$552,3,FALSE),0)","v":0},{"$f":"IFERROR(VLOOKUP($A60,Filtro!$A$4:$AX$552,4,FALSE),0)","v":0},{"$f":"IFERROR(VLOOKUP($A60,Filtro!$A$4:$AX$552,5,FALSE),0)","v":0},{"$f":"IFERROR(VLOOKUP($A60,Filtro!$A$4:$AX$552,6,FALSE),0)","v":0},{"$f":"IFERROR(VLOOKUP($A60,Filtro!$A$4:$AX$552,7,FALSE),0)","v":0},{"$f":"IFERROR(VLOOKUP($A60,Filtro!$A$4:$AX$552,8,FALSE),0)","v":0},{"$f":"IFERROR(VLOOKUP($A60,Filtro!$A$4:$AX$552,9,FALSE),0)","v":0},{"$f":"IFERROR(VLOOKUP($A60,Filtro!$A$4:$AX$552,10,FALSE),0)","v":0},{"$f":"IFERROR(VLOOKUP($A60,Filtro!$A$4:$AX$552,11,FALSE),0)","v":0},{"$f":"IFERROR(VLOOKUP($A60,Filtro!$A$4:$AX$552,12,FALSE),0)","v":0}]
[null,"TOTAL",{"$f":"SUM(D61:L61)","v":14},{"$f":"SUM(D48:D60)","v":12},{"$f":"SUM(E48:E60)","v":0},{"$f":"SUM(F48:F60)","v":0},0,0,1,1,0,0,{"$f":"SUM(M48:M60)","v":0}]
[null,"(*) FUENTE DE INFORMACIÓN: CITOEXPERT O REVICAN"]
[null,"SECCION C: PROGRAMA DE CANCER DE MAMA: MUJERES CON MAMOGRAFÍA VIGENTE EN LOS ULTIMOS 3 AÑOS. "]
[null,"GRUPO DE EDAD \n(en años)","Mujeres con mamografia vigente  (Menor o igual a 3 años)"]
["P1207190","Menor de 35 años",{"$f":"IFERROR(VLOOKUP($A65,Filtro!$A$4:$AX$552,2,FALSE),0)","v":511}]
["P1220020","35 a 49 años",{"$f":"IFERROR(VLOOKUP($A66,Filtro!$A$4:$AX$552,2,FALSE),0)","v":9320}]
["P1220030","50 a 54 años",{"$f":"IFERROR(VLOOKUP($A67,Filtro!$A$4:$AX$552,2,FALSE),0)","v":6957}]
["P1207030","55 a 59 años",{"$f":"IFERROR(VLOOKUP($A68,Filtro!$A$4:$AX$552,2,FALSE),0)","v":5980}]
["P1207040","60 a 64 años",{"$f":"IFERROR(VLOOKUP($A69,Filtro!$A$4:$AX$552,2,FALSE),0)","v":4248}]
["P1207050","65 a 69 años",{"$f":"IFERROR(VLOOKUP($A70,Filtro!$A$4:$AX$552,2,FALSE),0)","v":2147}]
["P1207060","70 a 74 años",{"$f":"IFERROR(VLOOKUP($A71,Filtro!$A$4:$AX$552,2,FALSE),0)","v":852}]
["P1207070","75 a 79 años",{"$f":"IFERROR(VLOOKUP($A72,Filtro!$A$4:$AX$552,2,FALSE),0)","v":322}]
["P1207080","80 y más años",{"$f":"IFERROR(VLOOKUP($A73,Filtro!$A$4:$AX$552,2,FALSE),0)","v":129}]
[null,"TOTAL",{"$f":"SUM(C65:C73)","v":30466}]
[null,"(*) FUENTE DE INFORMACIÓN: TARJETERO POBLACIONAL DE LA APS"]
[null,"SECCION D: PROGRAMA DE CANCER DE MAMA: NÚMERO DE MUJERES CON EXAMEN FÍSICO DE MAMA (VIGENTE)"]
[null,"GRUPO DE EDAD \n(en años)","Mujeres con EFM vigente\n"]
["P1207180","Menor de 35 años",{"$f":"IFERROR(VLOOKUP($A78,Filtro!$A$4:$AX$552,2,FALSE),0)","v":21573}]
["P1220070","35 a 49 años",{"$f":"IFERROR(VLOOKUP($A79,Filtro!$A$4:$AX$552,2,FALSE),0)","v":21529}]
["P1220090","50 a 54 años",{"$f":"IFERROR(VLOOKUP($A80,Filtro!$A$4:$AX$552,2,FALSE),0)","v":7349}]
["P1207090","55 a 59 años",{"$f":"IFERROR(VLOOKUP($A81,Filtro!$A$4:$AX$552,2,FALSE),0)","v":6405}]
["P1207100","60 a 64 años",{"$f":"IFERROR(VLOOKUP($A82,Filtro!$A$4:$AX$552,2,FALSE),0)","v":4631}]
["P1207110","65 a 69 años",{"$f":"IFERROR(VLOOKUP($A83,Filtro!$A$4:$AX$552,2,FALSE),0)","v":1932}]
["P1207120","70 a 74 años",{"$f":"IFERROR(VLOOKUP($A84,Filtro!$A$4:$AX$552,2,FALSE),0)","v":548}]
["P1207130","75 a 79 años",{"$f":"IFERROR(VLOOKUP($A85,Filtro!$A$4:$AX$552,2,FALSE),0)","v":199}]
["P1207140","80 y más años",{"$f":"IFERROR(VLOOKUP($A86,Filtro!$A$4:$AX$552,2,FALSE),0)","v":77}]
[null,"TOTAL",{"$f":"SUM(C78:C86)","v":64243}]
[null,"(*) FUENTE DE INFORMACIÓN: TARJETERO POBLACIONAL DE LA APS"]
{"$rows_empty":22}
[null,{"$f":"SUM(C10:D23,C27:L42,C48:L61,C65:C74,C78:C87)","v":412026},"datos"]
[null,{"$f":"SUM(AQ11:BB89)","v":0},"errores"]

{"sheet":"P13","index":11,"n_rows":72,"n_cols":70,"rows_kept":72,"merged":[[6,2,6,16],[7,1,7,7],[8,5,8,10],[8,11,10,11],[9,2,9,4],[9,5,9,6],[9,7,9,8],[9,9,9,10],[13,1,15,1],[13,2,14,4],[13,5,13,16],[13,17,15,17],[14,5,14,6],[14,7,14,8],[14,9,14,10],[14,11,14,12],[14,13,14,14],[14,15,14,16],[21,1,23,1],[21,2,22,4],[21,5,21,16],[21,17,23,17],[22,5,22,6],[22,7,22,8],[22,9,22,10],[22,11,22,12],[22,13,22,14],[22,15,22,16],[30,1,30,7],[31,5,31,10],[31,11,33,11],[32,2,32,4],[32,5,32,6],[32,7,32,8],[32,9,32,10],[36,1,38,1],[36,2,37,4],[36,5,36,16],[36,17,38,17],[37,5,37,6],[37,7,37,8],[37,9,37,10],[37,11,37,12],[37,13,37,14],[37,15,37,16],[44,1,46,1],[44,2,45,4],[44,5,44,16],[44,17,46,17],[45,5,45,6],[45,7,45,8],[45,9,45,10],[45,11,45,12],[45,13,45,14],[45,15,45,16]]}
[]
[]
[]
[]
[]
[]
[null,null,"REM-P13. NIÑOS, NIÑAS, ADOLESCENTES Y JÓVENES DE LA RED DE PROTECCIÓN SENAME EN ATENCIÓN"]
[null,"SECCIÓN A. POBLACIÓN SENAME POTENCIAL DE ATENCION EN APS AL CORTE"]
[{"$nulls":5},"TIPO DE PROGRAMAS SENAME",{"$nulls":5},"MIGRANTES"]
[null,null,"TOTAL",null,null,"Ambulatorios",null,"Residencia",null,"CIP / CRC"]
[null,null,"Ambos Sexos","Hombre","Mujer","Hombre","Mujer","Hombre","Mujer","Hombre","Mujer"]
["P1310010","N° TOTAL DE POBLACIÓN POTENCIAL SENAME",{"$f":"IFERROR(VLOOKUP($A12,Filtro!$A$4:$AX$552,2,FALSE),0)","v":5255},{"$f":"IFERROR(VLOOKUP($A12,Filtro!$A$4:$AX$552,3,FALSE),0)","v":2717},{"$f":"IFERROR(VLOOKUP($A12,Filtro!$A$4:$AX$552,4,FALSE),0)","v":2538},{"$f":"IFERROR(VLOOKUP($A12,Filtro!$A$4:$AX$552,5,FALSE),0)","v":2507},{"$f":"IFERROR(VLOOKUP($A12,Filtro!$A$4:$AX$552,6,FALSE),0)","v":2464},{"$f":"IFERROR(VLOOKUP($A12,Filtro!$A$4:$AX$552,7,FALSE),0)","v":173},{"$f":"IFERROR(VLOOKUP($A12,Filtro!$A$4:$AX$552,8,FALSE),0)","v":69},{"$f":"IFERROR(VLOOKUP($A12,Filtro!$A$4:$AX$552,9,FALSE),0)","v":37},{"$f":"IFERROR(VLOOKUP($A12,Filtro!$A$4:$AX$552,10,FALSE),0)","v":5},{"$f":"IFERROR(VLOOKUP($A12,Filtro!$A$4:$AX$552,11,FALSE),0)","v":31},{"$f":"$BB12&$BC12","v":""},{"$nulls":40},{"$f":"IF(BQ12=1,\" * El total de Migrantes no debe superar el total de población ingresada. \",\"\")","v":""},{"$f":"IF(BR12=1,\"* No olvide ingresar la columna Migrantes (Digite Cero si no tiene). \",\"\")","v":""},{"$nulls":13},{"$f":"IF(L12>C12,1,0)","v":0},{"$f":"IF(AND(C12<>0,L12=\"\"),1,0)","v":0}]
[null,"SECCIÓN B. NIÑOS, NIÑAS, ADOLESCENTES Y JÓVENES VINCULADOS A POBLACIÓN SENAME EN CONTROL DE SALUD EN APS AL CORTE"]
[null,"Tipo de Programas SENAME","TOTAL",null,null,"POR EDAD ",{"$nulls":11},"MIGRANTES"]
[{"$nulls":5}," 0 - 4",null," 5 - 9",null," 10 - 14 ",null,"15 a 19",null,"20 - 24",null,"Mayor a 25 años"]
[null,null,"Ambos sexos","Hombre","Mujer","Hombre","Mujer","Hombre","Mujer","Hombre","Mujer","Hombre","Mujer","Hombre","Mujer","Hombre","Mujer"]
[null,"TOTAL",{"$f":"SUM(D17:E17)","v":2227},{"$f":"SUM(D18:D20)","v":1114},{"$f":"SUM(E18:E20)","v":1113},{"$f":"SUM(F18:F20)","v":180},{"$f":"SUM(G18:G20)","v":128},338,355,337,323,244,300,15,6,0,1,{"$f":"SUM(R18:R20)","v":29},{"$f":"$BB17&$BC17","v":""},{"$nulls":34},{"$f":"IF(BQ17=1,\" * El total de Migrantes no debe superar el total de población ingresada. \",\"\")","v":""},{"$nulls":14},{"$f":"IF(R17>C17,1,0)","v":0}]
["P1310020","AMBULATORIOS",{"$f":"IFERROR(VLOOKUP($A18,Filtro!$A$4:$AX$552,2,FALSE),0)","v":1958},{"$f":"IFERROR(VLOOKUP($A18,Filtro!$A$4:$AX$552,3,FALSE),0)","v":952},{"$f":"IFERROR(VLOOKUP($A18,Filtro!$A$4:$AX$552,4,FALSE),0)","v":1006},{"$f":"IFERROR(VLOOKUP($A18,Filtro!$A$4:$AX$552,5,FALSE),0)","v":157},{"$f":"IFERROR(VLOOKUP($A18,Filtro!$A$4:$AX$552,6,FALSE),0)","v":113},{"$f":"IFERROR(VLOOKUP($A18,Filtro!$A$4:$AX$552,7,FALSE),0)","v":309},{"$f":"IFERROR(VLOOKUP($A18,Filtro!$A$4:$AX$552,8,FALSE),0)","v":325},{"$f":"IFERROR(VLOOKUP($A18,Filtro!$A$4:$AX$552,9,FALSE),0)","v":299},{"$f":"IFERROR(VLOOKUP($A18,Filtro!$A$4:$AX$552,10,FALSE),0)","v":291},{"$f":"IFERROR(VLOOKUP($A18,Filtro!$A$4:$AX$552,11,FALSE),0)","v":183},{"$f":"IFERROR(VLOOKUP($A18,Filtro!$A$4:$AX$552,12,FALSE),0)","v":271},{"$f":"IFERROR(VLOOKUP($A18,Filtro!$A$4:$AX$552,13,FALSE),0)","v":4},{"$f":"IFERROR(VLOOKUP($A18,Filtro!$A$4:$AX$552,14,FALSE),0)","v":5},{"$f":"IFERROR(VLOOKUP($A18,Filtro!$A$4:$AX$552,15,FALSE),0)","v":0},{"$f":"IFERROR(VLOOKUP($A18,Filtro!$A$4:$AX$552,16,FALSE),0)","v":1},{"$f":"IFERROR(VLOOKUP($A18,Filtro!$A$4:$AX$552,17,FALSE),0)","v":24},{"$nulls":35},{"$f":"IF(BQ18=1,\" * El total de Migrantes no debe superar el total de población ingresada. \",\"\")","v":""},{"$f":"IF(BR18=1,\"* No olvide ingresar la columna Migrantes (Digite Cero si no tiene). \",\"\")","v":""},{"$nulls":13},{"$f":"IF(R18>C18,1,0)","v":0},{"$f":"IF(AND(C18<>0,R18=\"\"),1,0)","v":0}]
["P1310030","RESIDENCIALES",{"$f":"IFERROR(VLOOKUP($A19,Filtro!$A$4:$AX$552,2,FALSE),0)","v":232},{"$f":"IFERROR(VLOOKUP($A19,Filtro!$A$4:$AX$552,3,FALSE),0)","v":132},{"$f":"IFERROR(VLOOKUP($A19,Filtro!$A$4:$AX$552,4,FALSE),0)","v":100},{"$f":"IFERROR(VLOOKUP($A19,Filtro!$A$4:$AX$552,5,FALSE),0)","v":23},{"$f":"IFERROR(VLOOKUP($A19,Filtro!$A$4:$AX$552,6,FALSE),0)","v":15},{"$f":"IFERROR(VLOOKUP($A19,Filtro!$A$4:$AX$552,7,FALSE),0)","v":29},{"$f":"IFERROR(VLOOKUP($A19,Filtro!$A$4:$AX$552,8,FALSE),0)","v":30},{"$f":"IFERROR(VLOOKUP($A19,Filtro!$A$4:$AX$552,9,FALSE),0)","v":37},{"$f":"IFERROR(VLOOKUP($A19,Filtro!$A$4:$AX$552,10,FALSE),0)","v":32},{"$f":"IFERROR(VLOOKUP($A19,Filtro!$A$4:$AX$552,11,FALSE),0)","v":43},{"$f":"IFERROR(VLOOKUP($A19,Filtro!$A$4:$AX$552,12,FALSE),0)","v":23},{"$f":"IFERROR(VLOOKUP($A19,Filtro!$A$4:$AX$552,13,FALSE),0)","v":0},{"$f":"IFERROR(VLOOKUP($A19,Filtro!$A$4:$AX$552,14,FALSE),0)","v":0},{"$f":"IFERROR(VLOOKUP($A19,Filtro!$A$4:$AX$552,15,FALSE),0)","v":0},{"$f":"IFERROR(VLOOKUP($A19,Filtro!$A$4:$AX$552,16,FALSE),0)","v":0},{"$f":"IFERROR(VLOOKUP($A19,Filtro!$A$4:$AX$552,17,FALSE),0)","v":5},{"$nulls":35},"","",{"$nulls":13},0,{"$f":"IF(AND(C19<>0,R19=\"\"),1,0)","v":0}]
["P1310040","CIP-CRC",{"$f":"IFERROR(VLOOKUP($A20,Filtro!$A$4:$AX$552,2,FALSE),0)","v":37},{"$f":"IFERROR(VLOOKUP($A20,Filtro!$A$4:$AX$552,3,FALSE),0)","v":30},{"$f":"IFERROR(VLOOKUP($A20,Filtro!$A$4:$AX$552,4,FALSE),0)","v":7},{"$f":"IFERROR(VLOOKUP($A20,Filtro!$A$4:$AX$552,5,FALSE),0)","v":0},{"$f":"IFERROR(VLOOKUP($A20,Filtro!$A$4:$AX$552,6,FALSE),0)","v":0},{"$f":"IFERROR(VLOOKUP($A20,Filtro!$A$4:$AX$552,7,FALSE),0)","v":0},{"$f":"IFERROR(VLOOKUP($A20,Filtro!$A$4:$AX$552,8,FALSE),0)","v":0},{"$f":"IFERROR(VLOOKUP($A20,Filtro!$A$4:$AX$552,9,FALSE),0)","v":1},{"$f":"IFERROR(VLOOKUP($A20,Filtro!$A$4:$AX$552,10,FALSE),0)","v":0},{"$f":"IFERROR(VLOOKUP($A20,Filtro!$A$4:$AX$552,11,FALSE),0)","v":18},{"$f":"IFERROR(VLOOKUP($A20,Filtro!$A$4:$AX$552,12,FALSE),0)","v":6},{"$f":"IFERROR(VLOOKUP($A20,Filtro!$A$4:$AX$552,13,FALSE),0)","v":11},{"$f":"IFERROR(VLOOKUP($A20,Filtro!$A$4:$AX$552,14,FALSE),0)","v":1},{"$f":"IFERROR(VLOOKUP($A20,Filtro!$A$4:$AX$552,15,FALSE),0)","v":0},{"$f":"IFERROR(VLOOKUP($A20,Filtro!$A$4:$AX$552,16,FALSE),0)","v":0},{"$f":"IFERROR(VLOOKUP($A20,Filtro!$A$4:$AX$552,17,FALSE),0)","v":0},{"$nulls":35},"","",{"$nulls":13},0,0]
[null,"SECCIÓN C. VARIABLES DE SEGUIMIENTO A POBLACIÓN SENAME EN CONTROL DE SALUD EN APS AL CORTE"]
[null,"Variable","TOTAL",null,null,"POR EDAD ",{"$nulls":11},"MIGRANTES"]
[{"$nulls":5}," 0 - 4",null," 5 - 9",null," 10 - 14 ",null,"15 a 19",null,"20 a 24",null,"Mayor a 25 años"]
[null,null,"Ambos sexos","Hombre","Mujer","Hombre","Mujer","Hombre","Mujer","Hombre","Mujer","Hombre","Mujer","Hombre","Mujer","Hombre","Mujer"]
["P1310050","POBLACIÓN EN CONTROL CON MÉTODO DE REGULACIÓN DE FERTILIDAD",{"$f":"IFERROR(VLOOKUP($A25,Filtro!$A$4:$AX$552,2,FALSE),0)","v":127},{"$f":"IFERROR(VLOOKUP($A25,Filtro!$A$4:$AX$552,3,FALSE),0)","v":2},{"$f":"IFERROR(VLOOKUP($A25,Filtro!$A$4:$AX$552,4,FALSE),0)","v":125},{"$f":"IFERROR(VLOOKUP($A25,Filtro!$A$4:$AX$552,5,FALSE),0)","v":0},{"$f":"IFERROR(VLOOKUP($A25,Filtro!$A$4:$AX$552,6,FALSE),0)","v":0},{"$f":"IFERROR(VLOOKUP($A25,Filtro!$A$4:$AX$552,7,FALSE),0)","v":0},{"$f":"IFERROR(VLOOKUP($A25,Filtro!$A$4:$AX$552,8,FALSE),0)","v":0},{"$f":"IFERROR(VLOOKUP($A25,Filtro!$A$4:$AX$552,9,FALSE),0)","v":1},{"$f":"IFERROR(VLOOKUP($A25,Filtro!$A$4:$AX$552,10,FALSE),0)","v":24},{"$f":"IFERROR(VLOOKUP($A25,Filtro!$A$4:$AX$552,11,FALSE),0)","v":1},{"$f":"IFERROR(VLOOKUP($A25,Filtro!$A$4:$AX$552,12,FALSE),0)","v":99},{"$f":"IFERROR(VLOOKUP($A25,Filtro!$A$4:$AX$552,13,FALSE),0)","v":0},{"$f":"IFERROR(VLOOKUP($A25,Filtro!$A$4:$AX$552,14,FALSE),0)","v":2},{"$f":"IFERROR(VLOOKUP($A25,Filtro!$A$4:$AX$552,15,FALSE),0)","v":0},{"$f":"IFERROR(VLOOKUP($A25,Filtro!$A$4:$AX$552,16,FALSE),0)","v":0},{"$f":"IFERROR(VLOOKUP($A25,Filtro!$A$4:$AX$552,17,FALSE),0)","v":1},{"$f":"$BB25&$BC25","v":""},{"$nulls":34},{"$f":"IF(BQ25=1,\" * El total de Migrantes no debe superar el total de población ingresada. \",\"\")","v":""},{"$f":"IF(BR25=1,\"* No olvide ingresar la columna Migrantes (Digite Cero si no tiene). \",\"\")","v":""},{"$nulls":13},{"$f":"IF(R25>C25,1,0)","v":0},{"$f":"IF(AND(C25<>0,R25=\"\"),1,0)","v":0}]
["P1310060","GESTANTES EN CONTROL CON RIESGO PSICOSOCIAL",{"$f":"IFERROR(VLOOKUP($A26,Filtro!$A$4:$AX$552,2,FALSE),0)","v":9},{"$f":"IFERROR(VLOOKUP($A26,Filtro!$A$4:$AX$552,3,FALSE),0)","v":0},{"$f":"IFERROR(VLOOKUP($A26,Filtro!$A$4:$AX$552,4,FALSE),0)","v":9},{"$f":"IFERROR(VLOOKUP($A26,Filtro!$A$4:$AX$552,5,FALSE),0)","v":0},{"$f":"IFERROR(VLOOKUP($A26,Filtro!$A$4:$AX$552,6,FALSE),0)","v":0},{"$f":"IFERROR(VLOOKUP($A26,Filtro!$A$4:$AX$552,7,FALSE),0)","v":0},{"$f":"IFERROR(VLOOKUP($A26,Filtro!$A$4:$AX$552,8,FALSE),0)","v":0},{"$f":"IFERROR(VLOOKUP($A26,Filtro!$A$4:$AX$552,9,FALSE),0)","v":0},{"$f":"IFERROR(VLOOKUP($A26,Filtro!$A$4:$AX$552,10,FALSE),0)","v":2},{"$f":"IFERROR(VLOOKUP($A26,Filtro!$A$4:$AX$552,11,FALSE),0)","v":0},{"$f":"IFERROR(VLOOKUP($A26,Filtro!$A$4:$AX$552,12,FALSE),0)","v":7},{"$f":"IFERROR(VLOOKUP($A26,Filtro!$A$4:$AX$552,13,FALSE),0)","v":0},{"$f":"IFERROR(VLOOKUP($A26,Filtro!$A$4:$AX$552,14,FALSE),0)","v":0},{"$f":"IFERROR(VLOOKUP($A26,Filtro!$A$4:$AX$552,15,FALSE),0)","v":0},{"$f":"IFERROR(VLOOKUP($A26,Filtro!$A$4:$AX$552,16,FALSE),0)","v":0},{"$f":"IFERROR(VLOOKUP($A26,Filtro!$A$4:$AX$552,17,FALSE),0)","v":0},"",{"$nulls":34},"","",{"$nulls":13},{"$f":"IF(R26>C26,1,0)","v":0},0]
["P1310070","POBLACIÓN INFANTIL EN CONTROL",{"$f":"IFERROR(VLOOKUP($A27,Filtro!$A$4:$AX$552,2,FALSE),0)","v":540},{"$f":"IFERROR(VLOOKUP($A27,Filtro!$A$4:$AX$552,3,FALSE),0)","v":271},{"$f":"IFERROR(VLOOKUP($A27,Filtro!$A$4:$AX$552,4,FALSE),0)","v":269},{"$f":"IFERROR(VLOOKUP($A27,Filtro!$A$4:$AX$552,5,FALSE),0)","v":121},{"$f":"IFERROR(VLOOKUP($A27,Filtro!$A$4:$AX$552,6,FALSE),0)","v":110},{"$f":"IFERROR(VLOOKUP($A27,Filtro!$A$4:$AX$552,7,FALSE),0)","v":150},{"$f":"IFERROR(VLOOKUP($A27,Filtro!$A$4:$AX$552,8,FALSE),0)","v":159},{"$f":"IFERROR(VLOOKUP($A27,Filtro!$A$4:$AX$552,9,FALSE),0)","v":0},{"$f":"IFERROR(VLOOKUP($A27,Filtro!$A$4:$AX$552,10,FALSE),0)","v":0},{"$f":"IFERROR(VLOOKUP($A27,Filtro!$A$4:$AX$552,11,FALSE),0)","v":0},{"$f":"IFERROR(VLOOKUP($A27,Filtro!$A$4:$AX$552,12,FALSE),0)","v":0},{"$f":"IFERROR(VLOOKUP($A27,Filtro!$A$4:$AX$552,13,FALSE),0)","v":0},{"$f":"IFERROR(VLOOKUP($A27,Filtro!$A$4:$AX$552,14,FALSE),0)","v":0},{"$f":"IFERROR(VLOOKUP($A27,Filtro!$A$4:$AX$552,15,FALSE),0)","v":0},{"$f":"IFERROR(VLOOKUP($A27,Filtro!$A$4:$AX$552,16,FALSE),0)","v":0},{"$f":"IFERROR(VLOOKUP($A27,Filtro!$A$4:$AX$552,17,FALSE),0)","v":6},"",{"$nulls":34},"","",{"$nulls":13},0,0]
["P1310080","POBLACIÓN EN CONTROL DE SALUD INTEGRAL DE ADOLESCENTES SEGÚN ÁREA DE RIESGO",{"$f":"IFERROR(VLOOKUP($A28,Filtro!$A$4:$AX$552,2,FALSE),0)","v":135},{"$f":"IFERROR(VLOOKUP($A28,Filtro!$A$4:$AX$552,3,FALSE),0)","v":61},{"$f":"IFERROR(VLOOKUP($A28,Filtro!$A$4:$AX$552,4,FALSE),0)","v":74},{"$f":"IFERROR(VLOOKUP($A28,Filtro!$A$4:$AX$552,5,FALSE),0)","v":0},{"$f":"IFERROR(VLOOKUP($A28,Filtro!$A$4:$AX$552,6,FALSE),0)","v":0},{"$f":"IFERROR(VLOOKUP($A28,Filtro!$A$4:$AX$552,7,FALSE),0)","v":0},{"$f":"IFERROR(VLOOKUP($A28,Filtro!$A$4:$AX$552,8,FALSE),0)","v":0},{"$f":"IFERROR(VLOOKUP($A28,Filtro!$A$4:$AX$552,9,FALSE),0)","v":31},{"$f":"IFERROR(VLOOKUP($A28,Filtro!$A$4:$AX$552,10,FALSE),0)","v":33},{"$f":"IFERROR(VLOOKUP($A28,Filtro!$A$4:$AX$552,11,FALSE),0)","v":29},{"$f":"IFERROR(VLOOKUP($A28,Filtro!$A$4:$AX$552,12,FALSE),0)","v":41},{"$f":"IFERROR(VLOOKUP($A28,Filtro!$A$4:$AX$552,13,FALSE),0)","v":1},{"$f":"IFERROR(VLOOKUP($A28,Filtro!$A$4:$AX$552,14,FALSE),0)","v":0},{"$f":"IFERROR(VLOOKUP($A28,Filtro!$A$4:$AX$552,15,FALSE),0)","v":0},{"$f":"IFERROR(VLOOKUP($A28,Filtro!$A$4:$AX$552,16,FALSE),0)","v":0},{"$f":"IFERROR(VLOOKUP($A28,Filtro!$A$4:$AX$552,17,FALSE),0)","v":0},"",{"$nulls":34},"","",{"$nulls":13},0,0]
["P1310090","POBLACIÓN EN CONTROL DE SALUD MENTAL",{"$f":"IFERROR(VLOOKUP($A29,Filtro!$A$4:$AX$552,2,FALSE),0)","v":559},{"$f":"IFERROR(VLOOKUP($A29,Filtro!$A$4:$AX$552,3,FALSE),0)","v":279},{"$f":"IFERROR(VLOOKUP($A29,Filtro!$A$4:$AX$552,4,FALSE),0)","v":280},{"$f":"IFERROR(VLOOKUP($A29,Filtro!$A$4:$AX$552,5,FALSE),0)","v":9},{"$f":"IFERROR(VLOOKUP($A29,Filtro!$A$4:$AX$552,6,FALSE),0)","v":5},{"$f":"IFERROR(VLOOKUP($A29,Filtro!$A$4:$AX$552,7,FALSE),0)","v":88},{"$f":"IFERROR(VLOOKUP($A29,Filtro!$A$4:$AX$552,8,FALSE),0)","v":89},{"$f":"IFERROR(VLOOKUP($A29,Filtro!$A$4:$AX$552,9,FALSE),0)","v":111},{"$f":"IFERROR(VLOOKUP($A29,Filtro!$A$4:$AX$552,10,FALSE),0)","v":96},{"$f":"IFERROR(VLOOKUP($A29,Filtro!$A$4:$AX$552,11,FALSE),0)","v":66},{"$f":"IFERROR(VLOOKUP($A29,Filtro!$A$4:$AX$552,12,FALSE),0)","v":85},{"$f":"IFERROR(VLOOKUP($A29,Filtro!$A$4:$AX$552,13,FALSE),0)","v":5},{"$f":"IFERROR(VLOOKUP($A29,Filtro!$A$4:$AX$552,14,FALSE),0)","v":2},{"$f":"IFERROR(VLOOKUP($A29,Filtro!$A$4:$AX$552,15,FALSE),0)","v":0},{"$f":"IFERROR(VLOOKUP($A29,Filtro!$A$4:$AX$552,16,FALSE),0)","v":3},{"$f":"IFERROR(VLOOKUP($A29,Filtro!$A$4:$AX$552,17,FALSE),0)","v":2},"",{"$nulls":34},"","",{"$nulls":13},0,0]
["P1320010","POBLACIÓN EN PROGRAMA DE ACOMPAÑAMIENTO PSICOSOCIAL",{"$f":"IFERROR(VLOOKUP($A30,Filtro!$A$4:$AX$552,2,FALSE),0)","v":282},{"$f":"IFERROR(VLOOKUP($A30,Filtro!$A$4:$AX$552,3,FALSE),0)","v":131},{"$f":"IFERROR(VLOOKUP($A30,Filtro!$A$4:$AX$552,4,FALSE),0)","v":151},{"$f":"IFERROR(VLOOKUP($A30,Filtro!$A$4:$AX$552,5,FALSE),0)","v":30},{"$f":"IFERROR(VLOOKUP($A30,Filtro!$A$4:$AX$552,6,FALSE),0)","v":23},{"$f":"IFERROR(VLOOKUP($A30,Filtro!$A$4:$AX$552,7,FALSE),0)","v":44},{"$f":"IFERROR(VLOOKUP($A30,Filtro!$A$4:$AX$552,8,FALSE),0)","v":36},{"$f":"IFERROR(VLOOKUP($A30,Filtro!$A$4:$AX$552,9,FALSE),0)","v":37},{"$f":"IFERROR(VLOOKUP($A30,Filtro!$A$4:$AX$552,10,FALSE),0)","v":41},{"$f":"IFERROR(VLOOKUP($A30,Filtro!$A$4:$AX$552,11,FALSE),0)","v":14},{"$f":"IFERROR(VLOOKUP($A30,Filtro!$A$4:$AX$552,12,FALSE),0)","v":32},{"$f":"IFERROR(VLOOKUP($A30,Filtro!$A$4:$AX$552,13,FALSE),0)","v":3},{"$f":"IFERROR(VLOOKUP($A30,Filtro!$A$4:$AX$552,14,FALSE),0)","v":10},{"$f":"IFERROR(VLOOKUP($A30,Filtro!$A$4:$AX$552,15,FALSE),0)","v":3},{"$f":"IFERROR(VLOOKUP($A30,Filtro!$A$4:$AX$552,16,FALSE),0)","v":9},{"$f":"IFERROR(VLOOKUP($A30,Filtro!$A$4:$AX$552,17,FALSE),0)","v":1},"",{"$nulls":34},"","",{"$nulls":13},0,0]
[null,"SECCIÓN D. POBLACIÓN SENAME POTENCIAL DE ATENCION EN ESPECIALIDAD AL CORTE"]
[{"$nulls":5},"TIPO DE PROGRAMAS SENAME",{"$nulls":5},"MIGRANTES"]
[null,null,"TOTAL",null,null,"Ambulatorios",null,"Residencia",null,"CIP / CRC"]
[null,null,"Ambos Sexos","Hombre","Mujer","Hombre","Mujer","Hombre","Mujer","Hombre","Mujer"]
["P1320020","N° TOTAL DE POBLACIÓN POTENCIAL SENAME",{"$f":"IFERROR(VLOOKUP($A35,Filtro!$A$4:$AX$552,2,FALSE),0)","v":423},{"$f":"IFERROR(VLOOKUP($A35,Filtro!$A$4:$AX$552,3,FALSE),0)","v":210},{"$f":"IFERROR(VLOOKUP($A35,Filtro!$A$4:$AX$552,4,FALSE),0)","v":213},{"$f":"IFERROR(VLOOKUP($A35,Filtro!$A$4:$AX$552,5,FALSE),0)","v":178},{"$f":"IFERROR(VLOOKUP($A35,Filtro!$A$4:$AX$552,6,FALSE),0)","v":205},{"$f":"IFERROR(VLOOKUP($A35,Filtro!$A$4:$AX$552,7,FALSE),0)","v":32},{"$f":"IFERROR(VLOOKUP($A35,Filtro!$A$4:$AX$552,8,FALSE),0)","v":8},{"$f":"IFERROR(VLOOKUP($A35,Filtro!$A$4:$AX$552,9,FALSE),0)","v":0},{"$f":"IFERROR(VLOOKUP($A35,Filtro!$A$4:$AX$552,10,FALSE),0)","v":0},{"$f":"IFERROR(VLOOKUP($A35,Filtro!$A$4:$AX$552,11,FALSE),0)","v":2},{"$f":"$BB35&$BC35","v":""},{"$nulls":40},{"$f":"IF(BQ35=1,\" * El total de Migrantes no debe superar el total de población ingresada. \",\"\")","v":""},{"$f":"IF(BR35=1,\"* No olvide ingresar la columna Migrantes (Digite Cero si no tiene). \",\"\")","v":""},{"$nulls":13},{"$f":"IF(L35>C35,1,0)","v":0},{"$f":"IF(AND(C35<>0,L35=\"\"),1,0)","v":0}]
[null,"SECCIÓN E. NIÑOS, NIÑAS, ADOLESCENTES Y JÓVENES VINCULADOS A POBLACIÓN SENAME EN CONTROL DE SALUD EN ESPECIALIDAD AL CORTE"]
[null,"Tipo de Programas SENAME","TOTAL",null,null,"POR EDAD ",{"$nulls":11},"MIGRANTES"]
[{"$nulls":5}," 0 - 4",null," 5 - 9",null," 10 - 14 ",null,"15 a 19",null,"20 - 24",null,"Mayor a 25 años"]
[null,null,"Ambos sexos","Hombre","Mujer","Hombre","Mujer","Hombre","Mujer","Hombre","Mujer","Hombre","Mujer","Hombre","Mujer","Hombre","Mujer"]
[null,"TOTAL",{"$f":"SUM(D40:E40)","v":170},{"$f":"SUM(D41:D43)","v":109},61,{"$f":"SUM(F41:F43)","v":4},0,22,2,51,25,32,32,0,0,0,2,2]
["P1320030","AMBULATORIOS",{"$f":"IFERROR(VLOOKUP($A41,Filtro!$A$4:$AX$552,2,FALSE),0)","v":101},{"$f":"IFERROR(VLOOKUP($A41,Filtro!$A$4:$AX$552,3,FALSE),0)","v":59},{"$f":"IFERROR(VLOOKUP($A41,Filtro!$A$4:$AX$552,4,FALSE),0)","v":42},{"$f":"IFERROR(VLOOKUP($A41,Filtro!$A$4:$AX$552,5,FALSE),0)","v":0},{"$f":"IFERROR(VLOOKUP($A41,Filtro!$A$4:$AX$552,6,FALSE),0)","v":0},{"$f":"IFERROR(VLOOKUP($A41,Filtro!$A$4:$AX$552,7,FALSE),0)","v":12},{"$f":"IFERROR(VLOOKUP($A41,Filtro!$A$4:$AX$552,8,FALSE),0)","v":0},{"$f":"IFERROR(VLOOKUP($A41,Filtro!$A$4:$AX$552,9,FALSE),0)","v":28},{"$f":"IFERROR(VLOOKUP($A41,Filtro!$A$4:$AX$552,10,FALSE),0)","v":15},{"$f":"IFERROR(VLOOKUP($A41,Filtro!$A$4:$AX$552,11,FALSE),0)","v":19},{"$f":"IFERROR(VLOOKUP($A41,Filtro!$A$4:$AX$552,12,FALSE),0)","v":26},{"$f":"IFERROR(VLOOKUP($A41,Filtro!$A$4:$AX$552,13,FALSE),0)","v":0},{"$f":"IFERROR(VLOOKUP($A41,Filtro!$A$4:$AX$552,14,FALSE),0)","v":0},{"$f":"IFERROR(VLOOKUP($A41,Filtro!$A$4:$AX$552,15,FALSE),0)","v":0},{"$f":"IFERROR(VLOOKUP($A41,Filtro!$A$4:$AX$552,16,FALSE),0)","v":1},{"$f":"IFERROR(VLOOKUP($A41,Filtro!$A$4:$AX$552,17,FALSE),0)","v":2},{"$f":"$BB41&$BC41","v":""},{"$nulls":34},{"$f":"IF(BQ41=1,\" * El total de Migrantes no debe superar el total de población ingresada. \",\"\")","v":""},{"$f":"IF(BR41=1,\"* No olvide ingresar la columna Migrantes (Digite Cero si no tiene). \",\"\")","v":""},{"$nulls":13},{"$f":"IF(R41>C41,1,0)","v":0},{"$f":"IF(AND(C41<>0,R41=\"\"),1,0)","v":0}]
["P1320040","RESIDENCIALES",{"$f":"IFERROR(VLOOKUP($A42,Filtro!$A$4:$AX$552,2,FALSE),0)","v":69},{"$f":"IFERROR(VLOOKUP($A42,Filtro!$A$4:$AX$552,3,FALSE),0)","v":50},{"$f":"IFERROR(VLOOKUP($A42,Filtro!$A$4:$AX$552,4,FALSE),0)","v":19},{"$f":"IFERROR(VLOOKUP($A42,Filtro!$A$4:$AX$552,5,FALSE),0)","v":4},{"$f":"IFERROR(VLOOKUP($A42,Filtro!$A$4:$AX$552,6,FALSE),0)","v":0},{"$f":"IFERROR(VLOOKUP($A42,Filtro!$A$4:$AX$552,7,FALSE),0)","v":10},{"$f":"IFERROR(VLOOKUP($A42,Filtro!$A$4:$AX$552,8,FALSE),0)","v":2},{"$f":"IFERROR(VLOOKUP($A42,Filtro!$A$4:$AX$552,9,FALSE),0)","v":23},{"$f":"IFERROR(VLOOKUP($A42,Filtro!$A$4:$AX$552,10,FALSE),0)","v":10},{"$f":"IFERROR(VLOOKUP($A42,Filtro!$A$4:$AX$552,11,FALSE),0)","v":13},{"$f":"IFERROR(VLOOKUP($A42,Filtro!$A$4:$AX$552,12,FALSE),0)","v":6},{"$f":"IFERROR(VLOOKUP($A42,Filtro!$A$4:$AX$552,13,FALSE),0)","v":0},{"$f":"IFERROR(VLOOKUP($A42,Filtro!$A$4:$AX$552,14,FALSE),0)","v":0},{"$f":"IFERROR(VLOOKUP($A42,Filtro!$A$4:$AX$552,15,FALSE),0)","v":0},{"$f":"IFERROR(VLOOKUP($A42,Filtro!$A$4:$AX$552,16,FALSE),0)","v":1},{"$f":"IFERROR(VLOOKUP($A42,Filtro!$A$4:$AX$552,17,FALSE),0)","v":0},"",{"$nulls":34},"","",{"$nulls":13},0,0]
["P1320050","CIP-CRC",{"$f":"IFERROR(VLOOKUP($A43,Filtro!$A$4:$AX$552,2,FALSE),0)","v":0},{"$f":"IFERROR(VLOOKUP($A43,Filtro!$A$4:$AX$552,3,FALSE),0)","v":0},{"$f":"IFERROR(VLOOKUP($A43,Filtro!$A$4:$AX$552,4,FALSE),0)","v":0},{"$f":"IFERROR(VLOOKUP($A43,Filtro!$A$4:$AX$552,5,FALSE),0)","v":0},{"$f":"IFERROR(VLOOKUP($A43,Filtro!$A$4:$AX$552,6,FALSE),0)","v":0},{"$f":"IFERROR(VLOOKUP($A43,Filtro!$A$4:$AX$552,7,FALSE),0)","v":0},{"$f":"IFERROR(VLOOKUP($A43,Filtro!$A$4:$AX$552,8,FALSE),0)","v":0},{"$f":"IFERROR(VLOOKUP($A43,Filtro!$A$4:$AX$552,9,FALSE),0)","v":0},{"$f":"IFERROR(VLOOKUP($A43,Filtro!$A$4:$AX$552,10,FALSE),0)","v":0},{"$f":"IFERROR(VLOOKUP($A43,Filtro!$A$4:$AX$552,11,FALSE),0)","v":0},{"$f":"IFERROR(VLOOKUP($A43,Filtro!$A$4:$AX$552,12,FALSE),0)","v":0},{"$f":"IFERROR(VLOOKUP($A43,Filtro!$A$4:$AX$552,13,FALSE),0)","v":0},{"$f":"IFERROR(VLOOKUP($A43,Filtro!$A$4:$AX$552,14,FALSE),0)","v":0},{"$f":"IFERROR(VLOOKUP($A43,Filtro!$A$4:$AX$552,15,FALSE),0)","v":0},{"$f":"IFERROR(VLOOKUP($A43,Filtro!$A$4:$AX$552,16,FALSE),0)","v":0},{"$f":"IFERROR(VLOOKUP($A43,Filtro!$A$4:$AX$552,17,FALSE),0)","v":0},"",{"$nulls":34},"","",{"$nulls":13},0,0]
[null,"SECCIÓN F. VARIABLES DE SEGUIMIENTO A POBLACIÓN SENAME EN CONTROL DE SALUD EN ESPECIALIDAD AL CORTE"]
[null,"Variable","TOTAL",null,null,"POR EDAD ",{"$nulls":11},"MIGRANTES"]
[{"$nulls":5}," 0 - 4",null," 5 - 9",null," 10 - 14 ",null,"15 a 19",null,"20 a 24",null,"Mayor a 25 años"]
[null,null,"Ambos sexos","Hombre","Mujer","Hombre","Mujer","Hombre","Mujer","Hombre","Mujer","Hombre","Mujer","Hombre","Mujer","Hombre","Mujer"]
["P1320060","POBLACIÓN EN CONTROL CON MÉTODO DE REGULACIÓN DE FERTILIDAD",{"$f":"IFERROR(VLOOKUP($A48,Filtro!$A$4:$AX$552,2,FALSE),0)","v":1},{"$f":"IFERROR(VLOOKUP($A48,Filtro!$A$4:$AX$552,3,FALSE),0)","v":0},{"$f":"IFERROR(VLOOKUP($A48,Filtro!$A$4:$AX$552,4,FALSE),0)","v":1},{"$f":"IFERROR(VLOOKUP($A48,Filtro!$A$4:$AX$552,5,FALSE),0)","v":0},{"$f":"IFERROR(VLOOKUP($A48,Filtro!$A$4:$AX$552,6,FALSE),0)","v":0},{"$f":"IFERROR(VLOOKUP($A48,Filtro!$A$4:$AX$552,7,FALSE),0)","v":0},{"$f":"IFERROR(VLOOKUP($A48,Filtro!$A$4:$AX$552,8,FALSE),0)","v":0},{"$f":"IFERROR(VLOOKUP($A48,Filtro!$A$4:$AX$552,9,FALSE),0)","v":0},{"$f":"IFERROR(VLOOKUP($A48,Filtro!$A$4:$AX$552,10,FALSE),0)","v":0},{"$f":"IFERROR(VLOOKUP($A48,Filtro!$A$4:$AX$552,11,FALSE),0)","v":0},{"$f":"IFERROR(VLOOKUP($A48,Filtro!$A$4:$AX$552,12,FALSE),0)","v":1},{"$f":"IFERROR(VLOOKUP($A48,Filtro!$A$4:$AX$552,13,FALSE),0)","v":0},{"$f":"IFERROR(VLOOKUP($A48,Filtro!$A$4:$AX$552,14,FALSE),0)","v":0},{"$f":"IFERROR(VLOOKUP($A48,Filtro!$A$4:$AX$552,15,FALSE),0)","v":0},{"$f":"IFERROR(VLOOKUP($A48,Filtro!$A$4:$AX$552,16,FALSE),0)","v":0},{"$f":"IFERROR(VLOOKUP($A48,Filtro!$A$4:$AX$552,17,FALSE),0)","v":0},{"$f":"$BB48&$BC48","v":""},{"$nulls":34},{"$f":"IF(BQ48=1,\" * El total de Migrantes no debe superar el total de población ingresada. \",\"\")","v":""},{"$f":"IF(BR48=1,\"* No olvide ingresar la columna Migrantes (Digite Cero si no tiene). \",\"\")","v":""},{"$nulls":13},{"$f":"IF(R48>C48,1,0)","v":0},{"$f":"IF(AND(C48<>0,R48=\"\"),1,0)","v":0}]
["P1320070","GESTANTES EN CONTROL CON RIESGO PSICOSOCIAL",{"$f":"IFERROR(VLOOKUP($A49,Filtro!$A$4:$AX$552,2,FALSE),0)","v":0},{"$f":"IFERROR(VLOOKUP($A49,Filtro!$A$4:$AX$552,3,FALSE),0)","v":0},{"$f":"IFERROR(VLOOKUP($A49,Filtro!$A$4:$AX$552,4,FALSE),0)","v":0},{"$f":"IFERROR(VLOOKUP($A49,Filtro!$A$4:$AX$552,5,FALSE),0)","v":0},{"$f":"IFERROR(VLOOKUP($A49,Filtro!$A$4:$AX$552,6,FALSE),0)","v":0},{"$f":"IFERROR(VLOOKUP($A49,Filtro!$A$4:$AX$552,7,FALSE),0)","v":0},{"$f":"IFERROR(VLOOKUP($A49,Filtro!$A$4:$AX$552,8,FALSE),0)","v":0},{"$f":"IFERROR(VLOOKUP($A49,Filtro!$A$4:$AX$552,9,FALSE),0)","v":0},{"$f":"IFERROR(VLOOKUP($A49,Filtro!$A$4:$AX$552,10,FALSE),0)","v":0},{"$f":"IFERROR(VLOOKUP($A49,Filtro!$A$4:$AX$552,11,FALSE),0)","v":0},{"$f":"IFERROR(VLOOKUP($A49,Filtro!$A$4:$AX$552,12,FALSE),0)","v":0},{"$f":"IFERROR(VLOOKUP($A49,Filtro!$A$4:$AX$552,13,FALSE),0)","v":0},{"$f":"IFERROR(VLOOKUP($A49,Filtro!$A$4:$AX$552,14,FALSE),0)","v":0},{"$f":"IFERROR(VLOOKUP($A49,Filtro!$A$4:$AX$552,15,FALSE),0)","v":0},{"$f":"IFERROR(VLOOKUP($A49,Filtro!$A$4:$AX$552,16,FALSE),0)","v":0},{"$f":"IFERROR(VLOOKUP($A49,Filtro!$A$4:$AX$552,17,FALSE),0)","v":0},"",{"$nulls":34},"","",{"$nulls":13},0,0]
["P1320080","POBLACIÓN INFANTIL EN CONTROL",{"$f":"IFERROR(VLOOKUP($A50,Filtro!$A$4:$AX$552,2,FALSE),0)","v":12},{"$f":"IFERROR(VLOOKUP($A50,Filtro!$A$4:$AX$552,3,FALSE),0)","v":12},{"$f":"IFERROR(VLOOKUP($A50,Filtro!$A$4:$AX$552,4,FALSE),0)","v":0},{"$f":"IFERROR(VLOOKUP($A50,Filtro!$A$4:$AX$552,5,FALSE),0)","v":6},{"$f":"IFERROR(VLOOKUP($A50,Filtro!$A$4:$AX$552,6,FALSE),0)","v":0},{"$f":"IFERROR(VLOOKUP($A50,Filtro!$A$4:$AX$552,7,FALSE),0)","v":6},{"$f":"IFERROR(VLOOKUP($A50,Filtro!$A$4:$AX$552,8,FALSE),0)","v":0},{"$f":"IFERROR(VLOOKUP($A50,Filtro!$A$4:$AX$552,9,FALSE),0)","v":0},{"$f":"IFERROR(VLOOKUP($A50,Filtro!$A$4:$AX$552,10,FALSE),0)","v":0},{"$f":"IFERROR(VLOOKUP($A50,Filtro!$A$4:$AX$552,11,FALSE),0)","v":0},{"$f":"IFERROR(VLOOKUP($A50,Filtro!$A$4:$AX$552,12,FALSE),0)","v":0},{"$f":"IFERROR(VLOOKUP($A50,Filtro!$A$4:$AX$552,13,FALSE),0)","v":0},{"$f":"IFERROR(VLOOKUP($A50,Filtro!$A$4:$AX$552,14,FALSE),0)","v":0},{"$f":"IFERROR(VLOOKUP($A50,Filtro!$A$4:$AX$552,15,FALSE),0)","v":0},{"$f":"IFERROR(VLOOKUP($A50,Filtro!$A$4:$AX$552,16,FALSE),0)","v":0},{"$f":"IFERROR(VLOOKUP($A50,Filtro!$A$4:$AX$552,17,FALSE),0)","v":0},"",{"$nulls":34},"","",{"$nulls":13},0,0]
["P1320090","POBLACIÓN EN CONTROL DE SALUD INTEGRAL DE ADOLESCENTES SEGÚN ÁREA DE RIESGO",{"$f":"IFERROR(VLOOKUP($A51,Filtro!$A$4:$AX$552,2,FALSE),0)","v":6},{"$f":"IFERROR(VLOOKUP($A51,Filtro!$A$4:$AX$552,3,FALSE),0)","v":4},{"$f":"IFERROR(VLOOKUP($A51,Filtro!$A$4:$AX$552,4,FALSE),0)","v":2},{"$f":"IFERROR(VLOOKUP($A51,Filtro!$A$4:$AX$552,5,FALSE),0)","v":0},{"$f":"IFERROR(VLOOKUP($A51,Filtro!$A$4:$AX$552,6,FALSE),0)","v":0},{"$f":"IFERROR(VLOOKUP($A51,Filtro!$A$4:$AX$552,7,FALSE),0)","v":0},{"$f":"IFERROR(VLOOKUP($A51,Filtro!$A$4:$AX$552,8,FALSE),0)","v":0},{"$f":"IFERROR(VLOOKUP($A51,Filtro!$A$4:$AX$552,9,FALSE),0)","v":4},{"$f":"IFERROR(VLOOKUP($A51,Filtro!$A$4:$AX$552,10,FALSE),0)","v":2},{"$f":"IFERROR(VLOOKUP($A51,Filtro!$A$4:$AX$552,11,FALSE),0)","v":0},{"$f":"IFERROR(VLOOKUP($A51,Filtro!$A$4:$AX$552,12,FALSE),0)","v":0},{"$f":"IFERROR(VLOOKUP($A51,Filtro!$A$4:$AX$552,13,FALSE),0)","v":0},{"$f":"IFERROR(VLOOKUP($A51,Filtro!$A$4:$AX$552,14,FALSE),0)","v":0},{"$f":"IFERROR(VLOOKUP($A51,Filtro!$A$4:$AX$552,15,FALSE),0)","v":0},{"$f":"IFERROR(VLOOKUP($A51,Filtro!$A$4:$AX$552,16,FALSE),0)","v":0},{"$f":"IFERROR(VLOOKUP($A51,Filtro!$A$4:$AX$552,17,FALSE),0)","v":0},"",{"$nulls":34},"","",{"$nulls":13},0,0]
["P1320100","POBLACIÓN EN CONTROL DE SALUD MENTAL",{"$f":"IFERROR(VLOOKUP($A52,Filtro!$A$4:$AX$552,2,FALSE),0)","v":50},{"$f":"IFERROR(VLOOKUP($A52,Filtro!$A$4:$AX$552,3,FALSE),0)","v":15},{"$f":"IFERROR(VLOOKUP($A52,Filtro!$A$4:$AX$552,4,FALSE),0)","v":35},{"$f":"IFERROR(VLOOKUP($A52,Filtro!$A$4:$AX$552,5,FALSE),0)","v":0},{"$f":"IFERROR(VLOOKUP($A52,Filtro!$A$4:$AX$552,6,FALSE),0)","v":0},{"$f":"IFERROR(VLOOKUP($A52,Filtro!$A$4:$AX$552,7,FALSE),0)","v":4},{"$f":"IFERROR(VLOOKUP($A52,Filtro!$A$4:$AX$552,8,FALSE),0)","v":5},{"$f":"IFERROR(VLOOKUP($A52,Filtro!$A$4:$AX$552,9,FALSE),0)","v":5},{"$f":"IFERROR(VLOOKUP($A52,Filtro!$A$4:$AX$552,10,FALSE),0)","v":15},{"$f":"IFERROR(VLOOKUP($A52,Filtro!$A$4:$AX$552,11,FALSE),0)","v":6},{"$f":"IFERROR(VLOOKUP($A52,Filtro!$A$4:$AX$552,12,FALSE),0)","v":13},{"$f":"IFERROR(VLOOKUP($A52,Filtro!$A$4:$AX$552,13,FALSE),0)","v":0},{"$f":"IFERROR(VLOOKUP($A52,Filtro!$A$4:$AX$552,14,FALSE),0)","v":0},{"$f":"IFERROR(VLOOKUP($A52,Filtro!$A$4:$AX$552,15,FALSE),0)","v":0},{"$f":"IFERROR(VLOOKUP($A52,Filtro!$A$4:$AX$552,16,FALSE),0)","v":2},{"$f":"IFERROR(VLOOKUP($A52,Filtro!$A$4:$AX$552,17,FALSE),0)","v":0},"",{"$nulls":34},"","",{"$nulls":13},0,0]
["P1320110","POBLACIÓN EN PROGRAMA DE ACOMPAÑAMIENTO PSICOSOCIAL",{"$f":"IFERROR(VLOOKUP($A53,Filtro!$A$4:$AX$552,2,FALSE),0)","v":6},{"$f":"IFERROR(VLOOKUP($A53,Filtro!$A$4:$AX$552,3,FALSE),0)","v":4},{"$f":"IFERROR(VLOOKUP($A53,Filtro!$A$4:$AX$552,4,FALSE),0)","v":2},{"$f":"IFERROR(VLOOKUP($A53,Filtro!$A$4:$AX$552,5,FALSE),0)","v":1},{"$f":"IFERROR(VLOOKUP($A53,Filtro!$A$4:$AX$552,6,FALSE),0)","v":0},{"$f":"IFERROR(VLOOKUP($A53,Filtro!$A$4:$AX$552,7,FALSE),0)","v":2},{"$f":"IFERROR(VLOOKUP($A53,Filtro!$A$4:$AX$552,8,FALSE),0)","v":1},{"$f":"IFERROR(VLOOKUP($A53,Filtro!$A$4:$AX$552,9,FALSE),0)","v":0},{"$f":"IFERROR(VLOOKUP($A53,Filtro!$A$4:$AX$552,10,FALSE),0)","v":1},{"$f":"IFERROR(VLOOKUP($A53,Filtro!$A$4:$AX$552,11,FALSE),0)","v":1},{"$f":"IFERROR(VLOOKUP($A53,Filtro!$A$4:$AX$552,12,FALSE),0)","v":0},{"$f":"IFERROR(VLOOKUP($A53,Filtro!$A$4:$AX$552,13,FALSE),0)","v":0},{"$f":"IFERROR(VLOOKUP($A53,Filtro!$A$4:$AX$552,14,FALSE),0)","v":0},{"$f":"IFERROR(VLOOKUP($A53,Filtro!$A$4:$AX$552,15,FALSE),0)","v":0},{"$f":"IFERROR(VLOOKUP($A53,Filtro!$A$4:$AX$552,16,FALSE),0)","v":0},{"$f":"IFERROR(VLOOKUP($A53,Filtro!$A$4:$AX$552,17,FALSE),0)","v":0},"",{"$nulls":34},"","",{"$nulls":13},0,0]
[]
[]
[]
["CODIGOS NUEVOS"]
["P1320020"]
["P1320030"]
["P1320040"]
["P1320050"]
["P1320060"]
["P1320070"]
["P1320080"]
["P1320090"]
["P1320100"]
["P1320110"]
[]
[]
[]
[null,{"$f":"SUM(C12:K12,C17:Q20,C25:Q30,F35:L35,F41:R43,F48:R53)","v":34755},"datos"]
[null,{"$f":"SUM(BQ5:BT53)","v":0},"errores"]